{"text_format":"1","workbook":"xlsx","n_sheets":9,"sheets":["Series Table","Fan Fawr","Sugar Loaf","Night Sugar (NA)","Blorenge","Skirrid","Craig Yr Allt","Hatterall Hammer","Sugar Loaf 7"],"not_rendered":{"charts":0,"images":1,"macros":1,"external_links":1,"defined_names":32,"comments":0,"pivot_tables":0},"unopened":[],"bounds":{"document_bytes":16777216,"sheet_cells":100000,"rows_first":2000,"rows_last":500,"rows_between":2000,"halvings":0,"cell_chars":16384,"cell_head_chars":4096},"cells_cut":0,"cells_raw":0,"read":"whole","date_system":"1900"}

{"sheet":"Series Table","index":0,"n_rows":450,"n_cols":23,"rows_kept":450,"cut":false,"hidden":false,"merged":[]}
[null,"2017/2018 Winter Series",null,null,null,"Fan Fawr",null,"Sugar Loaf",null,"Night Sugar",null,"Blorenge",null,"Skirrid",null,"Craig Yr Allt",null,"Hatterall Hammer",null,"Sugar Loaf 7"]
["Pos","Name","Club","Cat.","Total","Time","Score","Time","Score","Time","Score","Time","Score","Time","Score","Time","Score","Time","Score","Time","Score","Competed","Ave (Best 5)"]
[1,"Andrew Tuckey","Bridgend AC","M40",{"$f":"SUM(LARGE((S3,G3,I3,K3,M3,O3,Q3,U3),{1,2,3,4,5}))","v":506.86898011278544},{"$f":"IFERROR(VLOOKUP(B3,INDIRECT(\"'\"&$F$1&\"'!\"&\"$C$2:$G$200\"),4,FALSE),\"\")","v":""},{"$f":"IFERROR(VLOOKUP(B3,INDIRECT(\"'\"&$F$1&\"'!\"&\"$C$2:$G$200\"),5,FALSE),0)","v":0},{"$f":"IFERROR(VLOOKUP(B3,INDIRECT(\"'\"&$H$1&\"'!\"&\"$C$2:$G$200\"),4,FALSE),\"\")","v":3.0358796296296297E-2},{"$f":"IFERROR(VLOOKUP(B3,INDIRECT(\"'\"&$H$1&\"'!\"&\"$C$2:$G$200\"),5,FALSE),0)","v":101.81178408325225},{"$f":"IFERROR(VLOOKUP(B3,INDIRECT(\"'\"&$J$1&\"'!\"&\"$C$2:$G$200\"),4,FALSE),\"\")","v":""},{"$f":"IFERROR(VLOOKUP(B3,INDIRECT(\"'\"&$J$1&\"'!\"&\"$C$2:$G$200\"),5,FALSE),0)","v":0},{"$f":"IFERROR(VLOOKUP(B3,INDIRECT(\"'\"&$L$1&\"'!\"&\"$C$2:$G$200\"),4,FALSE),\"\")","v":1.8807870370370371E-2},{"$f":"IFERROR(VLOOKUP(B3,INDIRECT(\"'\"&$L$1&\"'!\"&\"$C$2:$G$200\"),5,FALSE),0)","v":99.517684887459822},{"$f":"IFERROR(VLOOKUP(B3,INDIRECT(\"'\"&$N$1&\"'!\"&\"$C$2:$G$200\"),4,FALSE),\"\")","v":""},{"$f":"IFERROR(VLOOKUP(B3,INDIRECT(\"'\"&$N$1&\"'!\"&\"$C$2:$G$200\"),5,FALSE),0)","v":0},{"$f":"IFERROR(VLOOKUP(B3,INDIRECT(\"'\"&$P$1&\"'!\"&\"$C$2:$G$200\"),4,FALSE),\"\")","v":2.1712962962962962E-2},{"$f":"IFERROR(VLOOKUP(B3,INDIRECT(\"'\"&$P$1&\"'!\"&\"$C$2:$G$200\"),5,FALSE),0)","v":100.3611642234969},{"$f":"IFERROR(VLOOKUP(B3,INDIRECT(\"'\"&$R$1&\"'!\"&\"$C$2:$G$200\"),4,FALSE),\"\")","v":1.8993055555555558E-2},{"$f":"IFERROR(VLOOKUP(B3,INDIRECT(\"'\"&$R$1&\"'!\"&\"$C$2:$G$200\"),5,FALSE),0)","v":106.71896316507502},{"$f":"IFERROR(VLOOKUP(B3,INDIRECT(\"'\"&$T$1&\"'!\"&\"$C$2:$G$200\"),4,FALSE),\"\")","v":3.6921296296296292E-2},{"$f":"IFERROR(VLOOKUP(B3,INDIRECT(\"'\"&$T$1&\"'!\"&\"$C$2:$G$200\"),5,FALSE),0)","v":98.459383753501413},{"$f":"8-COUNTIF(F3:U3,\"\")","v":5},{"$f":"E3/IF(V3>4,5,V3)","v":101.37379602255709}]
[2,"Peter Ryder","Brycheiniog","SM",{"$f":"SUM(LARGE((S4,G4,I4,K4,M4,O4,Q4,U4),{1,2,3,4,5}))","v":506.48084811884917},{"$f":"IFERROR(VLOOKUP(B4,INDIRECT(\"'\"&$F$1&\"'!\"&\"$C$2:$G$200\"),4,FALSE),\"\")","v":""},{"$f":"IFERROR(VLOOKUP(B4,INDIRECT(\"'\"&$F$1&\"'!\"&\"$C$2:$G$200\"),5,FALSE),0)","v":0},{"$f":"IFERROR(VLOOKUP(B4,INDIRECT(\"'\"&$H$1&\"'!\"&\"$C$2:$G$200\"),4,FALSE),\"\")","v":3.0127314814814815E-2},{"$f":"IFERROR(VLOOKUP(B4,INDIRECT(\"'\"&$H$1&\"'!\"&\"$C$2:$G$200\"),5,FALSE),0)","v":102.56045519203414},{"$f":"IFERROR(VLOOKUP(B4,INDIRECT(\"'\"&$J$1&\"'!\"&\"$C$2:$G$200\"),4,FALSE),\"\")","v":""},{"$f":"IFERROR(VLOOKUP(B4,INDIRECT(\"'\"&$J$1&\"'!\"&\"$C$2:$G$200\"),5,FALSE),0)","v":0},{"$f":"IFERROR(VLOOKUP(B4,INDIRECT(\"'\"&$L$1&\"'!\"&\"$C$2:$G$200\"),4,FALSE),\"\")","v":1.9293981481481485E-2},{"$f":"IFERROR(VLOOKUP(B4,INDIRECT(\"'\"&$L$1&\"'!\"&\"$C$2:$G$200\"),5,FALSE),0)","v":96.920603512243389},{"$f":"IFERROR(VLOOKUP(B4,INDIRECT(\"'\"&$N$1&\"'!\"&\"$C$2:$G$200\"),4,FALSE),\"\")","v":""},{"$f":"IFERROR(VLOOKUP(B4,INDIRECT(\"'\"&$N$1&\"'!\"&\"$C$2:$G$200\"),5,FALSE),0)","v":0},{"$f":"IFERROR(VLOOKUP(B4,INDIRECT(\"'\"&$P$1&\"'!\"&\"$C$2:$G$200\"),4,FALSE),\"\")","v":2.0833333333333332E-2},{"$f":"IFERROR(VLOOKUP(B4,INDIRECT(\"'\"&$P$1&\"'!\"&\"$C$2:$G$200\"),5,FALSE),0)","v":104.39770554493309},{"$f":"IFERROR(VLOOKUP(B4,INDIRECT(\"'\"&$R$1&\"'!\"&\"$C$2:$G$200\"),4,FALSE),\"\")","v":1.9861111111111111E-2},{"$f":"IFERROR(VLOOKUP(B4,INDIRECT(\"'\"&$R$1&\"'!\"&\"$C$2:$G$200\"),5,FALSE),0)","v":102.45566166439292},{"$f":"IFERROR(VLOOKUP(B4,INDIRECT(\"'\"&$T$1&\"'!\"&\"$C$2:$G$200\"),4,FALSE),\"\")","v":3.6307870370370372E-2},{"$f":"IFERROR(VLOOKUP(B4,INDIRECT(\"'\"&$T$1&\"'!\"&\"$C$2:$G$200\"),5,FALSE),0)","v":100.14642220524573},{"$f":"8-COUNTIF(F4:U4,\"\")","v":5},{"$f":"E4/IF(V4>4,5,V4)","v":101.29616962376983}]
[3,"Alex Lewis","Neath Harriers","SM",{"$f":"SUM(LARGE((S5,G5,I5,K5,M5,O5,Q5,U5),{1,2,3,4,5}))","v":472.44342898125615},{"$f":"IFERROR(VLOOKUP(B5,INDIRECT(\"'\"&$F$1&\"'!\"&\"$C$2:$G$200\"),4,FALSE),\"\")","v":1.4502314814814815E-2},{"$f":"IFERROR(VLOOKUP(B5,INDIRECT(\"'\"&$F$1&\"'!\"&\"$C$2:$G$200\"),5,FALSE),0)","v":101.04248933817721},{"$f":"IFERROR(VLOOKUP(B5,INDIRECT(\"'\"&$H$1&\"'!\"&\"$C$2:$G$200\"),4,FALSE),\"\")","v":3.4976851851851849E-2},{"$f":"IFERROR(VLOOKUP(B5,INDIRECT(\"'\"&$H$1&\"'!\"&\"$C$2:$G$200\"),5,FALSE),0)","v":86.875795463053109},{"$f":"IFERROR(VLOOKUP(B5,INDIRECT(\"'\"&$J$1&\"'!\"&\"$C$2:$G$200\"),4,FALSE),\"\")","v":""},{"$f":"IFERROR(VLOOKUP(B5,INDIRECT(\"'\"&$J$1&\"'!\"&\"$C$2:$G$200\"),5,FALSE),0)","v":0},{"$f":"IFERROR(VLOOKUP(B5,INDIRECT(\"'\"&$L$1&\"'!\"&\"$C$2:$G$200\"),4,FALSE),\"\")","v":2.0439814814814817E-2},{"$f":"IFERROR(VLOOKUP(B5,INDIRECT(\"'\"&$L$1&\"'!\"&\"$C$2:$G$200\"),5,FALSE),0)","v":90.798911699233244},{"$f":"IFERROR(VLOOKUP(B5,INDIRECT(\"'\"&$N$1&\"'!\"&\"$C$2:$G$200\"),4,FALSE),\"\")","v":2.3796296296296298E-2},{"$f":"IFERROR(VLOOKUP(B5,INDIRECT(\"'\"&$N$1&\"'!\"&\"$C$2:$G$200\"),5,FALSE),0)","v":94.369091656391291},{"$f":"IFERROR(VLOOKUP(B5,INDIRECT(\"'\"&$P$1&\"'!\"&\"$C$2:$G$200\"),4,FALSE),\"\")","v":2.3344907407407408E-2},{"$f":"IFERROR(VLOOKUP(B5,INDIRECT(\"'\"&$P$1&\"'!\"&\"$C$2:$G$200\"),5,FALSE),0)","v":92.872317824516657},{"$f":"IFERROR(VLOOKUP(B5,INDIRECT(\"'\"&$R$1&\"'!\"&\"$C$2:$G$200\"),4,FALSE),\"\")","v":2.1712962962962962E-2},{"$f":"IFERROR(VLOOKUP(B5,INDIRECT(\"'\"&$R$1&\"'!\"&\"$C$2:$G$200\"),5,FALSE),0)","v":93.360618462937722},{"$f":"IFERROR(VLOOKUP(B5,INDIRECT(\"'\"&$T$1&\"'!\"&\"$C$2:$G$200\"),4,FALSE),\"\")","v":4.2037037037037039E-2},{"$f":"IFERROR(VLOOKUP(B5,INDIRECT(\"'\"&$T$1&\"'!\"&\"$C$2:$G$200\"),5,FALSE),0)","v":84.390119684237305},{"$f":"8-COUNTIF(F5:U5,\"\")","v":7},{"$f":"E5/IF(V5>4,5,V5)","v":94.488685796251232}]
[4,"Dan Sandford","Forest Of Dean AC","M40",{"$f":"SUM(LARGE((S6,G6,I6,K6,M6,O6,Q6,U6),{1,2,3,4,5}))","v":469.78677974107507},{"$f":"IFERROR(VLOOKUP(B6,INDIRECT(\"'\"&$F$1&\"'!\"&\"$C$2:$G$200\"),4,FALSE),\"\")","v":1.4293981481481482E-2},{"$f":"IFERROR(VLOOKUP(B6,INDIRECT(\"'\"&$F$1&\"'!\"&\"$C$2:$G$200\"),5,FALSE),0)","v":102.46406570841886},{"$f":"IFERROR(VLOOKUP(B6,INDIRECT(\"'\"&$H$1&\"'!\"&\"$C$2:$G$200\"),4,FALSE),\"\")","v":3.3252314814814811E-2},{"$f":"IFERROR(VLOOKUP(B6,INDIRECT(\"'\"&$H$1&\"'!\"&\"$C$2:$G$200\"),5,FALSE),0)","v":92.453395223478353},{"$f":"IFERROR(VLOOKUP(B6,INDIRECT(\"'\"&$J$1&\"'!\"&\"$C$2:$G$200\"),4,FALSE),\"\")","v":""},{"$f":"IFERROR(VLOOKUP(B6,INDIRECT(\"'\"&$J$1&\"'!\"&\"$C$2:$G$200\"),5,FALSE),0)","v":0},{"$f":"IFERROR(VLOOKUP(B6,INDIRECT(\"'\"&$L$1&\"'!\"&\"$C$2:$G$200\"),4,FALSE),\"\")","v":2.0532407407407405E-2},{"$f":"IFERROR(VLOOKUP(B6,INDIRECT(\"'\"&$L$1&\"'!\"&\"$C$2:$G$200\"),5,FALSE),0)","v":90.304229532525369},{"$f":"IFERROR(VLOOKUP(B6,INDIRECT(\"'\"&$N$1&\"'!\"&\"$C$2:$G$200\"),4,FALSE),\"\")","v":2.431712962962963E-2},{"$f":"IFERROR(VLOOKUP(B6,INDIRECT(\"'\"&$N$1&\"'!\"&\"$C$2:$G$200\"),5,FALSE),0)","v":92.057131113851227},{"$f":"IFERROR(VLOOKUP(B6,INDIRECT(\"'\"&$P$1&\"'!\"&\"$C$2:$G$200\"),4,FALSE),\"\")","v":2.4212962962962964E-2},{"$f":"IFERROR(VLOOKUP(B6,INDIRECT(\"'\"&$P$1&\"'!\"&\"$C$2:$G$200\"),5,FALSE),0)","v":88.888888888888857},{"$f":"IFERROR(VLOOKUP(B6,INDIRECT(\"'\"&$R$1&\"'!\"&\"$C$2:$G$200\"),4,FALSE),\"\")","v":2.1886574074074072E-2},{"$f":"IFERROR(VLOOKUP(B6,INDIRECT(\"'\"&$R$1&\"'!\"&\"$C$2:$G$200\"),5,FALSE),0)","v":92.507958162801302},{"$f":"IFERROR(VLOOKUP(B6,INDIRECT(\"'\"&$T$1&\"'!\"&\"$C$2:$G$200\"),4,FALSE),\"\")","v":""},{"$f":"IFERROR(VLOOKUP(B6,INDIRECT(\"'\"&$T$1&\"'!\"&\"$C$2:$G$200\"),5,FALSE),0)","v":0},{"$f":"8-COUNTIF(F6:U6,\"\")","v":6},{"$f":"E6/IF(V6>4,5,V6)","v":93.95735594821501}]
[5,"Ian Whistance","Mynydd Du","M40",{"$f":"SUM(LARGE((S7,G7,I7,K7,M7,O7,Q7,U7),{1,2,3,4,5}))","v":444.75320240737818},{"$f":"IFERROR(VLOOKUP(B7,INDIRECT(\"'\"&$F$1&\"'!\"&\"$C$2:$G$200\"),4,FALSE),\"\")","v":1.5509259259259257E-2},{"$f":"IFERROR(VLOOKUP(B7,INDIRECT(\"'\"&$F$1&\"'!\"&\"$C$2:$G$200\"),5,FALSE),0)","v":94.171536882009164},{"$f":"IFERROR(VLOOKUP(B7,INDIRECT(\"'\"&$H$1&\"'!\"&\"$C$2:$G$200\"),4,FALSE),\"\")","v":3.5694444444444445E-2},{"$f":"IFERROR(VLOOKUP(B7,INDIRECT(\"'\"&$H$1&\"'!\"&\"$C$2:$G$200\"),5,FALSE),0)","v":84.554915025829175},{"$f":"IFERROR(VLOOKUP(B7,INDIRECT(\"'\"&$J$1&\"'!\"&\"$C$2:$G$200\"),4,FALSE),\"\")","v":""},{"$f":"IFERROR(VLOOKUP(B7,INDIRECT(\"'\"&$J$1&\"'!\"&\"$C$2:$G$200\"),5,FALSE),0)","v":0},{"$f":"IFERROR(VLOOKUP(B7,INDIRECT(\"'\"&$L$1&\"'!\"&\"$C$2:$G$200\"),4,FALSE),\"\")","v":2.1516203703703704E-2},{"$f":"IFERROR(VLOOKUP(B7,INDIRECT(\"'\"&$L$1&\"'!\"&\"$C$2:$G$200\"),5,FALSE),0)","v":85.048231511254031},{"$f":"IFERROR(VLOOKUP(B7,INDIRECT(\"'\"&$N$1&\"'!\"&\"$C$2:$G$200\"),4,FALSE),\"\")","v":2.4907407407407406E-2},{"$f":"IFERROR(VLOOKUP(B7,INDIRECT(\"'\"&$N$1&\"'!\"&\"$C$2:$G$200\"),5,FALSE),0)","v":89.43690916563915},{"$f":"IFERROR(VLOOKUP(B7,INDIRECT(\"'\"&$P$1&\"'!\"&\"$C$2:$G$200\"),4,FALSE),\"\")","v":""},{"$f":"IFERROR(VLOOKUP(B7,INDIRECT(\"'\"&$P$1&\"'!\"&\"$C$2:$G$200\"),5,FALSE),0)","v":0},{"$f":"IFERROR(VLOOKUP(B7,INDIRECT(\"'\"&$R$1&\"'!\"&\"$C$2:$G$200\"),4,FALSE),\"\")","v":2.2083333333333333E-2},{"$f":"IFERROR(VLOOKUP(B7,INDIRECT(\"'\"&$R$1&\"'!\"&\"$C$2:$G$200\"),5,FALSE),0)","v":91.541609822646677},{"$f":"IFERROR(VLOOKUP(B7,INDIRECT(\"'\"&$T$1&\"'!\"&\"$C$2:$G$200\"),4,FALSE),\"\")","v":""},{"$f":"IFERROR(VLOOKUP(B7,INDIRECT(\"'\"&$T$1&\"'!\"&\"$C$2:$G$200\"),5,FALSE),0)","v":0},{"$f":"8-COUNTIF(F7:U7,\"\")","v":5},{"$f":"E7/IF(V7>4,5,V7)","v":88.950640481475631}]
[6,"Helen Brown","Mynydd Du","F40",{"$f":"SUM(LARGE((S8,G8,I8,K8,M8,O8,Q8,U8),{1,2,3,4,5}))","v":439.3890845589184},{"$f":"IFERROR(VLOOKUP(B8,INDIRECT(\"'\"&$F$1&\"'!\"&\"$C$2:$G$200\"),4,FALSE),\"\")","v":1.5057870370370369E-2},{"$f":"IFERROR(VLOOKUP(B8,INDIRECT(\"'\"&$F$1&\"'!\"&\"$C$2:$G$200\"),5,FALSE),0)","v":97.251619017532761},{"$f":"IFERROR(VLOOKUP(B8,INDIRECT(\"'\"&$H$1&\"'!\"&\"$C$2:$G$200\"),4,FALSE),\"\")","v":""},{"$f":"IFERROR(VLOOKUP(B8,INDIRECT(\"'\"&$H$1&\"'!\"&\"$C$2:$G$200\"),5,FALSE),0)","v":0},{"$f":"IFERROR(VLOOKUP(B8,INDIRECT(\"'\"&$J$1&\"'!\"&\"$C$2:$G$200\"),4,FALSE),\"\")","v":""},{"$f":"IFERROR(VLOOKUP(B8,INDIRECT(\"'\"&$J$1&\"'!\"&\"$C$2:$G$200\"),5,FALSE),0)","v":0},{"$f":"IFERROR(VLOOKUP(B8,INDIRECT(\"'\"&$L$1&\"'!\"&\"$C$2:$G$200\"),4,FALSE),\"\")","v":2.2094907407407407E-2},{"$f":"IFERROR(VLOOKUP(B8,INDIRECT(\"'\"&$L$1&\"'!\"&\"$C$2:$G$200\"),5,FALSE),0)","v":81.956467969329722},{"$f":"IFERROR(VLOOKUP(B8,INDIRECT(\"'\"&$N$1&\"'!\"&\"$C$2:$G$200\"),4,FALSE),\"\")","v":2.5243055555555557E-2},{"$f":"IFERROR(VLOOKUP(B8,INDIRECT(\"'\"&$N$1&\"'!\"&\"$C$2:$G$200\"),5,FALSE),0)","v":87.946979038224441},{"$f":"IFERROR(VLOOKUP(B8,INDIRECT(\"'\"&$P$1&\"'!\"&\"$C$2:$G$200\"),4,FALSE),\"\")","v":2.4884259259259259E-2},{"$f":"IFERROR(VLOOKUP(B8,INDIRECT(\"'\"&$P$1&\"'!\"&\"$C$2:$G$200\"),5,FALSE),0)","v":85.808370512003378},{"$f":"IFERROR(VLOOKUP(B8,INDIRECT(\"'\"&$R$1&\"'!\"&\"$C$2:$G$200\"),4,FALSE),\"\")","v":2.3124999999999996E-2},{"$f":"IFERROR(VLOOKUP(B8,INDIRECT(\"'\"&$R$1&\"'!\"&\"$C$2:$G$200\"),5,FALSE),0)","v":86.425648021828152},{"$f":"IFERROR(VLOOKUP(B8,INDIRECT(\"'\"&$T$1&\"'!\"&\"$C$2:$G$200\"),4,FALSE),\"\")","v":""},{"$f":"IFERROR(VLOOKUP(B8,INDIRECT(\"'\"&$T$1&\"'!\"&\"$C$2:$G$200\"),5,FALSE),0)","v":0},{"$f":"8-COUNTIF(F8:U8,\"\")","v":5},{"$f":"E8/IF(V8>4,5,V8)","v":87.877816911783682}]
[7,"John Aggleton","MDC","M60",{"$f":"SUM(LARGE((S9,G9,I9,K9,M9,O9,Q9,U9),{1,2,3,4,5}))","v":409.20938113550005},{"$f":"IFERROR(VLOOKUP(B9,INDIRECT(\"'\"&$F$1&\"'!\"&\"$C$2:$G$200\"),4,FALSE),\"\")","v":1.5717592592592592E-2},{"$f":"IFERROR(VLOOKUP(B9,INDIRECT(\"'\"&$F$1&\"'!\"&\"$C$2:$G$200\"),5,FALSE),0)","v":92.749960511767497},{"$f":"IFERROR(VLOOKUP(B9,INDIRECT(\"'\"&$H$1&\"'!\"&\"$C$2:$G$200\"),4,FALSE),\"\")","v":3.6608796296296299E-2},{"$f":"IFERROR(VLOOKUP(B9,INDIRECT(\"'\"&$H$1&\"'!\"&\"$C$2:$G$200\"),5,FALSE),0)","v":81.597664146140602},{"$f":"IFERROR(VLOOKUP(B9,INDIRECT(\"'\"&$J$1&\"'!\"&\"$C$2:$G$200\"),4,FALSE),\"\")","v":""},{"$f":"IFERROR(VLOOKUP(B9,INDIRECT(\"'\"&$J$1&\"'!\"&\"$C$2:$G$200\"),5,FALSE),0)","v":0},{"$f":"IFERROR(VLOOKUP(B9,INDIRECT(\"'\"&$L$1&\"'!\"&\"$C$2:$G$200\"),4,FALSE),\"\")","v":2.2939814814814816E-2},{"$f":"IFERROR(VLOOKUP(B9,INDIRECT(\"'\"&$L$1&\"'!\"&\"$C$2:$G$200\"),5,FALSE),0)","v":77.442493198120218},{"$f":"IFERROR(VLOOKUP(B9,INDIRECT(\"'\"&$N$1&\"'!\"&\"$C$2:$G$200\"),4,FALSE),\"\")","v":2.7164351851851853E-2},{"$f":"IFERROR(VLOOKUP(B9,INDIRECT(\"'\"&$N$1&\"'!\"&\"$C$2:$G$200\"),5,FALSE),0)","v":79.418413481298828},{"$f":"IFERROR(VLOOKUP(B9,INDIRECT(\"'\"&$P$1&\"'!\"&\"$C$2:$G$200\"),4,FALSE),\"\")","v":2.6585648148148146E-2},{"$f":"IFERROR(VLOOKUP(B9,INDIRECT(\"'\"&$P$1&\"'!\"&\"$C$2:$G$200\"),5,FALSE),0)","v":78.000849798172922},{"$f":"IFERROR(VLOOKUP(B9,INDIRECT(\"'\"&$R$1&\"'!\"&\"$C$2:$G$200\"),4,FALSE),\"\")","v":""},{"$f":"IFERROR(VLOOKUP(B9,INDIRECT(\"'\"&$R$1&\"'!\"&\"$C$2:$G$200\"),5,FALSE),0)","v":0},{"$f":"IFERROR(VLOOKUP(B9,INDIRECT(\"'\"&$T$1&\"'!\"&\"$C$2:$G$200\"),4,FALSE),\"\")","v":""},{"$f":"IFERROR(VLOOKUP(B9,INDIRECT(\"'\"&$T$1&\"'!\"&\"$C$2:$G$200\"),5,FALSE),0)","v":0},{"$f":"8-COUNTIF(F9:U9,\"\")","v":5},{"$f":"E9/IF(V9>4,5,V9)","v":81.841876227100016}]
[8,"Niki Morgan","Mynydd Du","F50",{"$f":"SUM(LARGE((S10,G10,I10,K10,M10,O10,Q10,U10),{1,2,3,4,5}))","v":402.37787753424095},{"$f":"IFERROR(VLOOKUP(B10,INDIRECT(\"'\"&$F$1&\"'!\"&\"$C$2:$G$200\"),4,FALSE),\"\")","v":1.6481481481481482E-2},{"$f":"IFERROR(VLOOKUP(B10,INDIRECT(\"'\"&$F$1&\"'!\"&\"$C$2:$G$200\"),5,FALSE),0)","v":87.537513820881358},{"$f":"IFERROR(VLOOKUP(B10,INDIRECT(\"'\"&$H$1&\"'!\"&\"$C$2:$G$200\"),4,FALSE),\"\")","v":3.7488425925925925E-2},{"$f":"IFERROR(VLOOKUP(B10,INDIRECT(\"'\"&$H$1&\"'!\"&\"$C$2:$G$200\"),5,FALSE),0)","v":78.752713932769353},{"$f":"IFERROR(VLOOKUP(B10,INDIRECT(\"'\"&$J$1&\"'!\"&\"$C$2:$G$200\"),4,FALSE),\"\")","v":""},{"$f":"IFERROR(VLOOKUP(B10,INDIRECT(\"'\"&$J$1&\"'!\"&\"$C$2:$G$200\"),5,FALSE),0)","v":0},{"$f":"IFERROR(VLOOKUP(B10,INDIRECT(\"'\"&$L$1&\"'!\"&\"$C$2:$G$200\"),4,FALSE),\"\")","v":2.4583333333333332E-2},{"$f":"IFERROR(VLOOKUP(B10,INDIRECT(\"'\"&$L$1&\"'!\"&\"$C$2:$G$200\"),5,FALSE),0)","v":68.661884739055168},{"$f":"IFERROR(VLOOKUP(B10,INDIRECT(\"'\"&$N$1&\"'!\"&\"$C$2:$G$200\"),4,FALSE),\"\")","v":2.7372685185185184E-2},{"$f":"IFERROR(VLOOKUP(B10,INDIRECT(\"'\"&$N$1&\"'!\"&\"$C$2:$G$200\"),5,FALSE),0)","v":78.493629264282802},{"$f":"IFERROR(VLOOKUP(B10,INDIRECT(\"'\"&$P$1&\"'!\"&\"$C$2:$G$200\"),4,FALSE),\"\")","v":2.6550925925925926E-2},{"$f":"IFERROR(VLOOKUP(B10,INDIRECT(\"'\"&$P$1&\"'!\"&\"$C$2:$G$200\"),5,FALSE),0)","v":78.160186955598036},{"$f":"IFERROR(VLOOKUP(B10,INDIRECT(\"'\"&$R$1&\"'!\"&\"$C$2:$G$200\"),4,FALSE),\"\")","v":2.4548611111111115E-2},{"$f":"IFERROR(VLOOKUP(B10,INDIRECT(\"'\"&$R$1&\"'!\"&\"$C$2:$G$200\"),5,FALSE),0)","v":79.433833560709417},{"$f":"IFERROR(VLOOKUP(B10,INDIRECT(\"'\"&$T$1&\"'!\"&\"$C$2:$G$200\"),4,FALSE),\"\")","v":4.614583333333333E-2},{"$f":"IFERROR(VLOOKUP(B10,INDIRECT(\"'\"&$T$1&\"'!\"&\"$C$2:$G$200\"),5,FALSE),0)","v":73.090145148968674},{"$f":"8-COUNTIF(F10:U10,\"\")","v":7},{"$f":"E10/IF(V10>4,5,V10)","v":80.475575506848188}]
[9,"Matthew Haynes","Builth & District RC","M40",{"$f":"SUM(LARGE((S11,G11,I11,K11,M11,O11,Q11,U11),{1,2,3,4,5}))","v":398.28012211942985},{"$f":"IFERROR(VLOOKUP(B11,INDIRECT(\"'\"&$F$1&\"'!\"&\"$C$2:$G$200\"),4,FALSE),\"\")","v":1.6284722222222221E-2},{"$f":"IFERROR(VLOOKUP(B11,INDIRECT(\"'\"&$F$1&\"'!\"&\"$C$2:$G$200\"),5,FALSE),0)","v":88.880113726109627},{"$f":"IFERROR(VLOOKUP(B11,INDIRECT(\"'\"&$H$1&\"'!\"&\"$C$2:$G$200\"),4,FALSE),\"\")","v":3.9027777777777779E-2},{"$f":"IFERROR(VLOOKUP(B11,INDIRECT(\"'\"&$H$1&\"'!\"&\"$C$2:$G$200\"),5,FALSE),0)","v":73.774051059369626},{"$f":"IFERROR(VLOOKUP(B11,INDIRECT(\"'\"&$J$1&\"'!\"&\"$C$2:$G$200\"),4,FALSE),\"\")","v":""},{"$f":"IFERROR(VLOOKUP(B11,INDIRECT(\"'\"&$J$1&\"'!\"&\"$C$2:$G$200\"),5,FALSE),0)","v":0},{"$f":"IFERROR(VLOOKUP(B11,INDIRECT(\"'\"&$L$1&\"'!\"&\"$C$2:$G$200\"),4,FALSE),\"\")","v":""},{"$f":"IFERROR(VLOOKUP(B11,INDIRECT(\"'\"&$L$1&\"'!\"&\"$C$2:$G$200\"),5,FALSE),0)","v":0},{"$f":"IFERROR(VLOOKUP(B11,INDIRECT(\"'\"&$N$1&\"'!\"&\"$C$2:$G$200\"),4,FALSE),\"\")","v":2.7083333333333334E-2},{"$f":"IFERROR(VLOOKUP(B11,INDIRECT(\"'\"&$N$1&\"'!\"&\"$C$2:$G$200\"),5,FALSE),0)","v":79.778051787916169},{"$f":"IFERROR(VLOOKUP(B11,INDIRECT(\"'\"&$P$1&\"'!\"&\"$C$2:$G$200\"),4,FALSE),\"\")","v":2.7129629629629632E-2},{"$f":"IFERROR(VLOOKUP(B11,INDIRECT(\"'\"&$P$1&\"'!\"&\"$C$2:$G$200\"),5,FALSE),0)","v":75.504567665179508},{"$f":"IFERROR(VLOOKUP(B11,INDIRECT(\"'\"&$R$1&\"'!\"&\"$C$2:$G$200\"),4,FALSE),\"\")","v":2.4363425925925927E-2},{"$f":"IFERROR(VLOOKUP(B11,INDIRECT(\"'\"&$R$1&\"'!\"&\"$C$2:$G$200\"),5,FALSE),0)","v":80.343337880854946},{"$f":"IFERROR(VLOOKUP(B11,INDIRECT(\"'\"&$T$1&\"'!\"&\"$C$2:$G$200\"),4,FALSE),\"\")","v":4.7210648148148147E-2},{"$f":"IFERROR(VLOOKUP(B11,INDIRECT(\"'\"&$T$1&\"'!\"&\"$C$2:$G$200\"),5,FALSE),0)","v":70.16170104405397},{"$f":"8-COUNTIF(F11:U11,\"\")","v":6},{"$f":"E11/IF(V11>4,5,V11)","v":79.656024423885967}]
[10,"Andy Horlick","Forest Of Dean AC","M40",{"$f":"SUM(LARGE((S12,G12,I12,K12,M12,O12,Q12,U12),{1,2,3,4,5}))","v":397.56847822321606},{"$f":"IFERROR(VLOOKUP(B12,INDIRECT(\"'\"&$F$1&\"'!\"&\"$C$2:$G$200\"),4,FALSE),\"\")","v":""},{"$f":"IFERROR(VLOOKUP(B12,INDIRECT(\"'\"&$F$1&\"'!\"&\"$C$2:$G$200\"),5,FALSE),0)","v":0},{"$f":"IFERROR(VLOOKUP(B12,INDIRECT(\"'\"&$H$1&\"'!\"&\"$C$2:$G$200\"),4,FALSE),\"\")","v":""},{"$f":"IFERROR(VLOOKUP(B12,INDIRECT(\"'\"&$H$1&\"'!\"&\"$C$2:$G$200\"),5,FALSE),0)","v":0},{"$f":"IFERROR(VLOOKUP(B12,INDIRECT(\"'\"&$J$1&\"'!\"&\"$C$2:$G$200\"),4,FALSE),\"\")","v":""},{"$f":"IFERROR(VLOOKUP(B12,INDIRECT(\"'\"&$J$1&\"'!\"&\"$C$2:$G$200\"),5,FALSE),0)","v":0},{"$f":"IFERROR(VLOOKUP(B12,INDIRECT(\"'\"&$L$1&\"'!\"&\"$C$2:$G$200\"),4,FALSE),\"\")","v":2.372685185185185E-2},{"$f":"IFERROR(VLOOKUP(B12,INDIRECT(\"'\"&$L$1&\"'!\"&\"$C$2:$G$200\"),5,FALSE),0)","v":73.237694781103158},{"$f":"IFERROR(VLOOKUP(B12,INDIRECT(\"'\"&$N$1&\"'!\"&\"$C$2:$G$200\"),4,FALSE),\"\")","v":2.7106481481481481E-2},{"$f":"IFERROR(VLOOKUP(B12,INDIRECT(\"'\"&$N$1&\"'!\"&\"$C$2:$G$200\"),5,FALSE),0)","v":79.675297986025512},{"$f":"IFERROR(VLOOKUP(B12,INDIRECT(\"'\"&$P$1&\"'!\"&\"$C$2:$G$200\"),4,FALSE),\"\")","v":2.5949074074074072E-2},{"$f":"IFERROR(VLOOKUP(B12,INDIRECT(\"'\"&$P$1&\"'!\"&\"$C$2:$G$200\"),5,FALSE),0)","v":80.922031017633316},{"$f":"IFERROR(VLOOKUP(B12,INDIRECT(\"'\"&$R$1&\"'!\"&\"$C$2:$G$200\"),4,FALSE),\"\")","v":2.2881944444444444E-2},{"$f":"IFERROR(VLOOKUP(B12,INDIRECT(\"'\"&$R$1&\"'!\"&\"$C$2:$G$200\"),5,FALSE),0)","v":87.619372442019113},{"$f":"IFERROR(VLOOKUP(B12,INDIRECT(\"'\"&$T$1&\"'!\"&\"$C$2:$G$200\"),4,FALSE),\"\")","v":4.50462962962963E-2},{"$f":"IFERROR(VLOOKUP(B12,INDIRECT(\"'\"&$T$1&\"'!\"&\"$C$2:$G$200\"),5,FALSE),0)","v":76.114081996434919},{"$f":"8-COUNTIF(F12:U12,\"\")","v":5},{"$f":"E12/IF(V12>4,5,V12)","v":79.513695644643207}]
[11,"Katie Ironside","MDC","SF",{"$f":"SUM(LARGE((S13,G13,I13,K13,M13,O13,Q13,U13),{1,2,3,4,5}))","v":393.29884262805683},{"$f":"IFERROR(VLOOKUP(B13,INDIRECT(\"'\"&$F$1&\"'!\"&\"$C$2:$G$200\"),4,FALSE),\"\")","v":""},{"$f":"IFERROR(VLOOKUP(B13,INDIRECT(\"'\"&$F$1&\"'!\"&\"$C$2:$G$200\"),5,FALSE),0)","v":0},{"$f":"IFERROR(VLOOKUP(B13,INDIRECT(\"'\"&$H$1&\"'!\"&\"$C$2:$G$200\"),4,FALSE),\"\")","v":3.7013888888888888E-2},{"$f":"IFERROR(VLOOKUP(B13,INDIRECT(\"'\"&$H$1&\"'!\"&\"$C$2:$G$200\"),5,FALSE),0)","v":80.287489705772259},{"$f":"IFERROR(VLOOKUP(B13,INDIRECT(\"'\"&$J$1&\"'!\"&\"$C$2:$G$200\"),4,FALSE),\"\")","v":""},{"$f":"IFERROR(VLOOKUP(B13,INDIRECT(\"'\"&$J$1&\"'!\"&\"$C$2:$G$200\"),5,FALSE),0)","v":0},{"$f":"IFERROR(VLOOKUP(B13,INDIRECT(\"'\"&$L$1&\"'!\"&\"$C$2:$G$200\"),4,FALSE),\"\")","v":""},{"$f":"IFERROR(VLOOKUP(B13,INDIRECT(\"'\"&$L$1&\"'!\"&\"$C$2:$G$200\"),5,FALSE),0)","v":0},{"$f":"IFERROR(VLOOKUP(B13,INDIRECT(\"'\"&$N$1&\"'!\"&\"$C$2:$G$200\"),4,FALSE),\"\")","v":2.7280092592592592E-2},{"$f":"IFERROR(VLOOKUP(B13,INDIRECT(\"'\"&$N$1&\"'!\"&\"$C$2:$G$200\"),5,FALSE),0)","v":78.904644471845486},{"$f":"IFERROR(VLOOKUP(B13,INDIRECT(\"'\"&$P$1&\"'!\"&\"$C$2:$G$200\"),4,FALSE),\"\")","v":2.6030092592592594E-2},{"$f":"IFERROR(VLOOKUP(B13,INDIRECT(\"'\"&$P$1&\"'!\"&\"$C$2:$G$200\"),5,FALSE),0)","v":80.550244316974712},{"$f":"IFERROR(VLOOKUP(B13,INDIRECT(\"'\"&$R$1&\"'!\"&\"$C$2:$G$200\"),4,FALSE),\"\")","v":2.359953703703704E-2},{"$f":"IFERROR(VLOOKUP(B13,INDIRECT(\"'\"&$R$1&\"'!\"&\"$C$2:$G$200\"),5,FALSE),0)","v":84.095043201455198},{"$f":"IFERROR(VLOOKUP(B13,INDIRECT(\"'\"&$T$1&\"'!\"&\"$C$2:$G$200\"),4,FALSE),\"\")","v":4.746527777777778E-2},{"$f":"IFERROR(VLOOKUP(B13,INDIRECT(\"'\"&$T$1&\"'!\"&\"$C$2:$G$200\"),5,FALSE),0)","v":69.461420932009162},{"$f":"8-COUNTIF(F13:U13,\"\")","v":5},{"$f":"E13/IF(V13>4,5,V13)","v":78.659768525611369}]
[12,"Paul Tucker","Mynydd Du","M50",{"$f":"SUM(LARGE((S14,G14,I14,K14,M14,O14,Q14,U14),{1,2,3,4,5}))","v":384.5958578712291},{"$f":"IFERROR(VLOOKUP(B14,INDIRECT(\"'\"&$F$1&\"'!\"&\"$C$2:$G$200\"),4,FALSE),\"\")","v":""},{"$f":"IFERROR(VLOOKUP(B14,INDIRECT(\"'\"&$F$1&\"'!\"&\"$C$2:$G$200\"),5,FALSE),0)","v":0},{"$f":"IFERROR(VLOOKUP(B14,INDIRECT(\"'\"&$H$1&\"'!\"&\"$C$2:$G$200\"),4,FALSE),\"\")","v":""},{"$f":"IFERROR(VLOOKUP(B14,INDIRECT(\"'\"&$H$1&\"'!\"&\"$C$2:$G$200\"),5,FALSE),0)","v":0},{"$f":"IFERROR(VLOOKUP(B14,INDIRECT(\"'\"&$J$1&\"'!\"&\"$C$2:$G$200\"),4,FALSE),\"\")","v":""},{"$f":"IFERROR(VLOOKUP(B14,INDIRECT(\"'\"&$J$1&\"'!\"&\"$C$2:$G$200\"),5,FALSE),0)","v":0},{"$f":"IFERROR(VLOOKUP(B14,INDIRECT(\"'\"&$L$1&\"'!\"&\"$C$2:$G$200\"),4,FALSE),\"\")","v":2.2152777777777775E-2},{"$f":"IFERROR(VLOOKUP(B14,INDIRECT(\"'\"&$L$1&\"'!\"&\"$C$2:$G$200\"),5,FALSE),0)","v":81.647291615137306},{"$f":"IFERROR(VLOOKUP(B14,INDIRECT(\"'\"&$N$1&\"'!\"&\"$C$2:$G$200\"),4,FALSE),\"\")","v":2.6168981481481477E-2},{"$f":"IFERROR(VLOOKUP(B14,INDIRECT(\"'\"&$N$1&\"'!\"&\"$C$2:$G$200\"),5,FALSE),0)","v":83.836826962597669},{"$f":"IFERROR(VLOOKUP(B14,INDIRECT(\"'\"&$P$1&\"'!\"&\"$C$2:$G$200\"),4,FALSE),\"\")","v":2.7569444444444448E-2},{"$f":"IFERROR(VLOOKUP(B14,INDIRECT(\"'\"&$P$1&\"'!\"&\"$C$2:$G$200\"),5,FALSE),0)","v":73.486297004461406},{"$f":"IFERROR(VLOOKUP(B14,INDIRECT(\"'\"&$R$1&\"'!\"&\"$C$2:$G$200\"),4,FALSE),\"\")","v":2.5752314814814815E-2},{"$f":"IFERROR(VLOOKUP(B14,INDIRECT(\"'\"&$R$1&\"'!\"&\"$C$2:$G$200\"),5,FALSE),0)","v":73.522055479763566},{"$f":"IFERROR(VLOOKUP(B14,INDIRECT(\"'\"&$T$1&\"'!\"&\"$C$2:$G$200\"),4,FALSE),\"\")","v":4.6504629629629625E-2},{"$f":"IFERROR(VLOOKUP(B14,INDIRECT(\"'\"&$T$1&\"'!\"&\"$C$2:$G$200\"),5,FALSE),0)","v":72.103386809269153},{"$f":"8-COUNTIF(F14:U14,\"\")","v":5},{"$f":"E14/IF(V14>4,5,V14)","v":76.919171574245823}]
[13,"Simon Blease","Brycheiniog","M50 ",{"$f":"SUM(LARGE((S15,G15,I15,K15,M15,O15,Q15,U15),{1,2,3,4,5}))","v":384.56301604287063},{"$f":"IFERROR(VLOOKUP(B15,INDIRECT(\"'\"&$F$1&\"'!\"&\"$C$2:$G$200\"),4,FALSE),\"\")","v":1.6597222222222222E-2},{"$f":"IFERROR(VLOOKUP(B15,INDIRECT(\"'\"&$F$1&\"'!\"&\"$C$2:$G$200\"),5,FALSE),0)","v":86.747749170747099},{"$f":"IFERROR(VLOOKUP(B15,INDIRECT(\"'\"&$H$1&\"'!\"&\"$C$2:$G$200\"),4,FALSE),\"\")","v":3.9328703703703706E-2},{"$f":"IFERROR(VLOOKUP(B15,INDIRECT(\"'\"&$H$1&\"'!\"&\"$C$2:$G$200\"),5,FALSE),0)","v":72.800778617953128},{"$f":"IFERROR(VLOOKUP(B15,INDIRECT(\"'\"&$J$1&\"'!\"&\"$C$2:$G$200\"),4,FALSE),\"\")","v":""},{"$f":"IFERROR(VLOOKUP(B15,INDIRECT(\"'\"&$J$1&\"'!\"&\"$C$2:$G$200\"),5,FALSE),0)","v":0},{"$f":"IFERROR(VLOOKUP(B15,INDIRECT(\"'\"&$L$1&\"'!\"&\"$C$2:$G$200\"),4,FALSE),\"\")","v":""},{"$f":"IFERROR(VLOOKUP(B15,INDIRECT(\"'\"&$L$1&\"'!\"&\"$C$2:$G$200\"),5,FALSE),0)","v":0},{"$f":"IFERROR(VLOOKUP(B15,INDIRECT(\"'\"&$N$1&\"'!\"&\"$C$2:$G$200\"),4,FALSE),\"\")","v":2.8171296296296302E-2},{"$f":"IFERROR(VLOOKUP(B15,INDIRECT(\"'\"&$N$1&\"'!\"&\"$C$2:$G$200\"),5,FALSE),0)","v":74.948623099054657},{"$f":"IFERROR(VLOOKUP(B15,INDIRECT(\"'\"&$P$1&\"'!\"&\"$C$2:$G$200\"),4,FALSE),\"\")","v":2.7708333333333331E-2},{"$f":"IFERROR(VLOOKUP(B15,INDIRECT(\"'\"&$P$1&\"'!\"&\"$C$2:$G$200\"),5,FALSE),0)","v":72.848948374760994},{"$f":"IFERROR(VLOOKUP(B15,INDIRECT(\"'\"&$R$1&\"'!\"&\"$C$2:$G$200\"),4,FALSE),\"\")","v":2.4999999999999998E-2},{"$f":"IFERROR(VLOOKUP(B15,INDIRECT(\"'\"&$R$1&\"'!\"&\"$C$2:$G$200\"),5,FALSE),0)","v":77.216916780354737},{"$f":"IFERROR(VLOOKUP(B15,INDIRECT(\"'\"&$T$1&\"'!\"&\"$C$2:$G$200\"),4,FALSE),\"\")","v":""},{"$f":"IFERROR(VLOOKUP(B15,INDIRECT(\"'\"&$T$1&\"'!\"&\"$C$2:$G$200\"),5,FALSE),0)","v":0},{"$f":"8-COUNTIF(F15:U15,\"\")","v":5},{"$f":"E15/IF(V15>4,5,V15)","v":76.912603208574126}]
[14,"Peter Nugent","Wye Valley Runners","SM",{"$f":"SUM(LARGE((S16,G16,I16,K16,M16,O16,Q16,U16),{1,2,3,4,5}))","v":369.17522212258291},{"$f":"IFERROR(VLOOKUP(B16,INDIRECT(\"'\"&$F$1&\"'!\"&\"$C$2:$G$200\"),4,FALSE),\"\")","v":1.5300925925925926E-2},{"$f":"IFERROR(VLOOKUP(B16,INDIRECT(\"'\"&$F$1&\"'!\"&\"$C$2:$G$200\"),5,FALSE),0)","v":95.593113252250816},{"$f":"IFERROR(VLOOKUP(B16,INDIRECT(\"'\"&$H$1&\"'!\"&\"$C$2:$G$200\"),4,FALSE),\"\")","v":3.4178240740740738E-2},{"$f":"IFERROR(VLOOKUP(B16,INDIRECT(\"'\"&$H$1&\"'!\"&\"$C$2:$G$200\"),5,FALSE),0)","v":89.4587107883507},{"$f":"IFERROR(VLOOKUP(B16,INDIRECT(\"'\"&$J$1&\"'!\"&\"$C$2:$G$200\"),4,FALSE),\"\")","v":""},{"$f":"IFERROR(VLOOKUP(B16,INDIRECT(\"'\"&$J$1&\"'!\"&\"$C$2:$G$200\"),5,FALSE),0)","v":0},{"$f":"IFERROR(VLOOKUP(B16,INDIRECT(\"'\"&$L$1&\"'!\"&\"$C$2:$G$200\"),4,FALSE),\"\")","v":""},{"$f":"IFERROR(VLOOKUP(B16,INDIRECT(\"'\"&$L$1&\"'!\"&\"$C$2:$G$200\"),5,FALSE),0)","v":0},{"$f":"IFERROR(VLOOKUP(B16,INDIRECT(\"'\"&$N$1&\"'!\"&\"$C$2:$G$200\"),4,FALSE),\"\")","v":2.390046296296296E-2},{"$f":"IFERROR(VLOOKUP(B16,INDIRECT(\"'\"&$N$1&\"'!\"&\"$C$2:$G$200\"),5,FALSE),0)","v":93.906699547883306},{"$f":"IFERROR(VLOOKUP(B16,INDIRECT(\"'\"&$P$1&\"'!\"&\"$C$2:$G$200\"),4,FALSE),\"\")","v":2.3923611111111114E-2},{"$f":"IFERROR(VLOOKUP(B16,INDIRECT(\"'\"&$P$1&\"'!\"&\"$C$2:$G$200\"),5,FALSE),0)","v":90.216698534098128},{"$f":"IFERROR(VLOOKUP(B16,INDIRECT(\"'\"&$R$1&\"'!\"&\"$C$2:$G$200\"),4,FALSE),\"\")","v":""},{"$f":"IFERROR(VLOOKUP(B16,INDIRECT(\"'\"&$R$1&\"'!\"&\"$C$2:$G$200\"),5,FALSE),0)","v":0},{"$f":"IFERROR(VLOOKUP(B16,INDIRECT(\"'\"&$T$1&\"'!\"&\"$C$2:$G$200\"),4,FALSE),\"\")","v":""},{"$f":"IFERROR(VLOOKUP(B16,INDIRECT(\"'\"&$T$1&\"'!\"&\"$C$2:$G$200\"),5,FALSE),0)","v":0},{"$f":"8-COUNTIF(F16:U16,\"\")","v":4},{"$f":"E16/IF(V16>4,5,V16)","v":92.293805530645727}]
[15,"Mike Fawcett","Wye Valley Runners","M50",{"$f":"SUM(LARGE((S17,G17,I17,K17,M17,O17,Q17,U17),{1,2,3,4,5}))","v":358.21323404579999},{"$f":"IFERROR(VLOOKUP(B17,INDIRECT(\"'\"&$F$1&\"'!\"&\"$C$2:$G$200\"),4,FALSE),\"\")","v":""},{"$f":"IFERROR(VLOOKUP(B17,INDIRECT(\"'\"&$F$1&\"'!\"&\"$C$2:$G$200\"),5,FALSE),0)","v":0},{"$f":"IFERROR(VLOOKUP(B17,INDIRECT(\"'\"&$H$1&\"'!\"&\"$C$2:$G$200\"),4,FALSE),\"\")","v":3.4548611111111113E-2},{"$f":"IFERROR(VLOOKUP(B17,INDIRECT(\"'\"&$H$1&\"'!\"&\"$C$2:$G$200\"),5,FALSE),0)","v":88.260837014299625},{"$f":"IFERROR(VLOOKUP(B17,INDIRECT(\"'\"&$J$1&\"'!\"&\"$C$2:$G$200\"),4,FALSE),\"\")","v":""},{"$f":"IFERROR(VLOOKUP(B17,INDIRECT(\"'\"&$J$1&\"'!\"&\"$C$2:$G$200\"),5,FALSE),0)","v":0},{"$f":"IFERROR(VLOOKUP(B17,INDIRECT(\"'\"&$L$1&\"'!\"&\"$C$2:$G$200\"),4,FALSE),\"\")","v":""},{"$f":"IFERROR(VLOOKUP(B17,INDIRECT(\"'\"&$L$1&\"'!\"&\"$C$2:$G$200\"),5,FALSE),0)","v":0},{"$f":"IFERROR(VLOOKUP(B17,INDIRECT(\"'\"&$N$1&\"'!\"&\"$C$2:$G$200\"),4,FALSE),\"\")","v":2.4074074074074071E-2},{"$f":"IFERROR(VLOOKUP(B17,INDIRECT(\"'\"&$N$1&\"'!\"&\"$C$2:$G$200\"),5,FALSE),0)","v":93.136046033703295},{"$f":"IFERROR(VLOOKUP(B17,INDIRECT(\"'\"&$P$1&\"'!\"&\"$C$2:$G$200\"),4,FALSE),\"\")","v":""},{"$f":"IFERROR(VLOOKUP(B17,INDIRECT(\"'\"&$P$1&\"'!\"&\"$C$2:$G$200\"),5,FALSE),0)","v":0},{"$f":"IFERROR(VLOOKUP(B17,INDIRECT(\"'\"&$R$1&\"'!\"&\"$C$2:$G$200\"),4,FALSE),\"\")","v":2.1423611111111112E-2},{"$f":"IFERROR(VLOOKUP(B17,INDIRECT(\"'\"&$R$1&\"'!\"&\"$C$2:$G$200\"),5,FALSE),0)","v":94.78171896316509},{"$f":"IFERROR(VLOOKUP(B17,INDIRECT(\"'\"&$T$1&\"'!\"&\"$C$2:$G$200\"),4,FALSE),\"\")","v":4.2893518518518518E-2},{"$f":"IFERROR(VLOOKUP(B17,INDIRECT(\"'\"&$T$1&\"'!\"&\"$C$2:$G$200\"),5,FALSE),0)","v":82.034632034632011},{"$f":"8-COUNTIF(F17:U17,\"\")","v":4},{"$f":"E17/IF(V17>4,5,V17)","v":89.553308511449998}]
[16,"Evan Ryan","Mynydd Du","SM",{"$f":"SUM(LARGE((S18,G18,I18,K18,M18,O18,Q18,U18),{1,2,3,4,5}))","v":347.69198052732156},{"$f":"IFERROR(VLOOKUP(B18,INDIRECT(\"'\"&$F$1&\"'!\"&\"$C$2:$G$200\"),4,FALSE),\"\")","v":""},{"$f":"IFERROR(VLOOKUP(B18,INDIRECT(\"'\"&$F$1&\"'!\"&\"$C$2:$G$200\"),5,FALSE),0)","v":0},{"$f":"IFERROR(VLOOKUP(B18,INDIRECT(\"'\"&$H$1&\"'!\"&\"$C$2:$G$200\"),4,FALSE),\"\")","v":3.8483796296296294E-2},{"$f":"IFERROR(VLOOKUP(B18,INDIRECT(\"'\"&$H$1&\"'!\"&\"$C$2:$G$200\"),5,FALSE),0)","v":75.533428165007138},{"$f":"IFERROR(VLOOKUP(B18,INDIRECT(\"'\"&$J$1&\"'!\"&\"$C$2:$G$200\"),4,FALSE),\"\")","v":""},{"$f":"IFERROR(VLOOKUP(B18,INDIRECT(\"'\"&$J$1&\"'!\"&\"$C$2:$G$200\"),5,FALSE),0)","v":0},{"$f":"IFERROR(VLOOKUP(B18,INDIRECT(\"'\"&$L$1&\"'!\"&\"$C$2:$G$200\"),4,FALSE),\"\")","v":2.3657407407407408E-2},{"$f":"IFERROR(VLOOKUP(B18,INDIRECT(\"'\"&$L$1&\"'!\"&\"$C$2:$G$200\"),5,FALSE),0)","v":73.608706406134061},{"$f":"IFERROR(VLOOKUP(B18,INDIRECT(\"'\"&$N$1&\"'!\"&\"$C$2:$G$200\"),4,FALSE),\"\")","v":2.8298611111111111E-2},{"$f":"IFERROR(VLOOKUP(B18,INDIRECT(\"'\"&$N$1&\"'!\"&\"$C$2:$G$200\"),5,FALSE),0)","v":74.383477188656016},{"$f":"IFERROR(VLOOKUP(B18,INDIRECT(\"'\"&$P$1&\"'!\"&\"$C$2:$G$200\"),4,FALSE),\"\")","v":""},{"$f":"IFERROR(VLOOKUP(B18,INDIRECT(\"'\"&$P$1&\"'!\"&\"$C$2:$G$200\"),5,FALSE),0)","v":0},{"$f":"IFERROR(VLOOKUP(B18,INDIRECT(\"'\"&$R$1&\"'!\"&\"$C$2:$G$200\"),4,FALSE),\"\")","v":2.7581018518518519E-2},{"$f":"IFERROR(VLOOKUP(B18,INDIRECT(\"'\"&$R$1&\"'!\"&\"$C$2:$G$200\"),5,FALSE),0)","v":64.540700318326529},{"$f":"IFERROR(VLOOKUP(B18,INDIRECT(\"'\"&$T$1&\"'!\"&\"$C$2:$G$200\"),4,FALSE),\"\")","v":5.1041666666666673E-2},{"$f":"IFERROR(VLOOKUP(B18,INDIRECT(\"'\"&$T$1&\"'!\"&\"$C$2:$G$200\"),5,FALSE),0)","v":59.625668449197832},{"$f":"8-COUNTIF(F18:U18,\"\")","v":5},{"$f":"E18/IF(V18>4,5,V18)","v":69.538396105464315}]
[17,"Dominic Shields","San Domenico","M50 ",{"$f":"SUM(LARGE((S19,G19,I19,K19,M19,O19,Q19,U19),{1,2,3,4,5}))","v":343.60966824930733},{"$f":"IFERROR(VLOOKUP(B19,INDIRECT(\"'\"&$F$1&\"'!\"&\"$C$2:$G$200\"),4,FALSE),\"\")","v":1.7997685185185186E-2},{"$f":"IFERROR(VLOOKUP(B19,INDIRECT(\"'\"&$F$1&\"'!\"&\"$C$2:$G$200\"),5,FALSE),0)","v":77.191596904122562},{"$f":"IFERROR(VLOOKUP(B19,INDIRECT(\"'\"&$H$1&\"'!\"&\"$C$2:$G$200\"),4,FALSE),\"\")","v":4.206018518518518E-2},{"$f":"IFERROR(VLOOKUP(B19,INDIRECT(\"'\"&$H$1&\"'!\"&\"$C$2:$G$200\"),5,FALSE),0)","v":63.966459534326603},{"$f":"IFERROR(VLOOKUP(B19,INDIRECT(\"'\"&$J$1&\"'!\"&\"$C$2:$G$200\"),4,FALSE),\"\")","v":""},{"$f":"IFERROR(VLOOKUP(B19,INDIRECT(\"'\"&$J$1&\"'!\"&\"$C$2:$G$200\"),5,FALSE),0)","v":0},{"$f":"IFERROR(VLOOKUP(B19,INDIRECT(\"'\"&$L$1&\"'!\"&\"$C$2:$G$200\"),4,FALSE),\"\")","v":2.5590277777777778E-2},{"$f":"IFERROR(VLOOKUP(B19,INDIRECT(\"'\"&$L$1&\"'!\"&\"$C$2:$G$200\"),5,FALSE),0)","v":63.282216176106878},{"$f":"IFERROR(VLOOKUP(B19,INDIRECT(\"'\"&$N$1&\"'!\"&\"$C$2:$G$200\"),4,FALSE),\"\")","v":2.9074074074074075E-2},{"$f":"IFERROR(VLOOKUP(B19,INDIRECT(\"'\"&$N$1&\"'!\"&\"$C$2:$G$200\"),5,FALSE),0)","v":70.941224825318557},{"$f":"IFERROR(VLOOKUP(B19,INDIRECT(\"'\"&$P$1&\"'!\"&\"$C$2:$G$200\"),4,FALSE),\"\")","v":2.8715277777777781E-2},{"$f":"IFERROR(VLOOKUP(B19,INDIRECT(\"'\"&$P$1&\"'!\"&\"$C$2:$G$200\"),5,FALSE),0)","v":68.228170809432726},{"$f":"IFERROR(VLOOKUP(B19,INDIRECT(\"'\"&$R$1&\"'!\"&\"$C$2:$G$200\"),4,FALSE),\"\")","v":""},{"$f":"IFERROR(VLOOKUP(B19,INDIRECT(\"'\"&$R$1&\"'!\"&\"$C$2:$G$200\"),5,FALSE),0)","v":0},{"$f":"IFERROR(VLOOKUP(B19,INDIRECT(\"'\"&$T$1&\"'!\"&\"$C$2:$G$200\"),4,FALSE),\"\")","v":""},{"$f":"IFERROR(VLOOKUP(B19,INDIRECT(\"'\"&$T$1&\"'!\"&\"$C$2:$G$200\"),5,FALSE),0)","v":0},{"$f":"8-COUNTIF(F19:U19,\"\")","v":5},{"$f":"E19/IF(V19>4,5,V19)","v":68.721933649861469}]
[18,"Chris Medcalf","San Domenico","M40",{"$f":"SUM(LARGE((S20,G20,I20,K20,M20,O20,Q20,U20),{1,2,3,4,5}))","v":337.37959127190555},{"$f":"IFERROR(VLOOKUP(B20,INDIRECT(\"'\"&$F$1&\"'!\"&\"$C$2:$G$200\"),4,FALSE),\"\")","v":1.5856481481481482E-2},{"$f":"IFERROR(VLOOKUP(B20,INDIRECT(\"'\"&$F$1&\"'!\"&\"$C$2:$G$200\"),5,FALSE),0)","v":91.802242931606372},{"$f":"IFERROR(VLOOKUP(B20,INDIRECT(\"'\"&$H$1&\"'!\"&\"$C$2:$G$200\"),4,FALSE),\"\")","v":3.6111111111111115E-2},{"$f":"IFERROR(VLOOKUP(B20,INDIRECT(\"'\"&$H$1&\"'!\"&\"$C$2:$G$200\"),5,FALSE),0)","v":83.20730703002171},{"$f":"IFERROR(VLOOKUP(B20,INDIRECT(\"'\"&$J$1&\"'!\"&\"$C$2:$G$200\"),4,FALSE),\"\")","v":""},{"$f":"IFERROR(VLOOKUP(B20,INDIRECT(\"'\"&$J$1&\"'!\"&\"$C$2:$G$200\"),5,FALSE),0)","v":0},{"$f":"IFERROR(VLOOKUP(B20,INDIRECT(\"'\"&$L$1&\"'!\"&\"$C$2:$G$200\"),4,FALSE),\"\")","v":""},{"$f":"IFERROR(VLOOKUP(B20,INDIRECT(\"'\"&$L$1&\"'!\"&\"$C$2:$G$200\"),5,FALSE),0)","v":0},{"$f":"IFERROR(VLOOKUP(B20,INDIRECT(\"'\"&$N$1&\"'!\"&\"$C$2:$G$200\"),4,FALSE),\"\")","v":""},{"$f":"IFERROR(VLOOKUP(B20,INDIRECT(\"'\"&$N$1&\"'!\"&\"$C$2:$G$200\"),5,FALSE),0)","v":0},{"$f":"IFERROR(VLOOKUP(B20,INDIRECT(\"'\"&$P$1&\"'!\"&\"$C$2:$G$200\"),4,FALSE),\"\")","v":2.7083333333333334E-2},{"$f":"IFERROR(VLOOKUP(B20,INDIRECT(\"'\"&$P$1&\"'!\"&\"$C$2:$G$200\"),5,FALSE),0)","v":75.717017208412969},{"$f":"IFERROR(VLOOKUP(B20,INDIRECT(\"'\"&$R$1&\"'!\"&\"$C$2:$G$200\"),4,FALSE),\"\")","v":2.3078703703703702E-2},{"$f":"IFERROR(VLOOKUP(B20,INDIRECT(\"'\"&$R$1&\"'!\"&\"$C$2:$G$200\"),5,FALSE),0)","v":86.653024101864503},{"$f":"IFERROR(VLOOKUP(B20,INDIRECT(\"'\"&$T$1&\"'!\"&\"$C$2:$G$200\"),4,FALSE),\"\")","v":""},{"$f":"IFERROR(VLOOKUP(B20,INDIRECT(\"'\"&$T$1&\"'!\"&\"$C$2:$G$200\"),5,FALSE),0)","v":0},{"$f":"8-COUNTIF(F20:U20,\"\")","v":4},{"$f":"E20/IF(V20>4,5,V20)","v":84.344897817976388}]
[19,"Steven Hepton","Mynydd Du","SM",{"$f":"SUM(LARGE((S21,G21,I21,K21,M21,O21,Q21,U21),{1,2,3,4,5}))","v":336.58088464057761},{"$f":"IFERROR(VLOOKUP(B21,INDIRECT(\"'\"&$F$1&\"'!\"&\"$C$2:$G$200\"),4,FALSE),\"\")","v":""},{"$f":"IFERROR(VLOOKUP(B21,INDIRECT(\"'\"&$F$1&\"'!\"&\"$C$2:$G$200\"),5,FALSE),0)","v":0},{"$f":"IFERROR(VLOOKUP(B21,INDIRECT(\"'\"&$H$1&\"'!\"&\"$C$2:$G$200\"),4,FALSE),\"\")","v":""},{"$f":"IFERROR(VLOOKUP(B21,INDIRECT(\"'\"&$H$1&\"'!\"&\"$C$2:$G$200\"),5,FALSE),0)","v":0},{"$f":"IFERROR(VLOOKUP(B21,INDIRECT(\"'\"&$J$1&\"'!\"&\"$C$2:$G$200\"),4,FALSE),\"\")","v":""},{"$f":"IFERROR(VLOOKUP(B21,INDIRECT(\"'\"&$J$1&\"'!\"&\"$C$2:$G$200\"),5,FALSE),0)","v":0},{"$f":"IFERROR(VLOOKUP(B21,INDIRECT(\"'\"&$L$1&\"'!\"&\"$C$2:$G$200\"),4,FALSE),\"\")","v":2.2141203703703705E-2},{"$f":"IFERROR(VLOOKUP(B21,INDIRECT(\"'\"&$L$1&\"'!\"&\"$C$2:$G$200\"),5,FALSE),0)","v":81.709126885975763},{"$f":"IFERROR(VLOOKUP(B21,INDIRECT(\"'\"&$N$1&\"'!\"&\"$C$2:$G$200\"),4,FALSE),\"\")","v":2.5289351851851851E-2},{"$f":"IFERROR(VLOOKUP(B21,INDIRECT(\"'\"&$N$1&\"'!\"&\"$C$2:$G$200\"),5,FALSE),0)","v":87.741471434443113},{"$f":"IFERROR(VLOOKUP(B21,INDIRECT(\"'\"&$P$1&\"'!\"&\"$C$2:$G$200\"),4,FALSE),\"\")","v":""},{"$f":"IFERROR(VLOOKUP(B21,INDIRECT(\"'\"&$P$1&\"'!\"&\"$C$2:$G$200\"),5,FALSE),0)","v":0},{"$f":"IFERROR(VLOOKUP(B21,INDIRECT(\"'\"&$R$1&\"'!\"&\"$C$2:$G$200\"),4,FALSE),\"\")","v":2.2812499999999999E-2},{"$f":"IFERROR(VLOOKUP(B21,INDIRECT(\"'\"&$R$1&\"'!\"&\"$C$2:$G$200\"),5,FALSE),0)","v":87.960436562073681},{"$f":"IFERROR(VLOOKUP(B21,INDIRECT(\"'\"&$T$1&\"'!\"&\"$C$2:$G$200\"),4,FALSE),\"\")","v":4.3935185185185188E-2},{"$f":"IFERROR(VLOOKUP(B21,INDIRECT(\"'\"&$T$1&\"'!\"&\"$C$2:$G$200\"),5,FALSE),0)","v":79.169849758085036},{"$f":"8-COUNTIF(F21:U21,\"\")","v":4},{"$f":"E21/IF(V21>4,5,V21)","v":84.145221160144402}]
[20,"Andy Stott","MDC","M50",{"$f":"SUM(LARGE((S22,G22,I22,K22,M22,O22,Q22,U22),{1,2,3,4,5}))","v":332.70349548559318},{"$f":"IFERROR(VLOOKUP(B22,INDIRECT(\"'\"&$F$1&\"'!\"&\"$C$2:$G$200\"),4,FALSE),\"\")","v":""},{"$f":"IFERROR(VLOOKUP(B22,INDIRECT(\"'\"&$F$1&\"'!\"&\"$C$2:$G$200\"),5,FALSE),0)","v":0},{"$f":"IFERROR(VLOOKUP(B22,INDIRECT(\"'\"&$H$1&\"'!\"&\"$C$2:$G$200\"),4,FALSE),\"\")","v":3.9918981481481479E-2},{"$f":"IFERROR(VLOOKUP(B22,INDIRECT(\"'\"&$H$1&\"'!\"&\"$C$2:$G$200\"),5,FALSE),0)","v":70.891667290559297},{"$f":"IFERROR(VLOOKUP(B22,INDIRECT(\"'\"&$J$1&\"'!\"&\"$C$2:$G$200\"),4,FALSE),\"\")","v":""},{"$f":"IFERROR(VLOOKUP(B22,INDIRECT(\"'\"&$J$1&\"'!\"&\"$C$2:$G$200\"),5,FALSE),0)","v":0},{"$f":"IFERROR(VLOOKUP(B22,INDIRECT(\"'\"&$L$1&\"'!\"&\"$C$2:$G$200\"),4,FALSE),\"\")","v":2.5752314814814815E-2},{"$f":"IFERROR(VLOOKUP(B22,INDIRECT(\"'\"&$L$1&\"'!\"&\"$C$2:$G$200\"),5,FALSE),0)","v":62.416522384368058},{"$f":"IFERROR(VLOOKUP(B22,INDIRECT(\"'\"&$N$1&\"'!\"&\"$C$2:$G$200\"),4,FALSE),\"\")","v":2.9953703703703705E-2},{"$f":"IFERROR(VLOOKUP(B22,INDIRECT(\"'\"&$N$1&\"'!\"&\"$C$2:$G$200\"),5,FALSE),0)","v":67.036580353473113},{"$f":"IFERROR(VLOOKUP(B22,INDIRECT(\"'\"&$P$1&\"'!\"&\"$C$2:$G$200\"),4,FALSE),\"\")","v":""},{"$f":"IFERROR(VLOOKUP(B22,INDIRECT(\"'\"&$P$1&\"'!\"&\"$C$2:$G$200\"),5,FALSE),0)","v":0},{"$f":"IFERROR(VLOOKUP(B22,INDIRECT(\"'\"&$R$1&\"'!\"&\"$C$2:$G$200\"),4,FALSE),\"\")","v":2.5925925925925925E-2},{"$f":"IFERROR(VLOOKUP(B22,INDIRECT(\"'\"&$R$1&\"'!\"&\"$C$2:$G$200\"),5,FALSE),0)","v":72.669395179627145},{"$f":"IFERROR(VLOOKUP(B22,INDIRECT(\"'\"&$T$1&\"'!\"&\"$C$2:$G$200\"),4,FALSE),\"\")","v":5.1018518518518519E-2},{"$f":"IFERROR(VLOOKUP(B22,INDIRECT(\"'\"&$T$1&\"'!\"&\"$C$2:$G$200\"),5,FALSE),0)","v":59.689330277565553},{"$f":"8-COUNTIF(F22:U22,\"\")","v":5},{"$f":"E22/IF(V22>4,5,V22)","v":66.540699097118633}]
[21,"Ed Goldsmith","Unaffiliated","SM",{"$f":"SUM(LARGE((S23,G23,I23,K23,M23,O23,Q23,U23),{1,2,3,4,5}))","v":324.05005797154655},{"$f":"IFERROR(VLOOKUP(B23,INDIRECT(\"'\"&$F$1&\"'!\"&\"$C$2:$G$200\"),4,FALSE),\"\")","v":1.7534722222222222E-2},{"$f":"IFERROR(VLOOKUP(B23,INDIRECT(\"'\"&$F$1&\"'!\"&\"$C$2:$G$200\"),5,FALSE),0)","v":80.350655504659613},{"$f":"IFERROR(VLOOKUP(B23,INDIRECT(\"'\"&$H$1&\"'!\"&\"$C$2:$G$200\"),4,FALSE),\"\")","v":4.010416666666667E-2},{"$f":"IFERROR(VLOOKUP(B23,INDIRECT(\"'\"&$H$1&\"'!\"&\"$C$2:$G$200\"),5,FALSE),0)","v":70.292730403533724},{"$f":"IFERROR(VLOOKUP(B23,INDIRECT(\"'\"&$J$1&\"'!\"&\"$C$2:$G$200\"),4,FALSE),\"\")","v":""},{"$f":"IFERROR(VLOOKUP(B23,INDIRECT(\"'\"&$J$1&\"'!\"&\"$C$2:$G$200\"),5,FALSE),0)","v":0},{"$f":"IFERROR(VLOOKUP(B23,INDIRECT(\"'\"&$L$1&\"'!\"&\"$C$2:$G$200\"),4,FALSE),\"\")","v":2.7245370370370368E-2},{"$f":"IFERROR(VLOOKUP(B23,INDIRECT(\"'\"&$L$1&\"'!\"&\"$C$2:$G$200\"),5,FALSE),0)","v":54.439772446203349},{"$f":"IFERROR(VLOOKUP(B23,INDIRECT(\"'\"&$N$1&\"'!\"&\"$C$2:$G$200\"),4,FALSE),\"\")","v":3.1400462962962963E-2},{"$f":"IFERROR(VLOOKUP(B23,INDIRECT(\"'\"&$N$1&\"'!\"&\"$C$2:$G$200\"),5,FALSE),0)","v":60.614467735306235},{"$f":"IFERROR(VLOOKUP(B23,INDIRECT(\"'\"&$P$1&\"'!\"&\"$C$2:$G$200\"),4,FALSE),\"\")","v":""},{"$f":"IFERROR(VLOOKUP(B23,INDIRECT(\"'\"&$P$1&\"'!\"&\"$C$2:$G$200\"),5,FALSE),0)","v":0},{"$f":"IFERROR(VLOOKUP(B23,INDIRECT(\"'\"&$R$1&\"'!\"&\"$C$2:$G$200\"),4,FALSE),\"\")","v":""},{"$f":"IFERROR(VLOOKUP(B23,INDIRECT(\"'\"&$R$1&\"'!\"&\"$C$2:$G$200\"),5,FALSE),0)","v":0},{"$f":"IFERROR(VLOOKUP(B23,INDIRECT(\"'\"&$T$1&\"'!\"&\"$C$2:$G$200\"),4,FALSE),\"\")","v":5.1504629629629629E-2},{"$f":"IFERROR(VLOOKUP(B23,INDIRECT(\"'\"&$T$1&\"'!\"&\"$C$2:$G$200\"),5,FALSE),0)","v":58.352431881843629},{"$f":"8-COUNTIF(F23:U23,\"\")","v":5},{"$f":"E23/IF(V23>4,5,V23)","v":64.810011594309316}]
[22,"Alan Stanley","Unaffiliated","M50",{"$f":"SUM(LARGE((S24,G24,I24,K24,M24,O24,Q24,U24),{1,2,3,4,5}))","v":312.76511874404594},{"$f":"IFERROR(VLOOKUP(B24,INDIRECT(\"'\"&$F$1&\"'!\"&\"$C$2:$G$200\"),4,FALSE),\"\")","v":""},{"$f":"IFERROR(VLOOKUP(B24,INDIRECT(\"'\"&$F$1&\"'!\"&\"$C$2:$G$200\"),5,FALSE),0)","v":0},{"$f":"IFERROR(VLOOKUP(B24,INDIRECT(\"'\"&$H$1&\"'!\"&\"$C$2:$G$200\"),4,FALSE),\"\")","v":4.3275462962962967E-2},{"$f":"IFERROR(VLOOKUP(B24,INDIRECT(\"'\"&$H$1&\"'!\"&\"$C$2:$G$200\"),5,FALSE),0)","v":60.03593621322154},{"$f":"IFERROR(VLOOKUP(B24,INDIRECT(\"'\"&$J$1&\"'!\"&\"$C$2:$G$200\"),4,FALSE),\"\")","v":""},{"$f":"IFERROR(VLOOKUP(B24,INDIRECT(\"'\"&$J$1&\"'!\"&\"$C$2:$G$200\"),5,FALSE),0)","v":0},{"$f":"IFERROR(VLOOKUP(B24,INDIRECT(\"'\"&$L$1&\"'!\"&\"$C$2:$G$200\"),4,FALSE),\"\")","v":""},{"$f":"IFERROR(VLOOKUP(B24,INDIRECT(\"'\"&$L$1&\"'!\"&\"$C$2:$G$200\"),5,FALSE),0)","v":0},{"$f":"IFERROR(VLOOKUP(B24,INDIRECT(\"'\"&$N$1&\"'!\"&\"$C$2:$G$200\"),4,FALSE),\"\")","v":3.0891203703703702E-2},{"$f":"IFERROR(VLOOKUP(B24,INDIRECT(\"'\"&$N$1&\"'!\"&\"$C$2:$G$200\"),5,FALSE),0)","v":62.87505137690097},{"$f":"IFERROR(VLOOKUP(B24,INDIRECT(\"'\"&$P$1&\"'!\"&\"$C$2:$G$200\"),4,FALSE),\"\")","v":2.9791666666666664E-2},{"$f":"IFERROR(VLOOKUP(B24,INDIRECT(\"'\"&$P$1&\"'!\"&\"$C$2:$G$200\"),5,FALSE),0)","v":63.288718929254294},{"$f":"IFERROR(VLOOKUP(B24,INDIRECT(\"'\"&$R$1&\"'!\"&\"$C$2:$G$200\"),4,FALSE),\"\")","v":2.6249999999999999E-2},{"$f":"IFERROR(VLOOKUP(B24,INDIRECT(\"'\"&$R$1&\"'!\"&\"$C$2:$G$200\"),5,FALSE),0)","v":71.077762619372464},{"$f":"IFERROR(VLOOKUP(B24,INDIRECT(\"'\"&$T$1&\"'!\"&\"$C$2:$G$200\"),4,FALSE),\"\")","v":5.2546296296296292E-2},{"$f":"IFERROR(VLOOKUP(B24,INDIRECT(\"'\"&$T$1&\"'!\"&\"$C$2:$G$200\"),5,FALSE),0)","v":55.48764960529666},{"$f":"8-COUNTIF(F24:U24,\"\")","v":5},{"$f":"E24/IF(V24>4,5,V24)","v":62.553023748809188}]
[23,"Rona Davies","Mynydd Du","F50",{"$f":"SUM(LARGE((S25,G25,I25,K25,M25,O25,Q25,U25),{1,2,3,4,5}))","v":310.28815449914885},{"$f":"IFERROR(VLOOKUP(B25,INDIRECT(\"'\"&$F$1&\"'!\"&\"$C$2:$G$200\"),4,FALSE),\"\")","v":""},{"$f":"IFERROR(VLOOKUP(B25,INDIRECT(\"'\"&$F$1&\"'!\"&\"$C$2:$G$200\"),5,FALSE),0)","v":0},{"$f":"IFERROR(VLOOKUP(B25,INDIRECT(\"'\"&$H$1&\"'!\"&\"$C$2:$G$200\"),4,FALSE),\"\")","v":""},{"$f":"IFERROR(VLOOKUP(B25,INDIRECT(\"'\"&$H$1&\"'!\"&\"$C$2:$G$200\"),5,FALSE),0)","v":0},{"$f":"IFERROR(VLOOKUP(B25,INDIRECT(\"'\"&$J$1&\"'!\"&\"$C$2:$G$200\"),4,FALSE),\"\")","v":""},{"$f":"IFERROR(VLOOKUP(B25,INDIRECT(\"'\"&$J$1&\"'!\"&\"$C$2:$G$200\"),5,FALSE),0)","v":0},{"$f":"IFERROR(VLOOKUP(B25,INDIRECT(\"'\"&$L$1&\"'!\"&\"$C$2:$G$200\"),4,FALSE),\"\")","v":2.5520833333333336E-2},{"$f":"IFERROR(VLOOKUP(B25,INDIRECT(\"'\"&$L$1&\"'!\"&\"$C$2:$G$200\"),5,FALSE),0)","v":63.65322780113776},{"$f":"IFERROR(VLOOKUP(B25,INDIRECT(\"'\"&$N$1&\"'!\"&\"$C$2:$G$200\"),4,FALSE),\"\")","v":2.9930555555555557E-2},{"$f":"IFERROR(VLOOKUP(B25,INDIRECT(\"'\"&$N$1&\"'!\"&\"$C$2:$G$200\"),5,FALSE),0)","v":67.13933415536377},{"$f":"IFERROR(VLOOKUP(B25,INDIRECT(\"'\"&$P$1&\"'!\"&\"$C$2:$G$200\"),4,FALSE),\"\")","v":2.9398148148148149E-2},{"$f":"IFERROR(VLOOKUP(B25,INDIRECT(\"'\"&$P$1&\"'!\"&\"$C$2:$G$200\"),5,FALSE),0)","v":65.094540046738871},{"$f":"IFERROR(VLOOKUP(B25,INDIRECT(\"'\"&$R$1&\"'!\"&\"$C$2:$G$200\"),4,FALSE),\"\")","v":2.7754629629629629E-2},{"$f":"IFERROR(VLOOKUP(B25,INDIRECT(\"'\"&$R$1&\"'!\"&\"$C$2:$G$200\"),5,FALSE),0)","v":63.688040018190108},{"$f":"IFERROR(VLOOKUP(B25,INDIRECT(\"'\"&$T$1&\"'!\"&\"$C$2:$G$200\"),4,FALSE),\"\")","v":5.4282407407407411E-2},{"$f":"IFERROR(VLOOKUP(B25,INDIRECT(\"'\"&$T$1&\"'!\"&\"$C$2:$G$200\"),5,FALSE),0)","v":50.713012477718337},{"$f":"8-COUNTIF(F25:U25,\"\")","v":5},{"$f":"E25/IF(V25>4,5,V25)","v":62.057630899829768}]
[24,"Naomi Prosser","Hereford Couriers","SF",{"$f":"SUM(LARGE((S26,G26,I26,K26,M26,O26,Q26,U26),{1,2,3,4,5}))","v":300.20136790644659},{"$f":"IFERROR(VLOOKUP(B26,INDIRECT(\"'\"&$F$1&\"'!\"&\"$C$2:$G$200\"),4,FALSE),\"\")","v":1.7499999999999998E-2},{"$f":"IFERROR(VLOOKUP(B26,INDIRECT(\"'\"&$F$1&\"'!\"&\"$C$2:$G$200\"),5,FALSE),0)","v":80.587584899699877},{"$f":"IFERROR(VLOOKUP(B26,INDIRECT(\"'\"&$H$1&\"'!\"&\"$C$2:$G$200\"),4,FALSE),\"\")","v":4.0208333333333332E-2},{"$f":"IFERROR(VLOOKUP(B26,INDIRECT(\"'\"&$H$1&\"'!\"&\"$C$2:$G$200\"),5,FALSE),0)","v":69.955828404581879},{"$f":"IFERROR(VLOOKUP(B26,INDIRECT(\"'\"&$J$1&\"'!\"&\"$C$2:$G$200\"),4,FALSE),\"\")","v":""},{"$f":"IFERROR(VLOOKUP(B26,INDIRECT(\"'\"&$J$1&\"'!\"&\"$C$2:$G$200\"),5,FALSE),0)","v":0},{"$f":"IFERROR(VLOOKUP(B26,INDIRECT(\"'\"&$L$1&\"'!\"&\"$C$2:$G$200\"),4,FALSE),\"\")","v":""},{"$f":"IFERROR(VLOOKUP(B26,INDIRECT(\"'\"&$L$1&\"'!\"&\"$C$2:$G$200\"),5,FALSE),0)","v":0},{"$f":"IFERROR(VLOOKUP(B26,INDIRECT(\"'\"&$N$1&\"'!\"&\"$C$2:$G$200\"),4,FALSE),\"\")","v":2.9120370370370366E-2},{"$f":"IFERROR(VLOOKUP(B26,INDIRECT(\"'\"&$N$1&\"'!\"&\"$C$2:$G$200\"),5,FALSE),0)","v":70.735717221537243},{"$f":"IFERROR(VLOOKUP(B26,INDIRECT(\"'\"&$P$1&\"'!\"&\"$C$2:$G$200\"),4,FALSE),\"\")","v":""},{"$f":"IFERROR(VLOOKUP(B26,INDIRECT(\"'\"&$P$1&\"'!\"&\"$C$2:$G$200\"),5,FALSE),0)","v":0},{"$f":"IFERROR(VLOOKUP(B26,INDIRECT(\"'\"&$R$1&\"'!\"&\"$C$2:$G$200\"),4,FALSE),\"\")","v":2.4652777777777777E-2},{"$f":"IFERROR(VLOOKUP(B26,INDIRECT(\"'\"&$R$1&\"'!\"&\"$C$2:$G$200\"),5,FALSE),0)","v":78.922237380627578},{"$f":"IFERROR(VLOOKUP(B26,INDIRECT(\"'\"&$T$1&\"'!\"&\"$C$2:$G$200\"),4,FALSE),\"\")","v":""},{"$f":"IFERROR(VLOOKUP(B26,INDIRECT(\"'\"&$T$1&\"'!\"&\"$C$2:$G$200\"),5,FALSE),0)","v":0},{"$f":"8-COUNTIF(F26:U26,\"\")","v":4},{"$f":"E26/IF(V26>4,5,V26)","v":75.050341976611648}]
[25,"Nick Dallimore","MDC","M60",{"$f":"SUM(LARGE((S27,G27,I27,K27,M27,O27,Q27,U27),{1,2,3,4,5}))","v":287.82455071530728},{"$f":"IFERROR(VLOOKUP(B27,INDIRECT(\"'\"&$F$1&\"'!\"&\"$C$2:$G$200\"),4,FALSE),\"\")","v":""},{"$f":"IFERROR(VLOOKUP(B27,INDIRECT(\"'\"&$F$1&\"'!\"&\"$C$2:$G$200\"),5,FALSE),0)","v":0},{"$f":"IFERROR(VLOOKUP(B27,INDIRECT(\"'\"&$H$1&\"'!\"&\"$C$2:$G$200\"),4,FALSE),\"\")","v":""},{"$f":"IFERROR(VLOOKUP(B27,INDIRECT(\"'\"&$H$1&\"'!\"&\"$C$2:$G$200\"),5,FALSE),0)","v":0},{"$f":"IFERROR(VLOOKUP(B27,INDIRECT(\"'\"&$J$1&\"'!\"&\"$C$2:$G$200\"),4,FALSE),\"\")","v":""},{"$f":"IFERROR(VLOOKUP(B27,INDIRECT(\"'\"&$J$1&\"'!\"&\"$C$2:$G$200\"),5,FALSE),0)","v":0},{"$f":"IFERROR(VLOOKUP(B27,INDIRECT(\"'\"&$L$1&\"'!\"&\"$C$2:$G$200\"),4,FALSE),\"\")","v":2.3657407407407408E-2},{"$f":"IFERROR(VLOOKUP(B27,INDIRECT(\"'\"&$L$1&\"'!\"&\"$C$2:$G$200\"),5,FALSE),0)","v":73.608706406134061},{"$f":"IFERROR(VLOOKUP(B27,INDIRECT(\"'\"&$N$1&\"'!\"&\"$C$2:$G$200\"),4,FALSE),\"\")","v":2.8356481481481483E-2},{"$f":"IFERROR(VLOOKUP(B27,INDIRECT(\"'\"&$N$1&\"'!\"&\"$C$2:$G$200\"),5,FALSE),0)","v":74.126592683929317},{"$f":"IFERROR(VLOOKUP(B27,INDIRECT(\"'\"&$P$1&\"'!\"&\"$C$2:$G$200\"),4,FALSE),\"\")","v":""},{"$f":"IFERROR(VLOOKUP(B27,INDIRECT(\"'\"&$P$1&\"'!\"&\"$C$2:$G$200\"),5,FALSE),0)","v":0},{"$f":"IFERROR(VLOOKUP(B27,INDIRECT(\"'\"&$R$1&\"'!\"&\"$C$2:$G$200\"),4,FALSE),\"\")","v":2.5324074074074079E-2},{"$f":"IFERROR(VLOOKUP(B27,INDIRECT(\"'\"&$R$1&\"'!\"&\"$C$2:$G$200\"),5,FALSE),0)","v":75.625284220100042},{"$f":"IFERROR(VLOOKUP(B27,INDIRECT(\"'\"&$T$1&\"'!\"&\"$C$2:$G$200\"),4,FALSE),\"\")","v":4.9282407407407407E-2},{"$f":"IFERROR(VLOOKUP(B27,INDIRECT(\"'\"&$T$1&\"'!\"&\"$C$2:$G$200\"),5,FALSE),0)","v":64.463967405143862},{"$f":"8-COUNTIF(F27:U27,\"\")","v":4},{"$f":"E27/IF(V27>4,5,V27)","v":71.956137678826821}]
[26,"John Jaspers","Unaffiliated","M40",{"$f":"SUM(LARGE((S28,G28,I28,K28,M28,O28,Q28,U28),{1,2,3,4,5}))","v":285.14702431358245},{"$f":"IFERROR(VLOOKUP(B28,INDIRECT(\"'\"&$F$1&\"'!\"&\"$C$2:$G$200\"),4,FALSE),\"\")","v":2.0787037037037038E-2},{"$f":"IFERROR(VLOOKUP(B28,INDIRECT(\"'\"&$F$1&\"'!\"&\"$C$2:$G$200\"),5,FALSE),0)","v":58.158268835886886},{"$f":"IFERROR(VLOOKUP(B28,INDIRECT(\"'\"&$H$1&\"'!\"&\"$C$2:$G$200\"),4,FALSE),\"\")","v":4.4930555555555557E-2},{"$f":"IFERROR(VLOOKUP(B28,INDIRECT(\"'\"&$H$1&\"'!\"&\"$C$2:$G$200\"),5,FALSE),0)","v":54.682937785430873},{"$f":"IFERROR(VLOOKUP(B28,INDIRECT(\"'\"&$J$1&\"'!\"&\"$C$2:$G$200\"),4,FALSE),\"\")","v":""},{"$f":"IFERROR(VLOOKUP(B28,INDIRECT(\"'\"&$J$1&\"'!\"&\"$C$2:$G$200\"),5,FALSE),0)","v":0},{"$f":"IFERROR(VLOOKUP(B28,INDIRECT(\"'\"&$L$1&\"'!\"&\"$C$2:$G$200\"),4,FALSE),\"\")","v":""},{"$f":"IFERROR(VLOOKUP(B28,INDIRECT(\"'\"&$L$1&\"'!\"&\"$C$2:$G$200\"),5,FALSE),0)","v":0},{"$f":"IFERROR(VLOOKUP(B28,INDIRECT(\"'\"&$N$1&\"'!\"&\"$C$2:$G$200\"),4,FALSE),\"\")","v":3.4409722222222223E-2},{"$f":"IFERROR(VLOOKUP(B28,INDIRECT(\"'\"&$N$1&\"'!\"&\"$C$2:$G$200\"),5,FALSE),0)","v":47.256473489519138},{"$f":"IFERROR(VLOOKUP(B28,INDIRECT(\"'\"&$P$1&\"'!\"&\"$C$2:$G$200\"),4,FALSE),\"\")","v":3.2557870370370369E-2},{"$f":"IFERROR(VLOOKUP(B28,INDIRECT(\"'\"&$P$1&\"'!\"&\"$C$2:$G$200\"),5,FALSE),0)","v":50.59485872105374},{"$f":"IFERROR(VLOOKUP(B28,INDIRECT(\"'\"&$R$1&\"'!\"&\"$C$2:$G$200\"),4,FALSE),\"\")","v":2.7141203703703706E-2},{"$f":"IFERROR(VLOOKUP(B28,INDIRECT(\"'\"&$R$1&\"'!\"&\"$C$2:$G$200\"),5,FALSE),0)","v":66.700773078672128},{"$f":"IFERROR(VLOOKUP(B28,INDIRECT(\"'\"&$T$1&\"'!\"&\"$C$2:$G$200\"),4,FALSE),\"\")","v":5.2719907407407403E-2},{"$f":"IFERROR(VLOOKUP(B28,INDIRECT(\"'\"&$T$1&\"'!\"&\"$C$2:$G$200\"),5,FALSE),0)","v":55.010185892538829},{"$f":"8-COUNTIF(F28:U28,\"\")","v":6},{"$f":"E28/IF(V28>4,5,V28)","v":57.02940486271649}]
[27,"Michael Lai","UBOC","MU23",{"$f":"SUM(LARGE((S29,G29,I29,K29,M29,O29,Q29,U29),{1,2,3,4,5}))","v":278.8178128555802},{"$f":"IFERROR(VLOOKUP(B29,INDIRECT(\"'\"&$F$1&\"'!\"&\"$C$2:$G$200\"),4,FALSE),\"\")","v":""},{"$f":"IFERROR(VLOOKUP(B29,INDIRECT(\"'\"&$F$1&\"'!\"&\"$C$2:$G$200\"),5,FALSE),0)","v":0},{"$f":"IFERROR(VLOOKUP(B29,INDIRECT(\"'\"&$H$1&\"'!\"&\"$C$2:$G$200\"),4,FALSE),\"\")","v":""},{"$f":"IFERROR(VLOOKUP(B29,INDIRECT(\"'\"&$H$1&\"'!\"&\"$C$2:$G$200\"),5,FALSE),0)","v":0},{"$f":"IFERROR(VLOOKUP(B29,INDIRECT(\"'\"&$J$1&\"'!\"&\"$C$2:$G$200\"),4,FALSE),\"\")","v":""},{"$f":"IFERROR(VLOOKUP(B29,INDIRECT(\"'\"&$J$1&\"'!\"&\"$C$2:$G$200\"),5,FALSE),0)","v":0},{"$f":"IFERROR(VLOOKUP(B29,INDIRECT(\"'\"&$L$1&\"'!\"&\"$C$2:$G$200\"),4,FALSE),\"\")","v":2.0243055555555552E-2},{"$f":"IFERROR(VLOOKUP(B29,INDIRECT(\"'\"&$L$1&\"'!\"&\"$C$2:$G$200\"),5,FALSE),0)","v":91.850111303487552},{"$f":"IFERROR(VLOOKUP(B29,INDIRECT(\"'\"&$N$1&\"'!\"&\"$C$2:$G$200\"),4,FALSE),\"\")","v":2.3402777777777783E-2},{"$f":"IFERROR(VLOOKUP(B29,INDIRECT(\"'\"&$N$1&\"'!\"&\"$C$2:$G$200\"),5,FALSE),0)","v":96.115906288532685},{"$f":"IFERROR(VLOOKUP(B29,INDIRECT(\"'\"&$P$1&\"'!\"&\"$C$2:$G$200\"),4,FALSE),\"\")","v":""},{"$f":"IFERROR(VLOOKUP(B29,INDIRECT(\"'\"&$P$1&\"'!\"&\"$C$2:$G$200\"),5,FALSE),0)","v":0},{"$f":"IFERROR(VLOOKUP(B29,INDIRECT(\"'\"&$R$1&\"'!\"&\"$C$2:$G$200\"),4,FALSE),\"\")","v":""},{"$f":"IFERROR(VLOOKUP(B29,INDIRECT(\"'\"&$R$1&\"'!\"&\"$C$2:$G$200\"),5,FALSE),0)","v":0},{"$f":"IFERROR(VLOOKUP(B29,INDIRECT(\"'\"&$T$1&\"'!\"&\"$C$2:$G$200\"),4,FALSE),\"\")","v":3.9687500000000001E-2},{"$f":"IFERROR(VLOOKUP(B29,INDIRECT(\"'\"&$T$1&\"'!\"&\"$C$2:$G$200\"),5,FALSE),0)","v":90.85179526355995},{"$f":"8-COUNTIF(F29:U29,\"\")","v":3},{"$f":"E29/IF(V29>4,5,V29)","v":92.939270951860067}]
[28,"Andrew Stephens","Monross Trailblazers","M40",{"$f":"SUM(LARGE((S30,G30,I30,K30,M30,O30,Q30,U30),{1,2,3,4,5}))","v":270.94447734071787},{"$f":"IFERROR(VLOOKUP(B30,INDIRECT(\"'\"&$F$1&\"'!\"&\"$C$2:$G$200\"),4,FALSE),\"\")","v":""},{"$f":"IFERROR(VLOOKUP(B30,INDIRECT(\"'\"&$F$1&\"'!\"&\"$C$2:$G$200\"),5,FALSE),0)","v":0},{"$f":"IFERROR(VLOOKUP(B30,INDIRECT(\"'\"&$H$1&\"'!\"&\"$C$2:$G$200\"),4,FALSE),\"\")","v":""},{"$f":"IFERROR(VLOOKUP(B30,INDIRECT(\"'\"&$H$1&\"'!\"&\"$C$2:$G$200\"),5,FALSE),0)","v":0},{"$f":"IFERROR(VLOOKUP(B30,INDIRECT(\"'\"&$J$1&\"'!\"&\"$C$2:$G$200\"),4,FALSE),\"\")","v":""},{"$f":"IFERROR(VLOOKUP(B30,INDIRECT(\"'\"&$J$1&\"'!\"&\"$C$2:$G$200\"),5,FALSE),0)","v":0},{"$f":"IFERROR(VLOOKUP(B30,INDIRECT(\"'\"&$L$1&\"'!\"&\"$C$2:$G$200\"),4,FALSE),\"\")","v":2.0763888888888887E-2},{"$f":"IFERROR(VLOOKUP(B30,INDIRECT(\"'\"&$L$1&\"'!\"&\"$C$2:$G$200\"),5,FALSE),0)","v":89.067524115755646},{"$f":"IFERROR(VLOOKUP(B30,INDIRECT(\"'\"&$N$1&\"'!\"&\"$C$2:$G$200\"),4,FALSE),\"\")","v":2.4004629629629629E-2},{"$f":"IFERROR(VLOOKUP(B30,INDIRECT(\"'\"&$N$1&\"'!\"&\"$C$2:$G$200\"),5,FALSE),0)","v":93.44430743937528},{"$f":"IFERROR(VLOOKUP(B30,INDIRECT(\"'\"&$P$1&\"'!\"&\"$C$2:$G$200\"),4,FALSE),\"\")","v":""},{"$f":"IFERROR(VLOOKUP(B30,INDIRECT(\"'\"&$P$1&\"'!\"&\"$C$2:$G$200\"),5,FALSE),0)","v":0},{"$f":"IFERROR(VLOOKUP(B30,INDIRECT(\"'\"&$R$1&\"'!\"&\"$C$2:$G$200\"),4,FALSE),\"\")","v":""},{"$f":"IFERROR(VLOOKUP(B30,INDIRECT(\"'\"&$R$1&\"'!\"&\"$C$2:$G$200\"),5,FALSE),0)","v":0},{"$f":"IFERROR(VLOOKUP(B30,INDIRECT(\"'\"&$T$1&\"'!\"&\"$C$2:$G$200\"),4,FALSE),\"\")","v":4.0567129629629627E-2},{"$f":"IFERROR(VLOOKUP(B30,INDIRECT(\"'\"&$T$1&\"'!\"&\"$C$2:$G$200\"),5,FALSE),0)","v":88.432645785586956},{"$f":"8-COUNTIF(F30:U30,\"\")","v":3},{"$f":"E30/IF(V30>4,5,V30)","v":90.314825780239289}]
[29,"Daniel Lewis","Wye Valley Runners","M40",{"$f":"SUM(LARGE((S31,G31,I31,K31,M31,O31,Q31,U31),{1,2,3,4,5}))","v":265.4655798987709},{"$f":"IFERROR(VLOOKUP(B31,INDIRECT(\"'\"&$F$1&\"'!\"&\"$C$2:$G$200\"),4,FALSE),\"\")","v":1.5046296296296295E-2},{"$f":"IFERROR(VLOOKUP(B31,INDIRECT(\"'\"&$F$1&\"'!\"&\"$C$2:$G$200\"),5,FALSE),0)","v":97.330595482546187},{"$f":"IFERROR(VLOOKUP(B31,INDIRECT(\"'\"&$H$1&\"'!\"&\"$C$2:$G$200\"),4,FALSE),\"\")","v":3.4884259259259261E-2},{"$f":"IFERROR(VLOOKUP(B31,INDIRECT(\"'\"&$H$1&\"'!\"&\"$C$2:$G$200\"),5,FALSE),0)","v":87.175263906565846},{"$f":"IFERROR(VLOOKUP(B31,INDIRECT(\"'\"&$J$1&\"'!\"&\"$C$2:$G$200\"),4,FALSE),\"\")","v":""},{"$f":"IFERROR(VLOOKUP(B31,INDIRECT(\"'\"&$J$1&\"'!\"&\"$C$2:$G$200\"),5,FALSE),0)","v":0},{"$f":"IFERROR(VLOOKUP(B31,INDIRECT(\"'\"&$L$1&\"'!\"&\"$C$2:$G$200\"),4,FALSE),\"\")","v":""},{"$f":"IFERROR(VLOOKUP(B31,INDIRECT(\"'\"&$L$1&\"'!\"&\"$C$2:$G$200\"),5,FALSE),0)","v":0},{"$f":"IFERROR(VLOOKUP(B31,INDIRECT(\"'\"&$N$1&\"'!\"&\"$C$2:$G$200\"),4,FALSE),\"\")","v":2.6817129629629632E-2},{"$f":"IFERROR(VLOOKUP(B31,INDIRECT(\"'\"&$N$1&\"'!\"&\"$C$2:$G$200\"),5,FALSE),0)","v":80.959720509658865},{"$f":"IFERROR(VLOOKUP(B31,INDIRECT(\"'\"&$P$1&\"'!\"&\"$C$2:$G$200\"),4,FALSE),\"\")","v":""},{"$f":"IFERROR(VLOOKUP(B31,INDIRECT(\"'\"&$P$1&\"'!\"&\"$C$2:$G$200\"),5,FALSE),0)","v":0},{"$f":"IFERROR(VLOOKUP(B31,INDIRECT(\"'\"&$R$1&\"'!\"&\"$C$2:$G$200\"),4,FALSE),\"\")","v":""},{"$f":"IFERROR(VLOOKUP(B31,INDIRECT(\"'\"&$R$1&\"'!\"&\"$C$2:$G$200\"),5,FALSE),0)","v":0},{"$f":"IFERROR(VLOOKUP(B31,INDIRECT(\"'\"&$T$1&\"'!\"&\"$C$2:$G$200\"),4,FALSE),\"\")","v":""},{"$f":"IFERROR(VLOOKUP(B31,INDIRECT(\"'\"&$T$1&\"'!\"&\"$C$2:$G$200\"),5,FALSE),0)","v":0},{"$f":"8-COUNTIF(F31:U31,\"\")","v":3},{"$f":"E31/IF(V31>4,5,V31)","v":88.488526632923637}]
[30,"Jay Goulding","Taff Ely Triathlon","M40",{"$f":"SUM(LARGE((S32,G32,I32,K32,M32,O32,Q32,U32),{1,2,3,4,5}))","v":265.27723887473445},{"$f":"IFERROR(VLOOKUP(B32,INDIRECT(\"'\"&$F$1&\"'!\"&\"$C$2:$G$200\"),4,FALSE),\"\")","v":1.4976851851851852E-2},{"$f":"IFERROR(VLOOKUP(B32,INDIRECT(\"'\"&$F$1&\"'!\"&\"$C$2:$G$200\"),5,FALSE),0)","v":97.804454272626742},{"$f":"IFERROR(VLOOKUP(B32,INDIRECT(\"'\"&$H$1&\"'!\"&\"$C$2:$G$200\"),4,FALSE),\"\")","v":""},{"$f":"IFERROR(VLOOKUP(B32,INDIRECT(\"'\"&$H$1&\"'!\"&\"$C$2:$G$200\"),5,FALSE),0)","v":0},{"$f":"IFERROR(VLOOKUP(B32,INDIRECT(\"'\"&$J$1&\"'!\"&\"$C$2:$G$200\"),4,FALSE),\"\")","v":""},{"$f":"IFERROR(VLOOKUP(B32,INDIRECT(\"'\"&$J$1&\"'!\"&\"$C$2:$G$200\"),5,FALSE),0)","v":0},{"$f":"IFERROR(VLOOKUP(B32,INDIRECT(\"'\"&$L$1&\"'!\"&\"$C$2:$G$200\"),4,FALSE),\"\")","v":2.2453703703703708E-2},{"$f":"IFERROR(VLOOKUP(B32,INDIRECT(\"'\"&$L$1&\"'!\"&\"$C$2:$G$200\"),5,FALSE),0)","v":80.039574573336608},{"$f":"IFERROR(VLOOKUP(B32,INDIRECT(\"'\"&$N$1&\"'!\"&\"$C$2:$G$200\"),4,FALSE),\"\")","v":2.5358796296296296E-2},{"$f":"IFERROR(VLOOKUP(B32,INDIRECT(\"'\"&$N$1&\"'!\"&\"$C$2:$G$200\"),5,FALSE),0)","v":87.433210028771086},{"$f":"IFERROR(VLOOKUP(B32,INDIRECT(\"'\"&$P$1&\"'!\"&\"$C$2:$G$200\"),4,FALSE),\"\")","v":""},{"$f":"IFERROR(VLOOKUP(B32,INDIRECT(\"'\"&$P$1&\"'!\"&\"$C$2:$G$200\"),5,FALSE),0)","v":0},{"$f":"IFERROR(VLOOKUP(B32,INDIRECT(\"'\"&$R$1&\"'!\"&\"$C$2:$G$200\"),4,FALSE),\"\")","v":""},{"$f":"IFERROR(VLOOKUP(B32,INDIRECT(\"'\"&$R$1&\"'!\"&\"$C$2:$G$200\"),5,FALSE),0)","v":0},{"$f":"IFERROR(VLOOKUP(B32,INDIRECT(\"'\"&$T$1&\"'!\"&\"$C$2:$G$200\"),4,FALSE),\"\")","v":""},{"$f":"IFERROR(VLOOKUP(B32,INDIRECT(\"'\"&$T$1&\"'!\"&\"$C$2:$G$200\"),5,FALSE),0)","v":0},{"$f":"8-COUNTIF(F32:U32,\"\")","v":3},{"$f":"E32/IF(V32>4,5,V32)","v":88.42574629157815}]
[31,"Harri Like","Pont-y-Pwl and District","SF",{"$f":"SUM(LARGE((S33,G33,I33,K33,M33,O33,Q33,U33),{1,2,3,4,5}))","v":264.79189770185201},{"$f":"IFERROR(VLOOKUP(B33,INDIRECT(\"'\"&$F$1&\"'!\"&\"$C$2:$G$200\"),4,FALSE),\"\")","v":""},{"$f":"IFERROR(VLOOKUP(B33,INDIRECT(\"'\"&$F$1&\"'!\"&\"$C$2:$G$200\"),5,FALSE),0)","v":0},{"$f":"IFERROR(VLOOKUP(B33,INDIRECT(\"'\"&$H$1&\"'!\"&\"$C$2:$G$200\"),4,FALSE),\"\")","v":4.1990740740740745E-2},{"$f":"IFERROR(VLOOKUP(B33,INDIRECT(\"'\"&$H$1&\"'!\"&\"$C$2:$G$200\"),5,FALSE),0)","v":64.191060866961138},{"$f":"IFERROR(VLOOKUP(B33,INDIRECT(\"'\"&$J$1&\"'!\"&\"$C$2:$G$200\"),4,FALSE),\"\")","v":""},{"$f":"IFERROR(VLOOKUP(B33,INDIRECT(\"'\"&$J$1&\"'!\"&\"$C$2:$G$200\"),5,FALSE),0)","v":0},{"$f":"IFERROR(VLOOKUP(B33,INDIRECT(\"'\"&$L$1&\"'!\"&\"$C$2:$G$200\"),4,FALSE),\"\")","v":""},{"$f":"IFERROR(VLOOKUP(B33,INDIRECT(\"'\"&$L$1&\"'!\"&\"$C$2:$G$200\"),5,FALSE),0)","v":0},{"$f":"IFERROR(VLOOKUP(B33,INDIRECT(\"'\"&$N$1&\"'!\"&\"$C$2:$G$200\"),4,FALSE),\"\")","v":3.1307870370370368E-2},{"$f":"IFERROR(VLOOKUP(B33,INDIRECT(\"'\"&$N$1&\"'!\"&\"$C$2:$G$200\"),5,FALSE),0)","v":61.025482942868912},{"$f":"IFERROR(VLOOKUP(B33,INDIRECT(\"'\"&$P$1&\"'!\"&\"$C$2:$G$200\"),4,FALSE),\"\")","v":""},{"$f":"IFERROR(VLOOKUP(B33,INDIRECT(\"'\"&$P$1&\"'!\"&\"$C$2:$G$200\"),5,FALSE),0)","v":0},{"$f":"IFERROR(VLOOKUP(B33,INDIRECT(\"'\"&$R$1&\"'!\"&\"$C$2:$G$200\"),4,FALSE),\"\")","v":2.5532407407407406E-2},{"$f":"IFERROR(VLOOKUP(B33,INDIRECT(\"'\"&$R$1&\"'!\"&\"$C$2:$G$200\"),5,FALSE),0)","v":74.602091859936365},{"$f":"IFERROR(VLOOKUP(B33,INDIRECT(\"'\"&$T$1&\"'!\"&\"$C$2:$G$200\"),4,FALSE),\"\")","v":4.9097222222222216E-2},{"$f":"IFERROR(VLOOKUP(B33,INDIRECT(\"'\"&$T$1&\"'!\"&\"$C$2:$G$200\"),5,FALSE),0)","v":64.973262032085572},{"$f":"8-COUNTIF(F33:U33,\"\")","v":4},{"$f":"E33/IF(V33>4,5,V33)","v":66.197974425463002}]
[32,"Julian Boon","Forest Of Dean AC","M40",{"$f":"SUM(LARGE((S34,G34,I34,K34,M34,O34,Q34,U34),{1,2,3,4,5}))","v":264.67286989572546},{"$f":"IFERROR(VLOOKUP(B34,INDIRECT(\"'\"&$F$1&\"'!\"&\"$C$2:$G$200\"),4,FALSE),\"\")","v":1.5659722222222224E-2},{"$f":"IFERROR(VLOOKUP(B34,INDIRECT(\"'\"&$F$1&\"'!\"&\"$C$2:$G$200\"),5,FALSE),0)","v":93.144842836834599},{"$f":"IFERROR(VLOOKUP(B34,INDIRECT(\"'\"&$H$1&\"'!\"&\"$C$2:$G$200\"),4,FALSE),\"\")","v":""},{"$f":"IFERROR(VLOOKUP(B34,INDIRECT(\"'\"&$H$1&\"'!\"&\"$C$2:$G$200\"),5,FALSE),0)","v":0},{"$f":"IFERROR(VLOOKUP(B34,INDIRECT(\"'\"&$J$1&\"'!\"&\"$C$2:$G$200\"),4,FALSE),\"\")","v":""},{"$f":"IFERROR(VLOOKUP(B34,INDIRECT(\"'\"&$J$1&\"'!\"&\"$C$2:$G$200\"),5,FALSE),0)","v":0},{"$f":"IFERROR(VLOOKUP(B34,INDIRECT(\"'\"&$L$1&\"'!\"&\"$C$2:$G$200\"),4,FALSE),\"\")","v":2.1377314814814818E-2},{"$f":"IFERROR(VLOOKUP(B34,INDIRECT(\"'\"&$L$1&\"'!\"&\"$C$2:$G$200\"),5,FALSE),0)","v":85.79025476131585},{"$f":"IFERROR(VLOOKUP(B34,INDIRECT(\"'\"&$N$1&\"'!\"&\"$C$2:$G$200\"),4,FALSE),\"\")","v":2.5740740740740745E-2},{"$f":"IFERROR(VLOOKUP(B34,INDIRECT(\"'\"&$N$1&\"'!\"&\"$C$2:$G$200\"),5,FALSE),0)","v":85.73777229757502},{"$f":"IFERROR(VLOOKUP(B34,INDIRECT(\"'\"&$P$1&\"'!\"&\"$C$2:$G$200\"),4,FALSE),\"\")","v":""},{"$f":"IFERROR(VLOOKUP(B34,INDIRECT(\"'\"&$P$1&\"'!\"&\"$C$2:$G$200\"),5,FALSE),0)","v":0},{"$f":"IFERROR(VLOOKUP(B34,INDIRECT(\"'\"&$R$1&\"'!\"&\"$C$2:$G$200\"),4,FALSE),\"\")","v":""},{"$f":"IFERROR(VLOOKUP(B34,INDIRECT(\"'\"&$R$1&\"'!\"&\"$C$2:$G$200\"),5,FALSE),0)","v":0},{"$f":"IFERROR(VLOOKUP(B34,INDIRECT(\"'\"&$T$1&\"'!\"&\"$C$2:$G$200\"),4,FALSE),\"\")","v":""},{"$f":"IFERROR(VLOOKUP(B34,INDIRECT(\"'\"&$T$1&\"'!\"&\"$C$2:$G$200\"),5,FALSE),0)","v":0},{"$f":"8-COUNTIF(F34:U34,\"\")","v":3},{"$f":"E34/IF(V34>4,5,V34)","v":88.224289965241823}]
[33,"Ian Luke","Poole Runners","M40",{"$f":"SUM(LARGE((S35,G35,I35,K35,M35,O35,Q35,U35),{1,2,3,4,5}))","v":261.9128928443314},{"$f":"IFERROR(VLOOKUP(B35,INDIRECT(\"'\"&$F$1&\"'!\"&\"$C$2:$G$200\"),4,FALSE),\"\")","v":""},{"$f":"IFERROR(VLOOKUP(B35,INDIRECT(\"'\"&$F$1&\"'!\"&\"$C$2:$G$200\"),5,FALSE),0)","v":0},{"$f":"IFERROR(VLOOKUP(B35,INDIRECT(\"'\"&$H$1&\"'!\"&\"$C$2:$G$200\"),4,FALSE),\"\")","v":""},{"$f":"IFERROR(VLOOKUP(B35,INDIRECT(\"'\"&$H$1&\"'!\"&\"$C$2:$G$200\"),5,FALSE),0)","v":0},{"$f":"IFERROR(VLOOKUP(B35,INDIRECT(\"'\"&$J$1&\"'!\"&\"$C$2:$G$200\"),4,FALSE),\"\")","v":""},{"$f":"IFERROR(VLOOKUP(B35,INDIRECT(\"'\"&$J$1&\"'!\"&\"$C$2:$G$200\"),5,FALSE),0)","v":0},{"$f":"IFERROR(VLOOKUP(B35,INDIRECT(\"'\"&$L$1&\"'!\"&\"$C$2:$G$200\"),4,FALSE),\"\")","v":2.2430555555555554E-2},{"$f":"IFERROR(VLOOKUP(B35,INDIRECT(\"'\"&$L$1&\"'!\"&\"$C$2:$G$200\"),5,FALSE),0)","v":80.163245115013623},{"$f":"IFERROR(VLOOKUP(B35,INDIRECT(\"'\"&$N$1&\"'!\"&\"$C$2:$G$200\"),4,FALSE),\"\")","v":2.4363425925925927E-2},{"$f":"IFERROR(VLOOKUP(B35,INDIRECT(\"'\"&$N$1&\"'!\"&\"$C$2:$G$200\"),5,FALSE),0)","v":91.851623510069885},{"$f":"IFERROR(VLOOKUP(B35,INDIRECT(\"'\"&$P$1&\"'!\"&\"$C$2:$G$200\"),4,FALSE),\"\")","v":2.3993055555555556E-2},{"$f":"IFERROR(VLOOKUP(B35,INDIRECT(\"'\"&$P$1&\"'!\"&\"$C$2:$G$200\"),5,FALSE),0)","v":89.898024219247901},{"$f":"IFERROR(VLOOKUP(B35,INDIRECT(\"'\"&$R$1&\"'!\"&\"$C$2:$G$200\"),4,FALSE),\"\")","v":""},{"$f":"IFERROR(VLOOKUP(B35,INDIRECT(\"'\"&$R$1&\"'!\"&\"$C$2:$G$200\"),5,FALSE),0)","v":0},{"$f":"IFERROR(VLOOKUP(B35,INDIRECT(\"'\"&$T$1&\"'!\"&\"$C$2:$G$200\"),4,FALSE),\"\")","v":""},{"$f":"IFERROR(VLOOKUP(B35,INDIRECT(\"'\"&$T$1&\"'!\"&\"$C$2:$G$200\"),5,FALSE),0)","v":0},{"$f":"8-COUNTIF(F35:U35,\"\")","v":3},{"$f":"E35/IF(V35>4,5,V35)","v":87.304297614777127}]
[34,"Tom Turner","Unaffiliated","SM",{"$f":"SUM(LARGE((S36,G36,I36,K36,M36,O36,Q36,U36),{1,2,3,4,5}))","v":255.72305322938894},{"$f":"IFERROR(VLOOKUP(B36,INDIRECT(\"'\"&$F$1&\"'!\"&\"$C$2:$G$200\"),4,FALSE),\"\")","v":""},{"$f":"IFERROR(VLOOKUP(B36,INDIRECT(\"'\"&$F$1&\"'!\"&\"$C$2:$G$200\"),5,FALSE),0)","v":0},{"$f":"IFERROR(VLOOKUP(B36,INDIRECT(\"'\"&$H$1&\"'!\"&\"$C$2:$G$200\"),4,FALSE),\"\")","v":""},{"$f":"IFERROR(VLOOKUP(B36,INDIRECT(\"'\"&$H$1&\"'!\"&\"$C$2:$G$200\"),5,FALSE),0)","v":0},{"$f":"IFERROR(VLOOKUP(B36,INDIRECT(\"'\"&$J$1&\"'!\"&\"$C$2:$G$200\"),4,FALSE),\"\")","v":""},{"$f":"IFERROR(VLOOKUP(B36,INDIRECT(\"'\"&$J$1&\"'!\"&\"$C$2:$G$200\"),5,FALSE),0)","v":0},{"$f":"IFERROR(VLOOKUP(B36,INDIRECT(\"'\"&$L$1&\"'!\"&\"$C$2:$G$200\"),4,FALSE),\"\")","v":""},{"$f":"IFERROR(VLOOKUP(B36,INDIRECT(\"'\"&$L$1&\"'!\"&\"$C$2:$G$200\"),5,FALSE),0)","v":0},{"$f":"IFERROR(VLOOKUP(B36,INDIRECT(\"'\"&$N$1&\"'!\"&\"$C$2:$G$200\"),4,FALSE),\"\")","v":2.6678240740740738E-2},{"$f":"IFERROR(VLOOKUP(B36,INDIRECT(\"'\"&$N$1&\"'!\"&\"$C$2:$G$200\"),5,FALSE),0)","v":81.576243321002906},{"$f":"IFERROR(VLOOKUP(B36,INDIRECT(\"'\"&$P$1&\"'!\"&\"$C$2:$G$200\"),4,FALSE),\"\")","v":""},{"$f":"IFERROR(VLOOKUP(B36,INDIRECT(\"'\"&$P$1&\"'!\"&\"$C$2:$G$200\"),5,FALSE),0)","v":0},{"$f":"IFERROR(VLOOKUP(B36,INDIRECT(\"'\"&$R$1&\"'!\"&\"$C$2:$G$200\"),4,FALSE),\"\")","v":2.2511574074074073E-2},{"$f":"IFERROR(VLOOKUP(B36,INDIRECT(\"'\"&$R$1&\"'!\"&\"$C$2:$G$200\"),5,FALSE),0)","v":89.438381082310173},{"$f":"IFERROR(VLOOKUP(B36,INDIRECT(\"'\"&$T$1&\"'!\"&\"$C$2:$G$200\"),4,FALSE),\"\")","v":4.1921296296296297E-2},{"$f":"IFERROR(VLOOKUP(B36,INDIRECT(\"'\"&$T$1&\"'!\"&\"$C$2:$G$200\"),5,FALSE),0)","v":84.708428826075874},{"$f":"8-COUNTIF(F36:U36,\"\")","v":3},{"$f":"E36/IF(V36>4,5,V36)","v":85.241017743129646}]
[35,"Shaun Styles","Griffithstown Harriers","SM",{"$f":"SUM(LARGE((S37,G37,I37,K37,M37,O37,Q37,U37),{1,2,3,4,5}))","v":254.50347783138645},{"$f":"IFERROR(VLOOKUP(B37,INDIRECT(\"'\"&$F$1&\"'!\"&\"$C$2:$G$200\"),4,FALSE),\"\")","v":""},{"$f":"IFERROR(VLOOKUP(B37,INDIRECT(\"'\"&$F$1&\"'!\"&\"$C$2:$G$200\"),5,FALSE),0)","v":0},{"$f":"IFERROR(VLOOKUP(B37,INDIRECT(\"'\"&$H$1&\"'!\"&\"$C$2:$G$200\"),4,FALSE),\"\")","v":""},{"$f":"IFERROR(VLOOKUP(B37,INDIRECT(\"'\"&$H$1&\"'!\"&\"$C$2:$G$200\"),5,FALSE),0)","v":0},{"$f":"IFERROR(VLOOKUP(B37,INDIRECT(\"'\"&$J$1&\"'!\"&\"$C$2:$G$200\"),4,FALSE),\"\")","v":""},{"$f":"IFERROR(VLOOKUP(B37,INDIRECT(\"'\"&$J$1&\"'!\"&\"$C$2:$G$200\"),5,FALSE),0)","v":0},{"$f":"IFERROR(VLOOKUP(B37,INDIRECT(\"'\"&$L$1&\"'!\"&\"$C$2:$G$200\"),4,FALSE),\"\")","v":2.1990740740740741E-2},{"$f":"IFERROR(VLOOKUP(B37,INDIRECT(\"'\"&$L$1&\"'!\"&\"$C$2:$G$200\"),5,FALSE),0)","v":82.512985406876084},{"$f":"IFERROR(VLOOKUP(B37,INDIRECT(\"'\"&$N$1&\"'!\"&\"$C$2:$G$200\"),4,FALSE),\"\")","v":2.5162037037037038E-2},{"$f":"IFERROR(VLOOKUP(B37,INDIRECT(\"'\"&$N$1&\"'!\"&\"$C$2:$G$200\"),5,FALSE),0)","v":88.306617344841783},{"$f":"IFERROR(VLOOKUP(B37,INDIRECT(\"'\"&$P$1&\"'!\"&\"$C$2:$G$200\"),4,FALSE),\"\")","v":2.5347222222222219E-2},{"$f":"IFERROR(VLOOKUP(B37,INDIRECT(\"'\"&$P$1&\"'!\"&\"$C$2:$G$200\"),5,FALSE),0)","v":83.683875079668596},{"$f":"IFERROR(VLOOKUP(B37,INDIRECT(\"'\"&$R$1&\"'!\"&\"$C$2:$G$200\"),4,FALSE),\"\")","v":""},{"$f":"IFERROR(VLOOKUP(B37,INDIRECT(\"'\"&$R$1&\"'!\"&\"$C$2:$G$200\"),5,FALSE),0)","v":0},{"$f":"IFERROR(VLOOKUP(B37,INDIRECT(\"'\"&$T$1&\"'!\"&\"$C$2:$G$200\"),4,FALSE),\"\")","v":""},{"$f":"IFERROR(VLOOKUP(B37,INDIRECT(\"'\"&$T$1&\"'!\"&\"$C$2:$G$200\"),5,FALSE),0)","v":0},{"$f":"8-COUNTIF(F37:U37,\"\")","v":3},{"$f":"E37/IF(V37>4,5,V37)","v":84.834492610462149}]
[36,"Jamie Cattle","Taff Ely Triathlon","M40",{"$f":"SUM(LARGE((S38,G38,I38,K38,M38,O38,Q38,U38),{1,2,3,4,5}))","v":254.21420007091353},{"$f":"IFERROR(VLOOKUP(B38,INDIRECT(\"'\"&$F$1&\"'!\"&\"$C$2:$G$200\"),4,FALSE),\"\")","v":1.6192129629629629E-2},{"$f":"IFERROR(VLOOKUP(B38,INDIRECT(\"'\"&$F$1&\"'!\"&\"$C$2:$G$200\"),5,FALSE),0)","v":89.51192544621702},{"$f":"IFERROR(VLOOKUP(B38,INDIRECT(\"'\"&$H$1&\"'!\"&\"$C$2:$G$200\"),4,FALSE),\"\")","v":""},{"$f":"IFERROR(VLOOKUP(B38,INDIRECT(\"'\"&$H$1&\"'!\"&\"$C$2:$G$200\"),5,FALSE),0)","v":0},{"$f":"IFERROR(VLOOKUP(B38,INDIRECT(\"'\"&$J$1&\"'!\"&\"$C$2:$G$200\"),4,FALSE),\"\")","v":""},{"$f":"IFERROR(VLOOKUP(B38,INDIRECT(\"'\"&$J$1&\"'!\"&\"$C$2:$G$200\"),5,FALSE),0)","v":0},{"$f":"IFERROR(VLOOKUP(B38,INDIRECT(\"'\"&$L$1&\"'!\"&\"$C$2:$G$200\"),4,FALSE),\"\")","v":""},{"$f":"IFERROR(VLOOKUP(B38,INDIRECT(\"'\"&$L$1&\"'!\"&\"$C$2:$G$200\"),5,FALSE),0)","v":0},{"$f":"IFERROR(VLOOKUP(B38,INDIRECT(\"'\"&$N$1&\"'!\"&\"$C$2:$G$200\"),4,FALSE),\"\")","v":2.614583333333333E-2},{"$f":"IFERROR(VLOOKUP(B38,INDIRECT(\"'\"&$N$1&\"'!\"&\"$C$2:$G$200\"),5,FALSE),0)","v":83.939580764488326},{"$f":"IFERROR(VLOOKUP(B38,INDIRECT(\"'\"&$P$1&\"'!\"&\"$C$2:$G$200\"),4,FALSE),\"\")","v":2.5983796296296297E-2},{"$f":"IFERROR(VLOOKUP(B38,INDIRECT(\"'\"&$P$1&\"'!\"&\"$C$2:$G$200\"),5,FALSE),0)","v":80.762693860208174},{"$f":"IFERROR(VLOOKUP(B38,INDIRECT(\"'\"&$R$1&\"'!\"&\"$C$2:$G$200\"),4,FALSE),\"\")","v":""},{"$f":"IFERROR(VLOOKUP(B38,INDIRECT(\"'\"&$R$1&\"'!\"&\"$C$2:$G$200\"),5,FALSE),0)","v":0},{"$f":"IFERROR(VLOOKUP(B38,INDIRECT(\"'\"&$T$1&\"'!\"&\"$C$2:$G$200\"),4,FALSE),\"\")","v":""},{"$f":"IFERROR(VLOOKUP(B38,INDIRECT(\"'\"&$T$1&\"'!\"&\"$C$2:$G$200\"),5,FALSE),0)","v":0},{"$f":"8-COUNTIF(F38:U38,\"\")","v":3},{"$f":"E38/IF(V38>4,5,V38)","v":84.738066690304507}]
[37,"Les Williams","Eryri","M70",{"$f":"SUM(LARGE((S39,G39,I39,K39,M39,O39,Q39,U39),{1,2,3,4,5}))","v":250.89111020217888},{"$f":"IFERROR(VLOOKUP(B39,INDIRECT(\"'\"&$F$1&\"'!\"&\"$C$2:$G$200\"),4,FALSE),\"\")","v":2.0347222222222221E-2},{"$f":"IFERROR(VLOOKUP(B39,INDIRECT(\"'\"&$F$1&\"'!\"&\"$C$2:$G$200\"),5,FALSE),0)","v":61.159374506397079},{"$f":"IFERROR(VLOOKUP(B39,INDIRECT(\"'\"&$H$1&\"'!\"&\"$C$2:$G$200\"),4,FALSE),\"\")","v":4.6782407407407411E-2},{"$f":"IFERROR(VLOOKUP(B39,INDIRECT(\"'\"&$H$1&\"'!\"&\"$C$2:$G$200\"),5,FALSE),0)","v":48.693568915175554},{"$f":"IFERROR(VLOOKUP(B39,INDIRECT(\"'\"&$J$1&\"'!\"&\"$C$2:$G$200\"),4,FALSE),\"\")","v":""},{"$f":"IFERROR(VLOOKUP(B39,INDIRECT(\"'\"&$J$1&\"'!\"&\"$C$2:$G$200\"),5,FALSE),0)","v":0},{"$f":"IFERROR(VLOOKUP(B39,INDIRECT(\"'\"&$L$1&\"'!\"&\"$C$2:$G$200\"),4,FALSE),\"\")","v":3.0300925925925926E-2},{"$f":"IFERROR(VLOOKUP(B39,INDIRECT(\"'\"&$L$1&\"'!\"&\"$C$2:$G$200\"),5,FALSE),0)","v":38.115260944842966},{"$f":"IFERROR(VLOOKUP(B39,INDIRECT(\"'\"&$N$1&\"'!\"&\"$C$2:$G$200\"),4,FALSE),\"\")","v":3.5497685185185188E-2},{"$f":"IFERROR(VLOOKUP(B39,INDIRECT(\"'\"&$N$1&\"'!\"&\"$C$2:$G$200\"),5,FALSE),0)","v":42.42704480065764},{"$f":"IFERROR(VLOOKUP(B39,INDIRECT(\"'\"&$P$1&\"'!\"&\"$C$2:$G$200\"),4,FALSE),\"\")","v":3.366898148148148E-2},{"$f":"IFERROR(VLOOKUP(B39,INDIRECT(\"'\"&$P$1&\"'!\"&\"$C$2:$G$200\"),5,FALSE),0)","v":45.496069683450166},{"$f":"IFERROR(VLOOKUP(B39,INDIRECT(\"'\"&$R$1&\"'!\"&\"$C$2:$G$200\"),4,FALSE),\"\")","v":2.990740740740741E-2},{"$f":"IFERROR(VLOOKUP(B39,INDIRECT(\"'\"&$R$1&\"'!\"&\"$C$2:$G$200\"),5,FALSE),0)","v":53.115052296498419},{"$f":"IFERROR(VLOOKUP(B39,INDIRECT(\"'\"&$T$1&\"'!\"&\"$C$2:$G$200\"),4,FALSE),\"\")","v":6.0011574074074071E-2},{"$f":"IFERROR(VLOOKUP(B39,INDIRECT(\"'\"&$T$1&\"'!\"&\"$C$2:$G$200\"),5,FALSE),0)","v":34.956709956709943},{"$f":"8-COUNTIF(F39:U39,\"\")","v":7},{"$f":"E39/IF(V39>4,5,V39)","v":50.178222040435777}]
[38,"Robert Pritchard","Monross Trailblazers","SM",{"$f":"SUM(LARGE((S40,G40,I40,K40,M40,O40,Q40,U40),{1,2,3,4,5}))","v":248.24816575855999},{"$f":"IFERROR(VLOOKUP(B40,INDIRECT(\"'\"&$F$1&\"'!\"&\"$C$2:$G$200\"),4,FALSE),\"\")","v":""},{"$f":"IFERROR(VLOOKUP(B40,INDIRECT(\"'\"&$F$1&\"'!\"&\"$C$2:$G$200\"),5,FALSE),0)","v":0},{"$f":"IFERROR(VLOOKUP(B40,INDIRECT(\"'\"&$H$1&\"'!\"&\"$C$2:$G$200\"),4,FALSE),\"\")","v":3.6909722222222226E-2},{"$f":"IFERROR(VLOOKUP(B40,INDIRECT(\"'\"&$H$1&\"'!\"&\"$C$2:$G$200\"),5,FALSE),0)","v":80.624391704724104},{"$f":"IFERROR(VLOOKUP(B40,INDIRECT(\"'\"&$J$1&\"'!\"&\"$C$2:$G$200\"),4,FALSE),\"\")","v":""},{"$f":"IFERROR(VLOOKUP(B40,INDIRECT(\"'\"&$J$1&\"'!\"&\"$C$2:$G$200\"),5,FALSE),0)","v":0},{"$f":"IFERROR(VLOOKUP(B40,INDIRECT(\"'\"&$L$1&\"'!\"&\"$C$2:$G$200\"),4,FALSE),\"\")","v":""},{"$f":"IFERROR(VLOOKUP(B40,INDIRECT(\"'\"&$L$1&\"'!\"&\"$C$2:$G$200\"),5,FALSE),0)","v":0},{"$f":"IFERROR(VLOOKUP(B40,INDIRECT(\"'\"&$N$1&\"'!\"&\"$C$2:$G$200\"),4,FALSE),\"\")","v":""},{"$f":"IFERROR(VLOOKUP(B40,INDIRECT(\"'\"&$N$1&\"'!\"&\"$C$2:$G$200\"),5,FALSE),0)","v":0},{"$f":"IFERROR(VLOOKUP(B40,INDIRECT(\"'\"&$P$1&\"'!\"&\"$C$2:$G$200\"),4,FALSE),\"\")","v":""},{"$f":"IFERROR(VLOOKUP(B40,INDIRECT(\"'\"&$P$1&\"'!\"&\"$C$2:$G$200\"),5,FALSE),0)","v":0},{"$f":"IFERROR(VLOOKUP(B40,INDIRECT(\"'\"&$R$1&\"'!\"&\"$C$2:$G$200\"),4,FALSE),\"\")","v":2.2407407407407407E-2},{"$f":"IFERROR(VLOOKUP(B40,INDIRECT(\"'\"&$R$1&\"'!\"&\"$C$2:$G$200\"),5,FALSE),0)","v":89.949977262392025},{"$f":"IFERROR(VLOOKUP(B40,INDIRECT(\"'\"&$T$1&\"'!\"&\"$C$2:$G$200\"),4,FALSE),\"\")","v":4.447916666666666E-2},{"$f":"IFERROR(VLOOKUP(B40,INDIRECT(\"'\"&$T$1&\"'!\"&\"$C$2:$G$200\"),5,FALSE),0)","v":77.673796791443863},{"$f":"8-COUNTIF(F40:U40,\"\")","v":3},{"$f":"E40/IF(V40>4,5,V40)","v":82.749388586186669}]
[39,"Gavin Fisher","Unaffiliated","M50",{"$f":"SUM(LARGE((S41,G41,I41,K41,M41,O41,Q41,U41),{1,2,3,4,5}))","v":244.31872764405551},{"$f":"IFERROR(VLOOKUP(B41,INDIRECT(\"'\"&$F$1&\"'!\"&\"$C$2:$G$200\"),4,FALSE),\"\")","v":""},{"$f":"IFERROR(VLOOKUP(B41,INDIRECT(\"'\"&$F$1&\"'!\"&\"$C$2:$G$200\"),5,FALSE),0)","v":0},{"$f":"IFERROR(VLOOKUP(B41,INDIRECT(\"'\"&$H$1&\"'!\"&\"$C$2:$G$200\"),4,FALSE),\"\")","v":3.7372685185185189E-2},{"$f":"IFERROR(VLOOKUP(B41,INDIRECT(\"'\"&$H$1&\"'!\"&\"$C$2:$G$200\"),5,FALSE),0)","v":79.127049487160292},{"$f":"IFERROR(VLOOKUP(B41,INDIRECT(\"'\"&$J$1&\"'!\"&\"$C$2:$G$200\"),4,FALSE),\"\")","v":""},{"$f":"IFERROR(VLOOKUP(B41,INDIRECT(\"'\"&$J$1&\"'!\"&\"$C$2:$G$200\"),5,FALSE),0)","v":0},{"$f":"IFERROR(VLOOKUP(B41,INDIRECT(\"'\"&$L$1&\"'!\"&\"$C$2:$G$200\"),4,FALSE),\"\")","v":2.3101851851851849E-2},{"$f":"IFERROR(VLOOKUP(B41,INDIRECT(\"'\"&$L$1&\"'!\"&\"$C$2:$G$200\"),5,FALSE),0)","v":76.576799406381426},{"$f":"IFERROR(VLOOKUP(B41,INDIRECT(\"'\"&$N$1&\"'!\"&\"$C$2:$G$200\"),4,FALSE),\"\")","v":2.5092592592592593E-2},{"$f":"IFERROR(VLOOKUP(B41,INDIRECT(\"'\"&$N$1&\"'!\"&\"$C$2:$G$200\"),5,FALSE),0)","v":88.614878750513796},{"$f":"IFERROR(VLOOKUP(B41,INDIRECT(\"'\"&$P$1&\"'!\"&\"$C$2:$G$200\"),4,FALSE),\"\")","v":""},{"$f":"IFERROR(VLOOKUP(B41,INDIRECT(\"'\"&$P$1&\"'!\"&\"$C$2:$G$200\"),5,FALSE),0)","v":0},{"$f":"IFERROR(VLOOKUP(B41,INDIRECT(\"'\"&$R$1&\"'!\"&\"$C$2:$G$200\"),4,FALSE),\"\")","v":""},{"$f":"IFERROR(VLOOKUP(B41,INDIRECT(\"'\"&$R$1&\"'!\"&\"$C$2:$G$200\"),5,FALSE),0)","v":0},{"$f":"IFERROR(VLOOKUP(B41,INDIRECT(\"'\"&$T$1&\"'!\"&\"$C$2:$G$200\"),4,FALSE),\"\")","v":""},{"$f":"IFERROR(VLOOKUP(B41,INDIRECT(\"'\"&$T$1&\"'!\"&\"$C$2:$G$200\"),5,FALSE),0)","v":0},{"$f":"8-COUNTIF(F41:U41,\"\")","v":3},{"$f":"E41/IF(V41>4,5,V41)","v":81.439575881351843}]
[40,"Mark Sims","Brecon AC","M60",{"$f":"SUM(LARGE((S42,G42,I42,K42,M42,O42,Q42,U42),{1,2,3,4,5}))","v":244.08599473400159},{"$f":"IFERROR(VLOOKUP(B42,INDIRECT(\"'\"&$F$1&\"'!\"&\"$C$2:$G$200\"),4,FALSE),\"\")","v":1.8657407407407407E-2},{"$f":"IFERROR(VLOOKUP(B42,INDIRECT(\"'\"&$F$1&\"'!\"&\"$C$2:$G$200\"),5,FALSE),0)","v":72.68993839835727},{"$f":"IFERROR(VLOOKUP(B42,INDIRECT(\"'\"&$H$1&\"'!\"&\"$C$2:$G$200\"),4,FALSE),\"\")","v":4.1423611111111112E-2},{"$f":"IFERROR(VLOOKUP(B42,INDIRECT(\"'\"&$H$1&\"'!\"&\"$C$2:$G$200\"),5,FALSE),0)","v":66.025305083476837},{"$f":"IFERROR(VLOOKUP(B42,INDIRECT(\"'\"&$J$1&\"'!\"&\"$C$2:$G$200\"),4,FALSE),\"\")","v":""},{"$f":"IFERROR(VLOOKUP(B42,INDIRECT(\"'\"&$J$1&\"'!\"&\"$C$2:$G$200\"),5,FALSE),0)","v":0},{"$f":"IFERROR(VLOOKUP(B42,INDIRECT(\"'\"&$L$1&\"'!\"&\"$C$2:$G$200\"),4,FALSE),\"\")","v":2.7222222222222228E-2},{"$f":"IFERROR(VLOOKUP(B42,INDIRECT(\"'\"&$L$1&\"'!\"&\"$C$2:$G$200\"),5,FALSE),0)","v":54.563442987880272},{"$f":"IFERROR(VLOOKUP(B42,INDIRECT(\"'\"&$N$1&\"'!\"&\"$C$2:$G$200\"),4,FALSE),\"\")","v":""},{"$f":"IFERROR(VLOOKUP(B42,INDIRECT(\"'\"&$N$1&\"'!\"&\"$C$2:$G$200\"),5,FALSE),0)","v":0},{"$f":"IFERROR(VLOOKUP(B42,INDIRECT(\"'\"&$P$1&\"'!\"&\"$C$2:$G$200\"),4,FALSE),\"\")","v":3.2511574074074075E-2},{"$f":"IFERROR(VLOOKUP(B42,INDIRECT(\"'\"&$P$1&\"'!\"&\"$C$2:$G$200\"),5,FALSE),0)","v":50.807308264287208},{"$f":"IFERROR(VLOOKUP(B42,INDIRECT(\"'\"&$R$1&\"'!\"&\"$C$2:$G$200\"),4,FALSE),\"\")","v":""},{"$f":"IFERROR(VLOOKUP(B42,INDIRECT(\"'\"&$R$1&\"'!\"&\"$C$2:$G$200\"),5,FALSE),0)","v":0},{"$f":"IFERROR(VLOOKUP(B42,INDIRECT(\"'\"&$T$1&\"'!\"&\"$C$2:$G$200\"),4,FALSE),\"\")","v":""},{"$f":"IFERROR(VLOOKUP(B42,INDIRECT(\"'\"&$T$1&\"'!\"&\"$C$2:$G$200\"),5,FALSE),0)","v":0},{"$f":"8-COUNTIF(F42:U42,\"\")","v":4},{"$f":"E42/IF(V42>4,5,V42)","v":61.021498683500397}]
[41,"Richard Cronin","MDC","SM",{"$f":"SUM(LARGE((S43,G43,I43,K43,M43,O43,Q43,U43),{1,2,3,4,5}))","v":243.96845826129783},{"$f":"IFERROR(VLOOKUP(B43,INDIRECT(\"'\"&$F$1&\"'!\"&\"$C$2:$G$200\"),4,FALSE),\"\")","v":""},{"$f":"IFERROR(VLOOKUP(B43,INDIRECT(\"'\"&$F$1&\"'!\"&\"$C$2:$G$200\"),5,FALSE),0)","v":0},{"$f":"IFERROR(VLOOKUP(B43,INDIRECT(\"'\"&$H$1&\"'!\"&\"$C$2:$G$200\"),4,FALSE),\"\")","v":3.8055555555555558E-2},{"$f":"IFERROR(VLOOKUP(B43,INDIRECT(\"'\"&$H$1&\"'!\"&\"$C$2:$G$200\"),5,FALSE),0)","v":76.918469716253639},{"$f":"IFERROR(VLOOKUP(B43,INDIRECT(\"'\"&$J$1&\"'!\"&\"$C$2:$G$200\"),4,FALSE),\"\")","v":""},{"$f":"IFERROR(VLOOKUP(B43,INDIRECT(\"'\"&$J$1&\"'!\"&\"$C$2:$G$200\"),5,FALSE),0)","v":0},{"$f":"IFERROR(VLOOKUP(B43,INDIRECT(\"'\"&$L$1&\"'!\"&\"$C$2:$G$200\"),4,FALSE),\"\")","v":2.8020833333333332E-2},{"$f":"IFERROR(VLOOKUP(B43,INDIRECT(\"'\"&$L$1&\"'!\"&\"$C$2:$G$200\"),5,FALSE),0)","v":50.296809300024762},{"$f":"IFERROR(VLOOKUP(B43,INDIRECT(\"'\"&$N$1&\"'!\"&\"$C$2:$G$200\"),4,FALSE),\"\")","v":3.2673611111111105E-2},{"$f":"IFERROR(VLOOKUP(B43,INDIRECT(\"'\"&$N$1&\"'!\"&\"$C$2:$G$200\"),5,FALSE),0)","v":54.963008631319418},{"$f":"IFERROR(VLOOKUP(B43,INDIRECT(\"'\"&$P$1&\"'!\"&\"$C$2:$G$200\"),4,FALSE),\"\")","v":""},{"$f":"IFERROR(VLOOKUP(B43,INDIRECT(\"'\"&$P$1&\"'!\"&\"$C$2:$G$200\"),5,FALSE),0)","v":0},{"$f":"IFERROR(VLOOKUP(B43,INDIRECT(\"'\"&$R$1&\"'!\"&\"$C$2:$G$200\"),4,FALSE),\"\")","v":""},{"$f":"IFERROR(VLOOKUP(B43,INDIRECT(\"'\"&$R$1&\"'!\"&\"$C$2:$G$200\"),5,FALSE),0)","v":0},null,{"$f":"IFERROR(VLOOKUP(B43,INDIRECT(\"'\"&$T$1&\"'!\"&\"$C$2:$G$200\"),5,FALSE),0)","v":61.790170613700028},{"$f":"8-COUNTIF(F43:U43,\"\")","v":3},{"$f":"E43/IF(V43>4,5,V43)","v":81.322819420432609}]
[42,"Bev Tucker","Mynydd Du","F50",{"$f":"SUM(LARGE((S44,G44,I44,K44,M44,O44,Q44,U44),{1,2,3,4,5}))","v":240.85007997044252},{"$f":"IFERROR(VLOOKUP(B44,INDIRECT(\"'\"&$F$1&\"'!\"&\"$C$2:$G$200\"),4,FALSE),\"\")","v":""},{"$f":"IFERROR(VLOOKUP(B44,INDIRECT(\"'\"&$F$1&\"'!\"&\"$C$2:$G$200\"),5,FALSE),0)","v":0},{"$f":"IFERROR(VLOOKUP(B44,INDIRECT(\"'\"&$H$1&\"'!\"&\"$C$2:$G$200\"),4,FALSE),\"\")","v":""},{"$f":"IFERROR(VLOOKUP(B44,INDIRECT(\"'\"&$H$1&\"'!\"&\"$C$2:$G$200\"),5,FALSE),0)","v":0},{"$f":"IFERROR(VLOOKUP(B44,INDIRECT(\"'\"&$J$1&\"'!\"&\"$C$2:$G$200\"),4,FALSE),\"\")","v":""},{"$f":"IFERROR(VLOOKUP(B44,INDIRECT(\"'\"&$J$1&\"'!\"&\"$C$2:$G$200\"),5,FALSE),0)","v":0},{"$f":"IFERROR(VLOOKUP(B44,INDIRECT(\"'\"&$L$1&\"'!\"&\"$C$2:$G$200\"),4,FALSE),\"\")","v":2.7847222222222221E-2},{"$f":"IFERROR(VLOOKUP(B44,INDIRECT(\"'\"&$L$1&\"'!\"&\"$C$2:$G$200\"),5,FALSE),0)","v":51.224338362602055},{"$f":"IFERROR(VLOOKUP(B44,INDIRECT(\"'\"&$N$1&\"'!\"&\"$C$2:$G$200\"),4,FALSE),\"\")","v":3.3414351851851855E-2},{"$f":"IFERROR(VLOOKUP(B44,INDIRECT(\"'\"&$N$1&\"'!\"&\"$C$2:$G$200\"),5,FALSE),0)","v":51.674886970817944},{"$f":"IFERROR(VLOOKUP(B44,INDIRECT(\"'\"&$P$1&\"'!\"&\"$C$2:$G$200\"),4,FALSE),\"\")","v":3.4189814814814819E-2},{"$f":"IFERROR(VLOOKUP(B44,INDIRECT(\"'\"&$P$1&\"'!\"&\"$C$2:$G$200\"),5,FALSE),0)","v":43.106012322073475},{"$f":"IFERROR(VLOOKUP(B44,INDIRECT(\"'\"&$R$1&\"'!\"&\"$C$2:$G$200\"),4,FALSE),\"\")","v":3.0219907407407407E-2},{"$f":"IFERROR(VLOOKUP(B44,INDIRECT(\"'\"&$R$1&\"'!\"&\"$C$2:$G$200\"),5,FALSE),0)","v":51.580263756252862},{"$f":"IFERROR(VLOOKUP(B44,INDIRECT(\"'\"&$T$1&\"'!\"&\"$C$2:$G$200\"),4,FALSE),\"\")","v":5.6990740740740738E-2},{"$f":"IFERROR(VLOOKUP(B44,INDIRECT(\"'\"&$T$1&\"'!\"&\"$C$2:$G$200\"),5,FALSE),0)","v":43.264578558696208},{"$f":"8-COUNTIF(F44:U44,\"\")","v":5},{"$f":"E44/IF(V44>4,5,V44)","v":48.170015994088502}]
[43,"Andy Creber","Chepstow Harriers","M50 ",{"$f":"SUM(LARGE((S45,G45,I45,K45,M45,O45,Q45,U45),{1,2,3,4,5}))","v":239.90947884595965},{"$f":"IFERROR(VLOOKUP(B45,INDIRECT(\"'\"&$F$1&\"'!\"&\"$C$2:$G$200\"),4,FALSE),\"\")","v":1.6342592592592593E-2},{"$f":"IFERROR(VLOOKUP(B45,INDIRECT(\"'\"&$F$1&\"'!\"&\"$C$2:$G$200\"),5,FALSE),0)","v":88.485231401042469},{"$f":"IFERROR(VLOOKUP(B45,INDIRECT(\"'\"&$H$1&\"'!\"&\"$C$2:$G$200\"),4,FALSE),\"\")","v":""},{"$f":"IFERROR(VLOOKUP(B45,INDIRECT(\"'\"&$H$1&\"'!\"&\"$C$2:$G$200\"),5,FALSE),0)","v":0},{"$f":"IFERROR(VLOOKUP(B45,INDIRECT(\"'\"&$J$1&\"'!\"&\"$C$2:$G$200\"),4,FALSE),\"\")","v":""},{"$f":"IFERROR(VLOOKUP(B45,INDIRECT(\"'\"&$J$1&\"'!\"&\"$C$2:$G$200\"),5,FALSE),0)","v":0},{"$f":"IFERROR(VLOOKUP(B45,INDIRECT(\"'\"&$L$1&\"'!\"&\"$C$2:$G$200\"),4,FALSE),\"\")","v":2.2916666666666669E-2},{"$f":"IFERROR(VLOOKUP(B45,INDIRECT(\"'\"&$L$1&\"'!\"&\"$C$2:$G$200\"),5,FALSE),0)","v":77.56616373979719},{"$f":"IFERROR(VLOOKUP(B45,INDIRECT(\"'\"&$N$1&\"'!\"&\"$C$2:$G$200\"),4,FALSE),\"\")","v":""},{"$f":"IFERROR(VLOOKUP(B45,INDIRECT(\"'\"&$N$1&\"'!\"&\"$C$2:$G$200\"),5,FALSE),0)","v":0},{"$f":"IFERROR(VLOOKUP(B45,INDIRECT(\"'\"&$P$1&\"'!\"&\"$C$2:$G$200\"),4,FALSE),\"\")","v":2.7488425925925927E-2},{"$f":"IFERROR(VLOOKUP(B45,INDIRECT(\"'\"&$P$1&\"'!\"&\"$C$2:$G$200\"),5,FALSE),0)","v":73.858083705120009},{"$f":"IFERROR(VLOOKUP(B45,INDIRECT(\"'\"&$R$1&\"'!\"&\"$C$2:$G$200\"),4,FALSE),\"\")","v":""},{"$f":"IFERROR(VLOOKUP(B45,INDIRECT(\"'\"&$R$1&\"'!\"&\"$C$2:$G$200\"),5,FALSE),0)","v":0},{"$f":"IFERROR(VLOOKUP(B45,INDIRECT(\"'\"&$T$1&\"'!\"&\"$C$2:$G$200\"),4,FALSE),\"\")","v":""},{"$f":"IFERROR(VLOOKUP(B45,INDIRECT(\"'\"&$T$1&\"'!\"&\"$C$2:$G$200\"),5,FALSE),0)","v":0},{"$f":"8-COUNTIF(F45:U45,\"\")","v":3},{"$f":"E45/IF(V45>4,5,V45)","v":79.969826281986556}]
[44,"James Boyle","Chepstow Harriers","M50",{"$f":"SUM(LARGE((S46,G46,I46,K46,M46,O46,Q46,U46),{1,2,3,4,5}))","v":233.77618677094026},{"$f":"IFERROR(VLOOKUP(B46,INDIRECT(\"'\"&$F$1&\"'!\"&\"$C$2:$G$200\"),4,FALSE),\"\")","v":""},{"$f":"IFERROR(VLOOKUP(B46,INDIRECT(\"'\"&$F$1&\"'!\"&\"$C$2:$G$200\"),5,FALSE),0)","v":0},{"$f":"IFERROR(VLOOKUP(B46,INDIRECT(\"'\"&$H$1&\"'!\"&\"$C$2:$G$200\"),4,FALSE),\"\")","v":""},{"$f":"IFERROR(VLOOKUP(B46,INDIRECT(\"'\"&$H$1&\"'!\"&\"$C$2:$G$200\"),5,FALSE),0)","v":0},{"$f":"IFERROR(VLOOKUP(B46,INDIRECT(\"'\"&$J$1&\"'!\"&\"$C$2:$G$200\"),4,FALSE),\"\")","v":""},{"$f":"IFERROR(VLOOKUP(B46,INDIRECT(\"'\"&$J$1&\"'!\"&\"$C$2:$G$200\"),5,FALSE),0)","v":0},{"$f":"IFERROR(VLOOKUP(B46,INDIRECT(\"'\"&$L$1&\"'!\"&\"$C$2:$G$200\"),4,FALSE),\"\")","v":2.3009259259259257E-2},{"$f":"IFERROR(VLOOKUP(B46,INDIRECT(\"'\"&$L$1&\"'!\"&\"$C$2:$G$200\"),5,FALSE),0)","v":77.071481573089315},{"$f":"IFERROR(VLOOKUP(B46,INDIRECT(\"'\"&$N$1&\"'!\"&\"$C$2:$G$200\"),4,FALSE),\"\")","v":2.631944444444444E-2},{"$f":"IFERROR(VLOOKUP(B46,INDIRECT(\"'\"&$N$1&\"'!\"&\"$C$2:$G$200\"),5,FALSE),0)","v":83.168927250308315},{"$f":"IFERROR(VLOOKUP(B46,INDIRECT(\"'\"&$P$1&\"'!\"&\"$C$2:$G$200\"),4,FALSE),\"\")","v":""},{"$f":"IFERROR(VLOOKUP(B46,INDIRECT(\"'\"&$P$1&\"'!\"&\"$C$2:$G$200\"),5,FALSE),0)","v":0},{"$f":"IFERROR(VLOOKUP(B46,INDIRECT(\"'\"&$R$1&\"'!\"&\"$C$2:$G$200\"),4,FALSE),\"\")","v":""},{"$f":"IFERROR(VLOOKUP(B46,INDIRECT(\"'\"&$R$1&\"'!\"&\"$C$2:$G$200\"),5,FALSE),0)","v":0},{"$f":"IFERROR(VLOOKUP(B46,INDIRECT(\"'\"&$T$1&\"'!\"&\"$C$2:$G$200\"),4,FALSE),\"\")","v":4.5983796296296293E-2},{"$f":"IFERROR(VLOOKUP(B46,INDIRECT(\"'\"&$T$1&\"'!\"&\"$C$2:$G$200\"),5,FALSE),0)","v":73.535777947542641},{"$f":"8-COUNTIF(F46:U46,\"\")","v":3},{"$f":"E46/IF(V46>4,5,V46)","v":77.925395590313414}]
[45,"Caroline Dallimore","MDC","F60",{"$f":"SUM(LARGE((S47,G47,I47,K47,M47,O47,Q47,U47),{1,2,3,4,5}))","v":222.00968703990088},{"$f":"IFERROR(VLOOKUP(B47,INDIRECT(\"'\"&$F$1&\"'!\"&\"$C$2:$G$200\"),4,FALSE),\"\")","v":""},{"$f":"IFERROR(VLOOKUP(B47,INDIRECT(\"'\"&$F$1&\"'!\"&\"$C$2:$G$200\"),5,FALSE),0)","v":0},{"$f":"IFERROR(VLOOKUP(B47,INDIRECT(\"'\"&$H$1&\"'!\"&\"$C$2:$G$200\"),4,FALSE),\"\")","v":4.7106481481481478E-2},{"$f":"IFERROR(VLOOKUP(B47,INDIRECT(\"'\"&$H$1&\"'!\"&\"$C$2:$G$200\"),5,FALSE),0)","v":47.645429362880918},{"$f":"IFERROR(VLOOKUP(B47,INDIRECT(\"'\"&$J$1&\"'!\"&\"$C$2:$G$200\"),4,FALSE),\"\")","v":""},{"$f":"IFERROR(VLOOKUP(B47,INDIRECT(\"'\"&$J$1&\"'!\"&\"$C$2:$G$200\"),5,FALSE),0)","v":0},{"$f":"IFERROR(VLOOKUP(B47,INDIRECT(\"'\"&$L$1&\"'!\"&\"$C$2:$G$200\"),4,FALSE),\"\")","v":2.9490740740740744E-2},{"$f":"IFERROR(VLOOKUP(B47,INDIRECT(\"'\"&$L$1&\"'!\"&\"$C$2:$G$200\"),5,FALSE),0)","v":42.443729903536976},{"$f":"IFERROR(VLOOKUP(B47,INDIRECT(\"'\"&$N$1&\"'!\"&\"$C$2:$G$200\"),4,FALSE),\"\")","v":3.4907407407407408E-2},{"$f":"IFERROR(VLOOKUP(B47,INDIRECT(\"'\"&$N$1&\"'!\"&\"$C$2:$G$200\"),5,FALSE),0)","v":45.047266748869738},{"$f":"IFERROR(VLOOKUP(B47,INDIRECT(\"'\"&$P$1&\"'!\"&\"$C$2:$G$200\"),4,FALSE),\"\")","v":""},{"$f":"IFERROR(VLOOKUP(B47,INDIRECT(\"'\"&$P$1&\"'!\"&\"$C$2:$G$200\"),5,FALSE),0)","v":0},{"$f":"IFERROR(VLOOKUP(B47,INDIRECT(\"'\"&$R$1&\"'!\"&\"$C$2:$G$200\"),4,FALSE),\"\")","v":3.1006944444444445E-2},{"$f":"IFERROR(VLOOKUP(B47,INDIRECT(\"'\"&$R$1&\"'!\"&\"$C$2:$G$200\"),5,FALSE),0)","v":47.714870395634399},{"$f":"IFERROR(VLOOKUP(B47,INDIRECT(\"'\"&$T$1&\"'!\"&\"$C$2:$G$200\"),4,FALSE),\"\")","v":5.8483796296296298E-2},{"$f":"IFERROR(VLOOKUP(B47,INDIRECT(\"'\"&$T$1&\"'!\"&\"$C$2:$G$200\"),5,FALSE),0)","v":39.158390628978857},{"$f":"8-COUNTIF(F47:U47,\"\")","v":5},{"$f":"E47/IF(V47>4,5,V47)","v":44.401937407980178}]
[46,"Simon Daniel","Bristol Up and Running","M40",{"$f":"SUM(LARGE((S48,G48,I48,K48,M48,O48,Q48,U48),{1,2,3,4,5}))","v":220.17517634468561},{"$f":"IFERROR(VLOOKUP(B48,INDIRECT(\"'\"&$F$1&\"'!\"&\"$C$2:$G$200\"),4,FALSE),\"\")","v":""},{"$f":"IFERROR(VLOOKUP(B48,INDIRECT(\"'\"&$F$1&\"'!\"&\"$C$2:$G$200\"),5,FALSE),0)","v":0},{"$f":"IFERROR(VLOOKUP(B48,INDIRECT(\"'\"&$H$1&\"'!\"&\"$C$2:$G$200\"),4,FALSE),\"\")","v":""},{"$f":"IFERROR(VLOOKUP(B48,INDIRECT(\"'\"&$H$1&\"'!\"&\"$C$2:$G$200\"),5,FALSE),0)","v":0},{"$f":"IFERROR(VLOOKUP(B48,INDIRECT(\"'\"&$J$1&\"'!\"&\"$C$2:$G$200\"),4,FALSE),\"\")","v":""},{"$f":"IFERROR(VLOOKUP(B48,INDIRECT(\"'\"&$J$1&\"'!\"&\"$C$2:$G$200\"),5,FALSE),0)","v":0},{"$f":"IFERROR(VLOOKUP(B48,INDIRECT(\"'\"&$L$1&\"'!\"&\"$C$2:$G$200\"),4,FALSE),\"\")","v":2.4421296296296292E-2},{"$f":"IFERROR(VLOOKUP(B48,INDIRECT(\"'\"&$L$1&\"'!\"&\"$C$2:$G$200\"),5,FALSE),0)","v":69.527578530794017},{"$f":"IFERROR(VLOOKUP(B48,INDIRECT(\"'\"&$N$1&\"'!\"&\"$C$2:$G$200\"),4,FALSE),\"\")","v":2.7696759259259258E-2},{"$f":"IFERROR(VLOOKUP(B48,INDIRECT(\"'\"&$N$1&\"'!\"&\"$C$2:$G$200\"),5,FALSE),0)","v":77.055076037813436},{"$f":"IFERROR(VLOOKUP(B48,INDIRECT(\"'\"&$P$1&\"'!\"&\"$C$2:$G$200\"),4,FALSE),\"\")","v":2.7546296296296294E-2},{"$f":"IFERROR(VLOOKUP(B48,INDIRECT(\"'\"&$P$1&\"'!\"&\"$C$2:$G$200\"),5,FALSE),0)","v":73.592521776078172},{"$f":"IFERROR(VLOOKUP(B48,INDIRECT(\"'\"&$R$1&\"'!\"&\"$C$2:$G$200\"),4,FALSE),\"\")","v":""},{"$f":"IFERROR(VLOOKUP(B48,INDIRECT(\"'\"&$R$1&\"'!\"&\"$C$2:$G$200\"),5,FALSE),0)","v":0},{"$f":"IFERROR(VLOOKUP(B48,INDIRECT(\"'\"&$T$1&\"'!\"&\"$C$2:$G$200\"),4,FALSE),\"\")","v":""},{"$f":"IFERROR(VLOOKUP(B48,INDIRECT(\"'\"&$T$1&\"'!\"&\"$C$2:$G$200\"),5,FALSE),0)","v":0},{"$f":"8-COUNTIF(F48:U48,\"\")","v":3},{"$f":"E48/IF(V48>4,5,V48)","v":73.391725448228541}]
[47,"Mike Harris","Westbury Harriers","M60",{"$f":"SUM(LARGE((S49,G49,I49,K49,M49,O49,Q49,U49),{1,2,3,4,5}))","v":219.56311461710666},{"$f":"IFERROR(VLOOKUP(B49,INDIRECT(\"'\"&$F$1&\"'!\"&\"$C$2:$G$200\"),4,FALSE),\"\")","v":""},{"$f":"IFERROR(VLOOKUP(B49,INDIRECT(\"'\"&$F$1&\"'!\"&\"$C$2:$G$200\"),5,FALSE),0)","v":0},{"$f":"IFERROR(VLOOKUP(B49,INDIRECT(\"'\"&$H$1&\"'!\"&\"$C$2:$G$200\"),4,FALSE),\"\")","v":4.3090277777777776E-2},{"$f":"IFERROR(VLOOKUP(B49,INDIRECT(\"'\"&$H$1&\"'!\"&\"$C$2:$G$200\"),5,FALSE),0)","v":60.634873100247091},{"$f":"IFERROR(VLOOKUP(B49,INDIRECT(\"'\"&$J$1&\"'!\"&\"$C$2:$G$200\"),4,FALSE),\"\")","v":""},{"$f":"IFERROR(VLOOKUP(B49,INDIRECT(\"'\"&$J$1&\"'!\"&\"$C$2:$G$200\"),5,FALSE),0)","v":0},{"$f":"IFERROR(VLOOKUP(B49,INDIRECT(\"'\"&$L$1&\"'!\"&\"$C$2:$G$200\"),4,FALSE),\"\")","v":2.8043981481481479E-2},{"$f":"IFERROR(VLOOKUP(B49,INDIRECT(\"'\"&$L$1&\"'!\"&\"$C$2:$G$200\"),5,FALSE),0)","v":50.17313875834779},{"$f":"IFERROR(VLOOKUP(B49,INDIRECT(\"'\"&$N$1&\"'!\"&\"$C$2:$G$200\"),4,FALSE),\"\")","v":3.5034722222222224E-2},{"$f":"IFERROR(VLOOKUP(B49,INDIRECT(\"'\"&$N$1&\"'!\"&\"$C$2:$G$200\"),5,FALSE),0)","v":44.482120838471047},{"$f":"IFERROR(VLOOKUP(B49,INDIRECT(\"'\"&$P$1&\"'!\"&\"$C$2:$G$200\"),4,FALSE),\"\")","v":""},{"$f":"IFERROR(VLOOKUP(B49,INDIRECT(\"'\"&$P$1&\"'!\"&\"$C$2:$G$200\"),5,FALSE),0)","v":0},{"$f":"IFERROR(VLOOKUP(B49,INDIRECT(\"'\"&$R$1&\"'!\"&\"$C$2:$G$200\"),4,FALSE),\"\")","v":""},{"$f":"IFERROR(VLOOKUP(B49,INDIRECT(\"'\"&$R$1&\"'!\"&\"$C$2:$G$200\"),5,FALSE),0)","v":0},null,{"$f":"IFERROR(VLOOKUP(B49,INDIRECT(\"'\"&$T$1&\"'!\"&\"$C$2:$G$200\"),5,FALSE),0)","v":64.272981920040735},{"$f":"8-COUNTIF(F49:U49,\"\")","v":3},{"$f":"E49/IF(V49>4,5,V49)","v":73.187704872368883}]
[48,"Gary Hughes","Mynydd Du","SM",{"$f":"SUM(LARGE((S50,G50,I50,K50,M50,O50,Q50,U50),{1,2,3,4,5}))","v":204.75598521877953},{"$f":"IFERROR(VLOOKUP(B50,INDIRECT(\"'\"&$F$1&\"'!\"&\"$C$2:$G$200\"),4,FALSE),\"\")","v":""},{"$f":"IFERROR(VLOOKUP(B50,INDIRECT(\"'\"&$F$1&\"'!\"&\"$C$2:$G$200\"),5,FALSE),0)","v":0},{"$f":"IFERROR(VLOOKUP(B50,INDIRECT(\"'\"&$H$1&\"'!\"&\"$C$2:$G$200\"),4,FALSE),\"\")","v":4.0601851851851854E-2},{"$f":"IFERROR(VLOOKUP(B50,INDIRECT(\"'\"&$H$1&\"'!\"&\"$C$2:$G$200\"),5,FALSE),0)","v":68.683087519652616},{"$f":"IFERROR(VLOOKUP(B50,INDIRECT(\"'\"&$J$1&\"'!\"&\"$C$2:$G$200\"),4,FALSE),\"\")","v":""},{"$f":"IFERROR(VLOOKUP(B50,INDIRECT(\"'\"&$J$1&\"'!\"&\"$C$2:$G$200\"),5,FALSE),0)","v":0},{"$f":"IFERROR(VLOOKUP(B50,INDIRECT(\"'\"&$L$1&\"'!\"&\"$C$2:$G$200\"),4,FALSE),\"\")","v":""},{"$f":"IFERROR(VLOOKUP(B50,INDIRECT(\"'\"&$L$1&\"'!\"&\"$C$2:$G$200\"),5,FALSE),0)","v":0},{"$f":"IFERROR(VLOOKUP(B50,INDIRECT(\"'\"&$N$1&\"'!\"&\"$C$2:$G$200\"),4,FALSE),\"\")","v":2.9675925925925925E-2},{"$f":"IFERROR(VLOOKUP(B50,INDIRECT(\"'\"&$N$1&\"'!\"&\"$C$2:$G$200\"),5,FALSE),0)","v":68.269625976161151},{"$f":"IFERROR(VLOOKUP(B50,INDIRECT(\"'\"&$P$1&\"'!\"&\"$C$2:$G$200\"),4,FALSE),\"\")","v":2.8807870370370373E-2},{"$f":"IFERROR(VLOOKUP(B50,INDIRECT(\"'\"&$P$1&\"'!\"&\"$C$2:$G$200\"),5,FALSE),0)","v":67.803271722965761},{"$f":"IFERROR(VLOOKUP(B50,INDIRECT(\"'\"&$R$1&\"'!\"&\"$C$2:$G$200\"),4,FALSE),\"\")","v":""},{"$f":"IFERROR(VLOOKUP(B50,INDIRECT(\"'\"&$R$1&\"'!\"&\"$C$2:$G$200\"),5,FALSE),0)","v":0},{"$f":"IFERROR(VLOOKUP(B50,INDIRECT(\"'\"&$T$1&\"'!\"&\"$C$2:$G$200\"),4,FALSE),\"\")","v":""},{"$f":"IFERROR(VLOOKUP(B50,INDIRECT(\"'\"&$T$1&\"'!\"&\"$C$2:$G$200\"),5,FALSE),0)","v":0},{"$f":"8-COUNTIF(F50:U50,\"\")","v":3},{"$f":"E50/IF(V50>4,5,V50)","v":68.251995072926505}]
[49,"Paul Murrin","Chepstow Harriers","M40",{"$f":"SUM(LARGE((S51,G51,I51,K51,M51,O51,Q51,U51),{1,2,3,4,5}))","v":202.54358738505579},{"$f":"IFERROR(VLOOKUP(B51,INDIRECT(\"'\"&$F$1&\"'!\"&\"$C$2:$G$200\"),4,FALSE),\"\")","v":""},{"$f":"IFERROR(VLOOKUP(B51,INDIRECT(\"'\"&$F$1&\"'!\"&\"$C$2:$G$200\"),5,FALSE),0)","v":0},{"$f":"IFERROR(VLOOKUP(B51,INDIRECT(\"'\"&$H$1&\"'!\"&\"$C$2:$G$200\"),4,FALSE),\"\")","v":""},{"$f":"IFERROR(VLOOKUP(B51,INDIRECT(\"'\"&$H$1&\"'!\"&\"$C$2:$G$200\"),5,FALSE),0)","v":0},{"$f":"IFERROR(VLOOKUP(B51,INDIRECT(\"'\"&$J$1&\"'!\"&\"$C$2:$G$200\"),4,FALSE),\"\")","v":""},{"$f":"IFERROR(VLOOKUP(B51,INDIRECT(\"'\"&$J$1&\"'!\"&\"$C$2:$G$200\"),5,FALSE),0)","v":0},{"$f":"IFERROR(VLOOKUP(B51,INDIRECT(\"'\"&$L$1&\"'!\"&\"$C$2:$G$200\"),4,FALSE),\"\")","v":1.849537037037037E-2},{"$f":"IFERROR(VLOOKUP(B51,INDIRECT(\"'\"&$L$1&\"'!\"&\"$C$2:$G$200\"),5,FALSE),0)","v":101.18723720009895},{"$f":"IFERROR(VLOOKUP(B51,INDIRECT(\"'\"&$N$1&\"'!\"&\"$C$2:$G$200\"),4,FALSE),\"\")","v":2.2222222222222223E-2},{"$f":"IFERROR(VLOOKUP(B51,INDIRECT(\"'\"&$N$1&\"'!\"&\"$C$2:$G$200\"),5,FALSE),0)","v":101.35635018495685},{"$f":"IFERROR(VLOOKUP(B51,INDIRECT(\"'\"&$P$1&\"'!\"&\"$C$2:$G$200\"),4,FALSE),\"\")","v":""},{"$f":"IFERROR(VLOOKUP(B51,INDIRECT(\"'\"&$P$1&\"'!\"&\"$C$2:$G$200\"),5,FALSE),0)","v":0},{"$f":"IFERROR(VLOOKUP(B51,INDIRECT(\"'\"&$R$1&\"'!\"&\"$C$2:$G$200\"),4,FALSE),\"\")","v":""},{"$f":"IFERROR(VLOOKUP(B51,INDIRECT(\"'\"&$R$1&\"'!\"&\"$C$2:$G$200\"),5,FALSE),0)","v":0},{"$f":"IFERROR(VLOOKUP(B51,INDIRECT(\"'\"&$T$1&\"'!\"&\"$C$2:$G$200\"),4,FALSE),\"\")","v":""},{"$f":"IFERROR(VLOOKUP(B51,INDIRECT(\"'\"&$T$1&\"'!\"&\"$C$2:$G$200\"),5,FALSE),0)","v":0},{"$f":"8-COUNTIF(F51:U51,\"\")","v":2},{"$f":"E51/IF(V51>4,5,V51)","v":101.27179369252789}]
[50,"Daniel Bodman","Aberdare","SM",{"$f":"SUM(LARGE((S52,G52,I52,K52,M52,O52,Q52,U52),{1,2,3,4,5}))","v":201.51635658609001},{"$f":"IFERROR(VLOOKUP(B52,INDIRECT(\"'\"&$F$1&\"'!\"&\"$C$2:$G$200\"),4,FALSE),\"\")","v":""},{"$f":"IFERROR(VLOOKUP(B52,INDIRECT(\"'\"&$F$1&\"'!\"&\"$C$2:$G$200\"),5,FALSE),0)","v":0},{"$f":"IFERROR(VLOOKUP(B52,INDIRECT(\"'\"&$H$1&\"'!\"&\"$C$2:$G$200\"),4,FALSE),\"\")","v":""},{"$f":"IFERROR(VLOOKUP(B52,INDIRECT(\"'\"&$H$1&\"'!\"&\"$C$2:$G$200\"),5,FALSE),0)","v":0},{"$f":"IFERROR(VLOOKUP(B52,INDIRECT(\"'\"&$J$1&\"'!\"&\"$C$2:$G$200\"),4,FALSE),\"\")","v":""},{"$f":"IFERROR(VLOOKUP(B52,INDIRECT(\"'\"&$J$1&\"'!\"&\"$C$2:$G$200\"),5,FALSE),0)","v":0},{"$f":"IFERROR(VLOOKUP(B52,INDIRECT(\"'\"&$L$1&\"'!\"&\"$C$2:$G$200\"),4,FALSE),\"\")","v":""},{"$f":"IFERROR(VLOOKUP(B52,INDIRECT(\"'\"&$L$1&\"'!\"&\"$C$2:$G$200\"),5,FALSE),0)","v":0},{"$f":"IFERROR(VLOOKUP(B52,INDIRECT(\"'\"&$N$1&\"'!\"&\"$C$2:$G$200\"),4,FALSE),\"\")","v":""},{"$f":"IFERROR(VLOOKUP(B52,INDIRECT(\"'\"&$N$1&\"'!\"&\"$C$2:$G$200\"),5,FALSE),0)","v":0},{"$f":"IFERROR(VLOOKUP(B52,INDIRECT(\"'\"&$P$1&\"'!\"&\"$C$2:$G$200\"),4,FALSE),\"\")","v":2.1562499999999998E-2},{"$f":"IFERROR(VLOOKUP(B52,INDIRECT(\"'\"&$P$1&\"'!\"&\"$C$2:$G$200\"),5,FALSE),0)","v":101.05162523900573},{"$f":"IFERROR(VLOOKUP(B52,INDIRECT(\"'\"&$R$1&\"'!\"&\"$C$2:$G$200\"),4,FALSE),\"\")","v":""},{"$f":"IFERROR(VLOOKUP(B52,INDIRECT(\"'\"&$R$1&\"'!\"&\"$C$2:$G$200\"),5,FALSE),0)","v":0},{"$f":"IFERROR(VLOOKUP(B52,INDIRECT(\"'\"&$T$1&\"'!\"&\"$C$2:$G$200\"),4,FALSE),\"\")","v":3.619212962962963E-2},{"$f":"IFERROR(VLOOKUP(B52,INDIRECT(\"'\"&$T$1&\"'!\"&\"$C$2:$G$200\"),5,FALSE),0)","v":100.4647313470843},{"$f":"8-COUNTIF(F52:U52,\"\")","v":2},{"$f":"E52/IF(V52>4,5,V52)","v":100.75817829304501}]
[51,"Duncan Loughrey","Unaffiliated","M50",{"$f":"SUM(LARGE((S53,G53,I53,K53,M53,O53,Q53,U53),{1,2,3,4,5}))","v":201.04786072152763},{"$f":"IFERROR(VLOOKUP(B53,INDIRECT(\"'\"&$F$1&\"'!\"&\"$C$2:$G$200\"),4,FALSE),\"\")","v":""},{"$f":"IFERROR(VLOOKUP(B53,INDIRECT(\"'\"&$F$1&\"'!\"&\"$C$2:$G$200\"),5,FALSE),0)","v":0},{"$f":"IFERROR(VLOOKUP(B53,INDIRECT(\"'\"&$H$1&\"'!\"&\"$C$2:$G$200\"),4,FALSE),\"\")","v":4.0787037037037038E-2},{"$f":"IFERROR(VLOOKUP(B53,INDIRECT(\"'\"&$H$1&\"'!\"&\"$C$2:$G$200\"),5,FALSE),0)","v":68.0841506326271},{"$f":"IFERROR(VLOOKUP(B53,INDIRECT(\"'\"&$J$1&\"'!\"&\"$C$2:$G$200\"),4,FALSE),\"\")","v":""},{"$f":"IFERROR(VLOOKUP(B53,INDIRECT(\"'\"&$J$1&\"'!\"&\"$C$2:$G$200\"),5,FALSE),0)","v":0},{"$f":"IFERROR(VLOOKUP(B53,INDIRECT(\"'\"&$L$1&\"'!\"&\"$C$2:$G$200\"),4,FALSE),\"\")","v":""},{"$f":"IFERROR(VLOOKUP(B53,INDIRECT(\"'\"&$L$1&\"'!\"&\"$C$2:$G$200\"),5,FALSE),0)","v":0},{"$f":"IFERROR(VLOOKUP(B53,INDIRECT(\"'\"&$N$1&\"'!\"&\"$C$2:$G$200\"),4,FALSE),\"\")","v":2.8993055555555553E-2},{"$f":"IFERROR(VLOOKUP(B53,INDIRECT(\"'\"&$N$1&\"'!\"&\"$C$2:$G$200\"),5,FALSE),0)","v":71.300863131935913},{"$f":"IFERROR(VLOOKUP(B53,INDIRECT(\"'\"&$P$1&\"'!\"&\"$C$2:$G$200\"),4,FALSE),\"\")","v":""},{"$f":"IFERROR(VLOOKUP(B53,INDIRECT(\"'\"&$P$1&\"'!\"&\"$C$2:$G$200\"),5,FALSE),0)","v":0},{"$f":"IFERROR(VLOOKUP(B53,INDIRECT(\"'\"&$R$1&\"'!\"&\"$C$2:$G$200\"),4,FALSE),\"\")","v":""},{"$f":"IFERROR(VLOOKUP(B53,INDIRECT(\"'\"&$R$1&\"'!\"&\"$C$2:$G$200\"),5,FALSE),0)","v":0},null,{"$f":"IFERROR(VLOOKUP(B53,INDIRECT(\"'\"&$T$1&\"'!\"&\"$C$2:$G$200\"),5,FALSE),0)","v":61.6628469569646},{"$f":"8-COUNTIF(F53:U53,\"\")","v":2},{"$f":"E53/IF(V53>4,5,V53)","v":100.52393036076381}]
[52,"Neil Grant","Chepstow Harriers","M60",{"$f":"SUM(LARGE((S54,G54,I54,K54,M54,O54,Q54,U54),{1,2,3,4,5}))","v":200.17369431387453},{"$f":"IFERROR(VLOOKUP(B54,INDIRECT(\"'\"&$F$1&\"'!\"&\"$C$2:$G$200\"),4,FALSE),\"\")","v":""},{"$f":"IFERROR(VLOOKUP(B54,INDIRECT(\"'\"&$F$1&\"'!\"&\"$C$2:$G$200\"),5,FALSE),0)","v":0},{"$f":"IFERROR(VLOOKUP(B54,INDIRECT(\"'\"&$H$1&\"'!\"&\"$C$2:$G$200\"),4,FALSE),\"\")","v":4.1273148148148149E-2},{"$f":"IFERROR(VLOOKUP(B54,INDIRECT(\"'\"&$H$1&\"'!\"&\"$C$2:$G$200\"),5,FALSE),0)","v":66.511941304185072},{"$f":"IFERROR(VLOOKUP(B54,INDIRECT(\"'\"&$J$1&\"'!\"&\"$C$2:$G$200\"),4,FALSE),\"\")","v":""},{"$f":"IFERROR(VLOOKUP(B54,INDIRECT(\"'\"&$J$1&\"'!\"&\"$C$2:$G$200\"),5,FALSE),0)","v":0},{"$f":"IFERROR(VLOOKUP(B54,INDIRECT(\"'\"&$L$1&\"'!\"&\"$C$2:$G$200\"),4,FALSE),\"\")","v":""},{"$f":"IFERROR(VLOOKUP(B54,INDIRECT(\"'\"&$L$1&\"'!\"&\"$C$2:$G$200\"),5,FALSE),0)","v":0},{"$f":"IFERROR(VLOOKUP(B54,INDIRECT(\"'\"&$N$1&\"'!\"&\"$C$2:$G$200\"),4,FALSE),\"\")","v":2.9050925925925928E-2},{"$f":"IFERROR(VLOOKUP(B54,INDIRECT(\"'\"&$N$1&\"'!\"&\"$C$2:$G$200\"),5,FALSE),0)","v":71.043978627209214},{"$f":"IFERROR(VLOOKUP(B54,INDIRECT(\"'\"&$P$1&\"'!\"&\"$C$2:$G$200\"),4,FALSE),\"\")","v":""},{"$f":"IFERROR(VLOOKUP(B54,INDIRECT(\"'\"&$P$1&\"'!\"&\"$C$2:$G$200\"),5,FALSE),0)","v":0},{"$f":"IFERROR(VLOOKUP(B54,INDIRECT(\"'\"&$R$1&\"'!\"&\"$C$2:$G$200\"),4,FALSE),\"\")","v":""},{"$f":"IFERROR(VLOOKUP(B54,INDIRECT(\"'\"&$R$1&\"'!\"&\"$C$2:$G$200\"),5,FALSE),0)","v":0},{"$f":"IFERROR(VLOOKUP(B54,INDIRECT(\"'\"&$T$1&\"'!\"&\"$C$2:$G$200\"),4,FALSE),\"\")","v":4.9953703703703702E-2},{"$f":"IFERROR(VLOOKUP(B54,INDIRECT(\"'\"&$T$1&\"'!\"&\"$C$2:$G$200\"),5,FALSE),0)","v":62.617774382480263},{"$f":"8-COUNTIF(F54:U54,\"\")","v":3},{"$f":"E54/IF(V54>4,5,V54)","v":66.724564771291512}]
[53,"Matt Grantham","Micky Morris Racing Team","MU23",{"$f":"SUM(LARGE((S55,G55,I55,K55,M55,O55,Q55,U55),{1,2,3,4,5}))","v":197.59257952105793},{"$f":"IFERROR(VLOOKUP(B55,INDIRECT(\"'\"&$F$1&\"'!\"&\"$C$2:$G$200\"),4,FALSE),\"\")","v":1.4456018518518519E-2},{"$f":"IFERROR(VLOOKUP(B55,INDIRECT(\"'\"&$F$1&\"'!\"&\"$C$2:$G$200\"),5,FALSE),0)","v":101.35839519823091},{"$f":"IFERROR(VLOOKUP(B55,INDIRECT(\"'\"&$H$1&\"'!\"&\"$C$2:$G$200\"),4,FALSE),\"\")","v":3.2083333333333332E-2},{"$f":"IFERROR(VLOOKUP(B55,INDIRECT(\"'\"&$H$1&\"'!\"&\"$C$2:$G$200\"),5,FALSE),0)","v":96.234184322827005},{"$f":"IFERROR(VLOOKUP(B55,INDIRECT(\"'\"&$J$1&\"'!\"&\"$C$2:$G$200\"),4,FALSE),\"\")","v":""},{"$f":"IFERROR(VLOOKUP(B55,INDIRECT(\"'\"&$J$1&\"'!\"&\"$C$2:$G$200\"),5,FALSE),0)","v":0},{"$f":"IFERROR(VLOOKUP(B55,INDIRECT(\"'\"&$L$1&\"'!\"&\"$C$2:$G$200\"),4,FALSE),\"\")","v":""},{"$f":"IFERROR(VLOOKUP(B55,INDIRECT(\"'\"&$L$1&\"'!\"&\"$C$2:$G$200\"),5,FALSE),0)","v":0},{"$f":"IFERROR(VLOOKUP(B55,INDIRECT(\"'\"&$N$1&\"'!\"&\"$C$2:$G$200\"),4,FALSE),\"\")","v":""},{"$f":"IFERROR(VLOOKUP(B55,INDIRECT(\"'\"&$N$1&\"'!\"&\"$C$2:$G$200\"),5,FALSE),0)","v":0},{"$f":"IFERROR(VLOOKUP(B55,INDIRECT(\"'\"&$P$1&\"'!\"&\"$C$2:$G$200\"),4,FALSE),\"\")","v":""},{"$f":"IFERROR(VLOOKUP(B55,INDIRECT(\"'\"&$P$1&\"'!\"&\"$C$2:$G$200\"),5,FALSE),0)","v":0},{"$f":"IFERROR(VLOOKUP(B55,INDIRECT(\"'\"&$R$1&\"'!\"&\"$C$2:$G$200\"),4,FALSE),\"\")","v":""},{"$f":"IFERROR(VLOOKUP(B55,INDIRECT(\"'\"&$R$1&\"'!\"&\"$C$2:$G$200\"),5,FALSE),0)","v":0},{"$f":"IFERROR(VLOOKUP(B55,INDIRECT(\"'\"&$T$1&\"'!\"&\"$C$2:$G$200\"),4,FALSE),\"\")","v":""},{"$f":"IFERROR(VLOOKUP(B55,INDIRECT(\"'\"&$T$1&\"'!\"&\"$C$2:$G$200\"),5,FALSE),0)","v":0},{"$f":"8-COUNTIF(F55:U55,\"\")","v":2},{"$f":"E55/IF(V55>4,5,V55)","v":98.796289760528964}]
[54,"Tom Morfey","Cardiff Harlequins","MU23",{"$f":"SUM(LARGE((S56,G56,I56,K56,M56,O56,Q56,U56),{1,2,3,4,5}))","v":195.49500351039973},{"$f":"IFERROR(VLOOKUP(B56,INDIRECT(\"'\"&$F$1&\"'!\"&\"$C$2:$G$200\"),4,FALSE),\"\")","v":""},{"$f":"IFERROR(VLOOKUP(B56,INDIRECT(\"'\"&$F$1&\"'!\"&\"$C$2:$G$200\"),5,FALSE),0)","v":0},{"$f":"IFERROR(VLOOKUP(B56,INDIRECT(\"'\"&$H$1&\"'!\"&\"$C$2:$G$200\"),4,FALSE),\"\")","v":4.189814814814815E-2},{"$f":"IFERROR(VLOOKUP(B56,INDIRECT(\"'\"&$H$1&\"'!\"&\"$C$2:$G$200\"),5,FALSE),0)","v":64.490529310473917},{"$f":"IFERROR(VLOOKUP(B56,INDIRECT(\"'\"&$J$1&\"'!\"&\"$C$2:$G$200\"),4,FALSE),\"\")","v":""},{"$f":"IFERROR(VLOOKUP(B56,INDIRECT(\"'\"&$J$1&\"'!\"&\"$C$2:$G$200\"),5,FALSE),0)","v":0},{"$f":"IFERROR(VLOOKUP(B56,INDIRECT(\"'\"&$L$1&\"'!\"&\"$C$2:$G$200\"),4,FALSE),\"\")","v":2.5115740740740741E-2},{"$f":"IFERROR(VLOOKUP(B56,INDIRECT(\"'\"&$L$1&\"'!\"&\"$C$2:$G$200\"),5,FALSE),0)","v":65.81746228048479},{"$f":"IFERROR(VLOOKUP(B56,INDIRECT(\"'\"&$N$1&\"'!\"&\"$C$2:$G$200\"),4,FALSE),\"\")","v":3.037037037037037E-2},{"$f":"IFERROR(VLOOKUP(B56,INDIRECT(\"'\"&$N$1&\"'!\"&\"$C$2:$G$200\"),5,FALSE),0)","v":65.187011919441048},{"$f":"IFERROR(VLOOKUP(B56,INDIRECT(\"'\"&$P$1&\"'!\"&\"$C$2:$G$200\"),4,FALSE),\"\")","v":""},{"$f":"IFERROR(VLOOKUP(B56,INDIRECT(\"'\"&$P$1&\"'!\"&\"$C$2:$G$200\"),5,FALSE),0)","v":0},{"$f":"IFERROR(VLOOKUP(B56,INDIRECT(\"'\"&$R$1&\"'!\"&\"$C$2:$G$200\"),4,FALSE),\"\")","v":""},{"$f":"IFERROR(VLOOKUP(B56,INDIRECT(\"'\"&$R$1&\"'!\"&\"$C$2:$G$200\"),5,FALSE),0)","v":0},{"$f":"IFERROR(VLOOKUP(B56,INDIRECT(\"'\"&$T$1&\"'!\"&\"$C$2:$G$200\"),4,FALSE),\"\")","v":""},{"$f":"IFERROR(VLOOKUP(B56,INDIRECT(\"'\"&$T$1&\"'!\"&\"$C$2:$G$200\"),5,FALSE),0)","v":0},{"$f":"8-COUNTIF(F56:U56,\"\")","v":3},{"$f":"E56/IF(V56>4,5,V56)","v":65.165001170133237}]
[55,"Iestyn Rhodes","Mynydd Du","M40",{"$f":"SUM(LARGE((S57,G57,I57,K57,M57,O57,Q57,U57),{1,2,3,4,5}))","v":192.35489284727004},{"$f":"IFERROR(VLOOKUP(B57,INDIRECT(\"'\"&$F$1&\"'!\"&\"$C$2:$G$200\"),4,FALSE),\"\")","v":""},{"$f":"IFERROR(VLOOKUP(B57,INDIRECT(\"'\"&$F$1&\"'!\"&\"$C$2:$G$200\"),5,FALSE),0)","v":0},{"$f":"IFERROR(VLOOKUP(B57,INDIRECT(\"'\"&$H$1&\"'!\"&\"$C$2:$G$200\"),4,FALSE),\"\")","v":""},{"$f":"IFERROR(VLOOKUP(B57,INDIRECT(\"'\"&$H$1&\"'!\"&\"$C$2:$G$200\"),5,FALSE),0)","v":0},{"$f":"IFERROR(VLOOKUP(B57,INDIRECT(\"'\"&$J$1&\"'!\"&\"$C$2:$G$200\"),4,FALSE),\"\")","v":""},{"$f":"IFERROR(VLOOKUP(B57,INDIRECT(\"'\"&$J$1&\"'!\"&\"$C$2:$G$200\"),5,FALSE),0)","v":0},{"$f":"IFERROR(VLOOKUP(B57,INDIRECT(\"'\"&$L$1&\"'!\"&\"$C$2:$G$200\"),4,FALSE),\"\")","v":""},{"$f":"IFERROR(VLOOKUP(B57,INDIRECT(\"'\"&$L$1&\"'!\"&\"$C$2:$G$200\"),5,FALSE),0)","v":0},{"$f":"IFERROR(VLOOKUP(B57,INDIRECT(\"'\"&$N$1&\"'!\"&\"$C$2:$G$200\"),4,FALSE),\"\")","v":2.4201388888888887E-2},{"$f":"IFERROR(VLOOKUP(B57,INDIRECT(\"'\"&$N$1&\"'!\"&\"$C$2:$G$200\"),5,FALSE),0)","v":92.570900123304597},{"$f":"IFERROR(VLOOKUP(B57,INDIRECT(\"'\"&$P$1&\"'!\"&\"$C$2:$G$200\"),4,FALSE),\"\")","v":""},{"$f":"IFERROR(VLOOKUP(B57,INDIRECT(\"'\"&$P$1&\"'!\"&\"$C$2:$G$200\"),5,FALSE),0)","v":0},{"$f":"IFERROR(VLOOKUP(B57,INDIRECT(\"'\"&$R$1&\"'!\"&\"$C$2:$G$200\"),4,FALSE),\"\")","v":2.0405092592592593E-2},{"$f":"IFERROR(VLOOKUP(B57,INDIRECT(\"'\"&$R$1&\"'!\"&\"$C$2:$G$200\"),5,FALSE),0)","v":99.783992723965454},null,{"$f":"IFERROR(VLOOKUP(B57,INDIRECT(\"'\"&$T$1&\"'!\"&\"$C$2:$G$200\"),5,FALSE),0)","v":0},{"$f":"8-COUNTIF(F57:U57,\"\")","v":2},{"$f":"E57/IF(V57>4,5,V57)","v":96.177446423635018}]
[56,"Iwan Morton","Mynydd Du","M40",{"$f":"SUM(LARGE((S58,G58,I58,K58,M58,O58,Q58,U58),{1,2,3,4,5}))","v":189.18589630673478},{"$f":"IFERROR(VLOOKUP(B58,INDIRECT(\"'\"&$F$1&\"'!\"&\"$C$2:$G$200\"),4,FALSE),\"\")","v":""},{"$f":"IFERROR(VLOOKUP(B58,INDIRECT(\"'\"&$F$1&\"'!\"&\"$C$2:$G$200\"),5,FALSE),0)","v":0},{"$f":"IFERROR(VLOOKUP(B58,INDIRECT(\"'\"&$H$1&\"'!\"&\"$C$2:$G$200\"),4,FALSE),\"\")","v":""},{"$f":"IFERROR(VLOOKUP(B58,INDIRECT(\"'\"&$H$1&\"'!\"&\"$C$2:$G$200\"),5,FALSE),0)","v":0},{"$f":"IFERROR(VLOOKUP(B58,INDIRECT(\"'\"&$J$1&\"'!\"&\"$C$2:$G$200\"),4,FALSE),\"\")","v":""},{"$f":"IFERROR(VLOOKUP(B58,INDIRECT(\"'\"&$J$1&\"'!\"&\"$C$2:$G$200\"),5,FALSE),0)","v":0},{"$f":"IFERROR(VLOOKUP(B58,INDIRECT(\"'\"&$L$1&\"'!\"&\"$C$2:$G$200\"),4,FALSE),\"\")","v":""},{"$f":"IFERROR(VLOOKUP(B58,INDIRECT(\"'\"&$L$1&\"'!\"&\"$C$2:$G$200\"),5,FALSE),0)","v":0},{"$f":"IFERROR(VLOOKUP(B58,INDIRECT(\"'\"&$N$1&\"'!\"&\"$C$2:$G$200\"),4,FALSE),\"\")","v":2.2013888888888888E-2},{"$f":"IFERROR(VLOOKUP(B58,INDIRECT(\"'\"&$N$1&\"'!\"&\"$C$2:$G$200\"),5,FALSE),0)","v":102.28113440197291},{"$f":"IFERROR(VLOOKUP(B58,INDIRECT(\"'\"&$P$1&\"'!\"&\"$C$2:$G$200\"),4,FALSE),\"\")","v":""},{"$f":"IFERROR(VLOOKUP(B58,INDIRECT(\"'\"&$P$1&\"'!\"&\"$C$2:$G$200\"),5,FALSE),0)","v":0},{"$f":"IFERROR(VLOOKUP(B58,INDIRECT(\"'\"&$R$1&\"'!\"&\"$C$2:$G$200\"),4,FALSE),\"\")","v":""},{"$f":"IFERROR(VLOOKUP(B58,INDIRECT(\"'\"&$R$1&\"'!\"&\"$C$2:$G$200\"),5,FALSE),0)","v":0},{"$f":"IFERROR(VLOOKUP(B58,INDIRECT(\"'\"&$T$1&\"'!\"&\"$C$2:$G$200\"),4,FALSE),\"\")","v":4.1122685185185186E-2},{"$f":"IFERROR(VLOOKUP(B58,INDIRECT(\"'\"&$T$1&\"'!\"&\"$C$2:$G$200\"),5,FALSE),0)","v":86.904761904761884},{"$f":"8-COUNTIF(F58:U58,\"\")","v":2},{"$f":"E58/IF(V58>4,5,V58)","v":94.592948153367388}]
[57,"Thomas Burden","Unaffiliated","SM",{"$f":"SUM(LARGE((S59,G59,I59,K59,M59,O59,Q59,U59),{1,2,3,4,5}))","v":188.78680182248701},{"$f":"IFERROR(VLOOKUP(B59,INDIRECT(\"'\"&$F$1&\"'!\"&\"$C$2:$G$200\"),4,FALSE),\"\")","v":""},{"$f":"IFERROR(VLOOKUP(B59,INDIRECT(\"'\"&$F$1&\"'!\"&\"$C$2:$G$200\"),5,FALSE),0)","v":0},{"$f":"IFERROR(VLOOKUP(B59,INDIRECT(\"'\"&$H$1&\"'!\"&\"$C$2:$G$200\"),4,FALSE),\"\")","v":3.1134259259259261E-2},{"$f":"IFERROR(VLOOKUP(B59,INDIRECT(\"'\"&$H$1&\"'!\"&\"$C$2:$G$200\"),5,FALSE),0)","v":99.303735868832831},{"$f":"IFERROR(VLOOKUP(B59,INDIRECT(\"'\"&$J$1&\"'!\"&\"$C$2:$G$200\"),4,FALSE),\"\")","v":""},{"$f":"IFERROR(VLOOKUP(B59,INDIRECT(\"'\"&$J$1&\"'!\"&\"$C$2:$G$200\"),5,FALSE),0)","v":0},{"$f":"IFERROR(VLOOKUP(B59,INDIRECT(\"'\"&$L$1&\"'!\"&\"$C$2:$G$200\"),4,FALSE),\"\")","v":""},{"$f":"IFERROR(VLOOKUP(B59,INDIRECT(\"'\"&$L$1&\"'!\"&\"$C$2:$G$200\"),5,FALSE),0)","v":0},{"$f":"IFERROR(VLOOKUP(B59,INDIRECT(\"'\"&$N$1&\"'!\"&\"$C$2:$G$200\"),4,FALSE),\"\")","v":""},{"$f":"IFERROR(VLOOKUP(B59,INDIRECT(\"'\"&$N$1&\"'!\"&\"$C$2:$G$200\"),5,FALSE),0)","v":0},{"$f":"IFERROR(VLOOKUP(B59,INDIRECT(\"'\"&$P$1&\"'!\"&\"$C$2:$G$200\"),4,FALSE),\"\")","v":""},{"$f":"IFERROR(VLOOKUP(B59,INDIRECT(\"'\"&$P$1&\"'!\"&\"$C$2:$G$200\"),5,FALSE),0)","v":0},{"$f":"IFERROR(VLOOKUP(B59,INDIRECT(\"'\"&$R$1&\"'!\"&\"$C$2:$G$200\"),4,FALSE),\"\")","v":""},{"$f":"IFERROR(VLOOKUP(B59,INDIRECT(\"'\"&$R$1&\"'!\"&\"$C$2:$G$200\"),5,FALSE),0)","v":0},{"$f":"IFERROR(VLOOKUP(B59,INDIRECT(\"'\"&$T$1&\"'!\"&\"$C$2:$G$200\"),4,FALSE),\"\")","v":4.0185185185185185E-2},{"$f":"IFERROR(VLOOKUP(B59,INDIRECT(\"'\"&$T$1&\"'!\"&\"$C$2:$G$200\"),5,FALSE),0)","v":89.48306595365419},{"$f":"8-COUNTIF(F59:U59,\"\")","v":2},{"$f":"E59/IF(V59>4,5,V59)","v":94.393400911243504}]
[58,"Hollie Ryder","Brycheiniog","SF",{"$f":"SUM(LARGE((S60,G60,I60,K60,M60,O60,Q60,U60),{1,2,3,4,5}))","v":188.75447969610929},{"$f":"IFERROR(VLOOKUP(B60,INDIRECT(\"'\"&$F$1&\"'!\"&\"$C$2:$G$200\"),4,FALSE),\"\")","v":1.9259259259259261E-2},{"$f":"IFERROR(VLOOKUP(B60,INDIRECT(\"'\"&$F$1&\"'!\"&\"$C$2:$G$200\"),5,FALSE),0)","v":68.583162217659122},{"$f":"IFERROR(VLOOKUP(B60,INDIRECT(\"'\"&$H$1&\"'!\"&\"$C$2:$G$200\"),4,FALSE),\"\")","v":""},{"$f":"IFERROR(VLOOKUP(B60,INDIRECT(\"'\"&$H$1&\"'!\"&\"$C$2:$G$200\"),5,FALSE),0)","v":0},{"$f":"IFERROR(VLOOKUP(B60,INDIRECT(\"'\"&$J$1&\"'!\"&\"$C$2:$G$200\"),4,FALSE),\"\")","v":""},{"$f":"IFERROR(VLOOKUP(B60,INDIRECT(\"'\"&$J$1&\"'!\"&\"$C$2:$G$200\"),5,FALSE),0)","v":0},{"$f":"IFERROR(VLOOKUP(B60,INDIRECT(\"'\"&$L$1&\"'!\"&\"$C$2:$G$200\"),4,FALSE),\"\")","v":3.3437500000000002E-2},{"$f":"IFERROR(VLOOKUP(B60,INDIRECT(\"'\"&$L$1&\"'!\"&\"$C$2:$G$200\"),5,FALSE),0)","v":21.357902547613161},{"$f":"IFERROR(VLOOKUP(B60,INDIRECT(\"'\"&$N$1&\"'!\"&\"$C$2:$G$200\"),4,FALSE),\"\")","v":""},{"$f":"IFERROR(VLOOKUP(B60,INDIRECT(\"'\"&$N$1&\"'!\"&\"$C$2:$G$200\"),5,FALSE),0)","v":0},{"$f":"IFERROR(VLOOKUP(B60,INDIRECT(\"'\"&$P$1&\"'!\"&\"$C$2:$G$200\"),4,FALSE),\"\")","v":3.2754629629629627E-2},{"$f":"IFERROR(VLOOKUP(B60,INDIRECT(\"'\"&$P$1&\"'!\"&\"$C$2:$G$200\"),5,FALSE),0)","v":49.691948162311441},{"$f":"IFERROR(VLOOKUP(B60,INDIRECT(\"'\"&$R$1&\"'!\"&\"$C$2:$G$200\"),4,FALSE),\"\")","v":""},{"$f":"IFERROR(VLOOKUP(B60,INDIRECT(\"'\"&$R$1&\"'!\"&\"$C$2:$G$200\"),5,FALSE),0)","v":0},{"$f":"IFERROR(VLOOKUP(B60,INDIRECT(\"'\"&$T$1&\"'!\"&\"$C$2:$G$200\"),4,FALSE),\"\")","v":5.486111111111111E-2},{"$f":"IFERROR(VLOOKUP(B60,INDIRECT(\"'\"&$T$1&\"'!\"&\"$C$2:$G$200\"),5,FALSE),0)","v":49.121466768525579},{"$f":"8-COUNTIF(F60:U60,\"\")","v":4},{"$f":"E60/IF(V60>4,5,V60)","v":47.188619924027321}]
[59,"Mike Erskine","Les Croupiers","SM",{"$f":"SUM(LARGE((S61,G61,I61,K61,M61,O61,Q61,U61),{1,2,3,4,5}))","v":185.39862378440154},{"$f":"IFERROR(VLOOKUP(B61,INDIRECT(\"'\"&$F$1&\"'!\"&\"$C$2:$G$200\"),4,FALSE),\"\")","v":""},{"$f":"IFERROR(VLOOKUP(B61,INDIRECT(\"'\"&$F$1&\"'!\"&\"$C$2:$G$200\"),5,FALSE),0)","v":0},{"$f":"IFERROR(VLOOKUP(B61,INDIRECT(\"'\"&$H$1&\"'!\"&\"$C$2:$G$200\"),4,FALSE),\"\")","v":3.2835648148148149E-2},{"$f":"IFERROR(VLOOKUP(B61,INDIRECT(\"'\"&$H$1&\"'!\"&\"$C$2:$G$200\"),5,FALSE),0)","v":93.801003219285775},{"$f":"IFERROR(VLOOKUP(B61,INDIRECT(\"'\"&$J$1&\"'!\"&\"$C$2:$G$200\"),4,FALSE),\"\")","v":""},{"$f":"IFERROR(VLOOKUP(B61,INDIRECT(\"'\"&$J$1&\"'!\"&\"$C$2:$G$200\"),5,FALSE),0)","v":0},{"$f":"IFERROR(VLOOKUP(B61,INDIRECT(\"'\"&$L$1&\"'!\"&\"$C$2:$G$200\"),4,FALSE),\"\")","v":""},{"$f":"IFERROR(VLOOKUP(B61,INDIRECT(\"'\"&$L$1&\"'!\"&\"$C$2:$G$200\"),5,FALSE),0)","v":0},{"$f":"IFERROR(VLOOKUP(B61,INDIRECT(\"'\"&$N$1&\"'!\"&\"$C$2:$G$200\"),4,FALSE),\"\")","v":""},{"$f":"IFERROR(VLOOKUP(B61,INDIRECT(\"'\"&$N$1&\"'!\"&\"$C$2:$G$200\"),5,FALSE),0)","v":0},{"$f":"IFERROR(VLOOKUP(B61,INDIRECT(\"'\"&$P$1&\"'!\"&\"$C$2:$G$200\"),4,FALSE),\"\")","v":2.3622685185185188E-2},{"$f":"IFERROR(VLOOKUP(B61,INDIRECT(\"'\"&$P$1&\"'!\"&\"$C$2:$G$200\"),5,FALSE),0)","v":91.597620565115761},{"$f":"IFERROR(VLOOKUP(B61,INDIRECT(\"'\"&$R$1&\"'!\"&\"$C$2:$G$200\"),4,FALSE),\"\")","v":""},{"$f":"IFERROR(VLOOKUP(B61,INDIRECT(\"'\"&$R$1&\"'!\"&\"$C$2:$G$200\"),5,FALSE),0)","v":0},null,{"$f":"IFERROR(VLOOKUP(B61,INDIRECT(\"'\"&$T$1&\"'!\"&\"$C$2:$G$200\"),5,FALSE),0)","v":0},{"$f":"8-COUNTIF(F61:U61,\"\")","v":2},{"$f":"E61/IF(V61>4,5,V61)","v":92.699311892200768}]
[60,"Richie Johnson","Mynydd Du","M40",{"$f":"SUM(LARGE((S62,G62,I62,K62,M62,O62,Q62,U62),{1,2,3,4,5}))","v":185.2652657242979},{"$f":"IFERROR(VLOOKUP(B62,INDIRECT(\"'\"&$F$1&\"'!\"&\"$C$2:$G$200\"),4,FALSE),\"\")","v":""},{"$f":"IFERROR(VLOOKUP(B62,INDIRECT(\"'\"&$F$1&\"'!\"&\"$C$2:$G$200\"),5,FALSE),0)","v":0},{"$f":"IFERROR(VLOOKUP(B62,INDIRECT(\"'\"&$H$1&\"'!\"&\"$C$2:$G$200\"),4,FALSE),\"\")","v":""},{"$f":"IFERROR(VLOOKUP(B62,INDIRECT(\"'\"&$H$1&\"'!\"&\"$C$2:$G$200\"),5,FALSE),0)","v":0},{"$f":"IFERROR(VLOOKUP(B62,INDIRECT(\"'\"&$J$1&\"'!\"&\"$C$2:$G$200\"),4,FALSE),\"\")","v":""},{"$f":"IFERROR(VLOOKUP(B62,INDIRECT(\"'\"&$J$1&\"'!\"&\"$C$2:$G$200\"),5,FALSE),0)","v":0},{"$f":"IFERROR(VLOOKUP(B62,INDIRECT(\"'\"&$L$1&\"'!\"&\"$C$2:$G$200\"),4,FALSE),\"\")","v":""},{"$f":"IFERROR(VLOOKUP(B62,INDIRECT(\"'\"&$L$1&\"'!\"&\"$C$2:$G$200\"),5,FALSE),0)","v":0},{"$f":"IFERROR(VLOOKUP(B62,INDIRECT(\"'\"&$N$1&\"'!\"&\"$C$2:$G$200\"),4,FALSE),\"\")","v":""},{"$f":"IFERROR(VLOOKUP(B62,INDIRECT(\"'\"&$N$1&\"'!\"&\"$C$2:$G$200\"),5,FALSE),0)","v":0},{"$f":"IFERROR(VLOOKUP(B62,INDIRECT(\"'\"&$P$1&\"'!\"&\"$C$2:$G$200\"),4,FALSE),\"\")","v":""},{"$f":"IFERROR(VLOOKUP(B62,INDIRECT(\"'\"&$P$1&\"'!\"&\"$C$2:$G$200\"),5,FALSE),0)","v":0},{"$f":"IFERROR(VLOOKUP(B62,INDIRECT(\"'\"&$R$1&\"'!\"&\"$C$2:$G$200\"),4,FALSE),\"\")","v":2.1122685185185185E-2},{"$f":"IFERROR(VLOOKUP(B62,INDIRECT(\"'\"&$R$1&\"'!\"&\"$C$2:$G$200\"),5,FALSE),0)","v":96.259663483401553},{"$f":"IFERROR(VLOOKUP(B62,INDIRECT(\"'\"&$T$1&\"'!\"&\"$C$2:$G$200\"),4,FALSE),\"\")","v":4.0358796296296295E-2},{"$f":"IFERROR(VLOOKUP(B62,INDIRECT(\"'\"&$T$1&\"'!\"&\"$C$2:$G$200\"),5,FALSE),0)","v":89.005602240896351},{"$f":"8-COUNTIF(F62:U62,\"\")","v":2},{"$f":"E62/IF(V62>4,5,V62)","v":92.632632862148952}]
[61,"Jonny Woolridge","Unaffiliated","SM",{"$f":"SUM(LARGE((S63,G63,I63,K63,M63,O63,Q63,U63),{1,2,3,4,5}))","v":184.0810443706564},{"$f":"IFERROR(VLOOKUP(B63,INDIRECT(\"'\"&$F$1&\"'!\"&\"$C$2:$G$200\"),4,FALSE),\"\")","v":""},{"$f":"IFERROR(VLOOKUP(B63,INDIRECT(\"'\"&$F$1&\"'!\"&\"$C$2:$G$200\"),5,FALSE),0)","v":0},{"$f":"IFERROR(VLOOKUP(B63,INDIRECT(\"'\"&$H$1&\"'!\"&\"$C$2:$G$200\"),4,FALSE),\"\")","v":3.4004629629629628E-2},{"$f":"IFERROR(VLOOKUP(B63,INDIRECT(\"'\"&$H$1&\"'!\"&\"$C$2:$G$200\"),5,FALSE),0)","v":90.020214119937123},{"$f":"IFERROR(VLOOKUP(B63,INDIRECT(\"'\"&$J$1&\"'!\"&\"$C$2:$G$200\"),4,FALSE),\"\")","v":""},{"$f":"IFERROR(VLOOKUP(B63,INDIRECT(\"'\"&$J$1&\"'!\"&\"$C$2:$G$200\"),5,FALSE),0)","v":0},{"$f":"IFERROR(VLOOKUP(B63,INDIRECT(\"'\"&$L$1&\"'!\"&\"$C$2:$G$200\"),4,FALSE),\"\")","v":""},{"$f":"IFERROR(VLOOKUP(B63,INDIRECT(\"'\"&$L$1&\"'!\"&\"$C$2:$G$200\"),5,FALSE),0)","v":0},{"$f":"IFERROR(VLOOKUP(B63,INDIRECT(\"'\"&$N$1&\"'!\"&\"$C$2:$G$200\"),4,FALSE),\"\")","v":2.3865740740740743E-2},{"$f":"IFERROR(VLOOKUP(B63,INDIRECT(\"'\"&$N$1&\"'!\"&\"$C$2:$G$200\"),5,FALSE),0)","v":94.060830250719292},{"$f":"IFERROR(VLOOKUP(B63,INDIRECT(\"'\"&$P$1&\"'!\"&\"$C$2:$G$200\"),4,FALSE),\"\")","v":""},{"$f":"IFERROR(VLOOKUP(B63,INDIRECT(\"'\"&$P$1&\"'!\"&\"$C$2:$G$200\"),5,FALSE),0)","v":0},{"$f":"IFERROR(VLOOKUP(B63,INDIRECT(\"'\"&$R$1&\"'!\"&\"$C$2:$G$200\"),4,FALSE),\"\")","v":""},{"$f":"IFERROR(VLOOKUP(B63,INDIRECT(\"'\"&$R$1&\"'!\"&\"$C$2:$G$200\"),5,FALSE),0)","v":0},{"$f":"IFERROR(VLOOKUP(B63,INDIRECT(\"'\"&$T$1&\"'!\"&\"$C$2:$G$200\"),4,FALSE),\"\")","v":""},{"$f":"IFERROR(VLOOKUP(B63,INDIRECT(\"'\"&$T$1&\"'!\"&\"$C$2:$G$200\"),5,FALSE),0)","v":0},{"$f":"8-COUNTIF(F63:U63,\"\")","v":2},{"$f":"E63/IF(V63>4,5,V63)","v":92.0405221853282}]
[62,"Ruth Pickvance","Mynydd Du","F50",{"$f":"SUM(LARGE((S64,G64,I64,K64,M64,O64,Q64,U64),{1,2,3,4,5}))","v":183.63232890534772},{"$f":"IFERROR(VLOOKUP(B64,INDIRECT(\"'\"&$F$1&\"'!\"&\"$C$2:$G$200\"),4,FALSE),\"\")","v":""},{"$f":"IFERROR(VLOOKUP(B64,INDIRECT(\"'\"&$F$1&\"'!\"&\"$C$2:$G$200\"),5,FALSE),0)","v":0},{"$f":"IFERROR(VLOOKUP(B64,INDIRECT(\"'\"&$H$1&\"'!\"&\"$C$2:$G$200\"),4,FALSE),\"\")","v":""},{"$f":"IFERROR(VLOOKUP(B64,INDIRECT(\"'\"&$H$1&\"'!\"&\"$C$2:$G$200\"),5,FALSE),0)","v":0},{"$f":"IFERROR(VLOOKUP(B64,INDIRECT(\"'\"&$J$1&\"'!\"&\"$C$2:$G$200\"),4,FALSE),\"\")","v":""},{"$f":"IFERROR(VLOOKUP(B64,INDIRECT(\"'\"&$J$1&\"'!\"&\"$C$2:$G$200\"),5,FALSE),0)","v":0},{"$f":"IFERROR(VLOOKUP(B64,INDIRECT(\"'\"&$L$1&\"'!\"&\"$C$2:$G$200\"),4,FALSE),\"\")","v":""},{"$f":"IFERROR(VLOOKUP(B64,INDIRECT(\"'\"&$L$1&\"'!\"&\"$C$2:$G$200\"),5,FALSE),0)","v":0},{"$f":"IFERROR(VLOOKUP(B64,INDIRECT(\"'\"&$N$1&\"'!\"&\"$C$2:$G$200\"),4,FALSE),\"\")","v":3.0474537037037036E-2},{"$f":"IFERROR(VLOOKUP(B64,INDIRECT(\"'\"&$N$1&\"'!\"&\"$C$2:$G$200\"),5,FALSE),0)","v":64.724619810933021},{"$f":"IFERROR(VLOOKUP(B64,INDIRECT(\"'\"&$P$1&\"'!\"&\"$C$2:$G$200\"),4,FALSE),\"\")","v":2.9027777777777777E-2},{"$f":"IFERROR(VLOOKUP(B64,INDIRECT(\"'\"&$P$1&\"'!\"&\"$C$2:$G$200\"),5,FALSE),0)","v":66.794136392606745},{"$f":"IFERROR(VLOOKUP(B64,INDIRECT(\"'\"&$R$1&\"'!\"&\"$C$2:$G$200\"),4,FALSE),\"\")","v":""},{"$f":"IFERROR(VLOOKUP(B64,INDIRECT(\"'\"&$R$1&\"'!\"&\"$C$2:$G$200\"),5,FALSE),0)","v":0},{"$f":"IFERROR(VLOOKUP(B64,INDIRECT(\"'\"&$T$1&\"'!\"&\"$C$2:$G$200\"),4,FALSE),\"\")","v":5.3773148148148153E-2},{"$f":"IFERROR(VLOOKUP(B64,INDIRECT(\"'\"&$T$1&\"'!\"&\"$C$2:$G$200\"),5,FALSE),0)","v":52.113572701807968},{"$f":"8-COUNTIF(F64:U64,\"\")","v":3},{"$f":"E64/IF(V64>4,5,V64)","v":61.210776301782573}]
[63,"Christine Farr","MDC","F40",{"$f":"SUM(LARGE((S65,G65,I65,K65,M65,O65,Q65,U65),{1,2,3,4,5}))","v":181.14660982322431},{"$f":"IFERROR(VLOOKUP(B65,INDIRECT(\"'\"&$F$1&\"'!\"&\"$C$2:$G$200\"),4,FALSE),\"\")","v":""},{"$f":"IFERROR(VLOOKUP(B65,INDIRECT(\"'\"&$F$1&\"'!\"&\"$C$2:$G$200\"),5,FALSE),0)","v":0},{"$f":"IFERROR(VLOOKUP(B65,INDIRECT(\"'\"&$H$1&\"'!\"&\"$C$2:$G$200\"),4,FALSE),\"\")","v":""},{"$f":"IFERROR(VLOOKUP(B65,INDIRECT(\"'\"&$H$1&\"'!\"&\"$C$2:$G$200\"),5,FALSE),0)","v":0},{"$f":"IFERROR(VLOOKUP(B65,INDIRECT(\"'\"&$J$1&\"'!\"&\"$C$2:$G$200\"),4,FALSE),\"\")","v":""},{"$f":"IFERROR(VLOOKUP(B65,INDIRECT(\"'\"&$J$1&\"'!\"&\"$C$2:$G$200\"),5,FALSE),0)","v":0},{"$f":"IFERROR(VLOOKUP(B65,INDIRECT(\"'\"&$L$1&\"'!\"&\"$C$2:$G$200\"),4,FALSE),\"\")","v":""},{"$f":"IFERROR(VLOOKUP(B65,INDIRECT(\"'\"&$L$1&\"'!\"&\"$C$2:$G$200\"),5,FALSE),0)","v":0},{"$f":"IFERROR(VLOOKUP(B65,INDIRECT(\"'\"&$N$1&\"'!\"&\"$C$2:$G$200\"),4,FALSE),\"\")","v":3.1932870370370368E-2},{"$f":"IFERROR(VLOOKUP(B65,INDIRECT(\"'\"&$N$1&\"'!\"&\"$C$2:$G$200\"),5,FALSE),0)","v":58.251130291820829},{"$f":"IFERROR(VLOOKUP(B65,INDIRECT(\"'\"&$P$1&\"'!\"&\"$C$2:$G$200\"),4,FALSE),\"\")","v":2.9351851851851851E-2},{"$f":"IFERROR(VLOOKUP(B65,INDIRECT(\"'\"&$P$1&\"'!\"&\"$C$2:$G$200\"),5,FALSE),0)","v":65.30698958997236},{"$f":"IFERROR(VLOOKUP(B65,INDIRECT(\"'\"&$R$1&\"'!\"&\"$C$2:$G$200\"),4,FALSE),\"\")","v":""},{"$f":"IFERROR(VLOOKUP(B65,INDIRECT(\"'\"&$R$1&\"'!\"&\"$C$2:$G$200\"),5,FALSE),0)","v":0},{"$f":"IFERROR(VLOOKUP(B65,INDIRECT(\"'\"&$T$1&\"'!\"&\"$C$2:$G$200\"),4,FALSE),\"\")","v":5.1782407407407409E-2},{"$f":"IFERROR(VLOOKUP(B65,INDIRECT(\"'\"&$T$1&\"'!\"&\"$C$2:$G$200\"),5,FALSE),0)","v":57.588489941431106},{"$f":"8-COUNTIF(F65:U65,\"\")","v":3},{"$f":"E65/IF(V65>4,5,V65)","v":60.382203274408106}]
[64,"John Price","Hay Hotfooters","M60",{"$f":"SUM(LARGE((S66,G66,I66,K66,M66,O66,Q66,U66),{1,2,3,4,5}))","v":178.64076415937507},{"$f":"IFERROR(VLOOKUP(B66,INDIRECT(\"'\"&$F$1&\"'!\"&\"$C$2:$G$200\"),4,FALSE),\"\")","v":2.2465277777777778E-2},{"$f":"IFERROR(VLOOKUP(B66,INDIRECT(\"'\"&$F$1&\"'!\"&\"$C$2:$G$200\"),5,FALSE),0)","v":46.706681408940121},{"$f":"IFERROR(VLOOKUP(B66,INDIRECT(\"'\"&$H$1&\"'!\"&\"$C$2:$G$200\"),4,FALSE),\"\")","v":""},{"$f":"IFERROR(VLOOKUP(B66,INDIRECT(\"'\"&$H$1&\"'!\"&\"$C$2:$G$200\"),5,FALSE),0)","v":0},{"$f":"IFERROR(VLOOKUP(B66,INDIRECT(\"'\"&$J$1&\"'!\"&\"$C$2:$G$200\"),4,FALSE),\"\")","v":""},{"$f":"IFERROR(VLOOKUP(B66,INDIRECT(\"'\"&$J$1&\"'!\"&\"$C$2:$G$200\"),5,FALSE),0)","v":0},{"$f":"IFERROR(VLOOKUP(B66,INDIRECT(\"'\"&$L$1&\"'!\"&\"$C$2:$G$200\"),4,FALSE),\"\")","v":""},{"$f":"IFERROR(VLOOKUP(B66,INDIRECT(\"'\"&$L$1&\"'!\"&\"$C$2:$G$200\"),5,FALSE),0)","v":0},{"$f":"IFERROR(VLOOKUP(B66,INDIRECT(\"'\"&$N$1&\"'!\"&\"$C$2:$G$200\"),4,FALSE),\"\")","v":3.4444444444444444E-2},{"$f":"IFERROR(VLOOKUP(B66,INDIRECT(\"'\"&$N$1&\"'!\"&\"$C$2:$G$200\"),5,FALSE),0)","v":47.102342786683124},{"$f":"IFERROR(VLOOKUP(B66,INDIRECT(\"'\"&$P$1&\"'!\"&\"$C$2:$G$200\"),4,FALSE),\"\")","v":""},{"$f":"IFERROR(VLOOKUP(B66,INDIRECT(\"'\"&$P$1&\"'!\"&\"$C$2:$G$200\"),5,FALSE),0)","v":0},{"$f":"IFERROR(VLOOKUP(B66,INDIRECT(\"'\"&$R$1&\"'!\"&\"$C$2:$G$200\"),4,FALSE),\"\")","v":3.0243055555555554E-2},{"$f":"IFERROR(VLOOKUP(B66,INDIRECT(\"'\"&$R$1&\"'!\"&\"$C$2:$G$200\"),5,FALSE),0)","v":51.466575716234672},{"$f":"IFERROR(VLOOKUP(B66,INDIRECT(\"'\"&$T$1&\"'!\"&\"$C$2:$G$200\"),4,FALSE),\"\")","v":6.0590277777777778E-2},{"$f":"IFERROR(VLOOKUP(B66,INDIRECT(\"'\"&$T$1&\"'!\"&\"$C$2:$G$200\"),5,FALSE),0)","v":33.365164247517164},{"$f":"8-COUNTIF(F66:U66,\"\")","v":4},{"$f":"E66/IF(V66>4,5,V66)","v":44.660191039843767}]
[65,"Pete Morfey","Cardiff Harlequins","M60",{"$f":"SUM(LARGE((S67,G67,I67,K67,M67,O67,Q67,U67),{1,2,3,4,5}))","v":177.91500738690769},{"$f":"IFERROR(VLOOKUP(B67,INDIRECT(\"'\"&$F$1&\"'!\"&\"$C$2:$G$200\"),4,FALSE),\"\")","v":""},{"$f":"IFERROR(VLOOKUP(B67,INDIRECT(\"'\"&$F$1&\"'!\"&\"$C$2:$G$200\"),5,FALSE),0)","v":0},{"$f":"IFERROR(VLOOKUP(B67,INDIRECT(\"'\"&$H$1&\"'!\"&\"$C$2:$G$200\"),4,FALSE),\"\")","v":4.9444444444444437E-2},{"$f":"IFERROR(VLOOKUP(B67,INDIRECT(\"'\"&$H$1&\"'!\"&\"$C$2:$G$200\"),5,FALSE),0)","v":40.083851164183628},{"$f":"IFERROR(VLOOKUP(B67,INDIRECT(\"'\"&$J$1&\"'!\"&\"$C$2:$G$200\"),4,FALSE),\"\")","v":""},{"$f":"IFERROR(VLOOKUP(B67,INDIRECT(\"'\"&$J$1&\"'!\"&\"$C$2:$G$200\"),5,FALSE),0)","v":0},{"$f":"IFERROR(VLOOKUP(B67,INDIRECT(\"'\"&$L$1&\"'!\"&\"$C$2:$G$200\"),4,FALSE),\"\")","v":2.9826388888888892E-2},{"$f":"IFERROR(VLOOKUP(B67,INDIRECT(\"'\"&$L$1&\"'!\"&\"$C$2:$G$200\"),5,FALSE),0)","v":40.650507049220884},{"$f":"IFERROR(VLOOKUP(B67,INDIRECT(\"'\"&$N$1&\"'!\"&\"$C$2:$G$200\"),4,FALSE),\"\")","v":3.4895833333333334E-2},{"$f":"IFERROR(VLOOKUP(B67,INDIRECT(\"'\"&$N$1&\"'!\"&\"$C$2:$G$200\"),5,FALSE),0)","v":45.09864364981506},{"$f":"IFERROR(VLOOKUP(B67,INDIRECT(\"'\"&$P$1&\"'!\"&\"$C$2:$G$200\"),4,FALSE),\"\")","v":3.2233796296296295E-2},{"$f":"IFERROR(VLOOKUP(B67,INDIRECT(\"'\"&$P$1&\"'!\"&\"$C$2:$G$200\"),5,FALSE),0)","v":52.08200552368811},{"$f":"IFERROR(VLOOKUP(B67,INDIRECT(\"'\"&$R$1&\"'!\"&\"$C$2:$G$200\"),4,FALSE),\"\")","v":""},{"$f":"IFERROR(VLOOKUP(B67,INDIRECT(\"'\"&$R$1&\"'!\"&\"$C$2:$G$200\"),5,FALSE),0)","v":0},{"$f":"IFERROR(VLOOKUP(B67,INDIRECT(\"'\"&$T$1&\"'!\"&\"$C$2:$G$200\"),4,FALSE),\"\")","v":""},{"$f":"IFERROR(VLOOKUP(B67,INDIRECT(\"'\"&$T$1&\"'!\"&\"$C$2:$G$200\"),5,FALSE),0)","v":0},{"$f":"8-COUNTIF(F67:U67,\"\")","v":4},{"$f":"E67/IF(V67>4,5,V67)","v":44.478751846726922}]
[66,"Jonathan Like","Mynydd Du","SM",{"$f":"SUM(LARGE((S68,G68,I68,K68,M68,O68,Q68,U68),{1,2,3,4,5}))","v":176.38631780008495},{"$f":"IFERROR(VLOOKUP(B68,INDIRECT(\"'\"&$F$1&\"'!\"&\"$C$2:$G$200\"),4,FALSE),\"\")","v":""},{"$f":"IFERROR(VLOOKUP(B68,INDIRECT(\"'\"&$F$1&\"'!\"&\"$C$2:$G$200\"),5,FALSE),0)","v":0},{"$f":"IFERROR(VLOOKUP(B68,INDIRECT(\"'\"&$H$1&\"'!\"&\"$C$2:$G$200\"),4,FALSE),\"\")","v":3.3587962962962965E-2},{"$f":"IFERROR(VLOOKUP(B68,INDIRECT(\"'\"&$H$1&\"'!\"&\"$C$2:$G$200\"),5,FALSE),0)","v":91.367822115744573},{"$f":"IFERROR(VLOOKUP(B68,INDIRECT(\"'\"&$J$1&\"'!\"&\"$C$2:$G$200\"),4,FALSE),\"\")","v":""},{"$f":"IFERROR(VLOOKUP(B68,INDIRECT(\"'\"&$J$1&\"'!\"&\"$C$2:$G$200\"),5,FALSE),0)","v":0},{"$f":"IFERROR(VLOOKUP(B68,INDIRECT(\"'\"&$L$1&\"'!\"&\"$C$2:$G$200\"),4,FALSE),\"\")","v":""},{"$f":"IFERROR(VLOOKUP(B68,INDIRECT(\"'\"&$L$1&\"'!\"&\"$C$2:$G$200\"),5,FALSE),0)","v":0},{"$f":"IFERROR(VLOOKUP(B68,INDIRECT(\"'\"&$N$1&\"'!\"&\"$C$2:$G$200\"),4,FALSE),\"\")","v":2.5902777777777775E-2},{"$f":"IFERROR(VLOOKUP(B68,INDIRECT(\"'\"&$N$1&\"'!\"&\"$C$2:$G$200\"),5,FALSE),0)","v":85.018495684340365},{"$f":"IFERROR(VLOOKUP(B68,INDIRECT(\"'\"&$P$1&\"'!\"&\"$C$2:$G$200\"),4,FALSE),\"\")","v":""},{"$f":"IFERROR(VLOOKUP(B68,INDIRECT(\"'\"&$P$1&\"'!\"&\"$C$2:$G$200\"),5,FALSE),0)","v":0},{"$f":"IFERROR(VLOOKUP(B68,INDIRECT(\"'\"&$R$1&\"'!\"&\"$C$2:$G$200\"),4,FALSE),\"\")","v":""},{"$f":"IFERROR(VLOOKUP(B68,INDIRECT(\"'\"&$R$1&\"'!\"&\"$C$2:$G$200\"),5,FALSE),0)","v":0},{"$f":"IFERROR(VLOOKUP(B68,INDIRECT(\"'\"&$T$1&\"'!\"&\"$C$2:$G$200\"),4,FALSE),\"\")","v":""},{"$f":"IFERROR(VLOOKUP(B68,INDIRECT(\"'\"&$T$1&\"'!\"&\"$C$2:$G$200\"),5,FALSE),0)","v":0},{"$f":"8-COUNTIF(F68:U68,\"\")","v":2},{"$f":"E68/IF(V68>4,5,V68)","v":88.193158900042476}]
[67,"Chris Chambers","Mynydd Du","M40",{"$f":"SUM(LARGE((S69,G69,I69,K69,M69,O69,Q69,U69),{1,2,3,4,5}))","v":176.19820818684187},{"$f":"IFERROR(VLOOKUP(B69,INDIRECT(\"'\"&$F$1&\"'!\"&\"$C$2:$G$200\"),4,FALSE),\"\")","v":""},{"$f":"IFERROR(VLOOKUP(B69,INDIRECT(\"'\"&$F$1&\"'!\"&\"$C$2:$G$200\"),5,FALSE),0)","v":0},{"$f":"IFERROR(VLOOKUP(B69,INDIRECT(\"'\"&$H$1&\"'!\"&\"$C$2:$G$200\"),4,FALSE),\"\")","v":3.4826388888888886E-2},{"$f":"IFERROR(VLOOKUP(B69,INDIRECT(\"'\"&$H$1&\"'!\"&\"$C$2:$G$200\"),5,FALSE),0)","v":87.362431683761343},{"$f":"IFERROR(VLOOKUP(B69,INDIRECT(\"'\"&$J$1&\"'!\"&\"$C$2:$G$200\"),4,FALSE),\"\")","v":""},{"$f":"IFERROR(VLOOKUP(B69,INDIRECT(\"'\"&$J$1&\"'!\"&\"$C$2:$G$200\"),5,FALSE),0)","v":0},{"$f":"IFERROR(VLOOKUP(B69,INDIRECT(\"'\"&$L$1&\"'!\"&\"$C$2:$G$200\"),4,FALSE),\"\")","v":""},{"$f":"IFERROR(VLOOKUP(B69,INDIRECT(\"'\"&$L$1&\"'!\"&\"$C$2:$G$200\"),5,FALSE),0)","v":0},{"$f":"IFERROR(VLOOKUP(B69,INDIRECT(\"'\"&$N$1&\"'!\"&\"$C$2:$G$200\"),4,FALSE),\"\")","v":""},{"$f":"IFERROR(VLOOKUP(B69,INDIRECT(\"'\"&$N$1&\"'!\"&\"$C$2:$G$200\"),5,FALSE),0)","v":0},{"$f":"IFERROR(VLOOKUP(B69,INDIRECT(\"'\"&$P$1&\"'!\"&\"$C$2:$G$200\"),4,FALSE),\"\")","v":2.4224537037037034E-2},{"$f":"IFERROR(VLOOKUP(B69,INDIRECT(\"'\"&$P$1&\"'!\"&\"$C$2:$G$200\"),5,FALSE),0)","v":88.835776503080524},{"$f":"IFERROR(VLOOKUP(B69,INDIRECT(\"'\"&$R$1&\"'!\"&\"$C$2:$G$200\"),4,FALSE),\"\")","v":""},{"$f":"IFERROR(VLOOKUP(B69,INDIRECT(\"'\"&$R$1&\"'!\"&\"$C$2:$G$200\"),5,FALSE),0)","v":0},{"$f":"IFERROR(VLOOKUP(B69,INDIRECT(\"'\"&$T$1&\"'!\"&\"$C$2:$G$200\"),4,FALSE),\"\")","v":""},{"$f":"IFERROR(VLOOKUP(B69,INDIRECT(\"'\"&$T$1&\"'!\"&\"$C$2:$G$200\"),5,FALSE),0)","v":0},{"$f":"8-COUNTIF(F69:U69,\"\")","v":2},{"$f":"E69/IF(V69>4,5,V69)","v":88.099104093420934}]
[68,"Tom Mollekin","Mynydd Du","SM",{"$f":"SUM(LARGE((S70,G70,I70,K70,M70,O70,Q70,U70),{1,2,3,4,5}))","v":174.74231481629761},{"$f":"IFERROR(VLOOKUP(B70,INDIRECT(\"'\"&$F$1&\"'!\"&\"$C$2:$G$200\"),4,FALSE),\"\")","v":""},{"$f":"IFERROR(VLOOKUP(B70,INDIRECT(\"'\"&$F$1&\"'!\"&\"$C$2:$G$200\"),5,FALSE),0)","v":0},{"$f":"IFERROR(VLOOKUP(B70,INDIRECT(\"'\"&$H$1&\"'!\"&\"$C$2:$G$200\"),4,FALSE),\"\")","v":""},{"$f":"IFERROR(VLOOKUP(B70,INDIRECT(\"'\"&$H$1&\"'!\"&\"$C$2:$G$200\"),5,FALSE),0)","v":0},{"$f":"IFERROR(VLOOKUP(B70,INDIRECT(\"'\"&$J$1&\"'!\"&\"$C$2:$G$200\"),4,FALSE),\"\")","v":""},{"$f":"IFERROR(VLOOKUP(B70,INDIRECT(\"'\"&$J$1&\"'!\"&\"$C$2:$G$200\"),5,FALSE),0)","v":0},{"$f":"IFERROR(VLOOKUP(B70,INDIRECT(\"'\"&$L$1&\"'!\"&\"$C$2:$G$200\"),4,FALSE),\"\")","v":""},{"$f":"IFERROR(VLOOKUP(B70,INDIRECT(\"'\"&$L$1&\"'!\"&\"$C$2:$G$200\"),5,FALSE),0)","v":0},{"$f":"IFERROR(VLOOKUP(B70,INDIRECT(\"'\"&$N$1&\"'!\"&\"$C$2:$G$200\"),4,FALSE),\"\")","v":2.478009259259259E-2},{"$f":"IFERROR(VLOOKUP(B70,INDIRECT(\"'\"&$N$1&\"'!\"&\"$C$2:$G$200\"),5,FALSE),0)","v":90.002055076037848},{"$f":"IFERROR(VLOOKUP(B70,INDIRECT(\"'\"&$P$1&\"'!\"&\"$C$2:$G$200\"),4,FALSE),\"\")","v":""},{"$f":"IFERROR(VLOOKUP(B70,INDIRECT(\"'\"&$P$1&\"'!\"&\"$C$2:$G$200\"),5,FALSE),0)","v":0},{"$f":"IFERROR(VLOOKUP(B70,INDIRECT(\"'\"&$R$1&\"'!\"&\"$C$2:$G$200\"),4,FALSE),\"\")","v":""},{"$f":"IFERROR(VLOOKUP(B70,INDIRECT(\"'\"&$R$1&\"'!\"&\"$C$2:$G$200\"),5,FALSE),0)","v":0},null,{"$f":"IFERROR(VLOOKUP(B70,INDIRECT(\"'\"&$T$1&\"'!\"&\"$C$2:$G$200\"),5,FALSE),0)","v":84.740259740259745},{"$f":"8-COUNTIF(F70:U70,\"\")","v":1},{"$f":"E70/IF(V70>4,5,V70)","v":174.74231481629761}]
[69,"Kevin Fosbury","Unaffiliated","SM",{"$f":"SUM(LARGE((S71,G71,I71,K71,M71,O71,Q71,U71),{1,2,3,4,5}))","v":171.82663645744185},{"$f":"IFERROR(VLOOKUP(B71,INDIRECT(\"'\"&$F$1&\"'!\"&\"$C$2:$G$200\"),4,FALSE),\"\")","v":""},{"$f":"IFERROR(VLOOKUP(B71,INDIRECT(\"'\"&$F$1&\"'!\"&\"$C$2:$G$200\"),5,FALSE),0)","v":0},{"$f":"IFERROR(VLOOKUP(B71,INDIRECT(\"'\"&$H$1&\"'!\"&\"$C$2:$G$200\"),4,FALSE),\"\")","v":""},{"$f":"IFERROR(VLOOKUP(B71,INDIRECT(\"'\"&$H$1&\"'!\"&\"$C$2:$G$200\"),5,FALSE),0)","v":0},{"$f":"IFERROR(VLOOKUP(B71,INDIRECT(\"'\"&$J$1&\"'!\"&\"$C$2:$G$200\"),4,FALSE),\"\")","v":""},{"$f":"IFERROR(VLOOKUP(B71,INDIRECT(\"'\"&$J$1&\"'!\"&\"$C$2:$G$200\"),5,FALSE),0)","v":0},{"$f":"IFERROR(VLOOKUP(B71,INDIRECT(\"'\"&$L$1&\"'!\"&\"$C$2:$G$200\"),4,FALSE),\"\")","v":""},{"$f":"IFERROR(VLOOKUP(B71,INDIRECT(\"'\"&$L$1&\"'!\"&\"$C$2:$G$200\"),5,FALSE),0)","v":0},{"$f":"IFERROR(VLOOKUP(B71,INDIRECT(\"'\"&$N$1&\"'!\"&\"$C$2:$G$200\"),4,FALSE),\"\")","v":2.5486111111111112E-2},{"$f":"IFERROR(VLOOKUP(B71,INDIRECT(\"'\"&$N$1&\"'!\"&\"$C$2:$G$200\"),5,FALSE),0)","v":86.868064118372402},{"$f":"IFERROR(VLOOKUP(B71,INDIRECT(\"'\"&$P$1&\"'!\"&\"$C$2:$G$200\"),4,FALSE),\"\")","v":2.5069444444444446E-2},{"$f":"IFERROR(VLOOKUP(B71,INDIRECT(\"'\"&$P$1&\"'!\"&\"$C$2:$G$200\"),5,FALSE),0)","v":84.958572339069448},{"$f":"IFERROR(VLOOKUP(B71,INDIRECT(\"'\"&$R$1&\"'!\"&\"$C$2:$G$200\"),4,FALSE),\"\")","v":""},{"$f":"IFERROR(VLOOKUP(B71,INDIRECT(\"'\"&$R$1&\"'!\"&\"$C$2:$G$200\"),5,FALSE),0)","v":0},{"$f":"IFERROR(VLOOKUP(B71,INDIRECT(\"'\"&$T$1&\"'!\"&\"$C$2:$G$200\"),4,FALSE),\"\")","v":""},{"$f":"IFERROR(VLOOKUP(B71,INDIRECT(\"'\"&$T$1&\"'!\"&\"$C$2:$G$200\"),5,FALSE),0)","v":0},{"$f":"8-COUNTIF(F71:U71,\"\")","v":2},{"$f":"E71/IF(V71>4,5,V71)","v":85.913318228720925}]
[70,"James Erskine","Unaffiliated","SM",{"$f":"SUM(LARGE((S72,G72,I72,K72,M72,O72,Q72,U72),{1,2,3,4,5}))","v":169.48216118726964},{"$f":"IFERROR(VLOOKUP(B72,INDIRECT(\"'\"&$F$1&\"'!\"&\"$C$2:$G$200\"),4,FALSE),\"\")","v":1.5925925925925927E-2},{"$f":"IFERROR(VLOOKUP(B72,INDIRECT(\"'\"&$F$1&\"'!\"&\"$C$2:$G$200\"),5,FALSE),0)","v":91.328384141525802},{"$f":"IFERROR(VLOOKUP(B72,INDIRECT(\"'\"&$H$1&\"'!\"&\"$C$2:$G$200\"),4,FALSE),\"\")","v":3.7673611111111109E-2},{"$f":"IFERROR(VLOOKUP(B72,INDIRECT(\"'\"&$H$1&\"'!\"&\"$C$2:$G$200\"),5,FALSE),0)","v":78.153777045743823},{"$f":"IFERROR(VLOOKUP(B72,INDIRECT(\"'\"&$J$1&\"'!\"&\"$C$2:$G$200\"),4,FALSE),\"\")","v":""},{"$f":"IFERROR(VLOOKUP(B72,INDIRECT(\"'\"&$J$1&\"'!\"&\"$C$2:$G$200\"),5,FALSE),0)","v":0},{"$f":"IFERROR(VLOOKUP(B72,INDIRECT(\"'\"&$L$1&\"'!\"&\"$C$2:$G$200\"),4,FALSE),\"\")","v":""},{"$f":"IFERROR(VLOOKUP(B72,INDIRECT(\"'\"&$L$1&\"'!\"&\"$C$2:$G$200\"),5,FALSE),0)","v":0},{"$f":"IFERROR(VLOOKUP(B72,INDIRECT(\"'\"&$N$1&\"'!\"&\"$C$2:$G$200\"),4,FALSE),\"\")","v":""},{"$f":"IFERROR(VLOOKUP(B72,INDIRECT(\"'\"&$N$1&\"'!\"&\"$C$2:$G$200\"),5,FALSE),0)","v":0},{"$f":"IFERROR(VLOOKUP(B72,INDIRECT(\"'\"&$P$1&\"'!\"&\"$C$2:$G$200\"),4,FALSE),\"\")","v":""},{"$f":"IFERROR(VLOOKUP(B72,INDIRECT(\"'\"&$P$1&\"'!\"&\"$C$2:$G$200\"),5,FALSE),0)","v":0},{"$f":"IFERROR(VLOOKUP(B72,INDIRECT(\"'\"&$R$1&\"'!\"&\"$C$2:$G$200\"),4,FALSE),\"\")","v":""},{"$f":"IFERROR(VLOOKUP(B72,INDIRECT(\"'\"&$R$1&\"'!\"&\"$C$2:$G$200\"),5,FALSE),0)","v":0},{"$f":"IFERROR(VLOOKUP(B72,INDIRECT(\"'\"&$T$1&\"'!\"&\"$C$2:$G$200\"),4,FALSE),\"\")","v":""},{"$f":"IFERROR(VLOOKUP(B72,INDIRECT(\"'\"&$T$1&\"'!\"&\"$C$2:$G$200\"),5,FALSE),0)","v":0},{"$f":"8-COUNTIF(F72:U72,\"\")","v":2},{"$f":"E72/IF(V72>4,5,V72)","v":84.74108059363482}]
[71,"James Brown","Chepstow Harriers","SM",{"$f":"SUM(LARGE((S73,G73,I73,K73,M73,O73,Q73,U73),{1,2,3,4,5}))","v":168.21246377712617},{"$f":"IFERROR(VLOOKUP(B73,INDIRECT(\"'\"&$F$1&\"'!\"&\"$C$2:$G$200\"),4,FALSE),\"\")","v":""},{"$f":"IFERROR(VLOOKUP(B73,INDIRECT(\"'\"&$F$1&\"'!\"&\"$C$2:$G$200\"),5,FALSE),0)","v":0},{"$f":"IFERROR(VLOOKUP(B73,INDIRECT(\"'\"&$H$1&\"'!\"&\"$C$2:$G$200\"),4,FALSE),\"\")","v":""},{"$f":"IFERROR(VLOOKUP(B73,INDIRECT(\"'\"&$H$1&\"'!\"&\"$C$2:$G$200\"),5,FALSE),0)","v":0},{"$f":"IFERROR(VLOOKUP(B73,INDIRECT(\"'\"&$J$1&\"'!\"&\"$C$2:$G$200\"),4,FALSE),\"\")","v":""},{"$f":"IFERROR(VLOOKUP(B73,INDIRECT(\"'\"&$J$1&\"'!\"&\"$C$2:$G$200\"),5,FALSE),0)","v":0},{"$f":"IFERROR(VLOOKUP(B73,INDIRECT(\"'\"&$L$1&\"'!\"&\"$C$2:$G$200\"),4,FALSE),\"\")","v":""},{"$f":"IFERROR(VLOOKUP(B73,INDIRECT(\"'\"&$L$1&\"'!\"&\"$C$2:$G$200\"),5,FALSE),0)","v":0},{"$f":"IFERROR(VLOOKUP(B73,INDIRECT(\"'\"&$N$1&\"'!\"&\"$C$2:$G$200\"),4,FALSE),\"\")","v":2.5555555555555554E-2},{"$f":"IFERROR(VLOOKUP(B73,INDIRECT(\"'\"&$N$1&\"'!\"&\"$C$2:$G$200\"),5,FALSE),0)","v":86.559802712700403},{"$f":"IFERROR(VLOOKUP(B73,INDIRECT(\"'\"&$P$1&\"'!\"&\"$C$2:$G$200\"),4,FALSE),\"\")","v":""},{"$f":"IFERROR(VLOOKUP(B73,INDIRECT(\"'\"&$P$1&\"'!\"&\"$C$2:$G$200\"),5,FALSE),0)","v":0},{"$f":"IFERROR(VLOOKUP(B73,INDIRECT(\"'\"&$R$1&\"'!\"&\"$C$2:$G$200\"),4,FALSE),\"\")","v":""},{"$f":"IFERROR(VLOOKUP(B73,INDIRECT(\"'\"&$R$1&\"'!\"&\"$C$2:$G$200\"),5,FALSE),0)","v":0},{"$f":"IFERROR(VLOOKUP(B73,INDIRECT(\"'\"&$T$1&\"'!\"&\"$C$2:$G$200\"),4,FALSE),\"\")","v":4.3032407407407408E-2},{"$f":"IFERROR(VLOOKUP(B73,INDIRECT(\"'\"&$T$1&\"'!\"&\"$C$2:$G$200\"),5,FALSE),0)","v":81.652661064425772},{"$f":"8-COUNTIF(F73:U73,\"\")","v":2},{"$f":"E73/IF(V73>4,5,V73)","v":84.106231888563087}]
[72,"Nick Biggs","Vegan Runners","M40",{"$f":"SUM(LARGE((S74,G74,I74,K74,M74,O74,Q74,U74),{1,2,3,4,5}))","v":167.81333606597963},{"$f":"IFERROR(VLOOKUP(B74,INDIRECT(\"'\"&$F$1&\"'!\"&\"$C$2:$G$200\"),4,FALSE),\"\")","v":""},{"$f":"IFERROR(VLOOKUP(B74,INDIRECT(\"'\"&$F$1&\"'!\"&\"$C$2:$G$200\"),5,FALSE),0)","v":0},{"$f":"IFERROR(VLOOKUP(B74,INDIRECT(\"'\"&$H$1&\"'!\"&\"$C$2:$G$200\"),4,FALSE),\"\")","v":""},{"$f":"IFERROR(VLOOKUP(B74,INDIRECT(\"'\"&$H$1&\"'!\"&\"$C$2:$G$200\"),5,FALSE),0)","v":0},{"$f":"IFERROR(VLOOKUP(B74,INDIRECT(\"'\"&$J$1&\"'!\"&\"$C$2:$G$200\"),4,FALSE),\"\")","v":""},{"$f":"IFERROR(VLOOKUP(B74,INDIRECT(\"'\"&$J$1&\"'!\"&\"$C$2:$G$200\"),5,FALSE),0)","v":0},{"$f":"IFERROR(VLOOKUP(B74,INDIRECT(\"'\"&$L$1&\"'!\"&\"$C$2:$G$200\"),4,FALSE),\"\")","v":2.2361111111111113E-2},{"$f":"IFERROR(VLOOKUP(B74,INDIRECT(\"'\"&$L$1&\"'!\"&\"$C$2:$G$200\"),5,FALSE),0)","v":80.534256740044526},{"$f":"IFERROR(VLOOKUP(B74,INDIRECT(\"'\"&$N$1&\"'!\"&\"$C$2:$G$200\"),4,FALSE),\"\")","v":2.539351851851852E-2},{"$f":"IFERROR(VLOOKUP(B74,INDIRECT(\"'\"&$N$1&\"'!\"&\"$C$2:$G$200\"),5,FALSE),0)","v":87.279079325935086},{"$f":"IFERROR(VLOOKUP(B74,INDIRECT(\"'\"&$P$1&\"'!\"&\"$C$2:$G$200\"),4,FALSE),\"\")","v":""},{"$f":"IFERROR(VLOOKUP(B74,INDIRECT(\"'\"&$P$1&\"'!\"&\"$C$2:$G$200\"),5,FALSE),0)","v":0},{"$f":"IFERROR(VLOOKUP(B74,INDIRECT(\"'\"&$R$1&\"'!\"&\"$C$2:$G$200\"),4,FALSE),\"\")","v":""},{"$f":"IFERROR(VLOOKUP(B74,INDIRECT(\"'\"&$R$1&\"'!\"&\"$C$2:$G$200\"),5,FALSE),0)","v":0},null,{"$f":"IFERROR(VLOOKUP(B74,INDIRECT(\"'\"&$T$1&\"'!\"&\"$C$2:$G$200\"),5,FALSE),0)","v":0},{"$f":"8-COUNTIF(F74:U74,\"\")","v":2},{"$f":"E74/IF(V74>4,5,V74)","v":83.906668032989813}]
[73,"Niki Radnedge","Unaffiliated","M40",{"$f":"SUM(LARGE((S75,G75,I75,K75,M75,O75,Q75,U75),{1,2,3,4,5}))","v":167.17367268163994},{"$f":"IFERROR(VLOOKUP(B75,INDIRECT(\"'\"&$F$1&\"'!\"&\"$C$2:$G$200\"),4,FALSE),\"\")","v":""},{"$f":"IFERROR(VLOOKUP(B75,INDIRECT(\"'\"&$F$1&\"'!\"&\"$C$2:$G$200\"),5,FALSE),0)","v":0},{"$f":"IFERROR(VLOOKUP(B75,INDIRECT(\"'\"&$H$1&\"'!\"&\"$C$2:$G$200\"),4,FALSE),\"\")","v":""},{"$f":"IFERROR(VLOOKUP(B75,INDIRECT(\"'\"&$H$1&\"'!\"&\"$C$2:$G$200\"),5,FALSE),0)","v":0},{"$f":"IFERROR(VLOOKUP(B75,INDIRECT(\"'\"&$J$1&\"'!\"&\"$C$2:$G$200\"),4,FALSE),\"\")","v":""},{"$f":"IFERROR(VLOOKUP(B75,INDIRECT(\"'\"&$J$1&\"'!\"&\"$C$2:$G$200\"),5,FALSE),0)","v":0},{"$f":"IFERROR(VLOOKUP(B75,INDIRECT(\"'\"&$L$1&\"'!\"&\"$C$2:$G$200\"),4,FALSE),\"\")","v":2.1875000000000002E-2},{"$f":"IFERROR(VLOOKUP(B75,INDIRECT(\"'\"&$L$1&\"'!\"&\"$C$2:$G$200\"),5,FALSE),0)","v":83.131338115260945},{"$f":"IFERROR(VLOOKUP(B75,INDIRECT(\"'\"&$N$1&\"'!\"&\"$C$2:$G$200\"),4,FALSE),\"\")","v":2.6122685185185183E-2},{"$f":"IFERROR(VLOOKUP(B75,INDIRECT(\"'\"&$N$1&\"'!\"&\"$C$2:$G$200\"),5,FALSE),0)","v":84.042334566378997},{"$f":"IFERROR(VLOOKUP(B75,INDIRECT(\"'\"&$P$1&\"'!\"&\"$C$2:$G$200\"),4,FALSE),\"\")","v":""},{"$f":"IFERROR(VLOOKUP(B75,INDIRECT(\"'\"&$P$1&\"'!\"&\"$C$2:$G$200\"),5,FALSE),0)","v":0},{"$f":"IFERROR(VLOOKUP(B75,INDIRECT(\"'\"&$R$1&\"'!\"&\"$C$2:$G$200\"),4,FALSE),\"\")","v":""},{"$f":"IFERROR(VLOOKUP(B75,INDIRECT(\"'\"&$R$1&\"'!\"&\"$C$2:$G$200\"),5,FALSE),0)","v":0},null,{"$f":"IFERROR(VLOOKUP(B75,INDIRECT(\"'\"&$T$1&\"'!\"&\"$C$2:$G$200\"),5,FALSE),0)","v":0},{"$f":"8-COUNTIF(F75:U75,\"\")","v":2},{"$f":"E75/IF(V75>4,5,V75)","v":83.586836340819971}]
[74,"Stuart Duncan","Chepstow Harriers","M50",{"$f":"SUM(LARGE((S76,G76,I76,K76,M76,O76,Q76,U76),{1,2,3,4,5}))","v":167.04461981181976},{"$f":"IFERROR(VLOOKUP(B76,INDIRECT(\"'\"&$F$1&\"'!\"&\"$C$2:$G$200\"),4,FALSE),\"\")","v":""},{"$f":"IFERROR(VLOOKUP(B76,INDIRECT(\"'\"&$F$1&\"'!\"&\"$C$2:$G$200\"),5,FALSE),0)","v":0},{"$f":"IFERROR(VLOOKUP(B76,INDIRECT(\"'\"&$H$1&\"'!\"&\"$C$2:$G$200\"),4,FALSE),\"\")","v":4.3506944444444445E-2},{"$f":"IFERROR(VLOOKUP(B76,INDIRECT(\"'\"&$H$1&\"'!\"&\"$C$2:$G$200\"),5,FALSE),0)","v":59.287265104439626},{"$f":"IFERROR(VLOOKUP(B76,INDIRECT(\"'\"&$J$1&\"'!\"&\"$C$2:$G$200\"),4,FALSE),\"\")","v":""},{"$f":"IFERROR(VLOOKUP(B76,INDIRECT(\"'\"&$J$1&\"'!\"&\"$C$2:$G$200\"),5,FALSE),0)","v":0},{"$f":"IFERROR(VLOOKUP(B76,INDIRECT(\"'\"&$L$1&\"'!\"&\"$C$2:$G$200\"),4,FALSE),\"\")","v":""},{"$f":"IFERROR(VLOOKUP(B76,INDIRECT(\"'\"&$L$1&\"'!\"&\"$C$2:$G$200\"),5,FALSE),0)","v":0},{"$f":"IFERROR(VLOOKUP(B76,INDIRECT(\"'\"&$N$1&\"'!\"&\"$C$2:$G$200\"),4,FALSE),\"\")","v":3.2025462962962964E-2},{"$f":"IFERROR(VLOOKUP(B76,INDIRECT(\"'\"&$N$1&\"'!\"&\"$C$2:$G$200\"),5,FALSE),0)","v":57.840115084258144},{"$f":"IFERROR(VLOOKUP(B76,INDIRECT(\"'\"&$P$1&\"'!\"&\"$C$2:$G$200\"),4,FALSE),\"\")","v":""},{"$f":"IFERROR(VLOOKUP(B76,INDIRECT(\"'\"&$P$1&\"'!\"&\"$C$2:$G$200\"),5,FALSE),0)","v":0},{"$f":"IFERROR(VLOOKUP(B76,INDIRECT(\"'\"&$R$1&\"'!\"&\"$C$2:$G$200\"),4,FALSE),\"\")","v":""},{"$f":"IFERROR(VLOOKUP(B76,INDIRECT(\"'\"&$R$1&\"'!\"&\"$C$2:$G$200\"),5,FALSE),0)","v":0},{"$f":"IFERROR(VLOOKUP(B76,INDIRECT(\"'\"&$T$1&\"'!\"&\"$C$2:$G$200\"),4,FALSE),\"\")","v":5.4571759259259257E-2},{"$f":"IFERROR(VLOOKUP(B76,INDIRECT(\"'\"&$T$1&\"'!\"&\"$C$2:$G$200\"),5,FALSE),0)","v":49.917239623121979},{"$f":"8-COUNTIF(F76:U76,\"\")","v":3},{"$f":"E76/IF(V76>4,5,V76)","v":55.68153993727325}]
[75,"Andy Vaudin","Unaffiliated","M50",{"$f":"SUM(LARGE((S77,G77,I77,K77,M77,O77,Q77,U77),{1,2,3,4,5}))","v":166.40776355015475},{"$f":"IFERROR(VLOOKUP(B77,INDIRECT(\"'\"&$F$1&\"'!\"&\"$C$2:$G$200\"),4,FALSE),\"\")","v":""},{"$f":"IFERROR(VLOOKUP(B77,INDIRECT(\"'\"&$F$1&\"'!\"&\"$C$2:$G$200\"),5,FALSE),0)","v":0},{"$f":"IFERROR(VLOOKUP(B77,INDIRECT(\"'\"&$H$1&\"'!\"&\"$C$2:$G$200\"),4,FALSE),\"\")","v":3.6307870370370372E-2},{"$f":"IFERROR(VLOOKUP(B77,INDIRECT(\"'\"&$H$1&\"'!\"&\"$C$2:$G$200\"),5,FALSE),0)","v":82.5709365875571},{"$f":"IFERROR(VLOOKUP(B77,INDIRECT(\"'\"&$J$1&\"'!\"&\"$C$2:$G$200\"),4,FALSE),\"\")","v":""},{"$f":"IFERROR(VLOOKUP(B77,INDIRECT(\"'\"&$J$1&\"'!\"&\"$C$2:$G$200\"),5,FALSE),0)","v":0},{"$f":"IFERROR(VLOOKUP(B77,INDIRECT(\"'\"&$L$1&\"'!\"&\"$C$2:$G$200\"),4,FALSE),\"\")","v":""},{"$f":"IFERROR(VLOOKUP(B77,INDIRECT(\"'\"&$L$1&\"'!\"&\"$C$2:$G$200\"),5,FALSE),0)","v":0},{"$f":"IFERROR(VLOOKUP(B77,INDIRECT(\"'\"&$N$1&\"'!\"&\"$C$2:$G$200\"),4,FALSE),\"\")","v":2.6168981481481477E-2},{"$f":"IFERROR(VLOOKUP(B77,INDIRECT(\"'\"&$N$1&\"'!\"&\"$C$2:$G$200\"),5,FALSE),0)","v":83.836826962597669},{"$f":"IFERROR(VLOOKUP(B77,INDIRECT(\"'\"&$P$1&\"'!\"&\"$C$2:$G$200\"),4,FALSE),\"\")","v":""},{"$f":"IFERROR(VLOOKUP(B77,INDIRECT(\"'\"&$P$1&\"'!\"&\"$C$2:$G$200\"),5,FALSE),0)","v":0},{"$f":"IFERROR(VLOOKUP(B77,INDIRECT(\"'\"&$R$1&\"'!\"&\"$C$2:$G$200\"),4,FALSE),\"\")","v":""},{"$f":"IFERROR(VLOOKUP(B77,INDIRECT(\"'\"&$R$1&\"'!\"&\"$C$2:$G$200\"),5,FALSE),0)","v":0},{"$f":"IFERROR(VLOOKUP(B77,INDIRECT(\"'\"&$T$1&\"'!\"&\"$C$2:$G$200\"),4,FALSE),\"\")","v":""},{"$f":"IFERROR(VLOOKUP(B77,INDIRECT(\"'\"&$T$1&\"'!\"&\"$C$2:$G$200\"),5,FALSE),0)","v":0},{"$f":"8-COUNTIF(F77:U77,\"\")","v":2},{"$f":"E77/IF(V77>4,5,V77)","v":83.203881775077377}]
[76,"David Mullin","Mercia","M40",{"$f":"SUM(LARGE((S78,G78,I78,K78,M78,O78,Q78,U78),{1,2,3,4,5}))","v":165.65873330277242},{"$f":"IFERROR(VLOOKUP(B78,INDIRECT(\"'\"&$F$1&\"'!\"&\"$C$2:$G$200\"),4,FALSE),\"\")","v":1.5902777777777776E-2},{"$f":"IFERROR(VLOOKUP(B78,INDIRECT(\"'\"&$F$1&\"'!\"&\"$C$2:$G$200\"),5,FALSE),0)","v":91.486337071552668},{"$f":"IFERROR(VLOOKUP(B78,INDIRECT(\"'\"&$H$1&\"'!\"&\"$C$2:$G$200\"),4,FALSE),\"\")","v":""},{"$f":"IFERROR(VLOOKUP(B78,INDIRECT(\"'\"&$H$1&\"'!\"&\"$C$2:$G$200\"),5,FALSE),0)","v":0},{"$f":"IFERROR(VLOOKUP(B78,INDIRECT(\"'\"&$J$1&\"'!\"&\"$C$2:$G$200\"),4,FALSE),\"\")","v":""},{"$f":"IFERROR(VLOOKUP(B78,INDIRECT(\"'\"&$J$1&\"'!\"&\"$C$2:$G$200\"),5,FALSE),0)","v":0},{"$f":"IFERROR(VLOOKUP(B78,INDIRECT(\"'\"&$L$1&\"'!\"&\"$C$2:$G$200\"),4,FALSE),\"\")","v":""},{"$f":"IFERROR(VLOOKUP(B78,INDIRECT(\"'\"&$L$1&\"'!\"&\"$C$2:$G$200\"),5,FALSE),0)","v":0},{"$f":"IFERROR(VLOOKUP(B78,INDIRECT(\"'\"&$N$1&\"'!\"&\"$C$2:$G$200\"),4,FALSE),\"\")","v":""},{"$f":"IFERROR(VLOOKUP(B78,INDIRECT(\"'\"&$N$1&\"'!\"&\"$C$2:$G$200\"),5,FALSE),0)","v":0},{"$f":"IFERROR(VLOOKUP(B78,INDIRECT(\"'\"&$P$1&\"'!\"&\"$C$2:$G$200\"),4,FALSE),\"\")","v":""},{"$f":"IFERROR(VLOOKUP(B78,INDIRECT(\"'\"&$P$1&\"'!\"&\"$C$2:$G$200\"),5,FALSE),0)","v":0},{"$f":"IFERROR(VLOOKUP(B78,INDIRECT(\"'\"&$R$1&\"'!\"&\"$C$2:$G$200\"),4,FALSE),\"\")","v":""},{"$f":"IFERROR(VLOOKUP(B78,INDIRECT(\"'\"&$R$1&\"'!\"&\"$C$2:$G$200\"),5,FALSE),0)","v":0},{"$f":"IFERROR(VLOOKUP(B78,INDIRECT(\"'\"&$T$1&\"'!\"&\"$C$2:$G$200\"),4,FALSE),\"\")","v":4.5752314814814815E-2},{"$f":"IFERROR(VLOOKUP(B78,INDIRECT(\"'\"&$T$1&\"'!\"&\"$C$2:$G$200\"),5,FALSE),0)","v":74.172396231219736},{"$f":"8-COUNTIF(F78:U78,\"\")","v":2},{"$f":"E78/IF(V78>4,5,V78)","v":82.829366651386209}]
[77,"Matthew Lawson","Chepstow Harriers","M40",{"$f":"SUM(LARGE((S79,G79,I79,K79,M79,O79,Q79,U79),{1,2,3,4,5}))","v":163.75362369279117},{"$f":"IFERROR(VLOOKUP(B79,INDIRECT(\"'\"&$F$1&\"'!\"&\"$C$2:$G$200\"),4,FALSE),\"\")","v":""},{"$f":"IFERROR(VLOOKUP(B79,INDIRECT(\"'\"&$F$1&\"'!\"&\"$C$2:$G$200\"),5,FALSE),0)","v":0},{"$f":"IFERROR(VLOOKUP(B79,INDIRECT(\"'\"&$H$1&\"'!\"&\"$C$2:$G$200\"),4,FALSE),\"\")","v":3.7303240740740741E-2},{"$f":"IFERROR(VLOOKUP(B79,INDIRECT(\"'\"&$H$1&\"'!\"&\"$C$2:$G$200\"),5,FALSE),0)","v":79.35165081979487},{"$f":"IFERROR(VLOOKUP(B79,INDIRECT(\"'\"&$J$1&\"'!\"&\"$C$2:$G$200\"),4,FALSE),\"\")","v":""},{"$f":"IFERROR(VLOOKUP(B79,INDIRECT(\"'\"&$J$1&\"'!\"&\"$C$2:$G$200\"),5,FALSE),0)","v":0},{"$f":"IFERROR(VLOOKUP(B79,INDIRECT(\"'\"&$L$1&\"'!\"&\"$C$2:$G$200\"),4,FALSE),\"\")","v":""},{"$f":"IFERROR(VLOOKUP(B79,INDIRECT(\"'\"&$L$1&\"'!\"&\"$C$2:$G$200\"),5,FALSE),0)","v":0},{"$f":"IFERROR(VLOOKUP(B79,INDIRECT(\"'\"&$N$1&\"'!\"&\"$C$2:$G$200\"),4,FALSE),\"\")","v":2.6041666666666668E-2},{"$f":"IFERROR(VLOOKUP(B79,INDIRECT(\"'\"&$N$1&\"'!\"&\"$C$2:$G$200\"),5,FALSE),0)","v":84.401972872996311},{"$f":"IFERROR(VLOOKUP(B79,INDIRECT(\"'\"&$P$1&\"'!\"&\"$C$2:$G$200\"),4,FALSE),\"\")","v":""},{"$f":"IFERROR(VLOOKUP(B79,INDIRECT(\"'\"&$P$1&\"'!\"&\"$C$2:$G$200\"),5,FALSE),0)","v":0},{"$f":"IFERROR(VLOOKUP(B79,INDIRECT(\"'\"&$R$1&\"'!\"&\"$C$2:$G$200\"),4,FALSE),\"\")","v":""},{"$f":"IFERROR(VLOOKUP(B79,INDIRECT(\"'\"&$R$1&\"'!\"&\"$C$2:$G$200\"),5,FALSE),0)","v":0},{"$f":"IFERROR(VLOOKUP(B79,INDIRECT(\"'\"&$T$1&\"'!\"&\"$C$2:$G$200\"),4,FALSE),\"\")","v":""},{"$f":"IFERROR(VLOOKUP(B79,INDIRECT(\"'\"&$T$1&\"'!\"&\"$C$2:$G$200\"),5,FALSE),0)","v":0},{"$f":"8-COUNTIF(F79:U79,\"\")","v":2},{"$f":"E79/IF(V79>4,5,V79)","v":81.876811846395583}]
[78,"Pete Sowerby","Brecon AC","M50",{"$f":"SUM(LARGE((S80,G80,I80,K80,M80,O80,Q80,U80),{1,2,3,4,5}))","v":163.1467235224606},{"$f":"IFERROR(VLOOKUP(B80,INDIRECT(\"'\"&$F$1&\"'!\"&\"$C$2:$G$200\"),4,FALSE),\"\")","v":""},{"$f":"IFERROR(VLOOKUP(B80,INDIRECT(\"'\"&$F$1&\"'!\"&\"$C$2:$G$200\"),5,FALSE),0)","v":0},{"$f":"IFERROR(VLOOKUP(B80,INDIRECT(\"'\"&$H$1&\"'!\"&\"$C$2:$G$200\"),4,FALSE),\"\")","v":""},{"$f":"IFERROR(VLOOKUP(B80,INDIRECT(\"'\"&$H$1&\"'!\"&\"$C$2:$G$200\"),5,FALSE),0)","v":0},{"$f":"IFERROR(VLOOKUP(B80,INDIRECT(\"'\"&$J$1&\"'!\"&\"$C$2:$G$200\"),4,FALSE),\"\")","v":""},{"$f":"IFERROR(VLOOKUP(B80,INDIRECT(\"'\"&$J$1&\"'!\"&\"$C$2:$G$200\"),5,FALSE),0)","v":0},{"$f":"IFERROR(VLOOKUP(B80,INDIRECT(\"'\"&$L$1&\"'!\"&\"$C$2:$G$200\"),4,FALSE),\"\")","v":""},{"$f":"IFERROR(VLOOKUP(B80,INDIRECT(\"'\"&$L$1&\"'!\"&\"$C$2:$G$200\"),5,FALSE),0)","v":0},{"$f":"IFERROR(VLOOKUP(B80,INDIRECT(\"'\"&$N$1&\"'!\"&\"$C$2:$G$200\"),4,FALSE),\"\")","v":2.7106481481481481E-2},{"$f":"IFERROR(VLOOKUP(B80,INDIRECT(\"'\"&$N$1&\"'!\"&\"$C$2:$G$200\"),5,FALSE),0)","v":79.675297986025512},{"$f":"IFERROR(VLOOKUP(B80,INDIRECT(\"'\"&$P$1&\"'!\"&\"$C$2:$G$200\"),4,FALSE),\"\")","v":2.539351851851852E-2},{"$f":"IFERROR(VLOOKUP(B80,INDIRECT(\"'\"&$P$1&\"'!\"&\"$C$2:$G$200\"),5,FALSE),0)","v":83.471425536435078},{"$f":"IFERROR(VLOOKUP(B80,INDIRECT(\"'\"&$R$1&\"'!\"&\"$C$2:$G$200\"),4,FALSE),\"\")","v":""},{"$f":"IFERROR(VLOOKUP(B80,INDIRECT(\"'\"&$R$1&\"'!\"&\"$C$2:$G$200\"),5,FALSE),0)","v":0},{"$f":"IFERROR(VLOOKUP(B80,INDIRECT(\"'\"&$T$1&\"'!\"&\"$C$2:$G$200\"),4,FALSE),\"\")","v":""},{"$f":"IFERROR(VLOOKUP(B80,INDIRECT(\"'\"&$T$1&\"'!\"&\"$C$2:$G$200\"),5,FALSE),0)","v":0},{"$f":"8-COUNTIF(F80:U80,\"\")","v":2},{"$f":"E80/IF(V80>4,5,V80)","v":81.573361761230302}]
[79,"Rhys Asbridge","Unaffiliated","SM",{"$f":"SUM(LARGE((S81,G81,I81,K81,M81,O81,Q81,U81),{1,2,3,4,5}))","v":163.04731480297988},{"$f":"IFERROR(VLOOKUP(B81,INDIRECT(\"'\"&$F$1&\"'!\"&\"$C$2:$G$200\"),4,FALSE),\"\")","v":""},{"$f":"IFERROR(VLOOKUP(B81,INDIRECT(\"'\"&$F$1&\"'!\"&\"$C$2:$G$200\"),5,FALSE),0)","v":0},{"$f":"IFERROR(VLOOKUP(B81,INDIRECT(\"'\"&$H$1&\"'!\"&\"$C$2:$G$200\"),4,FALSE),\"\")","v":""},{"$f":"IFERROR(VLOOKUP(B81,INDIRECT(\"'\"&$H$1&\"'!\"&\"$C$2:$G$200\"),5,FALSE),0)","v":0},{"$f":"IFERROR(VLOOKUP(B81,INDIRECT(\"'\"&$J$1&\"'!\"&\"$C$2:$G$200\"),4,FALSE),\"\")","v":""},{"$f":"IFERROR(VLOOKUP(B81,INDIRECT(\"'\"&$J$1&\"'!\"&\"$C$2:$G$200\"),5,FALSE),0)","v":0},{"$f":"IFERROR(VLOOKUP(B81,INDIRECT(\"'\"&$L$1&\"'!\"&\"$C$2:$G$200\"),4,FALSE),\"\")","v":""},{"$f":"IFERROR(VLOOKUP(B81,INDIRECT(\"'\"&$L$1&\"'!\"&\"$C$2:$G$200\"),5,FALSE),0)","v":0},{"$f":"IFERROR(VLOOKUP(B81,INDIRECT(\"'\"&$N$1&\"'!\"&\"$C$2:$G$200\"),4,FALSE),\"\")","v":""},{"$f":"IFERROR(VLOOKUP(B81,INDIRECT(\"'\"&$N$1&\"'!\"&\"$C$2:$G$200\"),5,FALSE),0)","v":0},{"$f":"IFERROR(VLOOKUP(B81,INDIRECT(\"'\"&$P$1&\"'!\"&\"$C$2:$G$200\"),4,FALSE),\"\")","v":2.6539351851851852E-2},{"$f":"IFERROR(VLOOKUP(B81,INDIRECT(\"'\"&$P$1&\"'!\"&\"$C$2:$G$200\"),5,FALSE),0)","v":78.213299341406398},{"$f":"IFERROR(VLOOKUP(B81,INDIRECT(\"'\"&$R$1&\"'!\"&\"$C$2:$G$200\"),4,FALSE),\"\")","v":2.344907407407407E-2},{"$f":"IFERROR(VLOOKUP(B81,INDIRECT(\"'\"&$R$1&\"'!\"&\"$C$2:$G$200\"),5,FALSE),0)","v":84.834015461573472},null,{"$f":"IFERROR(VLOOKUP(B81,INDIRECT(\"'\"&$T$1&\"'!\"&\"$C$2:$G$200\"),5,FALSE),0)","v":0},{"$f":"8-COUNTIF(F81:U81,\"\")","v":2},{"$f":"E81/IF(V81>4,5,V81)","v":81.523657401489942}]
[80,"Gethin Powell","Pontypridd Roadents","SM",{"$f":"SUM(LARGE((S82,G82,I82,K82,M82,O82,Q82,U82),{1,2,3,4,5}))","v":163.01170058876593},{"$f":"IFERROR(VLOOKUP(B82,INDIRECT(\"'\"&$F$1&\"'!\"&\"$C$2:$G$200\"),4,FALSE),\"\")","v":""},{"$f":"IFERROR(VLOOKUP(B82,INDIRECT(\"'\"&$F$1&\"'!\"&\"$C$2:$G$200\"),5,FALSE),0)","v":0},{"$f":"IFERROR(VLOOKUP(B82,INDIRECT(\"'\"&$H$1&\"'!\"&\"$C$2:$G$200\"),4,FALSE),\"\")","v":""},{"$f":"IFERROR(VLOOKUP(B82,INDIRECT(\"'\"&$H$1&\"'!\"&\"$C$2:$G$200\"),5,FALSE),0)","v":0},{"$f":"IFERROR(VLOOKUP(B82,INDIRECT(\"'\"&$J$1&\"'!\"&\"$C$2:$G$200\"),4,FALSE),\"\")","v":""},{"$f":"IFERROR(VLOOKUP(B82,INDIRECT(\"'\"&$J$1&\"'!\"&\"$C$2:$G$200\"),5,FALSE),0)","v":0},{"$f":"IFERROR(VLOOKUP(B82,INDIRECT(\"'\"&$L$1&\"'!\"&\"$C$2:$G$200\"),4,FALSE),\"\")","v":""},{"$f":"IFERROR(VLOOKUP(B82,INDIRECT(\"'\"&$L$1&\"'!\"&\"$C$2:$G$200\"),5,FALSE),0)","v":0},{"$f":"IFERROR(VLOOKUP(B82,INDIRECT(\"'\"&$N$1&\"'!\"&\"$C$2:$G$200\"),4,FALSE),\"\")","v":2.6203703703703705E-2},{"$f":"IFERROR(VLOOKUP(B82,INDIRECT(\"'\"&$N$1&\"'!\"&\"$C$2:$G$200\"),5,FALSE),0)","v":83.682696259761641},{"$f":"IFERROR(VLOOKUP(B82,INDIRECT(\"'\"&$P$1&\"'!\"&\"$C$2:$G$200\"),4,FALSE),\"\")","v":""},{"$f":"IFERROR(VLOOKUP(B82,INDIRECT(\"'\"&$P$1&\"'!\"&\"$C$2:$G$200\"),5,FALSE),0)","v":0},{"$f":"IFERROR(VLOOKUP(B82,INDIRECT(\"'\"&$R$1&\"'!\"&\"$C$2:$G$200\"),4,FALSE),\"\")","v":""},{"$f":"IFERROR(VLOOKUP(B82,INDIRECT(\"'\"&$R$1&\"'!\"&\"$C$2:$G$200\"),5,FALSE),0)","v":0},null,{"$f":"IFERROR(VLOOKUP(B82,INDIRECT(\"'\"&$T$1&\"'!\"&\"$C$2:$G$200\"),5,FALSE),0)","v":79.329004329004292},{"$f":"8-COUNTIF(F82:U82,\"\")","v":1},{"$f":"E82/IF(V82>4,5,V82)","v":163.01170058876593}]
[81,"Jeremy Jehan","Wye Valley Runners","SM",{"$f":"SUM(LARGE((S83,G83,I83,K83,M83,O83,Q83,U83),{1,2,3,4,5}))","v":161.21869655467592},{"$f":"IFERROR(VLOOKUP(B83,INDIRECT(\"'\"&$F$1&\"'!\"&\"$C$2:$G$200\"),4,FALSE),\"\")","v":""},{"$f":"IFERROR(VLOOKUP(B83,INDIRECT(\"'\"&$F$1&\"'!\"&\"$C$2:$G$200\"),5,FALSE),0)","v":0},{"$f":"IFERROR(VLOOKUP(B83,INDIRECT(\"'\"&$H$1&\"'!\"&\"$C$2:$G$200\"),4,FALSE),\"\")","v":3.6307870370370372E-2},{"$f":"IFERROR(VLOOKUP(B83,INDIRECT(\"'\"&$H$1&\"'!\"&\"$C$2:$G$200\"),5,FALSE),0)","v":82.5709365875571},{"$f":"IFERROR(VLOOKUP(B83,INDIRECT(\"'\"&$J$1&\"'!\"&\"$C$2:$G$200\"),4,FALSE),\"\")","v":""},{"$f":"IFERROR(VLOOKUP(B83,INDIRECT(\"'\"&$J$1&\"'!\"&\"$C$2:$G$200\"),5,FALSE),0)","v":0},{"$f":"IFERROR(VLOOKUP(B83,INDIRECT(\"'\"&$L$1&\"'!\"&\"$C$2:$G$200\"),4,FALSE),\"\")","v":""},{"$f":"IFERROR(VLOOKUP(B83,INDIRECT(\"'\"&$L$1&\"'!\"&\"$C$2:$G$200\"),5,FALSE),0)","v":0},{"$f":"IFERROR(VLOOKUP(B83,INDIRECT(\"'\"&$N$1&\"'!\"&\"$C$2:$G$200\"),4,FALSE),\"\")","v":2.7337962962962963E-2},{"$f":"IFERROR(VLOOKUP(B83,INDIRECT(\"'\"&$N$1&\"'!\"&\"$C$2:$G$200\"),5,FALSE),0)","v":78.647759967118816},{"$f":"IFERROR(VLOOKUP(B83,INDIRECT(\"'\"&$P$1&\"'!\"&\"$C$2:$G$200\"),4,FALSE),\"\")","v":""},{"$f":"IFERROR(VLOOKUP(B83,INDIRECT(\"'\"&$P$1&\"'!\"&\"$C$2:$G$200\"),5,FALSE),0)","v":0},{"$f":"IFERROR(VLOOKUP(B83,INDIRECT(\"'\"&$R$1&\"'!\"&\"$C$2:$G$200\"),4,FALSE),\"\")","v":""},{"$f":"IFERROR(VLOOKUP(B83,INDIRECT(\"'\"&$R$1&\"'!\"&\"$C$2:$G$200\"),5,FALSE),0)","v":0},{"$f":"IFERROR(VLOOKUP(B83,INDIRECT(\"'\"&$T$1&\"'!\"&\"$C$2:$G$200\"),4,FALSE),\"\")","v":""},{"$f":"IFERROR(VLOOKUP(B83,INDIRECT(\"'\"&$T$1&\"'!\"&\"$C$2:$G$200\"),5,FALSE),0)","v":0},{"$f":"8-COUNTIF(F83:U83,\"\")","v":2},{"$f":"E83/IF(V83>4,5,V83)","v":80.609348277337958}]
[82,"Paul Mammatt","Hereford Couriers","M40",{"$f":"SUM(LARGE((S84,G84,I84,K84,M84,O84,Q84,U84),{1,2,3,4,5}))","v":160.65417761401997},{"$f":"IFERROR(VLOOKUP(B84,INDIRECT(\"'\"&$F$1&\"'!\"&\"$C$2:$G$200\"),4,FALSE),\"\")","v":""},{"$f":"IFERROR(VLOOKUP(B84,INDIRECT(\"'\"&$F$1&\"'!\"&\"$C$2:$G$200\"),5,FALSE),0)","v":0},{"$f":"IFERROR(VLOOKUP(B84,INDIRECT(\"'\"&$H$1&\"'!\"&\"$C$2:$G$200\"),4,FALSE),\"\")","v":3.6990740740740741E-2},{"$f":"IFERROR(VLOOKUP(B84,INDIRECT(\"'\"&$H$1&\"'!\"&\"$C$2:$G$200\"),5,FALSE),0)","v":80.362356816650447},{"$f":"IFERROR(VLOOKUP(B84,INDIRECT(\"'\"&$J$1&\"'!\"&\"$C$2:$G$200\"),4,FALSE),\"\")","v":""},{"$f":"IFERROR(VLOOKUP(B84,INDIRECT(\"'\"&$J$1&\"'!\"&\"$C$2:$G$200\"),5,FALSE),0)","v":0},{"$f":"IFERROR(VLOOKUP(B84,INDIRECT(\"'\"&$L$1&\"'!\"&\"$C$2:$G$200\"),4,FALSE),\"\")","v":""},{"$f":"IFERROR(VLOOKUP(B84,INDIRECT(\"'\"&$L$1&\"'!\"&\"$C$2:$G$200\"),5,FALSE),0)","v":0},{"$f":"IFERROR(VLOOKUP(B84,INDIRECT(\"'\"&$N$1&\"'!\"&\"$C$2:$G$200\"),4,FALSE),\"\")","v":2.6967592592592595E-2},{"$f":"IFERROR(VLOOKUP(B84,INDIRECT(\"'\"&$N$1&\"'!\"&\"$C$2:$G$200\"),5,FALSE),0)","v":80.291820797369525},{"$f":"IFERROR(VLOOKUP(B84,INDIRECT(\"'\"&$P$1&\"'!\"&\"$C$2:$G$200\"),4,FALSE),\"\")","v":""},{"$f":"IFERROR(VLOOKUP(B84,INDIRECT(\"'\"&$P$1&\"'!\"&\"$C$2:$G$200\"),5,FALSE),0)","v":0},{"$f":"IFERROR(VLOOKUP(B84,INDIRECT(\"'\"&$R$1&\"'!\"&\"$C$2:$G$200\"),4,FALSE),\"\")","v":""},{"$f":"IFERROR(VLOOKUP(B84,INDIRECT(\"'\"&$R$1&\"'!\"&\"$C$2:$G$200\"),5,FALSE),0)","v":0},{"$f":"IFERROR(VLOOKUP(B84,INDIRECT(\"'\"&$T$1&\"'!\"&\"$C$2:$G$200\"),4,FALSE),\"\")","v":""},{"$f":"IFERROR(VLOOKUP(B84,INDIRECT(\"'\"&$T$1&\"'!\"&\"$C$2:$G$200\"),5,FALSE),0)","v":0},{"$f":"8-COUNTIF(F84:U84,\"\")","v":2},{"$f":"E84/IF(V84>4,5,V84)","v":80.327088807009986}]
[83,"Helen Duffield","Chepstow Harriers","F40",{"$f":"SUM(LARGE((S85,G85,I85,K85,M85,O85,Q85,U85),{1,2,3,4,5}))","v":160.49953536909393},{"$f":"IFERROR(VLOOKUP(B85,INDIRECT(\"'\"&$F$1&\"'!\"&\"$C$2:$G$200\"),4,FALSE),\"\")","v":""},{"$f":"IFERROR(VLOOKUP(B85,INDIRECT(\"'\"&$F$1&\"'!\"&\"$C$2:$G$200\"),5,FALSE),0)","v":0},{"$f":"IFERROR(VLOOKUP(B85,INDIRECT(\"'\"&$H$1&\"'!\"&\"$C$2:$G$200\"),4,FALSE),\"\")","v":""},{"$f":"IFERROR(VLOOKUP(B85,INDIRECT(\"'\"&$H$1&\"'!\"&\"$C$2:$G$200\"),5,FALSE),0)","v":0},{"$f":"IFERROR(VLOOKUP(B85,INDIRECT(\"'\"&$J$1&\"'!\"&\"$C$2:$G$200\"),4,FALSE),\"\")","v":""},{"$f":"IFERROR(VLOOKUP(B85,INDIRECT(\"'\"&$J$1&\"'!\"&\"$C$2:$G$200\"),5,FALSE),0)","v":0},{"$f":"IFERROR(VLOOKUP(B85,INDIRECT(\"'\"&$L$1&\"'!\"&\"$C$2:$G$200\"),4,FALSE),\"\")","v":""},{"$f":"IFERROR(VLOOKUP(B85,INDIRECT(\"'\"&$L$1&\"'!\"&\"$C$2:$G$200\"),5,FALSE),0)","v":0},{"$f":"IFERROR(VLOOKUP(B85,INDIRECT(\"'\"&$N$1&\"'!\"&\"$C$2:$G$200\"),4,FALSE),\"\")","v":3.3194444444444443E-2},{"$f":"IFERROR(VLOOKUP(B85,INDIRECT(\"'\"&$N$1&\"'!\"&\"$C$2:$G$200\"),5,FALSE),0)","v":52.651048088779319},{"$f":"IFERROR(VLOOKUP(B85,INDIRECT(\"'\"&$P$1&\"'!\"&\"$C$2:$G$200\"),4,FALSE),\"\")","v":""},{"$f":"IFERROR(VLOOKUP(B85,INDIRECT(\"'\"&$P$1&\"'!\"&\"$C$2:$G$200\"),5,FALSE),0)","v":0},{"$f":"IFERROR(VLOOKUP(B85,INDIRECT(\"'\"&$R$1&\"'!\"&\"$C$2:$G$200\"),4,FALSE),\"\")","v":2.7546296296296294E-2},{"$f":"IFERROR(VLOOKUP(B85,INDIRECT(\"'\"&$R$1&\"'!\"&\"$C$2:$G$200\"),5,FALSE),0)","v":64.711232378353827},{"$f":"IFERROR(VLOOKUP(B85,INDIRECT(\"'\"&$T$1&\"'!\"&\"$C$2:$G$200\"),4,FALSE),\"\")","v":5.7037037037037032E-2},{"$f":"IFERROR(VLOOKUP(B85,INDIRECT(\"'\"&$T$1&\"'!\"&\"$C$2:$G$200\"),5,FALSE),0)","v":43.137254901960787},{"$f":"8-COUNTIF(F85:U85,\"\")","v":3},{"$f":"E85/IF(V85>4,5,V85)","v":53.499845123031314}]
[84,"Ross Walker","Chepstow Harriers","M40",{"$f":"SUM(LARGE((S86,G86,I86,K86,M86,O86,Q86,U86),{1,2,3,4,5}))","v":160.39767997771918},{"$f":"IFERROR(VLOOKUP(B86,INDIRECT(\"'\"&$F$1&\"'!\"&\"$C$2:$G$200\"),4,FALSE),\"\")","v":""},{"$f":"IFERROR(VLOOKUP(B86,INDIRECT(\"'\"&$F$1&\"'!\"&\"$C$2:$G$200\"),5,FALSE),0)","v":0},{"$f":"IFERROR(VLOOKUP(B86,INDIRECT(\"'\"&$H$1&\"'!\"&\"$C$2:$G$200\"),4,FALSE),\"\")","v":""},{"$f":"IFERROR(VLOOKUP(B86,INDIRECT(\"'\"&$H$1&\"'!\"&\"$C$2:$G$200\"),5,FALSE),0)","v":0},{"$f":"IFERROR(VLOOKUP(B86,INDIRECT(\"'\"&$J$1&\"'!\"&\"$C$2:$G$200\"),4,FALSE),\"\")","v":""},{"$f":"IFERROR(VLOOKUP(B86,INDIRECT(\"'\"&$J$1&\"'!\"&\"$C$2:$G$200\"),5,FALSE),0)","v":0},{"$f":"IFERROR(VLOOKUP(B86,INDIRECT(\"'\"&$L$1&\"'!\"&\"$C$2:$G$200\"),4,FALSE),\"\")","v":""},{"$f":"IFERROR(VLOOKUP(B86,INDIRECT(\"'\"&$L$1&\"'!\"&\"$C$2:$G$200\"),5,FALSE),0)","v":0},{"$f":"IFERROR(VLOOKUP(B86,INDIRECT(\"'\"&$N$1&\"'!\"&\"$C$2:$G$200\"),4,FALSE),\"\")","v":2.5810185185185183E-2},{"$f":"IFERROR(VLOOKUP(B86,INDIRECT(\"'\"&$N$1&\"'!\"&\"$C$2:$G$200\"),5,FALSE),0)","v":85.429510891903021},{"$f":"IFERROR(VLOOKUP(B86,INDIRECT(\"'\"&$P$1&\"'!\"&\"$C$2:$G$200\"),4,FALSE),\"\")","v":""},{"$f":"IFERROR(VLOOKUP(B86,INDIRECT(\"'\"&$P$1&\"'!\"&\"$C$2:$G$200\"),5,FALSE),0)","v":0},{"$f":"IFERROR(VLOOKUP(B86,INDIRECT(\"'\"&$R$1&\"'!\"&\"$C$2:$G$200\"),4,FALSE),\"\")","v":""},{"$f":"IFERROR(VLOOKUP(B86,INDIRECT(\"'\"&$R$1&\"'!\"&\"$C$2:$G$200\"),5,FALSE),0)","v":0},{"$f":"IFERROR(VLOOKUP(B86,INDIRECT(\"'\"&$T$1&\"'!\"&\"$C$2:$G$200\"),4,FALSE),\"\")","v":4.5462962962962962E-2},{"$f":"IFERROR(VLOOKUP(B86,INDIRECT(\"'\"&$T$1&\"'!\"&\"$C$2:$G$200\"),5,FALSE),0)","v":74.968169085816143},{"$f":"8-COUNTIF(F86:U86,\"\")","v":2},{"$f":"E86/IF(V86>4,5,V86)","v":80.198839988859589}]
[85,"Sophie Horrocks","Rossendale Harriers","SF",{"$f":"SUM(LARGE((S87,G87,I87,K87,M87,O87,Q87,U87),{1,2,3,4,5}))","v":158.95696950365351},{"$f":"IFERROR(VLOOKUP(B87,INDIRECT(\"'\"&$F$1&\"'!\"&\"$C$2:$G$200\"),4,FALSE),\"\")","v":""},{"$f":"IFERROR(VLOOKUP(B87,INDIRECT(\"'\"&$F$1&\"'!\"&\"$C$2:$G$200\"),5,FALSE),0)","v":0},{"$f":"IFERROR(VLOOKUP(B87,INDIRECT(\"'\"&$H$1&\"'!\"&\"$C$2:$G$200\"),4,FALSE),\"\")","v":3.6666666666666667E-2},{"$f":"IFERROR(VLOOKUP(B87,INDIRECT(\"'\"&$H$1&\"'!\"&\"$C$2:$G$200\"),5,FALSE),0)","v":81.410496368945132},{"$f":"IFERROR(VLOOKUP(B87,INDIRECT(\"'\"&$J$1&\"'!\"&\"$C$2:$G$200\"),4,FALSE),\"\")","v":""},{"$f":"IFERROR(VLOOKUP(B87,INDIRECT(\"'\"&$J$1&\"'!\"&\"$C$2:$G$200\"),5,FALSE),0)","v":0},{"$f":"IFERROR(VLOOKUP(B87,INDIRECT(\"'\"&$L$1&\"'!\"&\"$C$2:$G$200\"),4,FALSE),\"\")","v":""},{"$f":"IFERROR(VLOOKUP(B87,INDIRECT(\"'\"&$L$1&\"'!\"&\"$C$2:$G$200\"),5,FALSE),0)","v":0},{"$f":"IFERROR(VLOOKUP(B87,INDIRECT(\"'\"&$N$1&\"'!\"&\"$C$2:$G$200\"),4,FALSE),\"\")","v":""},{"$f":"IFERROR(VLOOKUP(B87,INDIRECT(\"'\"&$N$1&\"'!\"&\"$C$2:$G$200\"),5,FALSE),0)","v":0},{"$f":"IFERROR(VLOOKUP(B87,INDIRECT(\"'\"&$P$1&\"'!\"&\"$C$2:$G$200\"),4,FALSE),\"\")","v":""},{"$f":"IFERROR(VLOOKUP(B87,INDIRECT(\"'\"&$P$1&\"'!\"&\"$C$2:$G$200\"),5,FALSE),0)","v":0},{"$f":"IFERROR(VLOOKUP(B87,INDIRECT(\"'\"&$R$1&\"'!\"&\"$C$2:$G$200\"),4,FALSE),\"\")","v":""},{"$f":"IFERROR(VLOOKUP(B87,INDIRECT(\"'\"&$R$1&\"'!\"&\"$C$2:$G$200\"),5,FALSE),0)","v":0},{"$f":"IFERROR(VLOOKUP(B87,INDIRECT(\"'\"&$T$1&\"'!\"&\"$C$2:$G$200\"),4,FALSE),\"\")","v":4.4525462962962968E-2},{"$f":"IFERROR(VLOOKUP(B87,INDIRECT(\"'\"&$T$1&\"'!\"&\"$C$2:$G$200\"),5,FALSE),0)","v":77.546473134708393},{"$f":"8-COUNTIF(F87:U87,\"\")","v":2},{"$f":"E87/IF(V87>4,5,V87)","v":79.478484751826755}]
[86,"Paul Symons","Unaffiliated","M50",{"$f":"SUM(LARGE((S88,G88,I88,K88,M88,O88,Q88,U88),{1,2,3,4,5}))","v":156.10112063568744},{"$f":"IFERROR(VLOOKUP(B88,INDIRECT(\"'\"&$F$1&\"'!\"&\"$C$2:$G$200\"),4,FALSE),\"\")","v":""},{"$f":"IFERROR(VLOOKUP(B88,INDIRECT(\"'\"&$F$1&\"'!\"&\"$C$2:$G$200\"),5,FALSE),0)","v":0},{"$f":"IFERROR(VLOOKUP(B88,INDIRECT(\"'\"&$H$1&\"'!\"&\"$C$2:$G$200\"),4,FALSE),\"\")","v":4.6909722222222221E-2},{"$f":"IFERROR(VLOOKUP(B88,INDIRECT(\"'\"&$H$1&\"'!\"&\"$C$2:$G$200\"),5,FALSE),0)","v":48.281799805345528},{"$f":"IFERROR(VLOOKUP(B88,INDIRECT(\"'\"&$J$1&\"'!\"&\"$C$2:$G$200\"),4,FALSE),\"\")","v":""},{"$f":"IFERROR(VLOOKUP(B88,INDIRECT(\"'\"&$J$1&\"'!\"&\"$C$2:$G$200\"),5,FALSE),0)","v":0},{"$f":"IFERROR(VLOOKUP(B88,INDIRECT(\"'\"&$L$1&\"'!\"&\"$C$2:$G$200\"),4,FALSE),\"\")","v":""},{"$f":"IFERROR(VLOOKUP(B88,INDIRECT(\"'\"&$L$1&\"'!\"&\"$C$2:$G$200\"),5,FALSE),0)","v":0},{"$f":"IFERROR(VLOOKUP(B88,INDIRECT(\"'\"&$N$1&\"'!\"&\"$C$2:$G$200\"),4,FALSE),\"\")","v":3.7685185185185183E-2},{"$f":"IFERROR(VLOOKUP(B88,INDIRECT(\"'\"&$N$1&\"'!\"&\"$C$2:$G$200\"),5,FALSE),0)","v":32.716810521989359},{"$f":"IFERROR(VLOOKUP(B88,INDIRECT(\"'\"&$P$1&\"'!\"&\"$C$2:$G$200\"),4,FALSE),\"\")","v":""},{"$f":"IFERROR(VLOOKUP(B88,INDIRECT(\"'\"&$P$1&\"'!\"&\"$C$2:$G$200\"),5,FALSE),0)","v":0},{"$f":"IFERROR(VLOOKUP(B88,INDIRECT(\"'\"&$R$1&\"'!\"&\"$C$2:$G$200\"),4,FALSE),\"\")","v":3.1504629629629625E-2},{"$f":"IFERROR(VLOOKUP(B88,INDIRECT(\"'\"&$R$1&\"'!\"&\"$C$2:$G$200\"),5,FALSE),0)","v":45.270577535243326},null,{"$f":"IFERROR(VLOOKUP(B88,INDIRECT(\"'\"&$T$1&\"'!\"&\"$C$2:$G$200\"),5,FALSE),0)","v":29.831932773109205},{"$f":"8-COUNTIF(F88:U88,\"\")","v":3},{"$f":"E88/IF(V88>4,5,V88)","v":52.033706878562477}]
[87,"James Woodier","Mynydd Du","SM",{"$f":"SUM(LARGE((S89,G89,I89,K89,M89,O89,Q89,U89),{1,2,3,4,5}))","v":154.54962433882912},{"$f":"IFERROR(VLOOKUP(B89,INDIRECT(\"'\"&$F$1&\"'!\"&\"$C$2:$G$200\"),4,FALSE),\"\")","v":""},{"$f":"IFERROR(VLOOKUP(B89,INDIRECT(\"'\"&$F$1&\"'!\"&\"$C$2:$G$200\"),5,FALSE),0)","v":0},{"$f":"IFERROR(VLOOKUP(B89,INDIRECT(\"'\"&$H$1&\"'!\"&\"$C$2:$G$200\"),4,FALSE),\"\")","v":""},{"$f":"IFERROR(VLOOKUP(B89,INDIRECT(\"'\"&$H$1&\"'!\"&\"$C$2:$G$200\"),5,FALSE),0)","v":0},{"$f":"IFERROR(VLOOKUP(B89,INDIRECT(\"'\"&$J$1&\"'!\"&\"$C$2:$G$200\"),4,FALSE),\"\")","v":""},{"$f":"IFERROR(VLOOKUP(B89,INDIRECT(\"'\"&$J$1&\"'!\"&\"$C$2:$G$200\"),5,FALSE),0)","v":0},{"$f":"IFERROR(VLOOKUP(B89,INDIRECT(\"'\"&$L$1&\"'!\"&\"$C$2:$G$200\"),4,FALSE),\"\")","v":""},{"$f":"IFERROR(VLOOKUP(B89,INDIRECT(\"'\"&$L$1&\"'!\"&\"$C$2:$G$200\"),5,FALSE),0)","v":0},{"$f":"IFERROR(VLOOKUP(B89,INDIRECT(\"'\"&$N$1&\"'!\"&\"$C$2:$G$200\"),4,FALSE),\"\")","v":2.7442129629629632E-2},{"$f":"IFERROR(VLOOKUP(B89,INDIRECT(\"'\"&$N$1&\"'!\"&\"$C$2:$G$200\"),5,FALSE),0)","v":78.185367858610789},{"$f":"IFERROR(VLOOKUP(B89,INDIRECT(\"'\"&$P$1&\"'!\"&\"$C$2:$G$200\"),4,FALSE),\"\")","v":""},{"$f":"IFERROR(VLOOKUP(B89,INDIRECT(\"'\"&$P$1&\"'!\"&\"$C$2:$G$200\"),5,FALSE),0)","v":0},{"$f":"IFERROR(VLOOKUP(B89,INDIRECT(\"'\"&$R$1&\"'!\"&\"$C$2:$G$200\"),4,FALSE),\"\")","v":2.5173611111111108E-2},{"$f":"IFERROR(VLOOKUP(B89,INDIRECT(\"'\"&$R$1&\"'!\"&\"$C$2:$G$200\"),5,FALSE),0)","v":76.364256480218316},null,{"$f":"IFERROR(VLOOKUP(B89,INDIRECT(\"'\"&$T$1&\"'!\"&\"$C$2:$G$200\"),5,FALSE),0)","v":0},{"$f":"8-COUNTIF(F89:U89,\"\")","v":2},{"$f":"E89/IF(V89>4,5,V89)","v":77.27481216941456}]
[88,"Mark Ponsford","MDC","SM",{"$f":"SUM(LARGE((S90,G90,I90,K90,M90,O90,Q90,U90),{1,2,3,4,5}))","v":152.85605374482677},{"$f":"IFERROR(VLOOKUP(B90,INDIRECT(\"'\"&$F$1&\"'!\"&\"$C$2:$G$200\"),4,FALSE),\"\")","v":""},{"$f":"IFERROR(VLOOKUP(B90,INDIRECT(\"'\"&$F$1&\"'!\"&\"$C$2:$G$200\"),5,FALSE),0)","v":0},{"$f":"IFERROR(VLOOKUP(B90,INDIRECT(\"'\"&$H$1&\"'!\"&\"$C$2:$G$200\"),4,FALSE),\"\")","v":""},{"$f":"IFERROR(VLOOKUP(B90,INDIRECT(\"'\"&$H$1&\"'!\"&\"$C$2:$G$200\"),5,FALSE),0)","v":0},{"$f":"IFERROR(VLOOKUP(B90,INDIRECT(\"'\"&$J$1&\"'!\"&\"$C$2:$G$200\"),4,FALSE),\"\")","v":""},{"$f":"IFERROR(VLOOKUP(B90,INDIRECT(\"'\"&$J$1&\"'!\"&\"$C$2:$G$200\"),5,FALSE),0)","v":0},{"$f":"IFERROR(VLOOKUP(B90,INDIRECT(\"'\"&$L$1&\"'!\"&\"$C$2:$G$200\"),4,FALSE),\"\")","v":""},{"$f":"IFERROR(VLOOKUP(B90,INDIRECT(\"'\"&$L$1&\"'!\"&\"$C$2:$G$200\"),5,FALSE),0)","v":0},{"$f":"IFERROR(VLOOKUP(B90,INDIRECT(\"'\"&$N$1&\"'!\"&\"$C$2:$G$200\"),4,FALSE),\"\")","v":""},{"$f":"IFERROR(VLOOKUP(B90,INDIRECT(\"'\"&$N$1&\"'!\"&\"$C$2:$G$200\"),5,FALSE),0)","v":0},{"$f":"IFERROR(VLOOKUP(B90,INDIRECT(\"'\"&$P$1&\"'!\"&\"$C$2:$G$200\"),4,FALSE),\"\")","v":""},{"$f":"IFERROR(VLOOKUP(B90,INDIRECT(\"'\"&$P$1&\"'!\"&\"$C$2:$G$200\"),5,FALSE),0)","v":0},{"$f":"IFERROR(VLOOKUP(B90,INDIRECT(\"'\"&$R$1&\"'!\"&\"$C$2:$G$200\"),4,FALSE),\"\")","v":2.4085648148148148E-2},{"$f":"IFERROR(VLOOKUP(B90,INDIRECT(\"'\"&$R$1&\"'!\"&\"$C$2:$G$200\"),5,FALSE),0)","v":81.707594361073248},{"$f":"IFERROR(VLOOKUP(B90,INDIRECT(\"'\"&$T$1&\"'!\"&\"$C$2:$G$200\"),4,FALSE),\"\")","v":4.6851851851851846E-2},{"$f":"IFERROR(VLOOKUP(B90,INDIRECT(\"'\"&$T$1&\"'!\"&\"$C$2:$G$200\"),5,FALSE),0)","v":71.148459383753519},{"$f":"8-COUNTIF(F90:U90,\"\")","v":2},{"$f":"E90/IF(V90>4,5,V90)","v":76.428026872413383}]
[89,"Rhys Pippard","Mynydd Du","SM",{"$f":"SUM(LARGE((S91,G91,I91,K91,M91,O91,Q91,U91),{1,2,3,4,5}))","v":151.69377386507065},{"$f":"IFERROR(VLOOKUP(B91,INDIRECT(\"'\"&$F$1&\"'!\"&\"$C$2:$G$200\"),4,FALSE),\"\")","v":""},{"$f":"IFERROR(VLOOKUP(B91,INDIRECT(\"'\"&$F$1&\"'!\"&\"$C$2:$G$200\"),5,FALSE),0)","v":0},{"$f":"IFERROR(VLOOKUP(B91,INDIRECT(\"'\"&$H$1&\"'!\"&\"$C$2:$G$200\"),4,FALSE),\"\")","v":""},{"$f":"IFERROR(VLOOKUP(B91,INDIRECT(\"'\"&$H$1&\"'!\"&\"$C$2:$G$200\"),5,FALSE),0)","v":0},{"$f":"IFERROR(VLOOKUP(B91,INDIRECT(\"'\"&$J$1&\"'!\"&\"$C$2:$G$200\"),4,FALSE),\"\")","v":""},{"$f":"IFERROR(VLOOKUP(B91,INDIRECT(\"'\"&$J$1&\"'!\"&\"$C$2:$G$200\"),5,FALSE),0)","v":0},{"$f":"IFERROR(VLOOKUP(B91,INDIRECT(\"'\"&$L$1&\"'!\"&\"$C$2:$G$200\"),4,FALSE),\"\")","v":""},{"$f":"IFERROR(VLOOKUP(B91,INDIRECT(\"'\"&$L$1&\"'!\"&\"$C$2:$G$200\"),5,FALSE),0)","v":0},{"$f":"IFERROR(VLOOKUP(B91,INDIRECT(\"'\"&$N$1&\"'!\"&\"$C$2:$G$200\"),4,FALSE),\"\")","v":""},{"$f":"IFERROR(VLOOKUP(B91,INDIRECT(\"'\"&$N$1&\"'!\"&\"$C$2:$G$200\"),5,FALSE),0)","v":0},{"$f":"IFERROR(VLOOKUP(B91,INDIRECT(\"'\"&$P$1&\"'!\"&\"$C$2:$G$200\"),4,FALSE),\"\")","v":2.6967592592592595E-2},{"$f":"IFERROR(VLOOKUP(B91,INDIRECT(\"'\"&$P$1&\"'!\"&\"$C$2:$G$200\"),5,FALSE),0)","v":76.248141066496686},{"$f":"IFERROR(VLOOKUP(B91,INDIRECT(\"'\"&$R$1&\"'!\"&\"$C$2:$G$200\"),4,FALSE),\"\")","v":""},{"$f":"IFERROR(VLOOKUP(B91,INDIRECT(\"'\"&$R$1&\"'!\"&\"$C$2:$G$200\"),5,FALSE),0)","v":0},null,{"$f":"IFERROR(VLOOKUP(B91,INDIRECT(\"'\"&$T$1&\"'!\"&\"$C$2:$G$200\"),5,FALSE),0)","v":75.445632798573968},{"$f":"8-COUNTIF(F91:U91,\"\")","v":1},{"$f":"E91/IF(V91>4,5,V91)","v":151.69377386507065}]
[90,"Neil Lewis","Hereford Couriers","M50 ",{"$f":"SUM(LARGE((S92,G92,I92,K92,M92,O92,Q92,U92),{1,2,3,4,5}))","v":150.196156806819},{"$f":"IFERROR(VLOOKUP(B92,INDIRECT(\"'\"&$F$1&\"'!\"&\"$C$2:$G$200\"),4,FALSE),\"\")","v":2.1550925925925928E-2},{"$f":"IFERROR(VLOOKUP(B92,INDIRECT(\"'\"&$F$1&\"'!\"&\"$C$2:$G$200\"),5,FALSE),0)","v":52.945822145000761},{"$f":"IFERROR(VLOOKUP(B92,INDIRECT(\"'\"&$H$1&\"'!\"&\"$C$2:$G$200\"),4,FALSE),\"\")","v":4.9375000000000002E-2},{"$f":"IFERROR(VLOOKUP(B92,INDIRECT(\"'\"&$H$1&\"'!\"&\"$C$2:$G$200\"),5,FALSE),0)","v":40.308452496818163},{"$f":"IFERROR(VLOOKUP(B92,INDIRECT(\"'\"&$J$1&\"'!\"&\"$C$2:$G$200\"),4,FALSE),\"\")","v":""},{"$f":"IFERROR(VLOOKUP(B92,INDIRECT(\"'\"&$J$1&\"'!\"&\"$C$2:$G$200\"),5,FALSE),0)","v":0},{"$f":"IFERROR(VLOOKUP(B92,INDIRECT(\"'\"&$L$1&\"'!\"&\"$C$2:$G$200\"),4,FALSE),\"\")","v":3.27662037037037E-2},{"$f":"IFERROR(VLOOKUP(B92,INDIRECT(\"'\"&$L$1&\"'!\"&\"$C$2:$G$200\"),5,FALSE),0)","v":24.944348256245409},{"$f":"IFERROR(VLOOKUP(B92,INDIRECT(\"'\"&$N$1&\"'!\"&\"$C$2:$G$200\"),4,FALSE),\"\")","v":3.784722222222222E-2},{"$f":"IFERROR(VLOOKUP(B92,INDIRECT(\"'\"&$N$1&\"'!\"&\"$C$2:$G$200\"),5,FALSE),0)","v":31.997533908754662},{"$f":"IFERROR(VLOOKUP(B92,INDIRECT(\"'\"&$P$1&\"'!\"&\"$C$2:$G$200\"),4,FALSE),\"\")","v":""},{"$f":"IFERROR(VLOOKUP(B92,INDIRECT(\"'\"&$P$1&\"'!\"&\"$C$2:$G$200\"),5,FALSE),0)","v":0},{"$f":"IFERROR(VLOOKUP(B92,INDIRECT(\"'\"&$R$1&\"'!\"&\"$C$2:$G$200\"),4,FALSE),\"\")","v":""},{"$f":"IFERROR(VLOOKUP(B92,INDIRECT(\"'\"&$R$1&\"'!\"&\"$C$2:$G$200\"),5,FALSE),0)","v":0},{"$f":"IFERROR(VLOOKUP(B92,INDIRECT(\"'\"&$T$1&\"'!\"&\"$C$2:$G$200\"),4,FALSE),\"\")","v":""},{"$f":"IFERROR(VLOOKUP(B92,INDIRECT(\"'\"&$T$1&\"'!\"&\"$C$2:$G$200\"),5,FALSE),0)","v":0},{"$f":"8-COUNTIF(F92:U92,\"\")","v":4},{"$f":"E92/IF(V92>4,5,V92)","v":37.549039201704751}]
[91,"Faye Johnson","Mynydd Du","SF",{"$f":"SUM(LARGE((S93,G93,I93,K93,M93,O93,Q93,U93),{1,2,3,4,5}))","v":150.1835859950574},{"$f":"IFERROR(VLOOKUP(B93,INDIRECT(\"'\"&$F$1&\"'!\"&\"$C$2:$G$200\"),4,FALSE),\"\")","v":""},{"$f":"IFERROR(VLOOKUP(B93,INDIRECT(\"'\"&$F$1&\"'!\"&\"$C$2:$G$200\"),5,FALSE),0)","v":0},{"$f":"IFERROR(VLOOKUP(B93,INDIRECT(\"'\"&$H$1&\"'!\"&\"$C$2:$G$200\"),4,FALSE),\"\")","v":3.72337962962963E-2},{"$f":"IFERROR(VLOOKUP(B93,INDIRECT(\"'\"&$H$1&\"'!\"&\"$C$2:$G$200\"),5,FALSE),0)","v":79.576252152429447},{"$f":"IFERROR(VLOOKUP(B93,INDIRECT(\"'\"&$J$1&\"'!\"&\"$C$2:$G$200\"),4,FALSE),\"\")","v":""},{"$f":"IFERROR(VLOOKUP(B93,INDIRECT(\"'\"&$J$1&\"'!\"&\"$C$2:$G$200\"),5,FALSE),0)","v":0},{"$f":"IFERROR(VLOOKUP(B93,INDIRECT(\"'\"&$L$1&\"'!\"&\"$C$2:$G$200\"),4,FALSE),\"\")","v":""},{"$f":"IFERROR(VLOOKUP(B93,INDIRECT(\"'\"&$L$1&\"'!\"&\"$C$2:$G$200\"),5,FALSE),0)","v":0},{"$f":"IFERROR(VLOOKUP(B93,INDIRECT(\"'\"&$N$1&\"'!\"&\"$C$2:$G$200\"),4,FALSE),\"\")","v":""},{"$f":"IFERROR(VLOOKUP(B93,INDIRECT(\"'\"&$N$1&\"'!\"&\"$C$2:$G$200\"),5,FALSE),0)","v":0},{"$f":"IFERROR(VLOOKUP(B93,INDIRECT(\"'\"&$P$1&\"'!\"&\"$C$2:$G$200\"),4,FALSE),\"\")","v":""},{"$f":"IFERROR(VLOOKUP(B93,INDIRECT(\"'\"&$P$1&\"'!\"&\"$C$2:$G$200\"),5,FALSE),0)","v":0},{"$f":"IFERROR(VLOOKUP(B93,INDIRECT(\"'\"&$R$1&\"'!\"&\"$C$2:$G$200\"),4,FALSE),\"\")","v":""},{"$f":"IFERROR(VLOOKUP(B93,INDIRECT(\"'\"&$R$1&\"'!\"&\"$C$2:$G$200\"),5,FALSE),0)","v":0},{"$f":"IFERROR(VLOOKUP(B93,INDIRECT(\"'\"&$T$1&\"'!\"&\"$C$2:$G$200\"),4,FALSE),\"\")","v":4.704861111111111E-2},{"$f":"IFERROR(VLOOKUP(B93,INDIRECT(\"'\"&$T$1&\"'!\"&\"$C$2:$G$200\"),5,FALSE),0)","v":70.607333842627966},{"$f":"8-COUNTIF(F93:U93,\"\")","v":2},{"$f":"E93/IF(V93>4,5,V93)","v":75.0917929975287}]
[92,"Dominic Williams","Unaffiliated","M40",{"$f":"SUM(LARGE((S94,G94,I94,K94,M94,O94,Q94,U94),{1,2,3,4,5}))","v":149.57095652750283},{"$f":"IFERROR(VLOOKUP(B94,INDIRECT(\"'\"&$F$1&\"'!\"&\"$C$2:$G$200\"),4,FALSE),\"\")","v":""},{"$f":"IFERROR(VLOOKUP(B94,INDIRECT(\"'\"&$F$1&\"'!\"&\"$C$2:$G$200\"),5,FALSE),0)","v":0},{"$f":"IFERROR(VLOOKUP(B94,INDIRECT(\"'\"&$H$1&\"'!\"&\"$C$2:$G$200\"),4,FALSE),\"\")","v":4.0115740740740737E-2},{"$f":"IFERROR(VLOOKUP(B94,INDIRECT(\"'\"&$H$1&\"'!\"&\"$C$2:$G$200\"),5,FALSE),0)","v":70.255296848094659},{"$f":"IFERROR(VLOOKUP(B94,INDIRECT(\"'\"&$J$1&\"'!\"&\"$C$2:$G$200\"),4,FALSE),\"\")","v":""},{"$f":"IFERROR(VLOOKUP(B94,INDIRECT(\"'\"&$J$1&\"'!\"&\"$C$2:$G$200\"),5,FALSE),0)","v":0},{"$f":"IFERROR(VLOOKUP(B94,INDIRECT(\"'\"&$L$1&\"'!\"&\"$C$2:$G$200\"),4,FALSE),\"\")","v":""},{"$f":"IFERROR(VLOOKUP(B94,INDIRECT(\"'\"&$L$1&\"'!\"&\"$C$2:$G$200\"),5,FALSE),0)","v":0},{"$f":"IFERROR(VLOOKUP(B94,INDIRECT(\"'\"&$N$1&\"'!\"&\"$C$2:$G$200\"),4,FALSE),\"\")","v":2.71875E-2},{"$f":"IFERROR(VLOOKUP(B94,INDIRECT(\"'\"&$N$1&\"'!\"&\"$C$2:$G$200\"),5,FALSE),0)","v":79.315659679408171},{"$f":"IFERROR(VLOOKUP(B94,INDIRECT(\"'\"&$P$1&\"'!\"&\"$C$2:$G$200\"),4,FALSE),\"\")","v":""},{"$f":"IFERROR(VLOOKUP(B94,INDIRECT(\"'\"&$P$1&\"'!\"&\"$C$2:$G$200\"),5,FALSE),0)","v":0},{"$f":"IFERROR(VLOOKUP(B94,INDIRECT(\"'\"&$R$1&\"'!\"&\"$C$2:$G$200\"),4,FALSE),\"\")","v":""},{"$f":"IFERROR(VLOOKUP(B94,INDIRECT(\"'\"&$R$1&\"'!\"&\"$C$2:$G$200\"),5,FALSE),0)","v":0},{"$f":"IFERROR(VLOOKUP(B94,INDIRECT(\"'\"&$T$1&\"'!\"&\"$C$2:$G$200\"),4,FALSE),\"\")","v":""},{"$f":"IFERROR(VLOOKUP(B94,INDIRECT(\"'\"&$T$1&\"'!\"&\"$C$2:$G$200\"),5,FALSE),0)","v":0},{"$f":"8-COUNTIF(F94:U94,\"\")","v":2},{"$f":"E94/IF(V94>4,5,V94)","v":74.785478263751415}]
[93,"Daniela Gormley","Mynydd Du","F40",{"$f":"SUM(LARGE((S95,G95,I95,K95,M95,O95,Q95,U95),{1,2,3,4,5}))","v":148.97592101886517},{"$f":"IFERROR(VLOOKUP(B95,INDIRECT(\"'\"&$F$1&\"'!\"&\"$C$2:$G$200\"),4,FALSE),\"\")","v":""},{"$f":"IFERROR(VLOOKUP(B95,INDIRECT(\"'\"&$F$1&\"'!\"&\"$C$2:$G$200\"),5,FALSE),0)","v":0},{"$f":"IFERROR(VLOOKUP(B95,INDIRECT(\"'\"&$H$1&\"'!\"&\"$C$2:$G$200\"),4,FALSE),\"\")","v":""},{"$f":"IFERROR(VLOOKUP(B95,INDIRECT(\"'\"&$H$1&\"'!\"&\"$C$2:$G$200\"),5,FALSE),0)","v":0},{"$f":"IFERROR(VLOOKUP(B95,INDIRECT(\"'\"&$J$1&\"'!\"&\"$C$2:$G$200\"),4,FALSE),\"\")","v":""},{"$f":"IFERROR(VLOOKUP(B95,INDIRECT(\"'\"&$J$1&\"'!\"&\"$C$2:$G$200\"),5,FALSE),0)","v":0},{"$f":"IFERROR(VLOOKUP(B95,INDIRECT(\"'\"&$L$1&\"'!\"&\"$C$2:$G$200\"),4,FALSE),\"\")","v":3.1678240740740743E-2},{"$f":"IFERROR(VLOOKUP(B95,INDIRECT(\"'\"&$L$1&\"'!\"&\"$C$2:$G$200\"),5,FALSE),0)","v":30.756863715063076},{"$f":"IFERROR(VLOOKUP(B95,INDIRECT(\"'\"&$N$1&\"'!\"&\"$C$2:$G$200\"),4,FALSE),\"\")","v":3.712962962962963E-2},{"$f":"IFERROR(VLOOKUP(B95,INDIRECT(\"'\"&$N$1&\"'!\"&\"$C$2:$G$200\"),5,FALSE),0)","v":35.182901767365429},{"$f":"IFERROR(VLOOKUP(B95,INDIRECT(\"'\"&$P$1&\"'!\"&\"$C$2:$G$200\"),4,FALSE),\"\")","v":3.4722222222222224E-2},{"$f":"IFERROR(VLOOKUP(B95,INDIRECT(\"'\"&$P$1&\"'!\"&\"$C$2:$G$200\"),5,FALSE),0)","v":40.662842574888437},{"$f":"IFERROR(VLOOKUP(B95,INDIRECT(\"'\"&$R$1&\"'!\"&\"$C$2:$G$200\"),4,FALSE),\"\")","v":""},{"$f":"IFERROR(VLOOKUP(B95,INDIRECT(\"'\"&$R$1&\"'!\"&\"$C$2:$G$200\"),5,FALSE),0)","v":0},null,{"$f":"IFERROR(VLOOKUP(B95,INDIRECT(\"'\"&$T$1&\"'!\"&\"$C$2:$G$200\"),5,FALSE),0)","v":42.373312961548223},{"$f":"8-COUNTIF(F95:U95,\"\")","v":3},{"$f":"E95/IF(V95>4,5,V95)","v":49.658640339621719}]
[94,"Ian Macklin","MDC","M40",{"$f":"SUM(LARGE((S96,G96,I96,K96,M96,O96,Q96,U96),{1,2,3,4,5}))","v":148.51846242590904},{"$f":"IFERROR(VLOOKUP(B96,INDIRECT(\"'\"&$F$1&\"'!\"&\"$C$2:$G$200\"),4,FALSE),\"\")","v":""},{"$f":"IFERROR(VLOOKUP(B96,INDIRECT(\"'\"&$F$1&\"'!\"&\"$C$2:$G$200\"),5,FALSE),0)","v":0},{"$f":"IFERROR(VLOOKUP(B96,INDIRECT(\"'\"&$H$1&\"'!\"&\"$C$2:$G$200\"),4,FALSE),\"\")","v":3.6793981481481483E-2},{"$f":"IFERROR(VLOOKUP(B96,INDIRECT(\"'\"&$H$1&\"'!\"&\"$C$2:$G$200\"),5,FALSE),0)","v":80.998727259115071},{"$f":"IFERROR(VLOOKUP(B96,INDIRECT(\"'\"&$J$1&\"'!\"&\"$C$2:$G$200\"),4,FALSE),\"\")","v":""},{"$f":"IFERROR(VLOOKUP(B96,INDIRECT(\"'\"&$J$1&\"'!\"&\"$C$2:$G$200\"),5,FALSE),0)","v":0},{"$f":"IFERROR(VLOOKUP(B96,INDIRECT(\"'\"&$L$1&\"'!\"&\"$C$2:$G$200\"),4,FALSE),\"\")","v":""},{"$f":"IFERROR(VLOOKUP(B96,INDIRECT(\"'\"&$L$1&\"'!\"&\"$C$2:$G$200\"),5,FALSE),0)","v":0},{"$f":"IFERROR(VLOOKUP(B96,INDIRECT(\"'\"&$N$1&\"'!\"&\"$C$2:$G$200\"),4,FALSE),\"\")","v":""},{"$f":"IFERROR(VLOOKUP(B96,INDIRECT(\"'\"&$N$1&\"'!\"&\"$C$2:$G$200\"),5,FALSE),0)","v":0},{"$f":"IFERROR(VLOOKUP(B96,INDIRECT(\"'\"&$P$1&\"'!\"&\"$C$2:$G$200\"),4,FALSE),\"\")","v":""},{"$f":"IFERROR(VLOOKUP(B96,INDIRECT(\"'\"&$P$1&\"'!\"&\"$C$2:$G$200\"),5,FALSE),0)","v":0},{"$f":"IFERROR(VLOOKUP(B96,INDIRECT(\"'\"&$R$1&\"'!\"&\"$C$2:$G$200\"),4,FALSE),\"\")","v":""},{"$f":"IFERROR(VLOOKUP(B96,INDIRECT(\"'\"&$R$1&\"'!\"&\"$C$2:$G$200\"),5,FALSE),0)","v":0},{"$f":"IFERROR(VLOOKUP(B96,INDIRECT(\"'\"&$T$1&\"'!\"&\"$C$2:$G$200\"),4,FALSE),\"\")","v":4.8171296296296295E-2},{"$f":"IFERROR(VLOOKUP(B96,INDIRECT(\"'\"&$T$1&\"'!\"&\"$C$2:$G$200\"),5,FALSE),0)","v":67.519735166793964},{"$f":"8-COUNTIF(F96:U96,\"\")","v":2},{"$f":"E96/IF(V96>4,5,V96)","v":74.259231212954518}]
[95,"Gary Gunner","Croft Ambrey","M70",{"$f":"SUM(LARGE((S97,G97,I97,K97,M97,O97,Q97,U97),{1,2,3,4,5}))","v":147.87583027992744},{"$f":"IFERROR(VLOOKUP(B97,INDIRECT(\"'\"&$F$1&\"'!\"&\"$C$2:$G$200\"),4,FALSE),\"\")","v":""},{"$f":"IFERROR(VLOOKUP(B97,INDIRECT(\"'\"&$F$1&\"'!\"&\"$C$2:$G$200\"),5,FALSE),0)","v":0},{"$f":"IFERROR(VLOOKUP(B97,INDIRECT(\"'\"&$H$1&\"'!\"&\"$C$2:$G$200\"),4,FALSE),\"\")","v":""},{"$f":"IFERROR(VLOOKUP(B97,INDIRECT(\"'\"&$H$1&\"'!\"&\"$C$2:$G$200\"),5,FALSE),0)","v":0},{"$f":"IFERROR(VLOOKUP(B97,INDIRECT(\"'\"&$J$1&\"'!\"&\"$C$2:$G$200\"),4,FALSE),\"\")","v":""},{"$f":"IFERROR(VLOOKUP(B97,INDIRECT(\"'\"&$J$1&\"'!\"&\"$C$2:$G$200\"),5,FALSE),0)","v":0},{"$f":"IFERROR(VLOOKUP(B97,INDIRECT(\"'\"&$L$1&\"'!\"&\"$C$2:$G$200\"),4,FALSE),\"\")","v":""},{"$f":"IFERROR(VLOOKUP(B97,INDIRECT(\"'\"&$L$1&\"'!\"&\"$C$2:$G$200\"),5,FALSE),0)","v":0},{"$f":"IFERROR(VLOOKUP(B97,INDIRECT(\"'\"&$N$1&\"'!\"&\"$C$2:$G$200\"),4,FALSE),\"\")","v":3.4398148148148143E-2},{"$f":"IFERROR(VLOOKUP(B97,INDIRECT(\"'\"&$N$1&\"'!\"&\"$C$2:$G$200\"),5,FALSE),0)","v":47.307850390464502},{"$f":"IFERROR(VLOOKUP(B97,INDIRECT(\"'\"&$P$1&\"'!\"&\"$C$2:$G$200\"),4,FALSE),\"\")","v":""},{"$f":"IFERROR(VLOOKUP(B97,INDIRECT(\"'\"&$P$1&\"'!\"&\"$C$2:$G$200\"),5,FALSE),0)","v":0},{"$f":"IFERROR(VLOOKUP(B97,INDIRECT(\"'\"&$R$1&\"'!\"&\"$C$2:$G$200\"),4,FALSE),\"\")","v":2.8749999999999998E-2},{"$f":"IFERROR(VLOOKUP(B97,INDIRECT(\"'\"&$R$1&\"'!\"&\"$C$2:$G$200\"),5,FALSE),0)","v":58.799454297407941},{"$f":"IFERROR(VLOOKUP(B97,INDIRECT(\"'\"&$T$1&\"'!\"&\"$C$2:$G$200\"),4,FALSE),\"\")","v":5.7534722222222223E-2},{"$f":"IFERROR(VLOOKUP(B97,INDIRECT(\"'\"&$T$1&\"'!\"&\"$C$2:$G$200\"),5,FALSE),0)","v":41.768525592054992},{"$f":"8-COUNTIF(F97:U97,\"\")","v":3},{"$f":"E97/IF(V97>4,5,V97)","v":49.291943426642483}]
[96,"Sam Charrington","Mynydd Du","M40",{"$f":"SUM(LARGE((S98,G98,I98,K98,M98,O98,Q98,U98),{1,2,3,4,5}))","v":146.21944682642089},{"$f":"IFERROR(VLOOKUP(B98,INDIRECT(\"'\"&$F$1&\"'!\"&\"$C$2:$G$200\"),4,FALSE),\"\")","v":""},{"$f":"IFERROR(VLOOKUP(B98,INDIRECT(\"'\"&$F$1&\"'!\"&\"$C$2:$G$200\"),5,FALSE),0)","v":0},{"$f":"IFERROR(VLOOKUP(B98,INDIRECT(\"'\"&$H$1&\"'!\"&\"$C$2:$G$200\"),4,FALSE),\"\")","v":3.8518518518518521E-2},{"$f":"IFERROR(VLOOKUP(B98,INDIRECT(\"'\"&$H$1&\"'!\"&\"$C$2:$G$200\"),5,FALSE),0)","v":75.421127498689827},{"$f":"IFERROR(VLOOKUP(B98,INDIRECT(\"'\"&$J$1&\"'!\"&\"$C$2:$G$200\"),4,FALSE),\"\")","v":""},{"$f":"IFERROR(VLOOKUP(B98,INDIRECT(\"'\"&$J$1&\"'!\"&\"$C$2:$G$200\"),5,FALSE),0)","v":0},{"$f":"IFERROR(VLOOKUP(B98,INDIRECT(\"'\"&$L$1&\"'!\"&\"$C$2:$G$200\"),4,FALSE),\"\")","v":""},{"$f":"IFERROR(VLOOKUP(B98,INDIRECT(\"'\"&$L$1&\"'!\"&\"$C$2:$G$200\"),5,FALSE),0)","v":0},{"$f":"IFERROR(VLOOKUP(B98,INDIRECT(\"'\"&$N$1&\"'!\"&\"$C$2:$G$200\"),4,FALSE),\"\")","v":""},{"$f":"IFERROR(VLOOKUP(B98,INDIRECT(\"'\"&$N$1&\"'!\"&\"$C$2:$G$200\"),5,FALSE),0)","v":0},{"$f":"IFERROR(VLOOKUP(B98,INDIRECT(\"'\"&$P$1&\"'!\"&\"$C$2:$G$200\"),4,FALSE),\"\")","v":""},{"$f":"IFERROR(VLOOKUP(B98,INDIRECT(\"'\"&$P$1&\"'!\"&\"$C$2:$G$200\"),5,FALSE),0)","v":0},{"$f":"IFERROR(VLOOKUP(B98,INDIRECT(\"'\"&$R$1&\"'!\"&\"$C$2:$G$200\"),4,FALSE),\"\")","v":""},{"$f":"IFERROR(VLOOKUP(B98,INDIRECT(\"'\"&$R$1&\"'!\"&\"$C$2:$G$200\"),5,FALSE),0)","v":0},{"$f":"IFERROR(VLOOKUP(B98,INDIRECT(\"'\"&$T$1&\"'!\"&\"$C$2:$G$200\"),4,FALSE),\"\")","v":4.6979166666666662E-2},{"$f":"IFERROR(VLOOKUP(B98,INDIRECT(\"'\"&$T$1&\"'!\"&\"$C$2:$G$200\"),5,FALSE),0)","v":70.798319327731079},{"$f":"8-COUNTIF(F98:U98,\"\")","v":2},{"$f":"E98/IF(V98>4,5,V98)","v":73.109723413210446}]
[97,"Sammi Toop","Mynydd Du","SF",{"$f":"SUM(LARGE((S99,G99,I99,K99,M99,O99,Q99,U99),{1,2,3,4,5}))","v":145.7729641870356},{"$f":"IFERROR(VLOOKUP(B99,INDIRECT(\"'\"&$F$1&\"'!\"&\"$C$2:$G$200\"),4,FALSE),\"\")","v":""},{"$f":"IFERROR(VLOOKUP(B99,INDIRECT(\"'\"&$F$1&\"'!\"&\"$C$2:$G$200\"),5,FALSE),0)","v":0},{"$f":"IFERROR(VLOOKUP(B99,INDIRECT(\"'\"&$H$1&\"'!\"&\"$C$2:$G$200\"),4,FALSE),\"\")","v":""},{"$f":"IFERROR(VLOOKUP(B99,INDIRECT(\"'\"&$H$1&\"'!\"&\"$C$2:$G$200\"),5,FALSE),0)","v":0},{"$f":"IFERROR(VLOOKUP(B99,INDIRECT(\"'\"&$J$1&\"'!\"&\"$C$2:$G$200\"),4,FALSE),\"\")","v":""},{"$f":"IFERROR(VLOOKUP(B99,INDIRECT(\"'\"&$J$1&\"'!\"&\"$C$2:$G$200\"),5,FALSE),0)","v":0},{"$f":"IFERROR(VLOOKUP(B99,INDIRECT(\"'\"&$L$1&\"'!\"&\"$C$2:$G$200\"),4,FALSE),\"\")","v":""},{"$f":"IFERROR(VLOOKUP(B99,INDIRECT(\"'\"&$L$1&\"'!\"&\"$C$2:$G$200\"),5,FALSE),0)","v":0},{"$f":"IFERROR(VLOOKUP(B99,INDIRECT(\"'\"&$N$1&\"'!\"&\"$C$2:$G$200\"),4,FALSE),\"\")","v":""},{"$f":"IFERROR(VLOOKUP(B99,INDIRECT(\"'\"&$N$1&\"'!\"&\"$C$2:$G$200\"),5,FALSE),0)","v":0},{"$f":"IFERROR(VLOOKUP(B99,INDIRECT(\"'\"&$P$1&\"'!\"&\"$C$2:$G$200\"),4,FALSE),\"\")","v":2.8321759259259258E-2},{"$f":"IFERROR(VLOOKUP(B99,INDIRECT(\"'\"&$P$1&\"'!\"&\"$C$2:$G$200\"),5,FALSE),0)","v":70.033991926917352},{"$f":"IFERROR(VLOOKUP(B99,INDIRECT(\"'\"&$R$1&\"'!\"&\"$C$2:$G$200\"),4,FALSE),\"\")","v":2.5300925925925925E-2},{"$f":"IFERROR(VLOOKUP(B99,INDIRECT(\"'\"&$R$1&\"'!\"&\"$C$2:$G$200\"),5,FALSE),0)","v":75.73897226011826},{"$f":"IFERROR(VLOOKUP(B99,INDIRECT(\"'\"&$T$1&\"'!\"&\"$C$2:$G$200\"),4,FALSE),\"\")","v":""},{"$f":"IFERROR(VLOOKUP(B99,INDIRECT(\"'\"&$T$1&\"'!\"&\"$C$2:$G$200\"),5,FALSE),0)","v":0},{"$f":"8-COUNTIF(F99:U99,\"\")","v":2},{"$f":"E99/IF(V99>4,5,V99)","v":72.886482093517799}]
[98,"Steve Loveluck","Meirionydd","M50",{"$f":"SUM(LARGE((S100,G100,I100,K100,M100,O100,Q100,U100),{1,2,3,4,5}))","v":145.31623242312503},{"$f":"IFERROR(VLOOKUP(B100,INDIRECT(\"'\"&$F$1&\"'!\"&\"$C$2:$G$200\"),4,FALSE),\"\")","v":""},{"$f":"IFERROR(VLOOKUP(B100,INDIRECT(\"'\"&$F$1&\"'!\"&\"$C$2:$G$200\"),5,FALSE),0)","v":0},{"$f":"IFERROR(VLOOKUP(B100,INDIRECT(\"'\"&$H$1&\"'!\"&\"$C$2:$G$200\"),4,FALSE),\"\")","v":3.7951388888888889E-2},{"$f":"IFERROR(VLOOKUP(B100,INDIRECT(\"'\"&$H$1&\"'!\"&\"$C$2:$G$200\"),5,FALSE),0)","v":77.255371715205541},{"$f":"IFERROR(VLOOKUP(B100,INDIRECT(\"'\"&$J$1&\"'!\"&\"$C$2:$G$200\"),4,FALSE),\"\")","v":""},{"$f":"IFERROR(VLOOKUP(B100,INDIRECT(\"'\"&$J$1&\"'!\"&\"$C$2:$G$200\"),5,FALSE),0)","v":0},{"$f":"IFERROR(VLOOKUP(B100,INDIRECT(\"'\"&$L$1&\"'!\"&\"$C$2:$G$200\"),4,FALSE),\"\")","v":""},{"$f":"IFERROR(VLOOKUP(B100,INDIRECT(\"'\"&$L$1&\"'!\"&\"$C$2:$G$200\"),5,FALSE),0)","v":0},{"$f":"IFERROR(VLOOKUP(B100,INDIRECT(\"'\"&$N$1&\"'!\"&\"$C$2:$G$200\"),4,FALSE),\"\")","v":""},{"$f":"IFERROR(VLOOKUP(B100,INDIRECT(\"'\"&$N$1&\"'!\"&\"$C$2:$G$200\"),5,FALSE),0)","v":0},{"$f":"IFERROR(VLOOKUP(B100,INDIRECT(\"'\"&$P$1&\"'!\"&\"$C$2:$G$200\"),4,FALSE),\"\")","v":""},{"$f":"IFERROR(VLOOKUP(B100,INDIRECT(\"'\"&$P$1&\"'!\"&\"$C$2:$G$200\"),5,FALSE),0)","v":0},{"$f":"IFERROR(VLOOKUP(B100,INDIRECT(\"'\"&$R$1&\"'!\"&\"$C$2:$G$200\"),4,FALSE),\"\")","v":""},{"$f":"IFERROR(VLOOKUP(B100,INDIRECT(\"'\"&$R$1&\"'!\"&\"$C$2:$G$200\"),5,FALSE),0)","v":0},{"$f":"IFERROR(VLOOKUP(B100,INDIRECT(\"'\"&$T$1&\"'!\"&\"$C$2:$G$200\"),4,FALSE),\"\")","v":4.7974537037037045E-2},{"$f":"IFERROR(VLOOKUP(B100,INDIRECT(\"'\"&$T$1&\"'!\"&\"$C$2:$G$200\"),5,FALSE),0)","v":68.060860707919502},{"$f":"8-COUNTIF(F100:U100,\"\")","v":2},{"$f":"E100/IF(V100>4,5,V100)","v":72.658116211562515}]
[99,"Rhian Probert","Mynydd Du","F40",{"$f":"SUM(LARGE((S101,G101,I101,K101,M101,O101,Q101,U101),{1,2,3,4,5}))","v":144.41394844049211},{"$f":"IFERROR(VLOOKUP(B101,INDIRECT(\"'\"&$F$1&\"'!\"&\"$C$2:$G$200\"),4,FALSE),\"\")","v":""},{"$f":"IFERROR(VLOOKUP(B101,INDIRECT(\"'\"&$F$1&\"'!\"&\"$C$2:$G$200\"),5,FALSE),0)","v":0},{"$f":"IFERROR(VLOOKUP(B101,INDIRECT(\"'\"&$H$1&\"'!\"&\"$C$2:$G$200\"),4,FALSE),\"\")","v":""},{"$f":"IFERROR(VLOOKUP(B101,INDIRECT(\"'\"&$H$1&\"'!\"&\"$C$2:$G$200\"),5,FALSE),0)","v":0},{"$f":"IFERROR(VLOOKUP(B101,INDIRECT(\"'\"&$J$1&\"'!\"&\"$C$2:$G$200\"),4,FALSE),\"\")","v":""},{"$f":"IFERROR(VLOOKUP(B101,INDIRECT(\"'\"&$J$1&\"'!\"&\"$C$2:$G$200\"),5,FALSE),0)","v":0},{"$f":"IFERROR(VLOOKUP(B101,INDIRECT(\"'\"&$L$1&\"'!\"&\"$C$2:$G$200\"),4,FALSE),\"\")","v":""},{"$f":"IFERROR(VLOOKUP(B101,INDIRECT(\"'\"&$L$1&\"'!\"&\"$C$2:$G$200\"),5,FALSE),0)","v":0},{"$f":"IFERROR(VLOOKUP(B101,INDIRECT(\"'\"&$N$1&\"'!\"&\"$C$2:$G$200\"),4,FALSE),\"\")","v":""},{"$f":"IFERROR(VLOOKUP(B101,INDIRECT(\"'\"&$N$1&\"'!\"&\"$C$2:$G$200\"),5,FALSE),0)","v":0},{"$f":"IFERROR(VLOOKUP(B101,INDIRECT(\"'\"&$P$1&\"'!\"&\"$C$2:$G$200\"),4,FALSE),\"\")","v":2.71875E-2},{"$f":"IFERROR(VLOOKUP(B101,INDIRECT(\"'\"&$P$1&\"'!\"&\"$C$2:$G$200\"),5,FALSE),0)","v":75.239005736137642},{"$f":"IFERROR(VLOOKUP(B101,INDIRECT(\"'\"&$R$1&\"'!\"&\"$C$2:$G$200\"),4,FALSE),\"\")","v":""},{"$f":"IFERROR(VLOOKUP(B101,INDIRECT(\"'\"&$R$1&\"'!\"&\"$C$2:$G$200\"),5,FALSE),0)","v":0},{"$f":"IFERROR(VLOOKUP(B101,INDIRECT(\"'\"&$T$1&\"'!\"&\"$C$2:$G$200\"),4,FALSE),\"\")","v":4.7569444444444442E-2},{"$f":"IFERROR(VLOOKUP(B101,INDIRECT(\"'\"&$T$1&\"'!\"&\"$C$2:$G$200\"),5,FALSE),0)","v":69.174942704354464},{"$f":"8-COUNTIF(F101:U101,\"\")","v":2},{"$f":"E101/IF(V101>4,5,V101)","v":72.206974220246053}]
[100,"Gareth Jones","MDC","M70",{"$f":"SUM(LARGE((S102,G102,I102,K102,M102,O102,Q102,U102),{1,2,3,4,5}))","v":144.14972354147574},{"$f":"IFERROR(VLOOKUP(B102,INDIRECT(\"'\"&$F$1&\"'!\"&\"$C$2:$G$200\"),4,FALSE),\"\")","v":""},{"$f":"IFERROR(VLOOKUP(B102,INDIRECT(\"'\"&$F$1&\"'!\"&\"$C$2:$G$200\"),5,FALSE),0)","v":0},{"$f":"IFERROR(VLOOKUP(B102,INDIRECT(\"'\"&$H$1&\"'!\"&\"$C$2:$G$200\"),4,FALSE),\"\")","v":""},{"$f":"IFERROR(VLOOKUP(B102,INDIRECT(\"'\"&$H$1&\"'!\"&\"$C$2:$G$200\"),5,FALSE),0)","v":0},{"$f":"IFERROR(VLOOKUP(B102,INDIRECT(\"'\"&$J$1&\"'!\"&\"$C$2:$G$200\"),4,FALSE),\"\")","v":""},{"$f":"IFERROR(VLOOKUP(B102,INDIRECT(\"'\"&$J$1&\"'!\"&\"$C$2:$G$200\"),5,FALSE),0)","v":0},{"$f":"IFERROR(VLOOKUP(B102,INDIRECT(\"'\"&$L$1&\"'!\"&\"$C$2:$G$200\"),4,FALSE),\"\")","v":""},{"$f":"IFERROR(VLOOKUP(B102,INDIRECT(\"'\"&$L$1&\"'!\"&\"$C$2:$G$200\"),5,FALSE),0)","v":0},{"$f":"IFERROR(VLOOKUP(B102,INDIRECT(\"'\"&$N$1&\"'!\"&\"$C$2:$G$200\"),4,FALSE),\"\")","v":3.8993055555555552E-2},{"$f":"IFERROR(VLOOKUP(B102,INDIRECT(\"'\"&$N$1&\"'!\"&\"$C$2:$G$200\"),5,FALSE),0)","v":26.911220715166518},{"$f":"IFERROR(VLOOKUP(B102,INDIRECT(\"'\"&$P$1&\"'!\"&\"$C$2:$G$200\"),4,FALSE),\"\")","v":3.4791666666666672E-2},{"$f":"IFERROR(VLOOKUP(B102,INDIRECT(\"'\"&$P$1&\"'!\"&\"$C$2:$G$200\"),5,FALSE),0)","v":40.344168260038195},{"$f":"IFERROR(VLOOKUP(B102,INDIRECT(\"'\"&$R$1&\"'!\"&\"$C$2:$G$200\"),4,FALSE),\"\")","v":3.0763888888888886E-2},{"$f":"IFERROR(VLOOKUP(B102,INDIRECT(\"'\"&$R$1&\"'!\"&\"$C$2:$G$200\"),5,FALSE),0)","v":48.90859481582541},{"$f":"IFERROR(VLOOKUP(B102,INDIRECT(\"'\"&$T$1&\"'!\"&\"$C$2:$G$200\"),4,FALSE),\"\")","v":6.2546296296296294E-2},{"$f":"IFERROR(VLOOKUP(B102,INDIRECT(\"'\"&$T$1&\"'!\"&\"$C$2:$G$200\"),5,FALSE),0)","v":27.985739750445624},{"$f":"8-COUNTIF(F102:U102,\"\")","v":4},{"$f":"E102/IF(V102>4,5,V102)","v":36.037430885368934}]
[101,"Gareth Bryer","Mynydd Du","M40",{"$f":"SUM(LARGE((S103,G103,I103,K103,M103,O103,Q103,U103),{1,2,3,4,5}))","v":141.8107162689206},{"$f":"IFERROR(VLOOKUP(B103,INDIRECT(\"'\"&$F$1&\"'!\"&\"$C$2:$G$200\"),4,FALSE),\"\")","v":""},{"$f":"IFERROR(VLOOKUP(B103,INDIRECT(\"'\"&$F$1&\"'!\"&\"$C$2:$G$200\"),5,FALSE),0)","v":0},{"$f":"IFERROR(VLOOKUP(B103,INDIRECT(\"'\"&$H$1&\"'!\"&\"$C$2:$G$200\"),4,FALSE),\"\")","v":3.9143518518518515E-2},{"$f":"IFERROR(VLOOKUP(B103,INDIRECT(\"'\"&$H$1&\"'!\"&\"$C$2:$G$200\"),5,FALSE),0)","v":73.399715504978673},{"$f":"IFERROR(VLOOKUP(B103,INDIRECT(\"'\"&$J$1&\"'!\"&\"$C$2:$G$200\"),4,FALSE),\"\")","v":""},{"$f":"IFERROR(VLOOKUP(B103,INDIRECT(\"'\"&$J$1&\"'!\"&\"$C$2:$G$200\"),5,FALSE),0)","v":0},{"$f":"IFERROR(VLOOKUP(B103,INDIRECT(\"'\"&$L$1&\"'!\"&\"$C$2:$G$200\"),4,FALSE),\"\")","v":""},{"$f":"IFERROR(VLOOKUP(B103,INDIRECT(\"'\"&$L$1&\"'!\"&\"$C$2:$G$200\"),5,FALSE),0)","v":0},{"$f":"IFERROR(VLOOKUP(B103,INDIRECT(\"'\"&$N$1&\"'!\"&\"$C$2:$G$200\"),4,FALSE),\"\")","v":""},{"$f":"IFERROR(VLOOKUP(B103,INDIRECT(\"'\"&$N$1&\"'!\"&\"$C$2:$G$200\"),5,FALSE),0)","v":0},{"$f":"IFERROR(VLOOKUP(B103,INDIRECT(\"'\"&$P$1&\"'!\"&\"$C$2:$G$200\"),4,FALSE),\"\")","v":""},{"$f":"IFERROR(VLOOKUP(B103,INDIRECT(\"'\"&$P$1&\"'!\"&\"$C$2:$G$200\"),5,FALSE),0)","v":0},{"$f":"IFERROR(VLOOKUP(B103,INDIRECT(\"'\"&$R$1&\"'!\"&\"$C$2:$G$200\"),4,FALSE),\"\")","v":""},{"$f":"IFERROR(VLOOKUP(B103,INDIRECT(\"'\"&$R$1&\"'!\"&\"$C$2:$G$200\"),5,FALSE),0)","v":0},{"$f":"IFERROR(VLOOKUP(B103,INDIRECT(\"'\"&$T$1&\"'!\"&\"$C$2:$G$200\"),4,FALSE),\"\")","v":4.7847222222222228E-2},{"$f":"IFERROR(VLOOKUP(B103,INDIRECT(\"'\"&$T$1&\"'!\"&\"$C$2:$G$200\"),5,FALSE),0)","v":68.411000763941914},{"$f":"8-COUNTIF(F103:U103,\"\")","v":2},{"$f":"E103/IF(V103>4,5,V103)","v":70.9053581344603}]
[102,"Martin Scrivens","Monross Trailblazers","SM",{"$f":"SUM(LARGE((S104,G104,I104,K104,M104,O104,Q104,U104),{1,2,3,4,5}))","v":140.72189808296736},{"$f":"IFERROR(VLOOKUP(B104,INDIRECT(\"'\"&$F$1&\"'!\"&\"$C$2:$G$200\"),4,FALSE),\"\")","v":""},{"$f":"IFERROR(VLOOKUP(B104,INDIRECT(\"'\"&$F$1&\"'!\"&\"$C$2:$G$200\"),5,FALSE),0)","v":0},{"$f":"IFERROR(VLOOKUP(B104,INDIRECT(\"'\"&$H$1&\"'!\"&\"$C$2:$G$200\"),4,FALSE),\"\")","v":""},{"$f":"IFERROR(VLOOKUP(B104,INDIRECT(\"'\"&$H$1&\"'!\"&\"$C$2:$G$200\"),5,FALSE),0)","v":0},{"$f":"IFERROR(VLOOKUP(B104,INDIRECT(\"'\"&$J$1&\"'!\"&\"$C$2:$G$200\"),4,FALSE),\"\")","v":""},{"$f":"IFERROR(VLOOKUP(B104,INDIRECT(\"'\"&$J$1&\"'!\"&\"$C$2:$G$200\"),5,FALSE),0)","v":0},{"$f":"IFERROR(VLOOKUP(B104,INDIRECT(\"'\"&$L$1&\"'!\"&\"$C$2:$G$200\"),4,FALSE),\"\")","v":2.5277777777777777E-2},{"$f":"IFERROR(VLOOKUP(B104,INDIRECT(\"'\"&$L$1&\"'!\"&\"$C$2:$G$200\"),5,FALSE),0)","v":64.951768488745998},{"$f":"IFERROR(VLOOKUP(B104,INDIRECT(\"'\"&$N$1&\"'!\"&\"$C$2:$G$200\"),4,FALSE),\"\")","v":""},{"$f":"IFERROR(VLOOKUP(B104,INDIRECT(\"'\"&$N$1&\"'!\"&\"$C$2:$G$200\"),5,FALSE),0)","v":0},{"$f":"IFERROR(VLOOKUP(B104,INDIRECT(\"'\"&$P$1&\"'!\"&\"$C$2:$G$200\"),4,FALSE),\"\")","v":2.7071759259259257E-2},{"$f":"IFERROR(VLOOKUP(B104,INDIRECT(\"'\"&$P$1&\"'!\"&\"$C$2:$G$200\"),5,FALSE),0)","v":75.770129594221359},{"$f":"IFERROR(VLOOKUP(B104,INDIRECT(\"'\"&$R$1&\"'!\"&\"$C$2:$G$200\"),4,FALSE),\"\")","v":""},{"$f":"IFERROR(VLOOKUP(B104,INDIRECT(\"'\"&$R$1&\"'!\"&\"$C$2:$G$200\"),5,FALSE),0)","v":0},null,{"$f":"IFERROR(VLOOKUP(B104,INDIRECT(\"'\"&$T$1&\"'!\"&\"$C$2:$G$200\"),5,FALSE),0)","v":0},{"$f":"8-COUNTIF(F104:U104,\"\")","v":2},{"$f":"E104/IF(V104>4,5,V104)","v":70.360949041483678}]
[103,"Andrew Blackmore","MDC","M50 ",{"$f":"SUM(LARGE((S105,G105,I105,K105,M105,O105,Q105,U105),{1,2,3,4,5}))","v":138.13685336548474},{"$f":"IFERROR(VLOOKUP(B105,INDIRECT(\"'\"&$F$1&\"'!\"&\"$C$2:$G$200\"),4,FALSE),\"\")","v":1.8599537037037036E-2},{"$f":"IFERROR(VLOOKUP(B105,INDIRECT(\"'\"&$F$1&\"'!\"&\"$C$2:$G$200\"),5,FALSE),0)","v":73.084820723424414},{"$f":"IFERROR(VLOOKUP(B105,INDIRECT(\"'\"&$H$1&\"'!\"&\"$C$2:$G$200\"),4,FALSE),\"\")","v":4.1724537037037039E-2},{"$f":"IFERROR(VLOOKUP(B105,INDIRECT(\"'\"&$H$1&\"'!\"&\"$C$2:$G$200\"),5,FALSE),0)","v":65.05203264206034},{"$f":"IFERROR(VLOOKUP(B105,INDIRECT(\"'\"&$J$1&\"'!\"&\"$C$2:$G$200\"),4,FALSE),\"\")","v":""},{"$f":"IFERROR(VLOOKUP(B105,INDIRECT(\"'\"&$J$1&\"'!\"&\"$C$2:$G$200\"),5,FALSE),0)","v":0},{"$f":"IFERROR(VLOOKUP(B105,INDIRECT(\"'\"&$L$1&\"'!\"&\"$C$2:$G$200\"),4,FALSE),\"\")","v":""},{"$f":"IFERROR(VLOOKUP(B105,INDIRECT(\"'\"&$L$1&\"'!\"&\"$C$2:$G$200\"),5,FALSE),0)","v":0},{"$f":"IFERROR(VLOOKUP(B105,INDIRECT(\"'\"&$N$1&\"'!\"&\"$C$2:$G$200\"),4,FALSE),\"\")","v":""},{"$f":"IFERROR(VLOOKUP(B105,INDIRECT(\"'\"&$N$1&\"'!\"&\"$C$2:$G$200\"),5,FALSE),0)","v":0},{"$f":"IFERROR(VLOOKUP(B105,INDIRECT(\"'\"&$P$1&\"'!\"&\"$C$2:$G$200\"),4,FALSE),\"\")","v":""},{"$f":"IFERROR(VLOOKUP(B105,INDIRECT(\"'\"&$P$1&\"'!\"&\"$C$2:$G$200\"),5,FALSE),0)","v":0},{"$f":"IFERROR(VLOOKUP(B105,INDIRECT(\"'\"&$R$1&\"'!\"&\"$C$2:$G$200\"),4,FALSE),\"\")","v":""},{"$f":"IFERROR(VLOOKUP(B105,INDIRECT(\"'\"&$R$1&\"'!\"&\"$C$2:$G$200\"),5,FALSE),0)","v":0},{"$f":"IFERROR(VLOOKUP(B105,INDIRECT(\"'\"&$T$1&\"'!\"&\"$C$2:$G$200\"),4,FALSE),\"\")","v":""},{"$f":"IFERROR(VLOOKUP(B105,INDIRECT(\"'\"&$T$1&\"'!\"&\"$C$2:$G$200\"),5,FALSE),0)","v":0},{"$f":"8-COUNTIF(F105:U105,\"\")","v":2},{"$f":"E105/IF(V105>4,5,V105)","v":69.06842668274237}]
[104,"Mark Saunders","MDC","M50",{"$f":"SUM(LARGE((S106,G106,I106,K106,M106,O106,Q106,U106),{1,2,3,4,5}))","v":135.73886078614663},{"$f":"IFERROR(VLOOKUP(B106,INDIRECT(\"'\"&$F$1&\"'!\"&\"$C$2:$G$200\"),4,FALSE),\"\")","v":""},{"$f":"IFERROR(VLOOKUP(B106,INDIRECT(\"'\"&$F$1&\"'!\"&\"$C$2:$G$200\"),5,FALSE),0)","v":0},{"$f":"IFERROR(VLOOKUP(B106,INDIRECT(\"'\"&$H$1&\"'!\"&\"$C$2:$G$200\"),4,FALSE),\"\")","v":""},{"$f":"IFERROR(VLOOKUP(B106,INDIRECT(\"'\"&$H$1&\"'!\"&\"$C$2:$G$200\"),5,FALSE),0)","v":0},{"$f":"IFERROR(VLOOKUP(B106,INDIRECT(\"'\"&$J$1&\"'!\"&\"$C$2:$G$200\"),4,FALSE),\"\")","v":""},{"$f":"IFERROR(VLOOKUP(B106,INDIRECT(\"'\"&$J$1&\"'!\"&\"$C$2:$G$200\"),5,FALSE),0)","v":0},{"$f":"IFERROR(VLOOKUP(B106,INDIRECT(\"'\"&$L$1&\"'!\"&\"$C$2:$G$200\"),4,FALSE),\"\")","v":2.480324074074074E-2},{"$f":"IFERROR(VLOOKUP(B106,INDIRECT(\"'\"&$L$1&\"'!\"&\"$C$2:$G$200\"),5,FALSE),0)","v":67.487014593123945},{"$f":"IFERROR(VLOOKUP(B106,INDIRECT(\"'\"&$N$1&\"'!\"&\"$C$2:$G$200\"),4,FALSE),\"\")","v":""},{"$f":"IFERROR(VLOOKUP(B106,INDIRECT(\"'\"&$N$1&\"'!\"&\"$C$2:$G$200\"),5,FALSE),0)","v":0},{"$f":"IFERROR(VLOOKUP(B106,INDIRECT(\"'\"&$P$1&\"'!\"&\"$C$2:$G$200\"),4,FALSE),\"\")","v":""},{"$f":"IFERROR(VLOOKUP(B106,INDIRECT(\"'\"&$P$1&\"'!\"&\"$C$2:$G$200\"),5,FALSE),0)","v":0},{"$f":"IFERROR(VLOOKUP(B106,INDIRECT(\"'\"&$R$1&\"'!\"&\"$C$2:$G$200\"),4,FALSE),\"\")","v":""},{"$f":"IFERROR(VLOOKUP(B106,INDIRECT(\"'\"&$R$1&\"'!\"&\"$C$2:$G$200\"),5,FALSE),0)","v":0},null,{"$f":"IFERROR(VLOOKUP(B106,INDIRECT(\"'\"&$T$1&\"'!\"&\"$C$2:$G$200\"),5,FALSE),0)","v":68.251846193022672},{"$f":"8-COUNTIF(F106:U106,\"\")","v":1},{"$f":"E106/IF(V106>4,5,V106)","v":135.73886078614663}]
[105,"Martin Simmons","Unaffiliated","M50",{"$f":"SUM(LARGE((S107,G107,I107,K107,M107,O107,Q107,U107),{1,2,3,4,5}))","v":135.38201197190648},{"$f":"IFERROR(VLOOKUP(B107,INDIRECT(\"'\"&$F$1&\"'!\"&\"$C$2:$G$200\"),4,FALSE),\"\")","v":""},{"$f":"IFERROR(VLOOKUP(B107,INDIRECT(\"'\"&$F$1&\"'!\"&\"$C$2:$G$200\"),5,FALSE),0)","v":0},{"$f":"IFERROR(VLOOKUP(B107,INDIRECT(\"'\"&$H$1&\"'!\"&\"$C$2:$G$200\"),4,FALSE),\"\")","v":4.0833333333333333E-2},{"$f":"IFERROR(VLOOKUP(B107,INDIRECT(\"'\"&$H$1&\"'!\"&\"$C$2:$G$200\"),5,FALSE),0)","v":67.934416410870725},{"$f":"IFERROR(VLOOKUP(B107,INDIRECT(\"'\"&$J$1&\"'!\"&\"$C$2:$G$200\"),4,FALSE),\"\")","v":""},{"$f":"IFERROR(VLOOKUP(B107,INDIRECT(\"'\"&$J$1&\"'!\"&\"$C$2:$G$200\"),5,FALSE),0)","v":0},{"$f":"IFERROR(VLOOKUP(B107,INDIRECT(\"'\"&$L$1&\"'!\"&\"$C$2:$G$200\"),4,FALSE),\"\")","v":""},{"$f":"IFERROR(VLOOKUP(B107,INDIRECT(\"'\"&$L$1&\"'!\"&\"$C$2:$G$200\"),5,FALSE),0)","v":0},{"$f":"IFERROR(VLOOKUP(B107,INDIRECT(\"'\"&$N$1&\"'!\"&\"$C$2:$G$200\"),4,FALSE),\"\")","v":2.9861111111111113E-2},{"$f":"IFERROR(VLOOKUP(B107,INDIRECT(\"'\"&$N$1&\"'!\"&\"$C$2:$G$200\"),5,FALSE),0)","v":67.447595561035769},{"$f":"IFERROR(VLOOKUP(B107,INDIRECT(\"'\"&$P$1&\"'!\"&\"$C$2:$G$200\"),4,FALSE),\"\")","v":""},{"$f":"IFERROR(VLOOKUP(B107,INDIRECT(\"'\"&$P$1&\"'!\"&\"$C$2:$G$200\"),5,FALSE),0)","v":0},{"$f":"IFERROR(VLOOKUP(B107,INDIRECT(\"'\"&$R$1&\"'!\"&\"$C$2:$G$200\"),4,FALSE),\"\")","v":""},{"$f":"IFERROR(VLOOKUP(B107,INDIRECT(\"'\"&$R$1&\"'!\"&\"$C$2:$G$200\"),5,FALSE),0)","v":0},{"$f":"IFERROR(VLOOKUP(B107,INDIRECT(\"'\"&$T$1&\"'!\"&\"$C$2:$G$200\"),4,FALSE),\"\")","v":""},{"$f":"IFERROR(VLOOKUP(B107,INDIRECT(\"'\"&$T$1&\"'!\"&\"$C$2:$G$200\"),5,FALSE),0)","v":0},{"$f":"8-COUNTIF(F107:U107,\"\")","v":2},{"$f":"E107/IF(V107>4,5,V107)","v":67.69100598595324}]
[106,"Sasha Habgood","Mynydd Du","F40",{"$f":"SUM(LARGE((S108,G108,I108,K108,M108,O108,Q108,U108),{1,2,3,4,5}))","v":134.77836485006111},{"$f":"IFERROR(VLOOKUP(B108,INDIRECT(\"'\"&$F$1&\"'!\"&\"$C$2:$G$200\"),4,FALSE),\"\")","v":""},{"$f":"IFERROR(VLOOKUP(B108,INDIRECT(\"'\"&$F$1&\"'!\"&\"$C$2:$G$200\"),5,FALSE),0)","v":0},{"$f":"IFERROR(VLOOKUP(B108,INDIRECT(\"'\"&$H$1&\"'!\"&\"$C$2:$G$200\"),4,FALSE),\"\")","v":3.9467592592592596E-2},{"$f":"IFERROR(VLOOKUP(B108,INDIRECT(\"'\"&$H$1&\"'!\"&\"$C$2:$G$200\"),5,FALSE),0)","v":72.351575952684001},{"$f":"IFERROR(VLOOKUP(B108,INDIRECT(\"'\"&$J$1&\"'!\"&\"$C$2:$G$200\"),4,FALSE),\"\")","v":""},{"$f":"IFERROR(VLOOKUP(B108,INDIRECT(\"'\"&$J$1&\"'!\"&\"$C$2:$G$200\"),5,FALSE),0)","v":0},{"$f":"IFERROR(VLOOKUP(B108,INDIRECT(\"'\"&$L$1&\"'!\"&\"$C$2:$G$200\"),4,FALSE),\"\")","v":""},{"$f":"IFERROR(VLOOKUP(B108,INDIRECT(\"'\"&$L$1&\"'!\"&\"$C$2:$G$200\"),5,FALSE),0)","v":0},{"$f":"IFERROR(VLOOKUP(B108,INDIRECT(\"'\"&$N$1&\"'!\"&\"$C$2:$G$200\"),4,FALSE),\"\")","v":""},{"$f":"IFERROR(VLOOKUP(B108,INDIRECT(\"'\"&$N$1&\"'!\"&\"$C$2:$G$200\"),5,FALSE),0)","v":0},{"$f":"IFERROR(VLOOKUP(B108,INDIRECT(\"'\"&$P$1&\"'!\"&\"$C$2:$G$200\"),4,FALSE),\"\")","v":""},{"$f":"IFERROR(VLOOKUP(B108,INDIRECT(\"'\"&$P$1&\"'!\"&\"$C$2:$G$200\"),5,FALSE),0)","v":0},{"$f":"IFERROR(VLOOKUP(B108,INDIRECT(\"'\"&$R$1&\"'!\"&\"$C$2:$G$200\"),4,FALSE),\"\")","v":""},{"$f":"IFERROR(VLOOKUP(B108,INDIRECT(\"'\"&$R$1&\"'!\"&\"$C$2:$G$200\"),5,FALSE),0)","v":0},{"$f":"IFERROR(VLOOKUP(B108,INDIRECT(\"'\"&$T$1&\"'!\"&\"$C$2:$G$200\"),4,FALSE),\"\")","v":5.002314814814815E-2},{"$f":"IFERROR(VLOOKUP(B108,INDIRECT(\"'\"&$T$1&\"'!\"&\"$C$2:$G$200\"),5,FALSE),0)","v":62.426788897377115},{"$f":"8-COUNTIF(F108:U108,\"\")","v":2},{"$f":"E108/IF(V108>4,5,V108)","v":67.389182425030555}]
[107,"Emma McWilliams","Mynydd Du","SF",{"$f":"SUM(LARGE((S109,G109,I109,K109,M109,O109,Q109,U109),{1,2,3,4,5}))","v":134.7386773160539},{"$f":"IFERROR(VLOOKUP(B109,INDIRECT(\"'\"&$F$1&\"'!\"&\"$C$2:$G$200\"),4,FALSE),\"\")","v":""},{"$f":"IFERROR(VLOOKUP(B109,INDIRECT(\"'\"&$F$1&\"'!\"&\"$C$2:$G$200\"),5,FALSE),0)","v":0},{"$f":"IFERROR(VLOOKUP(B109,INDIRECT(\"'\"&$H$1&\"'!\"&\"$C$2:$G$200\"),4,FALSE),\"\")","v":""},{"$f":"IFERROR(VLOOKUP(B109,INDIRECT(\"'\"&$H$1&\"'!\"&\"$C$2:$G$200\"),5,FALSE),0)","v":0},{"$f":"IFERROR(VLOOKUP(B109,INDIRECT(\"'\"&$J$1&\"'!\"&\"$C$2:$G$200\"),4,FALSE),\"\")","v":""},{"$f":"IFERROR(VLOOKUP(B109,INDIRECT(\"'\"&$J$1&\"'!\"&\"$C$2:$G$200\"),5,FALSE),0)","v":0},{"$f":"IFERROR(VLOOKUP(B109,INDIRECT(\"'\"&$L$1&\"'!\"&\"$C$2:$G$200\"),4,FALSE),\"\")","v":""},{"$f":"IFERROR(VLOOKUP(B109,INDIRECT(\"'\"&$L$1&\"'!\"&\"$C$2:$G$200\"),5,FALSE),0)","v":0},{"$f":"IFERROR(VLOOKUP(B109,INDIRECT(\"'\"&$N$1&\"'!\"&\"$C$2:$G$200\"),4,FALSE),\"\")","v":2.990740740740741E-2},{"$f":"IFERROR(VLOOKUP(B109,INDIRECT(\"'\"&$N$1&\"'!\"&\"$C$2:$G$200\"),5,FALSE),0)","v":67.242087957254441},{"$f":"IFERROR(VLOOKUP(B109,INDIRECT(\"'\"&$P$1&\"'!\"&\"$C$2:$G$200\"),4,FALSE),\"\")","v":""},{"$f":"IFERROR(VLOOKUP(B109,INDIRECT(\"'\"&$P$1&\"'!\"&\"$C$2:$G$200\"),5,FALSE),0)","v":0},{"$f":"IFERROR(VLOOKUP(B109,INDIRECT(\"'\"&$R$1&\"'!\"&\"$C$2:$G$200\"),4,FALSE),\"\")","v":2.6979166666666669E-2},{"$f":"IFERROR(VLOOKUP(B109,INDIRECT(\"'\"&$R$1&\"'!\"&\"$C$2:$G$200\"),5,FALSE),0)","v":67.496589358799469},{"$f":"IFERROR(VLOOKUP(B109,INDIRECT(\"'\"&$T$1&\"'!\"&\"$C$2:$G$200\"),4,FALSE),\"\")","v":""},{"$f":"IFERROR(VLOOKUP(B109,INDIRECT(\"'\"&$T$1&\"'!\"&\"$C$2:$G$200\"),5,FALSE),0)","v":0},{"$f":"8-COUNTIF(F109:U109,\"\")","v":2},{"$f":"E109/IF(V109>4,5,V109)","v":67.369338658026948}]
[108,"Andrew Dickens","Mynydd Du","M40",{"$f":"SUM(LARGE((S110,G110,I110,K110,M110,O110,Q110,U110),{1,2,3,4,5}))","v":134.20503724413206},{"$f":"IFERROR(VLOOKUP(B110,INDIRECT(\"'\"&$F$1&\"'!\"&\"$C$2:$G$200\"),4,FALSE),\"\")","v":""},{"$f":"IFERROR(VLOOKUP(B110,INDIRECT(\"'\"&$F$1&\"'!\"&\"$C$2:$G$200\"),5,FALSE),0)","v":0},{"$f":"IFERROR(VLOOKUP(B110,INDIRECT(\"'\"&$H$1&\"'!\"&\"$C$2:$G$200\"),4,FALSE),\"\")","v":""},{"$f":"IFERROR(VLOOKUP(B110,INDIRECT(\"'\"&$H$1&\"'!\"&\"$C$2:$G$200\"),5,FALSE),0)","v":0},{"$f":"IFERROR(VLOOKUP(B110,INDIRECT(\"'\"&$J$1&\"'!\"&\"$C$2:$G$200\"),4,FALSE),\"\")","v":""},{"$f":"IFERROR(VLOOKUP(B110,INDIRECT(\"'\"&$J$1&\"'!\"&\"$C$2:$G$200\"),5,FALSE),0)","v":0},{"$f":"IFERROR(VLOOKUP(B110,INDIRECT(\"'\"&$L$1&\"'!\"&\"$C$2:$G$200\"),4,FALSE),\"\")","v":""},{"$f":"IFERROR(VLOOKUP(B110,INDIRECT(\"'\"&$L$1&\"'!\"&\"$C$2:$G$200\"),5,FALSE),0)","v":0},{"$f":"IFERROR(VLOOKUP(B110,INDIRECT(\"'\"&$N$1&\"'!\"&\"$C$2:$G$200\"),4,FALSE),\"\")","v":3.0312499999999996E-2},{"$f":"IFERROR(VLOOKUP(B110,INDIRECT(\"'\"&$N$1&\"'!\"&\"$C$2:$G$200\"),5,FALSE),0)","v":65.443896424167747},{"$f":"IFERROR(VLOOKUP(B110,INDIRECT(\"'\"&$P$1&\"'!\"&\"$C$2:$G$200\"),4,FALSE),\"\")","v":""},{"$f":"IFERROR(VLOOKUP(B110,INDIRECT(\"'\"&$P$1&\"'!\"&\"$C$2:$G$200\"),5,FALSE),0)","v":0},{"$f":"IFERROR(VLOOKUP(B110,INDIRECT(\"'\"&$R$1&\"'!\"&\"$C$2:$G$200\"),4,FALSE),\"\")","v":""},{"$f":"IFERROR(VLOOKUP(B110,INDIRECT(\"'\"&$R$1&\"'!\"&\"$C$2:$G$200\"),5,FALSE),0)","v":0},{"$f":"IFERROR(VLOOKUP(B110,INDIRECT(\"'\"&$T$1&\"'!\"&\"$C$2:$G$200\"),4,FALSE),\"\")","v":4.7719907407407412E-2},{"$f":"IFERROR(VLOOKUP(B110,INDIRECT(\"'\"&$T$1&\"'!\"&\"$C$2:$G$200\"),5,FALSE),0)","v":68.761140819964311},{"$f":"8-COUNTIF(F110:U110,\"\")","v":2},{"$f":"E110/IF(V110>4,5,V110)","v":67.102518622066029}]
[109,"Steve Harrhy","Pont-y-Pwl and District","M50",{"$f":"SUM(LARGE((S111,G111,I111,K111,M111,O111,Q111,U111),{1,2,3,4,5}))","v":133.68967020070622},{"$f":"IFERROR(VLOOKUP(B111,INDIRECT(\"'\"&$F$1&\"'!\"&\"$C$2:$G$200\"),4,FALSE),\"\")","v":""},{"$f":"IFERROR(VLOOKUP(B111,INDIRECT(\"'\"&$F$1&\"'!\"&\"$C$2:$G$200\"),5,FALSE),0)","v":0},{"$f":"IFERROR(VLOOKUP(B111,INDIRECT(\"'\"&$H$1&\"'!\"&\"$C$2:$G$200\"),4,FALSE),\"\")","v":""},{"$f":"IFERROR(VLOOKUP(B111,INDIRECT(\"'\"&$H$1&\"'!\"&\"$C$2:$G$200\"),5,FALSE),0)","v":0},{"$f":"IFERROR(VLOOKUP(B111,INDIRECT(\"'\"&$J$1&\"'!\"&\"$C$2:$G$200\"),4,FALSE),\"\")","v":""},{"$f":"IFERROR(VLOOKUP(B111,INDIRECT(\"'\"&$J$1&\"'!\"&\"$C$2:$G$200\"),5,FALSE),0)","v":0},{"$f":"IFERROR(VLOOKUP(B111,INDIRECT(\"'\"&$L$1&\"'!\"&\"$C$2:$G$200\"),4,FALSE),\"\")","v":2.5555555555555554E-2},{"$f":"IFERROR(VLOOKUP(B111,INDIRECT(\"'\"&$L$1&\"'!\"&\"$C$2:$G$200\"),5,FALSE),0)","v":63.467721988622337},{"$f":"IFERROR(VLOOKUP(B111,INDIRECT(\"'\"&$N$1&\"'!\"&\"$C$2:$G$200\"),4,FALSE),\"\")","v":2.9236111111111112E-2},{"$f":"IFERROR(VLOOKUP(B111,INDIRECT(\"'\"&$N$1&\"'!\"&\"$C$2:$G$200\"),5,FALSE),0)","v":70.221948212083873},{"$f":"IFERROR(VLOOKUP(B111,INDIRECT(\"'\"&$P$1&\"'!\"&\"$C$2:$G$200\"),4,FALSE),\"\")","v":""},{"$f":"IFERROR(VLOOKUP(B111,INDIRECT(\"'\"&$P$1&\"'!\"&\"$C$2:$G$200\"),5,FALSE),0)","v":0},{"$f":"IFERROR(VLOOKUP(B111,INDIRECT(\"'\"&$R$1&\"'!\"&\"$C$2:$G$200\"),4,FALSE),\"\")","v":""},{"$f":"IFERROR(VLOOKUP(B111,INDIRECT(\"'\"&$R$1&\"'!\"&\"$C$2:$G$200\"),5,FALSE),0)","v":0},{"$f":"IFERROR(VLOOKUP(B111,INDIRECT(\"'\"&$T$1&\"'!\"&\"$C$2:$G$200\"),4,FALSE),\"\")","v":""},{"$f":"IFERROR(VLOOKUP(B111,INDIRECT(\"'\"&$T$1&\"'!\"&\"$C$2:$G$200\"),5,FALSE),0)","v":0},{"$f":"8-COUNTIF(F111:U111,\"\")","v":2},{"$f":"E111/IF(V111>4,5,V111)","v":66.844835100353109}]
[110,"Anneliese Loveluck","Meirionydd","F40",{"$f":"SUM(LARGE((S112,G112,I112,K112,M112,O112,Q112,U112),{1,2,3,4,5}))","v":133.63344330429223},{"$f":"IFERROR(VLOOKUP(B112,INDIRECT(\"'\"&$F$1&\"'!\"&\"$C$2:$G$200\"),4,FALSE),\"\")","v":""},{"$f":"IFERROR(VLOOKUP(B112,INDIRECT(\"'\"&$F$1&\"'!\"&\"$C$2:$G$200\"),5,FALSE),0)","v":0},{"$f":"IFERROR(VLOOKUP(B112,INDIRECT(\"'\"&$H$1&\"'!\"&\"$C$2:$G$200\"),4,FALSE),\"\")","v":4.0254629629629633E-2},{"$f":"IFERROR(VLOOKUP(B112,INDIRECT(\"'\"&$H$1&\"'!\"&\"$C$2:$G$200\"),5,FALSE),0)","v":69.80609418282549},{"$f":"IFERROR(VLOOKUP(B112,INDIRECT(\"'\"&$J$1&\"'!\"&\"$C$2:$G$200\"),4,FALSE),\"\")","v":""},{"$f":"IFERROR(VLOOKUP(B112,INDIRECT(\"'\"&$J$1&\"'!\"&\"$C$2:$G$200\"),5,FALSE),0)","v":0},{"$f":"IFERROR(VLOOKUP(B112,INDIRECT(\"'\"&$L$1&\"'!\"&\"$C$2:$G$200\"),4,FALSE),\"\")","v":""},{"$f":"IFERROR(VLOOKUP(B112,INDIRECT(\"'\"&$L$1&\"'!\"&\"$C$2:$G$200\"),5,FALSE),0)","v":0},{"$f":"IFERROR(VLOOKUP(B112,INDIRECT(\"'\"&$N$1&\"'!\"&\"$C$2:$G$200\"),4,FALSE),\"\")","v":""},{"$f":"IFERROR(VLOOKUP(B112,INDIRECT(\"'\"&$N$1&\"'!\"&\"$C$2:$G$200\"),5,FALSE),0)","v":0},{"$f":"IFERROR(VLOOKUP(B112,INDIRECT(\"'\"&$P$1&\"'!\"&\"$C$2:$G$200\"),4,FALSE),\"\")","v":""},{"$f":"IFERROR(VLOOKUP(B112,INDIRECT(\"'\"&$P$1&\"'!\"&\"$C$2:$G$200\"),5,FALSE),0)","v":0},{"$f":"IFERROR(VLOOKUP(B112,INDIRECT(\"'\"&$R$1&\"'!\"&\"$C$2:$G$200\"),4,FALSE),\"\")","v":""},{"$f":"IFERROR(VLOOKUP(B112,INDIRECT(\"'\"&$R$1&\"'!\"&\"$C$2:$G$200\"),5,FALSE),0)","v":0},{"$f":"IFERROR(VLOOKUP(B112,INDIRECT(\"'\"&$T$1&\"'!\"&\"$C$2:$G$200\"),4,FALSE),\"\")","v":4.9513888888888892E-2},{"$f":"IFERROR(VLOOKUP(B112,INDIRECT(\"'\"&$T$1&\"'!\"&\"$C$2:$G$200\"),5,FALSE),0)","v":63.827349121466746},{"$f":"8-COUNTIF(F112:U112,\"\")","v":2},{"$f":"E112/IF(V112>4,5,V112)","v":66.816721652146114}]
[111,"Peter Williams","MDC","M50 ",{"$f":"SUM(LARGE((S113,G113,I113,K113,M113,O113,Q113,U113),{1,2,3,4,5}))","v":132.81994038846724},{"$f":"IFERROR(VLOOKUP(B113,INDIRECT(\"'\"&$F$1&\"'!\"&\"$C$2:$G$200\"),4,FALSE),\"\")","v":1.8287037037037036E-2},{"$f":"IFERROR(VLOOKUP(B113,INDIRECT(\"'\"&$F$1&\"'!\"&\"$C$2:$G$200\"),5,FALSE),0)","v":75.217185278786914},{"$f":"IFERROR(VLOOKUP(B113,INDIRECT(\"'\"&$H$1&\"'!\"&\"$C$2:$G$200\"),4,FALSE),\"\")","v":4.4027777777777777E-2},{"$f":"IFERROR(VLOOKUP(B113,INDIRECT(\"'\"&$H$1&\"'!\"&\"$C$2:$G$200\"),5,FALSE),0)","v":57.602755109680338},{"$f":"IFERROR(VLOOKUP(B113,INDIRECT(\"'\"&$J$1&\"'!\"&\"$C$2:$G$200\"),4,FALSE),\"\")","v":""},{"$f":"IFERROR(VLOOKUP(B113,INDIRECT(\"'\"&$J$1&\"'!\"&\"$C$2:$G$200\"),5,FALSE),0)","v":0},{"$f":"IFERROR(VLOOKUP(B113,INDIRECT(\"'\"&$L$1&\"'!\"&\"$C$2:$G$200\"),4,FALSE),\"\")","v":""},{"$f":"IFERROR(VLOOKUP(B113,INDIRECT(\"'\"&$L$1&\"'!\"&\"$C$2:$G$200\"),5,FALSE),0)","v":0},{"$f":"IFERROR(VLOOKUP(B113,INDIRECT(\"'\"&$N$1&\"'!\"&\"$C$2:$G$200\"),4,FALSE),\"\")","v":""},{"$f":"IFERROR(VLOOKUP(B113,INDIRECT(\"'\"&$N$1&\"'!\"&\"$C$2:$G$200\"),5,FALSE),0)","v":0},{"$f":"IFERROR(VLOOKUP(B113,INDIRECT(\"'\"&$P$1&\"'!\"&\"$C$2:$G$200\"),4,FALSE),\"\")","v":""},{"$f":"IFERROR(VLOOKUP(B113,INDIRECT(\"'\"&$P$1&\"'!\"&\"$C$2:$G$200\"),5,FALSE),0)","v":0},{"$f":"IFERROR(VLOOKUP(B113,INDIRECT(\"'\"&$R$1&\"'!\"&\"$C$2:$G$200\"),4,FALSE),\"\")","v":""},{"$f":"IFERROR(VLOOKUP(B113,INDIRECT(\"'\"&$R$1&\"'!\"&\"$C$2:$G$200\"),5,FALSE),0)","v":0},{"$f":"IFERROR(VLOOKUP(B113,INDIRECT(\"'\"&$T$1&\"'!\"&\"$C$2:$G$200\"),4,FALSE),\"\")","v":""},{"$f":"IFERROR(VLOOKUP(B113,INDIRECT(\"'\"&$T$1&\"'!\"&\"$C$2:$G$200\"),5,FALSE),0)","v":0},{"$f":"8-COUNTIF(F113:U113,\"\")","v":2},{"$f":"E113/IF(V113>4,5,V113)","v":66.409970194233622}]
[112,"Gavin Brace","Lliswerry Runners","SM",{"$f":"SUM(LARGE((S114,G114,I114,K114,M114,O114,Q114,U114),{1,2,3,4,5}))","v":132.22102445474394},{"$f":"IFERROR(VLOOKUP(B114,INDIRECT(\"'\"&$F$1&\"'!\"&\"$C$2:$G$200\"),4,FALSE),\"\")","v":""},{"$f":"IFERROR(VLOOKUP(B114,INDIRECT(\"'\"&$F$1&\"'!\"&\"$C$2:$G$200\"),5,FALSE),0)","v":0},{"$f":"IFERROR(VLOOKUP(B114,INDIRECT(\"'\"&$H$1&\"'!\"&\"$C$2:$G$200\"),4,FALSE),\"\")","v":""},{"$f":"IFERROR(VLOOKUP(B114,INDIRECT(\"'\"&$H$1&\"'!\"&\"$C$2:$G$200\"),5,FALSE),0)","v":0},{"$f":"IFERROR(VLOOKUP(B114,INDIRECT(\"'\"&$J$1&\"'!\"&\"$C$2:$G$200\"),4,FALSE),\"\")","v":""},{"$f":"IFERROR(VLOOKUP(B114,INDIRECT(\"'\"&$J$1&\"'!\"&\"$C$2:$G$200\"),5,FALSE),0)","v":0},{"$f":"IFERROR(VLOOKUP(B114,INDIRECT(\"'\"&$L$1&\"'!\"&\"$C$2:$G$200\"),4,FALSE),\"\")","v":""},{"$f":"IFERROR(VLOOKUP(B114,INDIRECT(\"'\"&$L$1&\"'!\"&\"$C$2:$G$200\"),5,FALSE),0)","v":0},{"$f":"IFERROR(VLOOKUP(B114,INDIRECT(\"'\"&$N$1&\"'!\"&\"$C$2:$G$200\"),4,FALSE),\"\")","v":""},{"$f":"IFERROR(VLOOKUP(B114,INDIRECT(\"'\"&$N$1&\"'!\"&\"$C$2:$G$200\"),5,FALSE),0)","v":0},{"$f":"IFERROR(VLOOKUP(B114,INDIRECT(\"'\"&$P$1&\"'!\"&\"$C$2:$G$200\"),4,FALSE),\"\")","v":2.9525462962962962E-2},{"$f":"IFERROR(VLOOKUP(B114,INDIRECT(\"'\"&$P$1&\"'!\"&\"$C$2:$G$200\"),5,FALSE),0)","v":64.510303802846806},{"$f":"IFERROR(VLOOKUP(B114,INDIRECT(\"'\"&$R$1&\"'!\"&\"$C$2:$G$200\"),4,FALSE),\"\")","v":""},{"$f":"IFERROR(VLOOKUP(B114,INDIRECT(\"'\"&$R$1&\"'!\"&\"$C$2:$G$200\"),5,FALSE),0)","v":0},{"$f":"IFERROR(VLOOKUP(B114,INDIRECT(\"'\"&$T$1&\"'!\"&\"$C$2:$G$200\"),4,FALSE),\"\")","v":4.8101851851851847E-2},{"$f":"IFERROR(VLOOKUP(B114,INDIRECT(\"'\"&$T$1&\"'!\"&\"$C$2:$G$200\"),5,FALSE),0)","v":67.71072065189712},{"$f":"8-COUNTIF(F114:U114,\"\")","v":2},{"$f":"E114/IF(V114>4,5,V114)","v":66.11051222737197}]
[113,"Karen Elvers","MDC","F40",{"$f":"SUM(LARGE((S115,G115,I115,K115,M115,O115,Q115,U115),{1,2,3,4,5}))","v":131.44096233623728},{"$f":"IFERROR(VLOOKUP(B115,INDIRECT(\"'\"&$F$1&\"'!\"&\"$C$2:$G$200\"),4,FALSE),\"\")","v":""},{"$f":"IFERROR(VLOOKUP(B115,INDIRECT(\"'\"&$F$1&\"'!\"&\"$C$2:$G$200\"),5,FALSE),0)","v":0},{"$f":"IFERROR(VLOOKUP(B115,INDIRECT(\"'\"&$H$1&\"'!\"&\"$C$2:$G$200\"),4,FALSE),\"\")","v":""},{"$f":"IFERROR(VLOOKUP(B115,INDIRECT(\"'\"&$H$1&\"'!\"&\"$C$2:$G$200\"),5,FALSE),0)","v":0},{"$f":"IFERROR(VLOOKUP(B115,INDIRECT(\"'\"&$J$1&\"'!\"&\"$C$2:$G$200\"),4,FALSE),\"\")","v":""},{"$f":"IFERROR(VLOOKUP(B115,INDIRECT(\"'\"&$J$1&\"'!\"&\"$C$2:$G$200\"),5,FALSE),0)","v":0},{"$f":"IFERROR(VLOOKUP(B115,INDIRECT(\"'\"&$L$1&\"'!\"&\"$C$2:$G$200\"),4,FALSE),\"\")","v":""},{"$f":"IFERROR(VLOOKUP(B115,INDIRECT(\"'\"&$L$1&\"'!\"&\"$C$2:$G$200\"),5,FALSE),0)","v":0},{"$f":"IFERROR(VLOOKUP(B115,INDIRECT(\"'\"&$N$1&\"'!\"&\"$C$2:$G$200\"),4,FALSE),\"\")","v":3.6041666666666666E-2},{"$f":"IFERROR(VLOOKUP(B115,INDIRECT(\"'\"&$N$1&\"'!\"&\"$C$2:$G$200\"),5,FALSE),0)","v":40.01233045622692},{"$f":"IFERROR(VLOOKUP(B115,INDIRECT(\"'\"&$P$1&\"'!\"&\"$C$2:$G$200\"),4,FALSE),\"\")","v":3.4664351851851849E-2},{"$f":"IFERROR(VLOOKUP(B115,INDIRECT(\"'\"&$P$1&\"'!\"&\"$C$2:$G$200\"),5,FALSE),0)","v":40.928404503930317},{"$f":"IFERROR(VLOOKUP(B115,INDIRECT(\"'\"&$R$1&\"'!\"&\"$C$2:$G$200\"),4,FALSE),\"\")","v":3.0439814814814819E-2},{"$f":"IFERROR(VLOOKUP(B115,INDIRECT(\"'\"&$R$1&\"'!\"&\"$C$2:$G$200\"),5,FALSE),0)","v":50.500227376080041},{"$f":"IFERROR(VLOOKUP(B115,INDIRECT(\"'\"&$T$1&\"'!\"&\"$C$2:$G$200\"),4,FALSE),\"\")","v":""},{"$f":"IFERROR(VLOOKUP(B115,INDIRECT(\"'\"&$T$1&\"'!\"&\"$C$2:$G$200\"),5,FALSE),0)","v":0},{"$f":"8-COUNTIF(F115:U115,\"\")","v":3},{"$f":"E115/IF(V115>4,5,V115)","v":43.813654112079092}]
[114,"Emily Ford","MDC","SF",{"$f":"SUM(LARGE((S116,G116,I116,K116,M116,O116,Q116,U116),{1,2,3,4,5}))","v":131.26531238053335},{"$f":"IFERROR(VLOOKUP(B116,INDIRECT(\"'\"&$F$1&\"'!\"&\"$C$2:$G$200\"),4,FALSE),\"\")","v":""},{"$f":"IFERROR(VLOOKUP(B116,INDIRECT(\"'\"&$F$1&\"'!\"&\"$C$2:$G$200\"),5,FALSE),0)","v":0},{"$f":"IFERROR(VLOOKUP(B116,INDIRECT(\"'\"&$H$1&\"'!\"&\"$C$2:$G$200\"),4,FALSE),\"\")","v":""},{"$f":"IFERROR(VLOOKUP(B116,INDIRECT(\"'\"&$H$1&\"'!\"&\"$C$2:$G$200\"),5,FALSE),0)","v":0},{"$f":"IFERROR(VLOOKUP(B116,INDIRECT(\"'\"&$J$1&\"'!\"&\"$C$2:$G$200\"),4,FALSE),\"\")","v":""},{"$f":"IFERROR(VLOOKUP(B116,INDIRECT(\"'\"&$J$1&\"'!\"&\"$C$2:$G$200\"),5,FALSE),0)","v":0},{"$f":"IFERROR(VLOOKUP(B116,INDIRECT(\"'\"&$L$1&\"'!\"&\"$C$2:$G$200\"),4,FALSE),\"\")","v":""},{"$f":"IFERROR(VLOOKUP(B116,INDIRECT(\"'\"&$L$1&\"'!\"&\"$C$2:$G$200\"),5,FALSE),0)","v":0},{"$f":"IFERROR(VLOOKUP(B116,INDIRECT(\"'\"&$N$1&\"'!\"&\"$C$2:$G$200\"),4,FALSE),\"\")","v":""},{"$f":"IFERROR(VLOOKUP(B116,INDIRECT(\"'\"&$N$1&\"'!\"&\"$C$2:$G$200\"),5,FALSE),0)","v":0},{"$f":"IFERROR(VLOOKUP(B116,INDIRECT(\"'\"&$P$1&\"'!\"&\"$C$2:$G$200\"),4,FALSE),\"\")","v":3.0046296296296297E-2},{"$f":"IFERROR(VLOOKUP(B116,INDIRECT(\"'\"&$P$1&\"'!\"&\"$C$2:$G$200\"),5,FALSE),0)","v":62.120246441470137},{"$f":"IFERROR(VLOOKUP(B116,INDIRECT(\"'\"&$R$1&\"'!\"&\"$C$2:$G$200\"),4,FALSE),\"\")","v":2.6643518518518521E-2},{"$f":"IFERROR(VLOOKUP(B116,INDIRECT(\"'\"&$R$1&\"'!\"&\"$C$2:$G$200\"),5,FALSE),0)","v":69.145065939063215},{"$f":"IFERROR(VLOOKUP(B116,INDIRECT(\"'\"&$T$1&\"'!\"&\"$C$2:$G$200\"),4,FALSE),\"\")","v":""},{"$f":"IFERROR(VLOOKUP(B116,INDIRECT(\"'\"&$T$1&\"'!\"&\"$C$2:$G$200\"),5,FALSE),0)","v":0},{"$f":"8-COUNTIF(F116:U116,\"\")","v":2},{"$f":"E116/IF(V116>4,5,V116)","v":65.632656190266673}]
[115,"Naomi Law","Mynydd Du","F40",{"$f":"SUM(LARGE((S117,G117,I117,K117,M117,O117,Q117,U117),{1,2,3,4,5}))","v":130.86291456423444},{"$f":"IFERROR(VLOOKUP(B117,INDIRECT(\"'\"&$F$1&\"'!\"&\"$C$2:$G$200\"),4,FALSE),\"\")","v":""},{"$f":"IFERROR(VLOOKUP(B117,INDIRECT(\"'\"&$F$1&\"'!\"&\"$C$2:$G$200\"),5,FALSE),0)","v":0},{"$f":"IFERROR(VLOOKUP(B117,INDIRECT(\"'\"&$H$1&\"'!\"&\"$C$2:$G$200\"),4,FALSE),\"\")","v":3.9270833333333331E-2},{"$f":"IFERROR(VLOOKUP(B117,INDIRECT(\"'\"&$H$1&\"'!\"&\"$C$2:$G$200\"),5,FALSE),0)","v":72.987946395148626},{"$f":"IFERROR(VLOOKUP(B117,INDIRECT(\"'\"&$J$1&\"'!\"&\"$C$2:$G$200\"),4,FALSE),\"\")","v":""},{"$f":"IFERROR(VLOOKUP(B117,INDIRECT(\"'\"&$J$1&\"'!\"&\"$C$2:$G$200\"),5,FALSE),0)","v":0},{"$f":"IFERROR(VLOOKUP(B117,INDIRECT(\"'\"&$L$1&\"'!\"&\"$C$2:$G$200\"),4,FALSE),\"\")","v":""},{"$f":"IFERROR(VLOOKUP(B117,INDIRECT(\"'\"&$L$1&\"'!\"&\"$C$2:$G$200\"),5,FALSE),0)","v":0},{"$f":"IFERROR(VLOOKUP(B117,INDIRECT(\"'\"&$N$1&\"'!\"&\"$C$2:$G$200\"),4,FALSE),\"\")","v":""},{"$f":"IFERROR(VLOOKUP(B117,INDIRECT(\"'\"&$N$1&\"'!\"&\"$C$2:$G$200\"),5,FALSE),0)","v":0},{"$f":"IFERROR(VLOOKUP(B117,INDIRECT(\"'\"&$P$1&\"'!\"&\"$C$2:$G$200\"),4,FALSE),\"\")","v":""},{"$f":"IFERROR(VLOOKUP(B117,INDIRECT(\"'\"&$P$1&\"'!\"&\"$C$2:$G$200\"),5,FALSE),0)","v":0},{"$f":"IFERROR(VLOOKUP(B117,INDIRECT(\"'\"&$R$1&\"'!\"&\"$C$2:$G$200\"),4,FALSE),\"\")","v":""},{"$f":"IFERROR(VLOOKUP(B117,INDIRECT(\"'\"&$R$1&\"'!\"&\"$C$2:$G$200\"),5,FALSE),0)","v":0},{"$f":"IFERROR(VLOOKUP(B117,INDIRECT(\"'\"&$T$1&\"'!\"&\"$C$2:$G$200\"),4,FALSE),\"\")","v":5.167824074074074E-2},{"$f":"IFERROR(VLOOKUP(B117,INDIRECT(\"'\"&$T$1&\"'!\"&\"$C$2:$G$200\"),5,FALSE),0)","v":57.874968169085818},{"$f":"8-COUNTIF(F117:U117,\"\")","v":2},{"$f":"E117/IF(V117>4,5,V117)","v":65.431457282117222}]
[116,"Mark English","Lliswerry Runners","M40",{"$f":"SUM(LARGE((S118,G118,I118,K118,M118,O118,Q118,U118),{1,2,3,4,5}))","v":129.19867420121284},{"$f":"IFERROR(VLOOKUP(B118,INDIRECT(\"'\"&$F$1&\"'!\"&\"$C$2:$G$200\"),4,FALSE),\"\")","v":""},{"$f":"IFERROR(VLOOKUP(B118,INDIRECT(\"'\"&$F$1&\"'!\"&\"$C$2:$G$200\"),5,FALSE),0)","v":0},{"$f":"IFERROR(VLOOKUP(B118,INDIRECT(\"'\"&$H$1&\"'!\"&\"$C$2:$G$200\"),4,FALSE),\"\")","v":""},{"$f":"IFERROR(VLOOKUP(B118,INDIRECT(\"'\"&$H$1&\"'!\"&\"$C$2:$G$200\"),5,FALSE),0)","v":0},{"$f":"IFERROR(VLOOKUP(B118,INDIRECT(\"'\"&$J$1&\"'!\"&\"$C$2:$G$200\"),4,FALSE),\"\")","v":""},{"$f":"IFERROR(VLOOKUP(B118,INDIRECT(\"'\"&$J$1&\"'!\"&\"$C$2:$G$200\"),5,FALSE),0)","v":0},{"$f":"IFERROR(VLOOKUP(B118,INDIRECT(\"'\"&$L$1&\"'!\"&\"$C$2:$G$200\"),4,FALSE),\"\")","v":""},{"$f":"IFERROR(VLOOKUP(B118,INDIRECT(\"'\"&$L$1&\"'!\"&\"$C$2:$G$200\"),5,FALSE),0)","v":0},{"$f":"IFERROR(VLOOKUP(B118,INDIRECT(\"'\"&$N$1&\"'!\"&\"$C$2:$G$200\"),4,FALSE),\"\")","v":2.988425925925926E-2},{"$f":"IFERROR(VLOOKUP(B118,INDIRECT(\"'\"&$N$1&\"'!\"&\"$C$2:$G$200\"),5,FALSE),0)","v":67.344841759145098},{"$f":"IFERROR(VLOOKUP(B118,INDIRECT(\"'\"&$P$1&\"'!\"&\"$C$2:$G$200\"),4,FALSE),\"\")","v":""},{"$f":"IFERROR(VLOOKUP(B118,INDIRECT(\"'\"&$P$1&\"'!\"&\"$C$2:$G$200\"),5,FALSE),0)","v":0},{"$f":"IFERROR(VLOOKUP(B118,INDIRECT(\"'\"&$R$1&\"'!\"&\"$C$2:$G$200\"),4,FALSE),\"\")","v":""},{"$f":"IFERROR(VLOOKUP(B118,INDIRECT(\"'\"&$R$1&\"'!\"&\"$C$2:$G$200\"),5,FALSE),0)","v":0},null,{"$f":"IFERROR(VLOOKUP(B118,INDIRECT(\"'\"&$T$1&\"'!\"&\"$C$2:$G$200\"),5,FALSE),0)","v":61.853832442067727},{"$f":"8-COUNTIF(F118:U118,\"\")","v":1},{"$f":"E118/IF(V118>4,5,V118)","v":129.19867420121284}]
[117,"Rhianydd Evans","Islwyn","SF",{"$f":"SUM(LARGE((S119,G119,I119,K119,M119,O119,Q119,U119),{1,2,3,4,5}))","v":128.84801046654556},{"$f":"IFERROR(VLOOKUP(B119,INDIRECT(\"'\"&$F$1&\"'!\"&\"$C$2:$G$200\"),4,FALSE),\"\")","v":""},{"$f":"IFERROR(VLOOKUP(B119,INDIRECT(\"'\"&$F$1&\"'!\"&\"$C$2:$G$200\"),5,FALSE),0)","v":0},{"$f":"IFERROR(VLOOKUP(B119,INDIRECT(\"'\"&$H$1&\"'!\"&\"$C$2:$G$200\"),4,FALSE),\"\")","v":""},{"$f":"IFERROR(VLOOKUP(B119,INDIRECT(\"'\"&$H$1&\"'!\"&\"$C$2:$G$200\"),5,FALSE),0)","v":0},{"$f":"IFERROR(VLOOKUP(B119,INDIRECT(\"'\"&$J$1&\"'!\"&\"$C$2:$G$200\"),4,FALSE),\"\")","v":""},{"$f":"IFERROR(VLOOKUP(B119,INDIRECT(\"'\"&$J$1&\"'!\"&\"$C$2:$G$200\"),5,FALSE),0)","v":0},{"$f":"IFERROR(VLOOKUP(B119,INDIRECT(\"'\"&$L$1&\"'!\"&\"$C$2:$G$200\"),4,FALSE),\"\")","v":""},{"$f":"IFERROR(VLOOKUP(B119,INDIRECT(\"'\"&$L$1&\"'!\"&\"$C$2:$G$200\"),5,FALSE),0)","v":0},{"$f":"IFERROR(VLOOKUP(B119,INDIRECT(\"'\"&$N$1&\"'!\"&\"$C$2:$G$200\"),4,FALSE),\"\")","v":""},{"$f":"IFERROR(VLOOKUP(B119,INDIRECT(\"'\"&$N$1&\"'!\"&\"$C$2:$G$200\"),5,FALSE),0)","v":0},{"$f":"IFERROR(VLOOKUP(B119,INDIRECT(\"'\"&$P$1&\"'!\"&\"$C$2:$G$200\"),4,FALSE),\"\")","v":2.9953703703703705E-2},{"$f":"IFERROR(VLOOKUP(B119,INDIRECT(\"'\"&$P$1&\"'!\"&\"$C$2:$G$200\"),5,FALSE),0)","v":62.545145527937088},{"$f":"IFERROR(VLOOKUP(B119,INDIRECT(\"'\"&$R$1&\"'!\"&\"$C$2:$G$200\"),4,FALSE),\"\")","v":2.7222222222222228E-2},{"$f":"IFERROR(VLOOKUP(B119,INDIRECT(\"'\"&$R$1&\"'!\"&\"$C$2:$G$200\"),5,FALSE),0)","v":66.302864938608465},{"$f":"IFERROR(VLOOKUP(B119,INDIRECT(\"'\"&$T$1&\"'!\"&\"$C$2:$G$200\"),4,FALSE),\"\")","v":""},{"$f":"IFERROR(VLOOKUP(B119,INDIRECT(\"'\"&$T$1&\"'!\"&\"$C$2:$G$200\"),5,FALSE),0)","v":0},{"$f":"8-COUNTIF(F119:U119,\"\")","v":2},{"$f":"E119/IF(V119>4,5,V119)","v":64.42400523327278}]
[118,"Dan Fairbank","Mynydd Du","M40",{"$f":"SUM(LARGE((S120,G120,I120,K120,M120,O120,Q120,U120),{1,2,3,4,5}))","v":124.21566429508697},{"$f":"IFERROR(VLOOKUP(B120,INDIRECT(\"'\"&$F$1&\"'!\"&\"$C$2:$G$200\"),4,FALSE),\"\")","v":""},{"$f":"IFERROR(VLOOKUP(B120,INDIRECT(\"'\"&$F$1&\"'!\"&\"$C$2:$G$200\"),5,FALSE),0)","v":0},{"$f":"IFERROR(VLOOKUP(B120,INDIRECT(\"'\"&$H$1&\"'!\"&\"$C$2:$G$200\"),4,FALSE),\"\")","v":""},{"$f":"IFERROR(VLOOKUP(B120,INDIRECT(\"'\"&$H$1&\"'!\"&\"$C$2:$G$200\"),5,FALSE),0)","v":0},{"$f":"IFERROR(VLOOKUP(B120,INDIRECT(\"'\"&$J$1&\"'!\"&\"$C$2:$G$200\"),4,FALSE),\"\")","v":""},{"$f":"IFERROR(VLOOKUP(B120,INDIRECT(\"'\"&$J$1&\"'!\"&\"$C$2:$G$200\"),5,FALSE),0)","v":0},{"$f":"IFERROR(VLOOKUP(B120,INDIRECT(\"'\"&$L$1&\"'!\"&\"$C$2:$G$200\"),4,FALSE),\"\")","v":""},{"$f":"IFERROR(VLOOKUP(B120,INDIRECT(\"'\"&$L$1&\"'!\"&\"$C$2:$G$200\"),5,FALSE),0)","v":0},{"$f":"IFERROR(VLOOKUP(B120,INDIRECT(\"'\"&$N$1&\"'!\"&\"$C$2:$G$200\"),4,FALSE),\"\")","v":3.1157407407407408E-2},{"$f":"IFERROR(VLOOKUP(B120,INDIRECT(\"'\"&$N$1&\"'!\"&\"$C$2:$G$200\"),5,FALSE),0)","v":61.693382655158267},{"$f":"IFERROR(VLOOKUP(B120,INDIRECT(\"'\"&$P$1&\"'!\"&\"$C$2:$G$200\"),4,FALSE),\"\")","v":""},{"$f":"IFERROR(VLOOKUP(B120,INDIRECT(\"'\"&$P$1&\"'!\"&\"$C$2:$G$200\"),5,FALSE),0)","v":0},{"$f":"IFERROR(VLOOKUP(B120,INDIRECT(\"'\"&$R$1&\"'!\"&\"$C$2:$G$200\"),4,FALSE),\"\")","v":""},{"$f":"IFERROR(VLOOKUP(B120,INDIRECT(\"'\"&$R$1&\"'!\"&\"$C$2:$G$200\"),5,FALSE),0)","v":0},{"$f":"IFERROR(VLOOKUP(B120,INDIRECT(\"'\"&$T$1&\"'!\"&\"$C$2:$G$200\"),4,FALSE),\"\")","v":4.9988425925925922E-2},{"$f":"IFERROR(VLOOKUP(B120,INDIRECT(\"'\"&$T$1&\"'!\"&\"$C$2:$G$200\"),5,FALSE),0)","v":62.5222816399287},{"$f":"8-COUNTIF(F120:U120,\"\")","v":2},{"$f":"E120/IF(V120>4,5,V120)","v":62.107832147543483}]
[119,"Chris Hobson","Newbury","M40",{"$f":"SUM(LARGE((S121,G121,I121,K121,M121,O121,Q121,U121),{1,2,3,4,5}))","v":123.14533583917486},{"$f":"IFERROR(VLOOKUP(B121,INDIRECT(\"'\"&$F$1&\"'!\"&\"$C$2:$G$200\"),4,FALSE),\"\")","v":""},{"$f":"IFERROR(VLOOKUP(B121,INDIRECT(\"'\"&$F$1&\"'!\"&\"$C$2:$G$200\"),5,FALSE),0)","v":0},{"$f":"IFERROR(VLOOKUP(B121,INDIRECT(\"'\"&$H$1&\"'!\"&\"$C$2:$G$200\"),4,FALSE),\"\")","v":4.1111111111111112E-2},{"$f":"IFERROR(VLOOKUP(B121,INDIRECT(\"'\"&$H$1&\"'!\"&\"$C$2:$G$200\"),5,FALSE),0)","v":67.036011080332415},{"$f":"IFERROR(VLOOKUP(B121,INDIRECT(\"'\"&$J$1&\"'!\"&\"$C$2:$G$200\"),4,FALSE),\"\")","v":""},{"$f":"IFERROR(VLOOKUP(B121,INDIRECT(\"'\"&$J$1&\"'!\"&\"$C$2:$G$200\"),5,FALSE),0)","v":0},{"$f":"IFERROR(VLOOKUP(B121,INDIRECT(\"'\"&$L$1&\"'!\"&\"$C$2:$G$200\"),4,FALSE),\"\")","v":2.6932870370370371E-2},{"$f":"IFERROR(VLOOKUP(B121,INDIRECT(\"'\"&$L$1&\"'!\"&\"$C$2:$G$200\"),5,FALSE),0)","v":56.109324758842448},{"$f":"IFERROR(VLOOKUP(B121,INDIRECT(\"'\"&$N$1&\"'!\"&\"$C$2:$G$200\"),4,FALSE),\"\")","v":""},{"$f":"IFERROR(VLOOKUP(B121,INDIRECT(\"'\"&$N$1&\"'!\"&\"$C$2:$G$200\"),5,FALSE),0)","v":0},{"$f":"IFERROR(VLOOKUP(B121,INDIRECT(\"'\"&$P$1&\"'!\"&\"$C$2:$G$200\"),4,FALSE),\"\")","v":""},{"$f":"IFERROR(VLOOKUP(B121,INDIRECT(\"'\"&$P$1&\"'!\"&\"$C$2:$G$200\"),5,FALSE),0)","v":0},{"$f":"IFERROR(VLOOKUP(B121,INDIRECT(\"'\"&$R$1&\"'!\"&\"$C$2:$G$200\"),4,FALSE),\"\")","v":""},{"$f":"IFERROR(VLOOKUP(B121,INDIRECT(\"'\"&$R$1&\"'!\"&\"$C$2:$G$200\"),5,FALSE),0)","v":0},{"$f":"IFERROR(VLOOKUP(B121,INDIRECT(\"'\"&$T$1&\"'!\"&\"$C$2:$G$200\"),4,FALSE),\"\")","v":""},{"$f":"IFERROR(VLOOKUP(B121,INDIRECT(\"'\"&$T$1&\"'!\"&\"$C$2:$G$200\"),5,FALSE),0)","v":0},{"$f":"8-COUNTIF(F121:U121,\"\")","v":2},{"$f":"E121/IF(V121>4,5,V121)","v":61.572667919587431}]
[120,"John Darby","Mynydd Du","M60",{"$f":"SUM(LARGE((S122,G122,I122,K122,M122,O122,Q122,U122),{1,2,3,4,5}))","v":121.41756513211304},{"$f":"IFERROR(VLOOKUP(B122,INDIRECT(\"'\"&$F$1&\"'!\"&\"$C$2:$G$200\"),4,FALSE),\"\")","v":2.0081018518518519E-2},{"$f":"IFERROR(VLOOKUP(B122,INDIRECT(\"'\"&$F$1&\"'!\"&\"$C$2:$G$200\"),5,FALSE),0)","v":62.975833201705875},{"$f":"IFERROR(VLOOKUP(B122,INDIRECT(\"'\"&$H$1&\"'!\"&\"$C$2:$G$200\"),4,FALSE),\"\")","v":4.6516203703703705E-2},{"$f":"IFERROR(VLOOKUP(B122,INDIRECT(\"'\"&$H$1&\"'!\"&\"$C$2:$G$200\"),5,FALSE),0)","v":49.554540690274763},{"$f":"IFERROR(VLOOKUP(B122,INDIRECT(\"'\"&$J$1&\"'!\"&\"$C$2:$G$200\"),4,FALSE),\"\")","v":""},{"$f":"IFERROR(VLOOKUP(B122,INDIRECT(\"'\"&$J$1&\"'!\"&\"$C$2:$G$200\"),5,FALSE),0)","v":0},{"$f":"IFERROR(VLOOKUP(B122,INDIRECT(\"'\"&$L$1&\"'!\"&\"$C$2:$G$200\"),4,FALSE),\"\")","v":""},{"$f":"IFERROR(VLOOKUP(B122,INDIRECT(\"'\"&$L$1&\"'!\"&\"$C$2:$G$200\"),5,FALSE),0)","v":0},{"$f":"IFERROR(VLOOKUP(B122,INDIRECT(\"'\"&$N$1&\"'!\"&\"$C$2:$G$200\"),4,FALSE),\"\")","v":""},{"$f":"IFERROR(VLOOKUP(B122,INDIRECT(\"'\"&$N$1&\"'!\"&\"$C$2:$G$200\"),5,FALSE),0)","v":0},{"$f":"IFERROR(VLOOKUP(B122,INDIRECT(\"'\"&$P$1&\"'!\"&\"$C$2:$G$200\"),4,FALSE),\"\")","v":""},{"$f":"IFERROR(VLOOKUP(B122,INDIRECT(\"'\"&$P$1&\"'!\"&\"$C$2:$G$200\"),5,FALSE),0)","v":0},{"$f":"IFERROR(VLOOKUP(B122,INDIRECT(\"'\"&$R$1&\"'!\"&\"$C$2:$G$200\"),4,FALSE),\"\")","v":""},{"$f":"IFERROR(VLOOKUP(B122,INDIRECT(\"'\"&$R$1&\"'!\"&\"$C$2:$G$200\"),5,FALSE),0)","v":0},{"$f":"IFERROR(VLOOKUP(B122,INDIRECT(\"'\"&$T$1&\"'!\"&\"$C$2:$G$200\"),4,FALSE),\"\")","v":6.9490740740740742E-2},{"$f":"IFERROR(VLOOKUP(B122,INDIRECT(\"'\"&$T$1&\"'!\"&\"$C$2:$G$200\"),5,FALSE),0)","v":8.8871912401323971},{"$f":"8-COUNTIF(F122:U122,\"\")","v":3},{"$f":"E122/IF(V122>4,5,V122)","v":40.472521710704349}]
[121,"James Griffiths","Newent Runners","M40",{"$f":"SUM(LARGE((S123,G123,I123,K123,M123,O123,Q123,U123),{1,2,3,4,5}))","v":121.11980721843496},{"$f":"IFERROR(VLOOKUP(B123,INDIRECT(\"'\"&$F$1&\"'!\"&\"$C$2:$G$200\"),4,FALSE),\"\")","v":""},{"$f":"IFERROR(VLOOKUP(B123,INDIRECT(\"'\"&$F$1&\"'!\"&\"$C$2:$G$200\"),5,FALSE),0)","v":0},{"$f":"IFERROR(VLOOKUP(B123,INDIRECT(\"'\"&$H$1&\"'!\"&\"$C$2:$G$200\"),4,FALSE),\"\")","v":""},{"$f":"IFERROR(VLOOKUP(B123,INDIRECT(\"'\"&$H$1&\"'!\"&\"$C$2:$G$200\"),5,FALSE),0)","v":0},{"$f":"IFERROR(VLOOKUP(B123,INDIRECT(\"'\"&$J$1&\"'!\"&\"$C$2:$G$200\"),4,FALSE),\"\")","v":""},{"$f":"IFERROR(VLOOKUP(B123,INDIRECT(\"'\"&$J$1&\"'!\"&\"$C$2:$G$200\"),5,FALSE),0)","v":0},{"$f":"IFERROR(VLOOKUP(B123,INDIRECT(\"'\"&$L$1&\"'!\"&\"$C$2:$G$200\"),4,FALSE),\"\")","v":""},{"$f":"IFERROR(VLOOKUP(B123,INDIRECT(\"'\"&$L$1&\"'!\"&\"$C$2:$G$200\"),5,FALSE),0)","v":0},{"$f":"IFERROR(VLOOKUP(B123,INDIRECT(\"'\"&$N$1&\"'!\"&\"$C$2:$G$200\"),4,FALSE),\"\")","v":""},{"$f":"IFERROR(VLOOKUP(B123,INDIRECT(\"'\"&$N$1&\"'!\"&\"$C$2:$G$200\"),5,FALSE),0)","v":0},{"$f":"IFERROR(VLOOKUP(B123,INDIRECT(\"'\"&$P$1&\"'!\"&\"$C$2:$G$200\"),4,FALSE),\"\")","v":""},{"$f":"IFERROR(VLOOKUP(B123,INDIRECT(\"'\"&$P$1&\"'!\"&\"$C$2:$G$200\"),5,FALSE),0)","v":0},{"$f":"IFERROR(VLOOKUP(B123,INDIRECT(\"'\"&$R$1&\"'!\"&\"$C$2:$G$200\"),4,FALSE),\"\")","v":2.7164351851851853E-2},{"$f":"IFERROR(VLOOKUP(B123,INDIRECT(\"'\"&$R$1&\"'!\"&\"$C$2:$G$200\"),5,FALSE),0)","v":66.587085038653953},{"$f":"IFERROR(VLOOKUP(B123,INDIRECT(\"'\"&$T$1&\"'!\"&\"$C$2:$G$200\"),4,FALSE),\"\")","v":5.2893518518518513E-2},{"$f":"IFERROR(VLOOKUP(B123,INDIRECT(\"'\"&$T$1&\"'!\"&\"$C$2:$G$200\"),5,FALSE),0)","v":54.532722179781004},{"$f":"8-COUNTIF(F123:U123,\"\")","v":2},{"$f":"E123/IF(V123>4,5,V123)","v":60.559903609217479}]
[122,"Paddy Nugent","Wye Valley Runners","M50 ",{"$f":"SUM(LARGE((S124,G124,I124,K124,M124,O124,Q124,U124),{1,2,3,4,5}))","v":120.89218229019261},{"$f":"IFERROR(VLOOKUP(B124,INDIRECT(\"'\"&$F$1&\"'!\"&\"$C$2:$G$200\"),4,FALSE),\"\")","v":2.0462962962962964E-2},{"$f":"IFERROR(VLOOKUP(B124,INDIRECT(\"'\"&$F$1&\"'!\"&\"$C$2:$G$200\"),5,FALSE),0)","v":60.369609856262805},{"$f":"IFERROR(VLOOKUP(B124,INDIRECT(\"'\"&$H$1&\"'!\"&\"$C$2:$G$200\"),4,FALSE),\"\")","v":4.3124999999999997E-2},{"$f":"IFERROR(VLOOKUP(B124,INDIRECT(\"'\"&$H$1&\"'!\"&\"$C$2:$G$200\"),5,FALSE),0)","v":60.522572433929803},{"$f":"IFERROR(VLOOKUP(B124,INDIRECT(\"'\"&$J$1&\"'!\"&\"$C$2:$G$200\"),4,FALSE),\"\")","v":""},{"$f":"IFERROR(VLOOKUP(B124,INDIRECT(\"'\"&$J$1&\"'!\"&\"$C$2:$G$200\"),5,FALSE),0)","v":0},{"$f":"IFERROR(VLOOKUP(B124,INDIRECT(\"'\"&$L$1&\"'!\"&\"$C$2:$G$200\"),4,FALSE),\"\")","v":""},{"$f":"IFERROR(VLOOKUP(B124,INDIRECT(\"'\"&$L$1&\"'!\"&\"$C$2:$G$200\"),5,FALSE),0)","v":0},{"$f":"IFERROR(VLOOKUP(B124,INDIRECT(\"'\"&$N$1&\"'!\"&\"$C$2:$G$200\"),4,FALSE),\"\")","v":""},{"$f":"IFERROR(VLOOKUP(B124,INDIRECT(\"'\"&$N$1&\"'!\"&\"$C$2:$G$200\"),5,FALSE),0)","v":0},{"$f":"IFERROR(VLOOKUP(B124,INDIRECT(\"'\"&$P$1&\"'!\"&\"$C$2:$G$200\"),4,FALSE),\"\")","v":""},{"$f":"IFERROR(VLOOKUP(B124,INDIRECT(\"'\"&$P$1&\"'!\"&\"$C$2:$G$200\"),5,FALSE),0)","v":0},{"$f":"IFERROR(VLOOKUP(B124,INDIRECT(\"'\"&$R$1&\"'!\"&\"$C$2:$G$200\"),4,FALSE),\"\")","v":""},{"$f":"IFERROR(VLOOKUP(B124,INDIRECT(\"'\"&$R$1&\"'!\"&\"$C$2:$G$200\"),5,FALSE),0)","v":0},{"$f":"IFERROR(VLOOKUP(B124,INDIRECT(\"'\"&$T$1&\"'!\"&\"$C$2:$G$200\"),4,FALSE),\"\")","v":""},{"$f":"IFERROR(VLOOKUP(B124,INDIRECT(\"'\"&$T$1&\"'!\"&\"$C$2:$G$200\"),5,FALSE),0)","v":0},{"$f":"8-COUNTIF(F124:U124,\"\")","v":2},{"$f":"E124/IF(V124>4,5,V124)","v":60.446091145096304}]
[123,"Mark Paviour","Croft Ambrey","M50",{"$f":"SUM(LARGE((S125,G125,I125,K125,M125,O125,Q125,U125),{1,2,3,4,5}))","v":120.68075925123767},{"$f":"IFERROR(VLOOKUP(B125,INDIRECT(\"'\"&$F$1&\"'!\"&\"$C$2:$G$200\"),4,FALSE),\"\")","v":""},{"$f":"IFERROR(VLOOKUP(B125,INDIRECT(\"'\"&$F$1&\"'!\"&\"$C$2:$G$200\"),5,FALSE),0)","v":0},{"$f":"IFERROR(VLOOKUP(B125,INDIRECT(\"'\"&$H$1&\"'!\"&\"$C$2:$G$200\"),4,FALSE),\"\")","v":4.3935185185185188E-2},{"$f":"IFERROR(VLOOKUP(B125,INDIRECT(\"'\"&$H$1&\"'!\"&\"$C$2:$G$200\"),5,FALSE),0)","v":57.902223553193075},{"$f":"IFERROR(VLOOKUP(B125,INDIRECT(\"'\"&$J$1&\"'!\"&\"$C$2:$G$200\"),4,FALSE),\"\")","v":""},{"$f":"IFERROR(VLOOKUP(B125,INDIRECT(\"'\"&$J$1&\"'!\"&\"$C$2:$G$200\"),5,FALSE),0)","v":0},{"$f":"IFERROR(VLOOKUP(B125,INDIRECT(\"'\"&$L$1&\"'!\"&\"$C$2:$G$200\"),4,FALSE),\"\")","v":""},{"$f":"IFERROR(VLOOKUP(B125,INDIRECT(\"'\"&$L$1&\"'!\"&\"$C$2:$G$200\"),5,FALSE),0)","v":0},{"$f":"IFERROR(VLOOKUP(B125,INDIRECT(\"'\"&$N$1&\"'!\"&\"$C$2:$G$200\"),4,FALSE),\"\")","v":""},{"$f":"IFERROR(VLOOKUP(B125,INDIRECT(\"'\"&$N$1&\"'!\"&\"$C$2:$G$200\"),5,FALSE),0)","v":0},{"$f":"IFERROR(VLOOKUP(B125,INDIRECT(\"'\"&$P$1&\"'!\"&\"$C$2:$G$200\"),4,FALSE),\"\")","v":""},{"$f":"IFERROR(VLOOKUP(B125,INDIRECT(\"'\"&$P$1&\"'!\"&\"$C$2:$G$200\"),5,FALSE),0)","v":0},{"$f":"IFERROR(VLOOKUP(B125,INDIRECT(\"'\"&$R$1&\"'!\"&\"$C$2:$G$200\"),4,FALSE),\"\")","v":2.7939814814814817E-2},{"$f":"IFERROR(VLOOKUP(B125,INDIRECT(\"'\"&$R$1&\"'!\"&\"$C$2:$G$200\"),5,FALSE),0)","v":62.778535698044593},{"$f":"IFERROR(VLOOKUP(B125,INDIRECT(\"'\"&$T$1&\"'!\"&\"$C$2:$G$200\"),4,FALSE),\"\")","v":""},{"$f":"IFERROR(VLOOKUP(B125,INDIRECT(\"'\"&$T$1&\"'!\"&\"$C$2:$G$200\"),5,FALSE),0)","v":0},{"$f":"8-COUNTIF(F125:U125,\"\")","v":2},{"$f":"E125/IF(V125>4,5,V125)","v":60.340379625618837}]
[124,"Kevin Hale","Parc Bryn Bach RC","M40",{"$f":"SUM(LARGE((S126,G126,I126,K126,M126,O126,Q126,U126),{1,2,3,4,5}))","v":120.57963344095384},{"$f":"IFERROR(VLOOKUP(B126,INDIRECT(\"'\"&$F$1&\"'!\"&\"$C$2:$G$200\"),4,FALSE),\"\")","v":""},{"$f":"IFERROR(VLOOKUP(B126,INDIRECT(\"'\"&$F$1&\"'!\"&\"$C$2:$G$200\"),5,FALSE),0)","v":0},{"$f":"IFERROR(VLOOKUP(B126,INDIRECT(\"'\"&$H$1&\"'!\"&\"$C$2:$G$200\"),4,FALSE),\"\")","v":""},{"$f":"IFERROR(VLOOKUP(B126,INDIRECT(\"'\"&$H$1&\"'!\"&\"$C$2:$G$200\"),5,FALSE),0)","v":0},{"$f":"IFERROR(VLOOKUP(B126,INDIRECT(\"'\"&$J$1&\"'!\"&\"$C$2:$G$200\"),4,FALSE),\"\")","v":""},{"$f":"IFERROR(VLOOKUP(B126,INDIRECT(\"'\"&$J$1&\"'!\"&\"$C$2:$G$200\"),5,FALSE),0)","v":0},{"$f":"IFERROR(VLOOKUP(B126,INDIRECT(\"'\"&$L$1&\"'!\"&\"$C$2:$G$200\"),4,FALSE),\"\")","v":""},{"$f":"IFERROR(VLOOKUP(B126,INDIRECT(\"'\"&$L$1&\"'!\"&\"$C$2:$G$200\"),5,FALSE),0)","v":0},{"$f":"IFERROR(VLOOKUP(B126,INDIRECT(\"'\"&$N$1&\"'!\"&\"$C$2:$G$200\"),4,FALSE),\"\")","v":""},{"$f":"IFERROR(VLOOKUP(B126,INDIRECT(\"'\"&$N$1&\"'!\"&\"$C$2:$G$200\"),5,FALSE),0)","v":0},{"$f":"IFERROR(VLOOKUP(B126,INDIRECT(\"'\"&$P$1&\"'!\"&\"$C$2:$G$200\"),4,FALSE),\"\")","v":2.988425925925926E-2},{"$f":"IFERROR(VLOOKUP(B126,INDIRECT(\"'\"&$P$1&\"'!\"&\"$C$2:$G$200\"),5,FALSE),0)","v":62.863819842787329},{"$f":"IFERROR(VLOOKUP(B126,INDIRECT(\"'\"&$R$1&\"'!\"&\"$C$2:$G$200\"),4,FALSE),\"\")","v":""},{"$f":"IFERROR(VLOOKUP(B126,INDIRECT(\"'\"&$R$1&\"'!\"&\"$C$2:$G$200\"),5,FALSE),0)","v":0},{"$f":"IFERROR(VLOOKUP(B126,INDIRECT(\"'\"&$T$1&\"'!\"&\"$C$2:$G$200\"),4,FALSE),\"\")","v":5.1736111111111115E-2},{"$f":"IFERROR(VLOOKUP(B126,INDIRECT(\"'\"&$T$1&\"'!\"&\"$C$2:$G$200\"),5,FALSE),0)","v":57.715813598166513},{"$f":"8-COUNTIF(F126:U126,\"\")","v":2},{"$f":"E126/IF(V126>4,5,V126)","v":60.289816720476921}]
[125,"Lou Summers","Mynydd Du","F50",{"$f":"SUM(LARGE((S127,G127,I127,K127,M127,O127,Q127,U127),{1,2,3,4,5}))","v":120.44391683363182},{"$f":"IFERROR(VLOOKUP(B127,INDIRECT(\"'\"&$F$1&\"'!\"&\"$C$2:$G$200\"),4,FALSE),\"\")","v":""},{"$f":"IFERROR(VLOOKUP(B127,INDIRECT(\"'\"&$F$1&\"'!\"&\"$C$2:$G$200\"),5,FALSE),0)","v":0},{"$f":"IFERROR(VLOOKUP(B127,INDIRECT(\"'\"&$H$1&\"'!\"&\"$C$2:$G$200\"),4,FALSE),\"\")","v":""},{"$f":"IFERROR(VLOOKUP(B127,INDIRECT(\"'\"&$H$1&\"'!\"&\"$C$2:$G$200\"),5,FALSE),0)","v":0},{"$f":"IFERROR(VLOOKUP(B127,INDIRECT(\"'\"&$J$1&\"'!\"&\"$C$2:$G$200\"),4,FALSE),\"\")","v":""},{"$f":"IFERROR(VLOOKUP(B127,INDIRECT(\"'\"&$J$1&\"'!\"&\"$C$2:$G$200\"),5,FALSE),0)","v":0},{"$f":"IFERROR(VLOOKUP(B127,INDIRECT(\"'\"&$L$1&\"'!\"&\"$C$2:$G$200\"),4,FALSE),\"\")","v":""},{"$f":"IFERROR(VLOOKUP(B127,INDIRECT(\"'\"&$L$1&\"'!\"&\"$C$2:$G$200\"),5,FALSE),0)","v":0},{"$f":"IFERROR(VLOOKUP(B127,INDIRECT(\"'\"&$N$1&\"'!\"&\"$C$2:$G$200\"),4,FALSE),\"\")","v":3.2222222222222222E-2},{"$f":"IFERROR(VLOOKUP(B127,INDIRECT(\"'\"&$N$1&\"'!\"&\"$C$2:$G$200\"),5,FALSE),0)","v":56.966707768187462},{"$f":"IFERROR(VLOOKUP(B127,INDIRECT(\"'\"&$P$1&\"'!\"&\"$C$2:$G$200\"),4,FALSE),\"\")","v":""},{"$f":"IFERROR(VLOOKUP(B127,INDIRECT(\"'\"&$P$1&\"'!\"&\"$C$2:$G$200\"),5,FALSE),0)","v":0},{"$f":"IFERROR(VLOOKUP(B127,INDIRECT(\"'\"&$R$1&\"'!\"&\"$C$2:$G$200\"),4,FALSE),\"\")","v":""},{"$f":"IFERROR(VLOOKUP(B127,INDIRECT(\"'\"&$R$1&\"'!\"&\"$C$2:$G$200\"),5,FALSE),0)","v":0},{"$f":"IFERROR(VLOOKUP(B127,INDIRECT(\"'\"&$T$1&\"'!\"&\"$C$2:$G$200\"),4,FALSE),\"\")","v":4.9641203703703701E-2},{"$f":"IFERROR(VLOOKUP(B127,INDIRECT(\"'\"&$T$1&\"'!\"&\"$C$2:$G$200\"),5,FALSE),0)","v":63.477209065444363},{"$f":"8-COUNTIF(F127:U127,\"\")","v":2},{"$f":"E127/IF(V127>4,5,V127)","v":60.221958416815909}]
[126,"David Smout","Mynydd Du","M60",{"$f":"SUM(LARGE((S128,G128,I128,K128,M128,O128,Q128,U128),{1,2,3,4,5}))","v":120.20690998143684},{"$f":"IFERROR(VLOOKUP(B128,INDIRECT(\"'\"&$F$1&\"'!\"&\"$C$2:$G$200\"),4,FALSE),\"\")","v":""},{"$f":"IFERROR(VLOOKUP(B128,INDIRECT(\"'\"&$F$1&\"'!\"&\"$C$2:$G$200\"),5,FALSE),0)","v":0},{"$f":"IFERROR(VLOOKUP(B128,INDIRECT(\"'\"&$H$1&\"'!\"&\"$C$2:$G$200\"),4,FALSE),\"\")","v":4.207175925925926E-2},{"$f":"IFERROR(VLOOKUP(B128,INDIRECT(\"'\"&$H$1&\"'!\"&\"$C$2:$G$200\"),5,FALSE),0)","v":63.929025978887481},{"$f":"IFERROR(VLOOKUP(B128,INDIRECT(\"'\"&$J$1&\"'!\"&\"$C$2:$G$200\"),4,FALSE),\"\")","v":""},{"$f":"IFERROR(VLOOKUP(B128,INDIRECT(\"'\"&$J$1&\"'!\"&\"$C$2:$G$200\"),5,FALSE),0)","v":0},{"$f":"IFERROR(VLOOKUP(B128,INDIRECT(\"'\"&$L$1&\"'!\"&\"$C$2:$G$200\"),4,FALSE),\"\")","v":""},{"$f":"IFERROR(VLOOKUP(B128,INDIRECT(\"'\"&$L$1&\"'!\"&\"$C$2:$G$200\"),5,FALSE),0)","v":0},{"$f":"IFERROR(VLOOKUP(B128,INDIRECT(\"'\"&$N$1&\"'!\"&\"$C$2:$G$200\"),4,FALSE),\"\")","v":""},{"$f":"IFERROR(VLOOKUP(B128,INDIRECT(\"'\"&$N$1&\"'!\"&\"$C$2:$G$200\"),5,FALSE),0)","v":0},{"$f":"IFERROR(VLOOKUP(B128,INDIRECT(\"'\"&$P$1&\"'!\"&\"$C$2:$G$200\"),4,FALSE),\"\")","v":3.1319444444444448E-2},{"$f":"IFERROR(VLOOKUP(B128,INDIRECT(\"'\"&$P$1&\"'!\"&\"$C$2:$G$200\"),5,FALSE),0)","v":56.277884002549364},{"$f":"IFERROR(VLOOKUP(B128,INDIRECT(\"'\"&$R$1&\"'!\"&\"$C$2:$G$200\"),4,FALSE),\"\")","v":""},{"$f":"IFERROR(VLOOKUP(B128,INDIRECT(\"'\"&$R$1&\"'!\"&\"$C$2:$G$200\"),5,FALSE),0)","v":0},{"$f":"IFERROR(VLOOKUP(B128,INDIRECT(\"'\"&$T$1&\"'!\"&\"$C$2:$G$200\"),4,FALSE),\"\")","v":""},{"$f":"IFERROR(VLOOKUP(B128,INDIRECT(\"'\"&$T$1&\"'!\"&\"$C$2:$G$200\"),5,FALSE),0)","v":0},{"$f":"8-COUNTIF(F128:U128,\"\")","v":2},{"$f":"E128/IF(V128>4,5,V128)","v":60.103454990718419}]
[127,"Adrian Frowen","Unaffiliated","M50",{"$f":"SUM(LARGE((S129,G129,I129,K129,M129,O129,Q129,U129),{1,2,3,4,5}))","v":120.1759822150274},{"$f":"IFERROR(VLOOKUP(B129,INDIRECT(\"'\"&$F$1&\"'!\"&\"$C$2:$G$200\"),4,FALSE),\"\")","v":""},{"$f":"IFERROR(VLOOKUP(B129,INDIRECT(\"'\"&$F$1&\"'!\"&\"$C$2:$G$200\"),5,FALSE),0)","v":0},{"$f":"IFERROR(VLOOKUP(B129,INDIRECT(\"'\"&$H$1&\"'!\"&\"$C$2:$G$200\"),4,FALSE),\"\")","v":""},{"$f":"IFERROR(VLOOKUP(B129,INDIRECT(\"'\"&$H$1&\"'!\"&\"$C$2:$G$200\"),5,FALSE),0)","v":0},{"$f":"IFERROR(VLOOKUP(B129,INDIRECT(\"'\"&$J$1&\"'!\"&\"$C$2:$G$200\"),4,FALSE),\"\")","v":""},{"$f":"IFERROR(VLOOKUP(B129,INDIRECT(\"'\"&$J$1&\"'!\"&\"$C$2:$G$200\"),5,FALSE),0)","v":0},{"$f":"IFERROR(VLOOKUP(B129,INDIRECT(\"'\"&$L$1&\"'!\"&\"$C$2:$G$200\"),4,FALSE),\"\")","v":2.7604166666666666E-2},{"$f":"IFERROR(VLOOKUP(B129,INDIRECT(\"'\"&$L$1&\"'!\"&\"$C$2:$G$200\"),5,FALSE),0)","v":52.522879050210271},{"$f":"IFERROR(VLOOKUP(B129,INDIRECT(\"'\"&$N$1&\"'!\"&\"$C$2:$G$200\"),4,FALSE),\"\")","v":2.9814814814814811E-2},{"$f":"IFERROR(VLOOKUP(B129,INDIRECT(\"'\"&$N$1&\"'!\"&\"$C$2:$G$200\"),5,FALSE),0)","v":67.653103164817139},{"$f":"IFERROR(VLOOKUP(B129,INDIRECT(\"'\"&$P$1&\"'!\"&\"$C$2:$G$200\"),4,FALSE),\"\")","v":""},{"$f":"IFERROR(VLOOKUP(B129,INDIRECT(\"'\"&$P$1&\"'!\"&\"$C$2:$G$200\"),5,FALSE),0)","v":0},{"$f":"IFERROR(VLOOKUP(B129,INDIRECT(\"'\"&$R$1&\"'!\"&\"$C$2:$G$200\"),4,FALSE),\"\")","v":""},{"$f":"IFERROR(VLOOKUP(B129,INDIRECT(\"'\"&$R$1&\"'!\"&\"$C$2:$G$200\"),5,FALSE),0)","v":0},{"$f":"IFERROR(VLOOKUP(B129,INDIRECT(\"'\"&$T$1&\"'!\"&\"$C$2:$G$200\"),4,FALSE),\"\")","v":""},{"$f":"IFERROR(VLOOKUP(B129,INDIRECT(\"'\"&$T$1&\"'!\"&\"$C$2:$G$200\"),5,FALSE),0)","v":0},{"$f":"8-COUNTIF(F129:U129,\"\")","v":2},{"$f":"E129/IF(V129>4,5,V129)","v":60.087991107513702}]
[128,"Rob West","MDC","M70",{"$f":"SUM(LARGE((S130,G130,I130,K130,M130,O130,Q130,U130),{1,2,3,4,5}))","v":118.58304855325514},{"$f":"IFERROR(VLOOKUP(B130,INDIRECT(\"'\"&$F$1&\"'!\"&\"$C$2:$G$200\"),4,FALSE),\"\")","v":2.3414351851851853E-2},{"$f":"IFERROR(VLOOKUP(B130,INDIRECT(\"'\"&$F$1&\"'!\"&\"$C$2:$G$200\"),5,FALSE),0)","v":40.230611277839181},{"$f":"IFERROR(VLOOKUP(B130,INDIRECT(\"'\"&$H$1&\"'!\"&\"$C$2:$G$200\"),4,FALSE),\"\")","v":5.5844907407407406E-2},{"$f":"IFERROR(VLOOKUP(B130,INDIRECT(\"'\"&$H$1&\"'!\"&\"$C$2:$G$200\"),5,FALSE),0)","v":19.383095006363725},{"$f":"IFERROR(VLOOKUP(B130,INDIRECT(\"'\"&$J$1&\"'!\"&\"$C$2:$G$200\"),4,FALSE),\"\")","v":""},{"$f":"IFERROR(VLOOKUP(B130,INDIRECT(\"'\"&$J$1&\"'!\"&\"$C$2:$G$200\"),5,FALSE),0)","v":0},{"$f":"IFERROR(VLOOKUP(B130,INDIRECT(\"'\"&$L$1&\"'!\"&\"$C$2:$G$200\"),4,FALSE),\"\")","v":3.260416666666667E-2},{"$f":"IFERROR(VLOOKUP(B130,INDIRECT(\"'\"&$L$1&\"'!\"&\"$C$2:$G$200\"),5,FALSE),0)","v":25.810042047984162},{"$f":"IFERROR(VLOOKUP(B130,INDIRECT(\"'\"&$N$1&\"'!\"&\"$C$2:$G$200\"),4,FALSE),\"\")","v":4.0069444444444442E-2},{"$f":"IFERROR(VLOOKUP(B130,INDIRECT(\"'\"&$N$1&\"'!\"&\"$C$2:$G$200\"),5,FALSE),0)","v":22.133168927250345},{"$f":"IFERROR(VLOOKUP(B130,INDIRECT(\"'\"&$P$1&\"'!\"&\"$C$2:$G$200\"),4,FALSE),\"\")","v":4.1180555555555554E-2},{"$f":"IFERROR(VLOOKUP(B130,INDIRECT(\"'\"&$P$1&\"'!\"&\"$C$2:$G$200\"),5,FALSE),0)","v":11.026131293817709},{"$f":"IFERROR(VLOOKUP(B130,INDIRECT(\"'\"&$R$1&\"'!\"&\"$C$2:$G$200\"),4,FALSE),\"\")","v":""},{"$f":"IFERROR(VLOOKUP(B130,INDIRECT(\"'\"&$R$1&\"'!\"&\"$C$2:$G$200\"),5,FALSE),0)","v":0},{"$f":"IFERROR(VLOOKUP(B130,INDIRECT(\"'\"&$T$1&\"'!\"&\"$C$2:$G$200\"),4,FALSE),\"\")","v":""},{"$f":"IFERROR(VLOOKUP(B130,INDIRECT(\"'\"&$T$1&\"'!\"&\"$C$2:$G$200\"),5,FALSE),0)","v":0},{"$f":"8-COUNTIF(F130:U130,\"\")","v":5},{"$f":"E130/IF(V130>4,5,V130)","v":23.716609710651028}]
[129,"Samantha Wickham","Croft Ambrey","SF",{"$f":"SUM(LARGE((S131,G131,I131,K131,M131,O131,Q131,U131),{1,2,3,4,5}))","v":118.10338065350106},{"$f":"IFERROR(VLOOKUP(B131,INDIRECT(\"'\"&$F$1&\"'!\"&\"$C$2:$G$200\"),4,FALSE),\"\")","v":""},{"$f":"IFERROR(VLOOKUP(B131,INDIRECT(\"'\"&$F$1&\"'!\"&\"$C$2:$G$200\"),5,FALSE),0)","v":0},{"$f":"IFERROR(VLOOKUP(B131,INDIRECT(\"'\"&$H$1&\"'!\"&\"$C$2:$G$200\"),4,FALSE),\"\")","v":4.4398148148148152E-2},{"$f":"IFERROR(VLOOKUP(B131,INDIRECT(\"'\"&$H$1&\"'!\"&\"$C$2:$G$200\"),5,FALSE),0)","v":56.404881335629263},{"$f":"IFERROR(VLOOKUP(B131,INDIRECT(\"'\"&$J$1&\"'!\"&\"$C$2:$G$200\"),4,FALSE),\"\")","v":""},{"$f":"IFERROR(VLOOKUP(B131,INDIRECT(\"'\"&$J$1&\"'!\"&\"$C$2:$G$200\"),5,FALSE),0)","v":0},{"$f":"IFERROR(VLOOKUP(B131,INDIRECT(\"'\"&$L$1&\"'!\"&\"$C$2:$G$200\"),4,FALSE),\"\")","v":""},{"$f":"IFERROR(VLOOKUP(B131,INDIRECT(\"'\"&$L$1&\"'!\"&\"$C$2:$G$200\"),5,FALSE),0)","v":0},{"$f":"IFERROR(VLOOKUP(B131,INDIRECT(\"'\"&$N$1&\"'!\"&\"$C$2:$G$200\"),4,FALSE),\"\")","v":""},{"$f":"IFERROR(VLOOKUP(B131,INDIRECT(\"'\"&$N$1&\"'!\"&\"$C$2:$G$200\"),5,FALSE),0)","v":0},{"$f":"IFERROR(VLOOKUP(B131,INDIRECT(\"'\"&$P$1&\"'!\"&\"$C$2:$G$200\"),4,FALSE),\"\")","v":""},{"$f":"IFERROR(VLOOKUP(B131,INDIRECT(\"'\"&$P$1&\"'!\"&\"$C$2:$G$200\"),5,FALSE),0)","v":0},{"$f":"IFERROR(VLOOKUP(B131,INDIRECT(\"'\"&$R$1&\"'!\"&\"$C$2:$G$200\"),4,FALSE),\"\")","v":2.8159722222222221E-2},{"$f":"IFERROR(VLOOKUP(B131,INDIRECT(\"'\"&$R$1&\"'!\"&\"$C$2:$G$200\"),5,FALSE),0)","v":61.698499317871793},{"$f":"IFERROR(VLOOKUP(B131,INDIRECT(\"'\"&$T$1&\"'!\"&\"$C$2:$G$200\"),4,FALSE),\"\")","v":""},{"$f":"IFERROR(VLOOKUP(B131,INDIRECT(\"'\"&$T$1&\"'!\"&\"$C$2:$G$200\"),5,FALSE),0)","v":0},{"$f":"8-COUNTIF(F131:U131,\"\")","v":2},{"$f":"E131/IF(V131>4,5,V131)","v":59.051690326750531}]
[130,"Susan Davies","Croft Ambrey","F50",{"$f":"SUM(LARGE((S132,G132,I132,K132,M132,O132,Q132,U132),{1,2,3,4,5}))","v":117.28121704029923},{"$f":"IFERROR(VLOOKUP(B132,INDIRECT(\"'\"&$F$1&\"'!\"&\"$C$2:$G$200\"),4,FALSE),\"\")","v":""},{"$f":"IFERROR(VLOOKUP(B132,INDIRECT(\"'\"&$F$1&\"'!\"&\"$C$2:$G$200\"),5,FALSE),0)","v":0},{"$f":"IFERROR(VLOOKUP(B132,INDIRECT(\"'\"&$H$1&\"'!\"&\"$C$2:$G$200\"),4,FALSE),\"\")","v":4.4212962962962961E-2},{"$f":"IFERROR(VLOOKUP(B132,INDIRECT(\"'\"&$H$1&\"'!\"&\"$C$2:$G$200\"),5,FALSE),0)","v":57.003818222654814},{"$f":"IFERROR(VLOOKUP(B132,INDIRECT(\"'\"&$J$1&\"'!\"&\"$C$2:$G$200\"),4,FALSE),\"\")","v":""},{"$f":"IFERROR(VLOOKUP(B132,INDIRECT(\"'\"&$J$1&\"'!\"&\"$C$2:$G$200\"),5,FALSE),0)","v":0},{"$f":"IFERROR(VLOOKUP(B132,INDIRECT(\"'\"&$L$1&\"'!\"&\"$C$2:$G$200\"),4,FALSE),\"\")","v":""},{"$f":"IFERROR(VLOOKUP(B132,INDIRECT(\"'\"&$L$1&\"'!\"&\"$C$2:$G$200\"),5,FALSE),0)","v":0},{"$f":"IFERROR(VLOOKUP(B132,INDIRECT(\"'\"&$N$1&\"'!\"&\"$C$2:$G$200\"),4,FALSE),\"\")","v":""},{"$f":"IFERROR(VLOOKUP(B132,INDIRECT(\"'\"&$N$1&\"'!\"&\"$C$2:$G$200\"),5,FALSE),0)","v":0},{"$f":"IFERROR(VLOOKUP(B132,INDIRECT(\"'\"&$P$1&\"'!\"&\"$C$2:$G$200\"),4,FALSE),\"\")","v":""},{"$f":"IFERROR(VLOOKUP(B132,INDIRECT(\"'\"&$P$1&\"'!\"&\"$C$2:$G$200\"),5,FALSE),0)","v":0},{"$f":"IFERROR(VLOOKUP(B132,INDIRECT(\"'\"&$R$1&\"'!\"&\"$C$2:$G$200\"),4,FALSE),\"\")","v":2.8449074074074075E-2},{"$f":"IFERROR(VLOOKUP(B132,INDIRECT(\"'\"&$R$1&\"'!\"&\"$C$2:$G$200\"),5,FALSE),0)","v":60.277398817644404},{"$f":"IFERROR(VLOOKUP(B132,INDIRECT(\"'\"&$T$1&\"'!\"&\"$C$2:$G$200\"),4,FALSE),\"\")","v":""},{"$f":"IFERROR(VLOOKUP(B132,INDIRECT(\"'\"&$T$1&\"'!\"&\"$C$2:$G$200\"),5,FALSE),0)","v":0},{"$f":"8-COUNTIF(F132:U132,\"\")","v":2},{"$f":"E132/IF(V132>4,5,V132)","v":58.640608520149613}]
[131,"Ben Mitchell","MDC","SM",{"$f":"SUM(LARGE((S133,G133,I133,K133,M133,O133,Q133,U133),{1,2,3,4,5}))","v":110.52436309671036},{"$f":"IFERROR(VLOOKUP(B133,INDIRECT(\"'\"&$F$1&\"'!\"&\"$C$2:$G$200\"),4,FALSE),\"\")","v":""},{"$f":"IFERROR(VLOOKUP(B133,INDIRECT(\"'\"&$F$1&\"'!\"&\"$C$2:$G$200\"),5,FALSE),0)","v":0},{"$f":"IFERROR(VLOOKUP(B133,INDIRECT(\"'\"&$H$1&\"'!\"&\"$C$2:$G$200\"),4,FALSE),\"\")","v":""},{"$f":"IFERROR(VLOOKUP(B133,INDIRECT(\"'\"&$H$1&\"'!\"&\"$C$2:$G$200\"),5,FALSE),0)","v":0},{"$f":"IFERROR(VLOOKUP(B133,INDIRECT(\"'\"&$J$1&\"'!\"&\"$C$2:$G$200\"),4,FALSE),\"\")","v":""},{"$f":"IFERROR(VLOOKUP(B133,INDIRECT(\"'\"&$J$1&\"'!\"&\"$C$2:$G$200\"),5,FALSE),0)","v":0},{"$f":"IFERROR(VLOOKUP(B133,INDIRECT(\"'\"&$L$1&\"'!\"&\"$C$2:$G$200\"),4,FALSE),\"\")","v":1.6747685185185185E-2},{"$f":"IFERROR(VLOOKUP(B133,INDIRECT(\"'\"&$L$1&\"'!\"&\"$C$2:$G$200\"),5,FALSE),0)","v":110.52436309671036},{"$f":"IFERROR(VLOOKUP(B133,INDIRECT(\"'\"&$N$1&\"'!\"&\"$C$2:$G$200\"),4,FALSE),\"\")","v":""},{"$f":"IFERROR(VLOOKUP(B133,INDIRECT(\"'\"&$N$1&\"'!\"&\"$C$2:$G$200\"),5,FALSE),0)","v":0},{"$f":"IFERROR(VLOOKUP(B133,INDIRECT(\"'\"&$P$1&\"'!\"&\"$C$2:$G$200\"),4,FALSE),\"\")","v":""},{"$f":"IFERROR(VLOOKUP(B133,INDIRECT(\"'\"&$P$1&\"'!\"&\"$C$2:$G$200\"),5,FALSE),0)","v":0},{"$f":"IFERROR(VLOOKUP(B133,INDIRECT(\"'\"&$R$1&\"'!\"&\"$C$2:$G$200\"),4,FALSE),\"\")","v":""},{"$f":"IFERROR(VLOOKUP(B133,INDIRECT(\"'\"&$R$1&\"'!\"&\"$C$2:$G$200\"),5,FALSE),0)","v":0},{"$f":"IFERROR(VLOOKUP(B133,INDIRECT(\"'\"&$T$1&\"'!\"&\"$C$2:$G$200\"),4,FALSE),\"\")","v":""},{"$f":"IFERROR(VLOOKUP(B133,INDIRECT(\"'\"&$T$1&\"'!\"&\"$C$2:$G$200\"),5,FALSE),0)","v":0},{"$f":"8-COUNTIF(F133:U133,\"\")","v":1},{"$f":"E133/IF(V133>4,5,V133)","v":110.52436309671036}]
[132,"Hamish Hughson","Chepstow Harriers","M40",{"$f":"SUM(LARGE((S134,G134,I134,K134,M134,O134,Q134,U134),{1,2,3,4,5}))","v":105.69861312201192},{"$f":"IFERROR(VLOOKUP(B134,INDIRECT(\"'\"&$F$1&\"'!\"&\"$C$2:$G$200\"),4,FALSE),\"\")","v":""},{"$f":"IFERROR(VLOOKUP(B134,INDIRECT(\"'\"&$F$1&\"'!\"&\"$C$2:$G$200\"),5,FALSE),0)","v":0},{"$f":"IFERROR(VLOOKUP(B134,INDIRECT(\"'\"&$H$1&\"'!\"&\"$C$2:$G$200\"),4,FALSE),\"\")","v":5.1504629629629629E-2},{"$f":"IFERROR(VLOOKUP(B134,INDIRECT(\"'\"&$H$1&\"'!\"&\"$C$2:$G$200\"),5,FALSE),0)","v":33.420678296024576},{"$f":"IFERROR(VLOOKUP(B134,INDIRECT(\"'\"&$J$1&\"'!\"&\"$C$2:$G$200\"),4,FALSE),\"\")","v":""},{"$f":"IFERROR(VLOOKUP(B134,INDIRECT(\"'\"&$J$1&\"'!\"&\"$C$2:$G$200\"),5,FALSE),0)","v":0},{"$f":"IFERROR(VLOOKUP(B134,INDIRECT(\"'\"&$L$1&\"'!\"&\"$C$2:$G$200\"),4,FALSE),\"\")","v":""},{"$f":"IFERROR(VLOOKUP(B134,INDIRECT(\"'\"&$L$1&\"'!\"&\"$C$2:$G$200\"),5,FALSE),0)","v":0},{"$f":"IFERROR(VLOOKUP(B134,INDIRECT(\"'\"&$N$1&\"'!\"&\"$C$2:$G$200\"),4,FALSE),\"\")","v":3.5995370370370372E-2},{"$f":"IFERROR(VLOOKUP(B134,INDIRECT(\"'\"&$N$1&\"'!\"&\"$C$2:$G$200\"),5,FALSE),0)","v":40.217838060008248},{"$f":"IFERROR(VLOOKUP(B134,INDIRECT(\"'\"&$P$1&\"'!\"&\"$C$2:$G$200\"),4,FALSE),\"\")","v":""},{"$f":"IFERROR(VLOOKUP(B134,INDIRECT(\"'\"&$P$1&\"'!\"&\"$C$2:$G$200\"),5,FALSE),0)","v":0},{"$f":"IFERROR(VLOOKUP(B134,INDIRECT(\"'\"&$R$1&\"'!\"&\"$C$2:$G$200\"),4,FALSE),\"\")","v":""},{"$f":"IFERROR(VLOOKUP(B134,INDIRECT(\"'\"&$R$1&\"'!\"&\"$C$2:$G$200\"),5,FALSE),0)","v":0},{"$f":"IFERROR(VLOOKUP(B134,INDIRECT(\"'\"&$T$1&\"'!\"&\"$C$2:$G$200\"),4,FALSE),\"\")","v":6.1064814814814815E-2},{"$f":"IFERROR(VLOOKUP(B134,INDIRECT(\"'\"&$T$1&\"'!\"&\"$C$2:$G$200\"),5,FALSE),0)","v":32.060096765979097},{"$f":"8-COUNTIF(F134:U134,\"\")","v":3},{"$f":"E134/IF(V134>4,5,V134)","v":35.232871040670638}]
[133,"Kit Grierson","UBOC","MU23",{"$f":"SUM(LARGE((S135,G135,I135,K135,M135,O135,Q135,U135),{1,2,3,4,5}))","v":104.2334566378956},{"$f":"IFERROR(VLOOKUP(B135,INDIRECT(\"'\"&$F$1&\"'!\"&\"$C$2:$G$200\"),4,FALSE),\"\")","v":""},{"$f":"IFERROR(VLOOKUP(B135,INDIRECT(\"'\"&$F$1&\"'!\"&\"$C$2:$G$200\"),5,FALSE),0)","v":0},{"$f":"IFERROR(VLOOKUP(B135,INDIRECT(\"'\"&$H$1&\"'!\"&\"$C$2:$G$200\"),4,FALSE),\"\")","v":""},{"$f":"IFERROR(VLOOKUP(B135,INDIRECT(\"'\"&$H$1&\"'!\"&\"$C$2:$G$200\"),5,FALSE),0)","v":0},{"$f":"IFERROR(VLOOKUP(B135,INDIRECT(\"'\"&$J$1&\"'!\"&\"$C$2:$G$200\"),4,FALSE),\"\")","v":""},{"$f":"IFERROR(VLOOKUP(B135,INDIRECT(\"'\"&$J$1&\"'!\"&\"$C$2:$G$200\"),5,FALSE),0)","v":0},{"$f":"IFERROR(VLOOKUP(B135,INDIRECT(\"'\"&$L$1&\"'!\"&\"$C$2:$G$200\"),4,FALSE),\"\")","v":""},{"$f":"IFERROR(VLOOKUP(B135,INDIRECT(\"'\"&$L$1&\"'!\"&\"$C$2:$G$200\"),5,FALSE),0)","v":0},{"$f":"IFERROR(VLOOKUP(B135,INDIRECT(\"'\"&$N$1&\"'!\"&\"$C$2:$G$200\"),4,FALSE),\"\")","v":2.1574074074074075E-2},{"$f":"IFERROR(VLOOKUP(B135,INDIRECT(\"'\"&$N$1&\"'!\"&\"$C$2:$G$200\"),5,FALSE),0)","v":104.2334566378956},{"$f":"IFERROR(VLOOKUP(B135,INDIRECT(\"'\"&$P$1&\"'!\"&\"$C$2:$G$200\"),4,FALSE),\"\")","v":""},{"$f":"IFERROR(VLOOKUP(B135,INDIRECT(\"'\"&$P$1&\"'!\"&\"$C$2:$G$200\"),5,FALSE),0)","v":0},{"$f":"IFERROR(VLOOKUP(B135,INDIRECT(\"'\"&$R$1&\"'!\"&\"$C$2:$G$200\"),4,FALSE),\"\")","v":""},{"$f":"IFERROR(VLOOKUP(B135,INDIRECT(\"'\"&$R$1&\"'!\"&\"$C$2:$G$200\"),5,FALSE),0)","v":0},{"$f":"IFERROR(VLOOKUP(B135,INDIRECT(\"'\"&$T$1&\"'!\"&\"$C$2:$G$200\"),4,FALSE),\"\")","v":""},{"$f":"IFERROR(VLOOKUP(B135,INDIRECT(\"'\"&$T$1&\"'!\"&\"$C$2:$G$200\"),5,FALSE),0)","v":0},{"$f":"8-COUNTIF(F135:U135,\"\")","v":1},{"$f":"E135/IF(V135>4,5,V135)","v":104.2334566378956}]
[134,"Mark Hopkinson","Mynydd Du","SM",{"$f":"SUM(LARGE((S136,G136,I136,K136,M136,O136,Q136,U136),{1,2,3,4,5}))","v":100.59205500381971},{"$f":"IFERROR(VLOOKUP(B136,INDIRECT(\"'\"&$F$1&\"'!\"&\"$C$2:$G$200\"),4,FALSE),\"\")","v":""},{"$f":"IFERROR(VLOOKUP(B136,INDIRECT(\"'\"&$F$1&\"'!\"&\"$C$2:$G$200\"),5,FALSE),0)","v":0},{"$f":"IFERROR(VLOOKUP(B136,INDIRECT(\"'\"&$H$1&\"'!\"&\"$C$2:$G$200\"),4,FALSE),\"\")","v":""},{"$f":"IFERROR(VLOOKUP(B136,INDIRECT(\"'\"&$H$1&\"'!\"&\"$C$2:$G$200\"),5,FALSE),0)","v":0},{"$f":"IFERROR(VLOOKUP(B136,INDIRECT(\"'\"&$J$1&\"'!\"&\"$C$2:$G$200\"),4,FALSE),\"\")","v":""},{"$f":"IFERROR(VLOOKUP(B136,INDIRECT(\"'\"&$J$1&\"'!\"&\"$C$2:$G$200\"),5,FALSE),0)","v":0},{"$f":"IFERROR(VLOOKUP(B136,INDIRECT(\"'\"&$L$1&\"'!\"&\"$C$2:$G$200\"),4,FALSE),\"\")","v":""},{"$f":"IFERROR(VLOOKUP(B136,INDIRECT(\"'\"&$L$1&\"'!\"&\"$C$2:$G$200\"),5,FALSE),0)","v":0},{"$f":"IFERROR(VLOOKUP(B136,INDIRECT(\"'\"&$N$1&\"'!\"&\"$C$2:$G$200\"),4,FALSE),\"\")","v":""},{"$f":"IFERROR(VLOOKUP(B136,INDIRECT(\"'\"&$N$1&\"'!\"&\"$C$2:$G$200\"),5,FALSE),0)","v":0},{"$f":"IFERROR(VLOOKUP(B136,INDIRECT(\"'\"&$P$1&\"'!\"&\"$C$2:$G$200\"),4,FALSE),\"\")","v":""},{"$f":"IFERROR(VLOOKUP(B136,INDIRECT(\"'\"&$P$1&\"'!\"&\"$C$2:$G$200\"),5,FALSE),0)","v":0},{"$f":"IFERROR(VLOOKUP(B136,INDIRECT(\"'\"&$R$1&\"'!\"&\"$C$2:$G$200\"),4,FALSE),\"\")","v":""},{"$f":"IFERROR(VLOOKUP(B136,INDIRECT(\"'\"&$R$1&\"'!\"&\"$C$2:$G$200\"),5,FALSE),0)","v":0},{"$f":"IFERROR(VLOOKUP(B136,INDIRECT(\"'\"&$T$1&\"'!\"&\"$C$2:$G$200\"),4,FALSE),\"\")","v":3.6145833333333328E-2},{"$f":"IFERROR(VLOOKUP(B136,INDIRECT(\"'\"&$T$1&\"'!\"&\"$C$2:$G$200\"),5,FALSE),0)","v":100.59205500381971},{"$f":"8-COUNTIF(F136:U136,\"\")","v":1},{"$f":"E136/IF(V136>4,5,V136)","v":100.59205500381971}]
[135,"Tom Roberts","Meirionydd","SM",{"$f":"SUM(LARGE((S137,G137,I137,K137,M137,O137,Q137,U137),{1,2,3,4,5}))","v":100.33740769034887},{"$f":"IFERROR(VLOOKUP(B137,INDIRECT(\"'\"&$F$1&\"'!\"&\"$C$2:$G$200\"),4,FALSE),\"\")","v":""},{"$f":"IFERROR(VLOOKUP(B137,INDIRECT(\"'\"&$F$1&\"'!\"&\"$C$2:$G$200\"),5,FALSE),0)","v":0},{"$f":"IFERROR(VLOOKUP(B137,INDIRECT(\"'\"&$H$1&\"'!\"&\"$C$2:$G$200\"),4,FALSE),\"\")","v":""},{"$f":"IFERROR(VLOOKUP(B137,INDIRECT(\"'\"&$H$1&\"'!\"&\"$C$2:$G$200\"),5,FALSE),0)","v":0},{"$f":"IFERROR(VLOOKUP(B137,INDIRECT(\"'\"&$J$1&\"'!\"&\"$C$2:$G$200\"),4,FALSE),\"\")","v":""},{"$f":"IFERROR(VLOOKUP(B137,INDIRECT(\"'\"&$J$1&\"'!\"&\"$C$2:$G$200\"),5,FALSE),0)","v":0},{"$f":"IFERROR(VLOOKUP(B137,INDIRECT(\"'\"&$L$1&\"'!\"&\"$C$2:$G$200\"),4,FALSE),\"\")","v":""},{"$f":"IFERROR(VLOOKUP(B137,INDIRECT(\"'\"&$L$1&\"'!\"&\"$C$2:$G$200\"),5,FALSE),0)","v":0},{"$f":"IFERROR(VLOOKUP(B137,INDIRECT(\"'\"&$N$1&\"'!\"&\"$C$2:$G$200\"),4,FALSE),\"\")","v":""},{"$f":"IFERROR(VLOOKUP(B137,INDIRECT(\"'\"&$N$1&\"'!\"&\"$C$2:$G$200\"),5,FALSE),0)","v":0},{"$f":"IFERROR(VLOOKUP(B137,INDIRECT(\"'\"&$P$1&\"'!\"&\"$C$2:$G$200\"),4,FALSE),\"\")","v":""},{"$f":"IFERROR(VLOOKUP(B137,INDIRECT(\"'\"&$P$1&\"'!\"&\"$C$2:$G$200\"),5,FALSE),0)","v":0},{"$f":"IFERROR(VLOOKUP(B137,INDIRECT(\"'\"&$R$1&\"'!\"&\"$C$2:$G$200\"),4,FALSE),\"\")","v":""},{"$f":"IFERROR(VLOOKUP(B137,INDIRECT(\"'\"&$R$1&\"'!\"&\"$C$2:$G$200\"),5,FALSE),0)","v":0},{"$f":"IFERROR(VLOOKUP(B137,INDIRECT(\"'\"&$T$1&\"'!\"&\"$C$2:$G$200\"),4,FALSE),\"\")","v":3.6238425925925924E-2},{"$f":"IFERROR(VLOOKUP(B137,INDIRECT(\"'\"&$T$1&\"'!\"&\"$C$2:$G$200\"),5,FALSE),0)","v":100.33740769034887},{"$f":"8-COUNTIF(F137:U137,\"\")","v":1},{"$f":"E137/IF(V137>4,5,V137)","v":100.33740769034887}]
[136,"Robert Gordon","Mynydd Du","M40",{"$f":"SUM(LARGE((S138,G138,I138,K138,M138,O138,Q138,U138),{1,2,3,4,5}))","v":100.08984053305383},{"$f":"IFERROR(VLOOKUP(B138,INDIRECT(\"'\"&$F$1&\"'!\"&\"$C$2:$G$200\"),4,FALSE),\"\")","v":""},{"$f":"IFERROR(VLOOKUP(B138,INDIRECT(\"'\"&$F$1&\"'!\"&\"$C$2:$G$200\"),5,FALSE),0)","v":0},{"$f":"IFERROR(VLOOKUP(B138,INDIRECT(\"'\"&$H$1&\"'!\"&\"$C$2:$G$200\"),4,FALSE),\"\")","v":3.0891203703703702E-2},{"$f":"IFERROR(VLOOKUP(B138,INDIRECT(\"'\"&$H$1&\"'!\"&\"$C$2:$G$200\"),5,FALSE),0)","v":100.08984053305383},{"$f":"IFERROR(VLOOKUP(B138,INDIRECT(\"'\"&$J$1&\"'!\"&\"$C$2:$G$200\"),4,FALSE),\"\")","v":""},{"$f":"IFERROR(VLOOKUP(B138,INDIRECT(\"'\"&$J$1&\"'!\"&\"$C$2:$G$200\"),5,FALSE),0)","v":0},{"$f":"IFERROR(VLOOKUP(B138,INDIRECT(\"'\"&$L$1&\"'!\"&\"$C$2:$G$200\"),4,FALSE),\"\")","v":""},{"$f":"IFERROR(VLOOKUP(B138,INDIRECT(\"'\"&$L$1&\"'!\"&\"$C$2:$G$200\"),5,FALSE),0)","v":0},{"$f":"IFERROR(VLOOKUP(B138,INDIRECT(\"'\"&$N$1&\"'!\"&\"$C$2:$G$200\"),4,FALSE),\"\")","v":""},{"$f":"IFERROR(VLOOKUP(B138,INDIRECT(\"'\"&$N$1&\"'!\"&\"$C$2:$G$200\"),5,FALSE),0)","v":0},{"$f":"IFERROR(VLOOKUP(B138,INDIRECT(\"'\"&$P$1&\"'!\"&\"$C$2:$G$200\"),4,FALSE),\"\")","v":""},{"$f":"IFERROR(VLOOKUP(B138,INDIRECT(\"'\"&$P$1&\"'!\"&\"$C$2:$G$200\"),5,FALSE),0)","v":0},{"$f":"IFERROR(VLOOKUP(B138,INDIRECT(\"'\"&$R$1&\"'!\"&\"$C$2:$G$200\"),4,FALSE),\"\")","v":""},{"$f":"IFERROR(VLOOKUP(B138,INDIRECT(\"'\"&$R$1&\"'!\"&\"$C$2:$G$200\"),5,FALSE),0)","v":0},{"$f":"IFERROR(VLOOKUP(B138,INDIRECT(\"'\"&$T$1&\"'!\"&\"$C$2:$G$200\"),4,FALSE),\"\")","v":""},{"$f":"IFERROR(VLOOKUP(B138,INDIRECT(\"'\"&$T$1&\"'!\"&\"$C$2:$G$200\"),5,FALSE),0)","v":0},{"$f":"8-COUNTIF(F138:U138,\"\")","v":1},{"$f":"E138/IF(V138>4,5,V138)","v":100.08984053305383}]
[137,"Jeff Wherlock","Lliswerry Runners","M50",{"$f":"SUM(LARGE((S139,G139,I139,K139,M139,O139,Q139,U139),{1,2,3,4,5}))","v":97.8648820905035},{"$f":"IFERROR(VLOOKUP(B139,INDIRECT(\"'\"&$F$1&\"'!\"&\"$C$2:$G$200\"),4,FALSE),\"\")","v":""},{"$f":"IFERROR(VLOOKUP(B139,INDIRECT(\"'\"&$F$1&\"'!\"&\"$C$2:$G$200\"),5,FALSE),0)","v":0},{"$f":"IFERROR(VLOOKUP(B139,INDIRECT(\"'\"&$H$1&\"'!\"&\"$C$2:$G$200\"),4,FALSE),\"\")","v":""},{"$f":"IFERROR(VLOOKUP(B139,INDIRECT(\"'\"&$H$1&\"'!\"&\"$C$2:$G$200\"),5,FALSE),0)","v":0},{"$f":"IFERROR(VLOOKUP(B139,INDIRECT(\"'\"&$J$1&\"'!\"&\"$C$2:$G$200\"),4,FALSE),\"\")","v":""},{"$f":"IFERROR(VLOOKUP(B139,INDIRECT(\"'\"&$J$1&\"'!\"&\"$C$2:$G$200\"),5,FALSE),0)","v":0},{"$f":"IFERROR(VLOOKUP(B139,INDIRECT(\"'\"&$L$1&\"'!\"&\"$C$2:$G$200\"),4,FALSE),\"\")","v":""},{"$f":"IFERROR(VLOOKUP(B139,INDIRECT(\"'\"&$L$1&\"'!\"&\"$C$2:$G$200\"),5,FALSE),0)","v":0},{"$f":"IFERROR(VLOOKUP(B139,INDIRECT(\"'\"&$N$1&\"'!\"&\"$C$2:$G$200\"),4,FALSE),\"\")","v":""},{"$f":"IFERROR(VLOOKUP(B139,INDIRECT(\"'\"&$N$1&\"'!\"&\"$C$2:$G$200\"),5,FALSE),0)","v":0},{"$f":"IFERROR(VLOOKUP(B139,INDIRECT(\"'\"&$P$1&\"'!\"&\"$C$2:$G$200\"),4,FALSE),\"\")","v":2.225694444444444E-2},{"$f":"IFERROR(VLOOKUP(B139,INDIRECT(\"'\"&$P$1&\"'!\"&\"$C$2:$G$200\"),5,FALSE),0)","v":97.8648820905035},{"$f":"IFERROR(VLOOKUP(B139,INDIRECT(\"'\"&$R$1&\"'!\"&\"$C$2:$G$200\"),4,FALSE),\"\")","v":""},{"$f":"IFERROR(VLOOKUP(B139,INDIRECT(\"'\"&$R$1&\"'!\"&\"$C$2:$G$200\"),5,FALSE),0)","v":0},{"$f":"IFERROR(VLOOKUP(B139,INDIRECT(\"'\"&$T$1&\"'!\"&\"$C$2:$G$200\"),4,FALSE),\"\")","v":""},{"$f":"IFERROR(VLOOKUP(B139,INDIRECT(\"'\"&$T$1&\"'!\"&\"$C$2:$G$200\"),5,FALSE),0)","v":0},{"$f":"8-COUNTIF(F139:U139,\"\")","v":1},{"$f":"E139/IF(V139>4,5,V139)","v":97.8648820905035}]
[138,"Samuel Gregory","South Wales ","SM",{"$f":"SUM(LARGE((S140,G140,I140,K140,M140,O140,Q140,U140),{1,2,3,4,5}))","v":96.899668958492498},{"$f":"IFERROR(VLOOKUP(B140,INDIRECT(\"'\"&$F$1&\"'!\"&\"$C$2:$G$200\"),4,FALSE),\"\")","v":""},{"$f":"IFERROR(VLOOKUP(B140,INDIRECT(\"'\"&$F$1&\"'!\"&\"$C$2:$G$200\"),5,FALSE),0)","v":0},{"$f":"IFERROR(VLOOKUP(B140,INDIRECT(\"'\"&$H$1&\"'!\"&\"$C$2:$G$200\"),4,FALSE),\"\")","v":""},{"$f":"IFERROR(VLOOKUP(B140,INDIRECT(\"'\"&$H$1&\"'!\"&\"$C$2:$G$200\"),5,FALSE),0)","v":0},{"$f":"IFERROR(VLOOKUP(B140,INDIRECT(\"'\"&$J$1&\"'!\"&\"$C$2:$G$200\"),4,FALSE),\"\")","v":""},{"$f":"IFERROR(VLOOKUP(B140,INDIRECT(\"'\"&$J$1&\"'!\"&\"$C$2:$G$200\"),5,FALSE),0)","v":0},{"$f":"IFERROR(VLOOKUP(B140,INDIRECT(\"'\"&$L$1&\"'!\"&\"$C$2:$G$200\"),4,FALSE),\"\")","v":""},{"$f":"IFERROR(VLOOKUP(B140,INDIRECT(\"'\"&$L$1&\"'!\"&\"$C$2:$G$200\"),5,FALSE),0)","v":0},{"$f":"IFERROR(VLOOKUP(B140,INDIRECT(\"'\"&$N$1&\"'!\"&\"$C$2:$G$200\"),4,FALSE),\"\")","v":""},{"$f":"IFERROR(VLOOKUP(B140,INDIRECT(\"'\"&$N$1&\"'!\"&\"$C$2:$G$200\"),5,FALSE),0)","v":0},{"$f":"IFERROR(VLOOKUP(B140,INDIRECT(\"'\"&$P$1&\"'!\"&\"$C$2:$G$200\"),4,FALSE),\"\")","v":""},{"$f":"IFERROR(VLOOKUP(B140,INDIRECT(\"'\"&$P$1&\"'!\"&\"$C$2:$G$200\"),5,FALSE),0)","v":0},{"$f":"IFERROR(VLOOKUP(B140,INDIRECT(\"'\"&$R$1&\"'!\"&\"$C$2:$G$200\"),4,FALSE),\"\")","v":""},{"$f":"IFERROR(VLOOKUP(B140,INDIRECT(\"'\"&$R$1&\"'!\"&\"$C$2:$G$200\"),5,FALSE),0)","v":0},{"$f":"IFERROR(VLOOKUP(B140,INDIRECT(\"'\"&$T$1&\"'!\"&\"$C$2:$G$200\"),4,FALSE),\"\")","v":3.7488425925925925E-2},{"$f":"IFERROR(VLOOKUP(B140,INDIRECT(\"'\"&$T$1&\"'!\"&\"$C$2:$G$200\"),5,FALSE),0)","v":96.899668958492498},{"$f":"8-COUNTIF(F140:U140,\"\")","v":1},{"$f":"E140/IF(V140>4,5,V140)","v":96.899668958492498}]
[139,"Jonathan Williams","Unaffiliated","M40",{"$f":"SUM(LARGE((S141,G141,I141,K141,M141,O141,Q141,U141),{1,2,3,4,5}))","v":96.324622902060767},{"$f":"IFERROR(VLOOKUP(B141,INDIRECT(\"'\"&$F$1&\"'!\"&\"$C$2:$G$200\"),4,FALSE),\"\")","v":""},{"$f":"IFERROR(VLOOKUP(B141,INDIRECT(\"'\"&$F$1&\"'!\"&\"$C$2:$G$200\"),5,FALSE),0)","v":0},{"$f":"IFERROR(VLOOKUP(B141,INDIRECT(\"'\"&$H$1&\"'!\"&\"$C$2:$G$200\"),4,FALSE),\"\")","v":""},{"$f":"IFERROR(VLOOKUP(B141,INDIRECT(\"'\"&$H$1&\"'!\"&\"$C$2:$G$200\"),5,FALSE),0)","v":0},{"$f":"IFERROR(VLOOKUP(B141,INDIRECT(\"'\"&$J$1&\"'!\"&\"$C$2:$G$200\"),4,FALSE),\"\")","v":""},{"$f":"IFERROR(VLOOKUP(B141,INDIRECT(\"'\"&$J$1&\"'!\"&\"$C$2:$G$200\"),5,FALSE),0)","v":0},{"$f":"IFERROR(VLOOKUP(B141,INDIRECT(\"'\"&$L$1&\"'!\"&\"$C$2:$G$200\"),4,FALSE),\"\")","v":""},{"$f":"IFERROR(VLOOKUP(B141,INDIRECT(\"'\"&$L$1&\"'!\"&\"$C$2:$G$200\"),5,FALSE),0)","v":0},{"$f":"IFERROR(VLOOKUP(B141,INDIRECT(\"'\"&$N$1&\"'!\"&\"$C$2:$G$200\"),4,FALSE),\"\")","v":""},{"$f":"IFERROR(VLOOKUP(B141,INDIRECT(\"'\"&$N$1&\"'!\"&\"$C$2:$G$200\"),5,FALSE),0)","v":0},{"$f":"IFERROR(VLOOKUP(B141,INDIRECT(\"'\"&$P$1&\"'!\"&\"$C$2:$G$200\"),4,FALSE),\"\")","v":2.2592592592592591E-2},{"$f":"IFERROR(VLOOKUP(B141,INDIRECT(\"'\"&$P$1&\"'!\"&\"$C$2:$G$200\"),5,FALSE),0)","v":96.324622902060767},{"$f":"IFERROR(VLOOKUP(B141,INDIRECT(\"'\"&$R$1&\"'!\"&\"$C$2:$G$200\"),4,FALSE),\"\")","v":""},{"$f":"IFERROR(VLOOKUP(B141,INDIRECT(\"'\"&$R$1&\"'!\"&\"$C$2:$G$200\"),5,FALSE),0)","v":0},{"$f":"IFERROR(VLOOKUP(B141,INDIRECT(\"'\"&$T$1&\"'!\"&\"$C$2:$G$200\"),4,FALSE),\"\")","v":""},{"$f":"IFERROR(VLOOKUP(B141,INDIRECT(\"'\"&$T$1&\"'!\"&\"$C$2:$G$200\"),5,FALSE),0)","v":0},{"$f":"8-COUNTIF(F141:U141,\"\")","v":1},{"$f":"E141/IF(V141>4,5,V141)","v":96.324622902060767}]
[140,"James Thomas","Cirencester","SM",{"$f":"SUM(LARGE((S142,G142,I142,K142,M142,O142,Q142,U142),{1,2,3,4,5}))","v":96.013152486642014},{"$f":"IFERROR(VLOOKUP(B142,INDIRECT(\"'\"&$F$1&\"'!\"&\"$C$2:$G$200\"),4,FALSE),\"\")","v":""},{"$f":"IFERROR(VLOOKUP(B142,INDIRECT(\"'\"&$F$1&\"'!\"&\"$C$2:$G$200\"),5,FALSE),0)","v":0},{"$f":"IFERROR(VLOOKUP(B142,INDIRECT(\"'\"&$H$1&\"'!\"&\"$C$2:$G$200\"),4,FALSE),\"\")","v":""},{"$f":"IFERROR(VLOOKUP(B142,INDIRECT(\"'\"&$H$1&\"'!\"&\"$C$2:$G$200\"),5,FALSE),0)","v":0},{"$f":"IFERROR(VLOOKUP(B142,INDIRECT(\"'\"&$J$1&\"'!\"&\"$C$2:$G$200\"),4,FALSE),\"\")","v":""},{"$f":"IFERROR(VLOOKUP(B142,INDIRECT(\"'\"&$J$1&\"'!\"&\"$C$2:$G$200\"),5,FALSE),0)","v":0},{"$f":"IFERROR(VLOOKUP(B142,INDIRECT(\"'\"&$L$1&\"'!\"&\"$C$2:$G$200\"),4,FALSE),\"\")","v":""},{"$f":"IFERROR(VLOOKUP(B142,INDIRECT(\"'\"&$L$1&\"'!\"&\"$C$2:$G$200\"),5,FALSE),0)","v":0},{"$f":"IFERROR(VLOOKUP(B142,INDIRECT(\"'\"&$N$1&\"'!\"&\"$C$2:$G$200\"),4,FALSE),\"\")","v":2.342592592592593E-2},{"$f":"IFERROR(VLOOKUP(B142,INDIRECT(\"'\"&$N$1&\"'!\"&\"$C$2:$G$200\"),5,FALSE),0)","v":96.013152486642014},{"$f":"IFERROR(VLOOKUP(B142,INDIRECT(\"'\"&$P$1&\"'!\"&\"$C$2:$G$200\"),4,FALSE),\"\")","v":""},{"$f":"IFERROR(VLOOKUP(B142,INDIRECT(\"'\"&$P$1&\"'!\"&\"$C$2:$G$200\"),5,FALSE),0)","v":0},{"$f":"IFERROR(VLOOKUP(B142,INDIRECT(\"'\"&$R$1&\"'!\"&\"$C$2:$G$200\"),4,FALSE),\"\")","v":""},{"$f":"IFERROR(VLOOKUP(B142,INDIRECT(\"'\"&$R$1&\"'!\"&\"$C$2:$G$200\"),5,FALSE),0)","v":0},{"$f":"IFERROR(VLOOKUP(B142,INDIRECT(\"'\"&$T$1&\"'!\"&\"$C$2:$G$200\"),4,FALSE),\"\")","v":""},{"$f":"IFERROR(VLOOKUP(B142,INDIRECT(\"'\"&$T$1&\"'!\"&\"$C$2:$G$200\"),5,FALSE),0)","v":0},{"$f":"8-COUNTIF(F142:U142,\"\")","v":1},{"$f":"E142/IF(V142>4,5,V142)","v":96.013152486642014}]
[141,"Simon Marchant","Unaffiliated","SM",{"$f":"SUM(LARGE((S143,G143,I143,K143,M143,O143,Q143,U143),{1,2,3,4,5}))","v":95.602137279079329},{"$f":"IFERROR(VLOOKUP(B143,INDIRECT(\"'\"&$F$1&\"'!\"&\"$C$2:$G$200\"),4,FALSE),\"\")","v":""},{"$f":"IFERROR(VLOOKUP(B143,INDIRECT(\"'\"&$F$1&\"'!\"&\"$C$2:$G$200\"),5,FALSE),0)","v":0},{"$f":"IFERROR(VLOOKUP(B143,INDIRECT(\"'\"&$H$1&\"'!\"&\"$C$2:$G$200\"),4,FALSE),\"\")","v":""},{"$f":"IFERROR(VLOOKUP(B143,INDIRECT(\"'\"&$H$1&\"'!\"&\"$C$2:$G$200\"),5,FALSE),0)","v":0},{"$f":"IFERROR(VLOOKUP(B143,INDIRECT(\"'\"&$J$1&\"'!\"&\"$C$2:$G$200\"),4,FALSE),\"\")","v":""},{"$f":"IFERROR(VLOOKUP(B143,INDIRECT(\"'\"&$J$1&\"'!\"&\"$C$2:$G$200\"),5,FALSE),0)","v":0},{"$f":"IFERROR(VLOOKUP(B143,INDIRECT(\"'\"&$L$1&\"'!\"&\"$C$2:$G$200\"),4,FALSE),\"\")","v":""},{"$f":"IFERROR(VLOOKUP(B143,INDIRECT(\"'\"&$L$1&\"'!\"&\"$C$2:$G$200\"),5,FALSE),0)","v":0},{"$f":"IFERROR(VLOOKUP(B143,INDIRECT(\"'\"&$N$1&\"'!\"&\"$C$2:$G$200\"),4,FALSE),\"\")","v":2.3518518518518518E-2},{"$f":"IFERROR(VLOOKUP(B143,INDIRECT(\"'\"&$N$1&\"'!\"&\"$C$2:$G$200\"),5,FALSE),0)","v":95.602137279079329},{"$f":"IFERROR(VLOOKUP(B143,INDIRECT(\"'\"&$P$1&\"'!\"&\"$C$2:$G$200\"),4,FALSE),\"\")","v":""},{"$f":"IFERROR(VLOOKUP(B143,INDIRECT(\"'\"&$P$1&\"'!\"&\"$C$2:$G$200\"),5,FALSE),0)","v":0},{"$f":"IFERROR(VLOOKUP(B143,INDIRECT(\"'\"&$R$1&\"'!\"&\"$C$2:$G$200\"),4,FALSE),\"\")","v":""},{"$f":"IFERROR(VLOOKUP(B143,INDIRECT(\"'\"&$R$1&\"'!\"&\"$C$2:$G$200\"),5,FALSE),0)","v":0},{"$f":"IFERROR(VLOOKUP(B143,INDIRECT(\"'\"&$T$1&\"'!\"&\"$C$2:$G$200\"),4,FALSE),\"\")","v":""},{"$f":"IFERROR(VLOOKUP(B143,INDIRECT(\"'\"&$T$1&\"'!\"&\"$C$2:$G$200\"),5,FALSE),0)","v":0},{"$f":"8-COUNTIF(F143:U143,\"\")","v":1},{"$f":"E143/IF(V143>4,5,V143)","v":95.602137279079329}]
[142,"Toby Garratt","Chepstow Harriers","SM",{"$f":"SUM(LARGE((S144,G144,I144,K144,M144,O144,Q144,U144),{1,2,3,4,5}))","v":95.221727099524799},{"$f":"IFERROR(VLOOKUP(B144,INDIRECT(\"'\"&$F$1&\"'!\"&\"$C$2:$G$200\"),4,FALSE),\"\")","v":""},{"$f":"IFERROR(VLOOKUP(B144,INDIRECT(\"'\"&$F$1&\"'!\"&\"$C$2:$G$200\"),5,FALSE),0)","v":0},{"$f":"IFERROR(VLOOKUP(B144,INDIRECT(\"'\"&$H$1&\"'!\"&\"$C$2:$G$200\"),4,FALSE),\"\")","v":""},{"$f":"IFERROR(VLOOKUP(B144,INDIRECT(\"'\"&$H$1&\"'!\"&\"$C$2:$G$200\"),5,FALSE),0)","v":0},{"$f":"IFERROR(VLOOKUP(B144,INDIRECT(\"'\"&$J$1&\"'!\"&\"$C$2:$G$200\"),4,FALSE),\"\")","v":""},{"$f":"IFERROR(VLOOKUP(B144,INDIRECT(\"'\"&$J$1&\"'!\"&\"$C$2:$G$200\"),5,FALSE),0)","v":0},{"$f":"IFERROR(VLOOKUP(B144,INDIRECT(\"'\"&$L$1&\"'!\"&\"$C$2:$G$200\"),4,FALSE),\"\")","v":3.3159722222222222E-2},{"$f":"IFERROR(VLOOKUP(B144,INDIRECT(\"'\"&$L$1&\"'!\"&\"$C$2:$G$200\"),5,FALSE),0)","v":22.841949047736843},{"$f":"IFERROR(VLOOKUP(B144,INDIRECT(\"'\"&$N$1&\"'!\"&\"$C$2:$G$200\"),4,FALSE),\"\")","v":2.8749999999999998E-2},{"$f":"IFERROR(VLOOKUP(B144,INDIRECT(\"'\"&$N$1&\"'!\"&\"$C$2:$G$200\"),5,FALSE),0)","v":72.379778051787952},{"$f":"IFERROR(VLOOKUP(B144,INDIRECT(\"'\"&$P$1&\"'!\"&\"$C$2:$G$200\"),4,FALSE),\"\")","v":""},{"$f":"IFERROR(VLOOKUP(B144,INDIRECT(\"'\"&$P$1&\"'!\"&\"$C$2:$G$200\"),5,FALSE),0)","v":0},{"$f":"IFERROR(VLOOKUP(B144,INDIRECT(\"'\"&$R$1&\"'!\"&\"$C$2:$G$200\"),4,FALSE),\"\")","v":""},{"$f":"IFERROR(VLOOKUP(B144,INDIRECT(\"'\"&$R$1&\"'!\"&\"$C$2:$G$200\"),5,FALSE),0)","v":0},{"$f":"IFERROR(VLOOKUP(B144,INDIRECT(\"'\"&$T$1&\"'!\"&\"$C$2:$G$200\"),4,FALSE),\"\")","v":""},{"$f":"IFERROR(VLOOKUP(B144,INDIRECT(\"'\"&$T$1&\"'!\"&\"$C$2:$G$200\"),5,FALSE),0)","v":0},{"$f":"8-COUNTIF(F144:U144,\"\")","v":2},{"$f":"E144/IF(V144>4,5,V144)","v":47.610863549762399}]
[143,"Kevin Hagley","SWRR","M50 ",{"$f":"SUM(LARGE((S145,G145,I145,K145,M145,O145,Q145,U145),{1,2,3,4,5}))","v":95.119254462170261},{"$f":"IFERROR(VLOOKUP(B145,INDIRECT(\"'\"&$F$1&\"'!\"&\"$C$2:$G$200\"),4,FALSE),\"\")","v":1.5370370370370369E-2},{"$f":"IFERROR(VLOOKUP(B145,INDIRECT(\"'\"&$F$1&\"'!\"&\"$C$2:$G$200\"),5,FALSE),0)","v":95.119254462170261},{"$f":"IFERROR(VLOOKUP(B145,INDIRECT(\"'\"&$H$1&\"'!\"&\"$C$2:$G$200\"),4,FALSE),\"\")","v":""},{"$f":"IFERROR(VLOOKUP(B145,INDIRECT(\"'\"&$H$1&\"'!\"&\"$C$2:$G$200\"),5,FALSE),0)","v":0},{"$f":"IFERROR(VLOOKUP(B145,INDIRECT(\"'\"&$J$1&\"'!\"&\"$C$2:$G$200\"),4,FALSE),\"\")","v":""},{"$f":"IFERROR(VLOOKUP(B145,INDIRECT(\"'\"&$J$1&\"'!\"&\"$C$2:$G$200\"),5,FALSE),0)","v":0},{"$f":"IFERROR(VLOOKUP(B145,INDIRECT(\"'\"&$L$1&\"'!\"&\"$C$2:$G$200\"),4,FALSE),\"\")","v":""},{"$f":"IFERROR(VLOOKUP(B145,INDIRECT(\"'\"&$L$1&\"'!\"&\"$C$2:$G$200\"),5,FALSE),0)","v":0},{"$f":"IFERROR(VLOOKUP(B145,INDIRECT(\"'\"&$N$1&\"'!\"&\"$C$2:$G$200\"),4,FALSE),\"\")","v":""},{"$f":"IFERROR(VLOOKUP(B145,INDIRECT(\"'\"&$N$1&\"'!\"&\"$C$2:$G$200\"),5,FALSE),0)","v":0},{"$f":"IFERROR(VLOOKUP(B145,INDIRECT(\"'\"&$P$1&\"'!\"&\"$C$2:$G$200\"),4,FALSE),\"\")","v":""},{"$f":"IFERROR(VLOOKUP(B145,INDIRECT(\"'\"&$P$1&\"'!\"&\"$C$2:$G$200\"),5,FALSE),0)","v":0},{"$f":"IFERROR(VLOOKUP(B145,INDIRECT(\"'\"&$R$1&\"'!\"&\"$C$2:$G$200\"),4,FALSE),\"\")","v":""},{"$f":"IFERROR(VLOOKUP(B145,INDIRECT(\"'\"&$R$1&\"'!\"&\"$C$2:$G$200\"),5,FALSE),0)","v":0},{"$f":"IFERROR(VLOOKUP(B145,INDIRECT(\"'\"&$T$1&\"'!\"&\"$C$2:$G$200\"),4,FALSE),\"\")","v":""},{"$f":"IFERROR(VLOOKUP(B145,INDIRECT(\"'\"&$T$1&\"'!\"&\"$C$2:$G$200\"),5,FALSE),0)","v":0},{"$f":"8-COUNTIF(F145:U145,\"\")","v":1},{"$f":"E145/IF(V145>4,5,V145)","v":95.119254462170261}]
[144,"Richard Wilder","San Domenico","M40",{"$f":"SUM(LARGE((S146,G146,I146,K146,M146,O146,Q146,U146),{1,2,3,4,5}))","v":94.961443437897771},{"$f":"IFERROR(VLOOKUP(B146,INDIRECT(\"'\"&$F$1&\"'!\"&\"$C$2:$G$200\"),4,FALSE),\"\")","v":""},{"$f":"IFERROR(VLOOKUP(B146,INDIRECT(\"'\"&$F$1&\"'!\"&\"$C$2:$G$200\"),5,FALSE),0)","v":0},{"$f":"IFERROR(VLOOKUP(B146,INDIRECT(\"'\"&$H$1&\"'!\"&\"$C$2:$G$200\"),4,FALSE),\"\")","v":3.2476851851851847E-2},{"$f":"IFERROR(VLOOKUP(B146,INDIRECT(\"'\"&$H$1&\"'!\"&\"$C$2:$G$200\"),5,FALSE),0)","v":94.961443437897771},{"$f":"IFERROR(VLOOKUP(B146,INDIRECT(\"'\"&$J$1&\"'!\"&\"$C$2:$G$200\"),4,FALSE),\"\")","v":""},{"$f":"IFERROR(VLOOKUP(B146,INDIRECT(\"'\"&$J$1&\"'!\"&\"$C$2:$G$200\"),5,FALSE),0)","v":0},{"$f":"IFERROR(VLOOKUP(B146,INDIRECT(\"'\"&$L$1&\"'!\"&\"$C$2:$G$200\"),4,FALSE),\"\")","v":""},{"$f":"IFERROR(VLOOKUP(B146,INDIRECT(\"'\"&$L$1&\"'!\"&\"$C$2:$G$200\"),5,FALSE),0)","v":0},{"$f":"IFERROR(VLOOKUP(B146,INDIRECT(\"'\"&$N$1&\"'!\"&\"$C$2:$G$200\"),4,FALSE),\"\")","v":""},{"$f":"IFERROR(VLOOKUP(B146,INDIRECT(\"'\"&$N$1&\"'!\"&\"$C$2:$G$200\"),5,FALSE),0)","v":0},{"$f":"IFERROR(VLOOKUP(B146,INDIRECT(\"'\"&$P$1&\"'!\"&\"$C$2:$G$200\"),4,FALSE),\"\")","v":""},{"$f":"IFERROR(VLOOKUP(B146,INDIRECT(\"'\"&$P$1&\"'!\"&\"$C$2:$G$200\"),5,FALSE),0)","v":0},{"$f":"IFERROR(VLOOKUP(B146,INDIRECT(\"'\"&$R$1&\"'!\"&\"$C$2:$G$200\"),4,FALSE),\"\")","v":""},{"$f":"IFERROR(VLOOKUP(B146,INDIRECT(\"'\"&$R$1&\"'!\"&\"$C$2:$G$200\"),5,FALSE),0)","v":0},{"$f":"IFERROR(VLOOKUP(B146,INDIRECT(\"'\"&$T$1&\"'!\"&\"$C$2:$G$200\"),4,FALSE),\"\")","v":""},{"$f":"IFERROR(VLOOKUP(B146,INDIRECT(\"'\"&$T$1&\"'!\"&\"$C$2:$G$200\"),5,FALSE),0)","v":0},{"$f":"8-COUNTIF(F146:U146,\"\")","v":1},{"$f":"E146/IF(V146>4,5,V146)","v":94.961443437897771}]
[145,"Tosh Simpkin","Chepstow Harriers","M40",{"$f":"SUM(LARGE((S147,G147,I147,K147,M147,O147,Q147,U147),{1,2,3,4,5}))","v":93.443844301536387},{"$f":"IFERROR(VLOOKUP(B147,INDIRECT(\"'\"&$F$1&\"'!\"&\"$C$2:$G$200\"),4,FALSE),\"\")","v":""},{"$f":"IFERROR(VLOOKUP(B147,INDIRECT(\"'\"&$F$1&\"'!\"&\"$C$2:$G$200\"),5,FALSE),0)","v":0},{"$f":"IFERROR(VLOOKUP(B147,INDIRECT(\"'\"&$H$1&\"'!\"&\"$C$2:$G$200\"),4,FALSE),\"\")","v":""},{"$f":"IFERROR(VLOOKUP(B147,INDIRECT(\"'\"&$H$1&\"'!\"&\"$C$2:$G$200\"),5,FALSE),0)","v":0},{"$f":"IFERROR(VLOOKUP(B147,INDIRECT(\"'\"&$J$1&\"'!\"&\"$C$2:$G$200\"),4,FALSE),\"\")","v":""},{"$f":"IFERROR(VLOOKUP(B147,INDIRECT(\"'\"&$J$1&\"'!\"&\"$C$2:$G$200\"),5,FALSE),0)","v":0},{"$f":"IFERROR(VLOOKUP(B147,INDIRECT(\"'\"&$L$1&\"'!\"&\"$C$2:$G$200\"),4,FALSE),\"\")","v":""},{"$f":"IFERROR(VLOOKUP(B147,INDIRECT(\"'\"&$L$1&\"'!\"&\"$C$2:$G$200\"),5,FALSE),0)","v":0},{"$f":"IFERROR(VLOOKUP(B147,INDIRECT(\"'\"&$N$1&\"'!\"&\"$C$2:$G$200\"),4,FALSE),\"\")","v":3.5543981481481475E-2},{"$f":"IFERROR(VLOOKUP(B147,INDIRECT(\"'\"&$N$1&\"'!\"&\"$C$2:$G$200\"),5,FALSE),0)","v":42.221537196876334},{"$f":"IFERROR(VLOOKUP(B147,INDIRECT(\"'\"&$P$1&\"'!\"&\"$C$2:$G$200\"),4,FALSE),\"\")","v":""},{"$f":"IFERROR(VLOOKUP(B147,INDIRECT(\"'\"&$P$1&\"'!\"&\"$C$2:$G$200\"),5,FALSE),0)","v":0},{"$f":"IFERROR(VLOOKUP(B147,INDIRECT(\"'\"&$R$1&\"'!\"&\"$C$2:$G$200\"),4,FALSE),\"\")","v":""},{"$f":"IFERROR(VLOOKUP(B147,INDIRECT(\"'\"&$R$1&\"'!\"&\"$C$2:$G$200\"),5,FALSE),0)","v":0},{"$f":"IFERROR(VLOOKUP(B147,INDIRECT(\"'\"&$T$1&\"'!\"&\"$C$2:$G$200\"),4,FALSE),\"\")","v":5.409722222222222E-2},{"$f":"IFERROR(VLOOKUP(B147,INDIRECT(\"'\"&$T$1&\"'!\"&\"$C$2:$G$200\"),5,FALSE),0)","v":51.222307104660047},{"$f":"8-COUNTIF(F147:U147,\"\")","v":2},{"$f":"E147/IF(V147>4,5,V147)","v":46.721922150768194}]
[146,"Matt O'Keefe","Unaffiliated","SM",{"$f":"SUM(LARGE((S148,G148,I148,K148,M148,O148,Q148,U148),{1,2,3,4,5}))","v":93.137879753558522},{"$f":"IFERROR(VLOOKUP(B148,INDIRECT(\"'\"&$F$1&\"'!\"&\"$C$2:$G$200\"),4,FALSE),\"\")","v":""},{"$f":"IFERROR(VLOOKUP(B148,INDIRECT(\"'\"&$F$1&\"'!\"&\"$C$2:$G$200\"),5,FALSE),0)","v":0},{"$f":"IFERROR(VLOOKUP(B148,INDIRECT(\"'\"&$H$1&\"'!\"&\"$C$2:$G$200\"),4,FALSE),\"\")","v":""},{"$f":"IFERROR(VLOOKUP(B148,INDIRECT(\"'\"&$H$1&\"'!\"&\"$C$2:$G$200\"),5,FALSE),0)","v":0},{"$f":"IFERROR(VLOOKUP(B148,INDIRECT(\"'\"&$J$1&\"'!\"&\"$C$2:$G$200\"),4,FALSE),\"\")","v":""},{"$f":"IFERROR(VLOOKUP(B148,INDIRECT(\"'\"&$J$1&\"'!\"&\"$C$2:$G$200\"),5,FALSE),0)","v":0},{"$f":"IFERROR(VLOOKUP(B148,INDIRECT(\"'\"&$L$1&\"'!\"&\"$C$2:$G$200\"),4,FALSE),\"\")","v":""},{"$f":"IFERROR(VLOOKUP(B148,INDIRECT(\"'\"&$L$1&\"'!\"&\"$C$2:$G$200\"),5,FALSE),0)","v":0},{"$f":"IFERROR(VLOOKUP(B148,INDIRECT(\"'\"&$N$1&\"'!\"&\"$C$2:$G$200\"),4,FALSE),\"\")","v":""},{"$f":"IFERROR(VLOOKUP(B148,INDIRECT(\"'\"&$N$1&\"'!\"&\"$C$2:$G$200\"),5,FALSE),0)","v":0},{"$f":"IFERROR(VLOOKUP(B148,INDIRECT(\"'\"&$P$1&\"'!\"&\"$C$2:$G$200\"),4,FALSE),\"\")","v":2.3287037037037037E-2},{"$f":"IFERROR(VLOOKUP(B148,INDIRECT(\"'\"&$P$1&\"'!\"&\"$C$2:$G$200\"),5,FALSE),0)","v":93.137879753558522},{"$f":"IFERROR(VLOOKUP(B148,INDIRECT(\"'\"&$R$1&\"'!\"&\"$C$2:$G$200\"),4,FALSE),\"\")","v":""},{"$f":"IFERROR(VLOOKUP(B148,INDIRECT(\"'\"&$R$1&\"'!\"&\"$C$2:$G$200\"),5,FALSE),0)","v":0},null,{"$f":"IFERROR(VLOOKUP(B148,INDIRECT(\"'\"&$T$1&\"'!\"&\"$C$2:$G$200\"),5,FALSE),0)","v":0},{"$f":"8-COUNTIF(F148:U148,\"\")","v":1},{"$f":"E148/IF(V148>4,5,V148)","v":93.137879753558522}]
[147,"Harry Rann","Godshill Massive","MU23",{"$f":"SUM(LARGE((S149,G149,I149,K149,M149,O149,Q149,U149),{1,2,3,4,5}))","v":93.014898555064775},{"$f":"IFERROR(VLOOKUP(B149,INDIRECT(\"'\"&$F$1&\"'!\"&\"$C$2:$G$200\"),4,FALSE),\"\")","v":""},{"$f":"IFERROR(VLOOKUP(B149,INDIRECT(\"'\"&$F$1&\"'!\"&\"$C$2:$G$200\"),5,FALSE),0)","v":0},{"$f":"IFERROR(VLOOKUP(B149,INDIRECT(\"'\"&$H$1&\"'!\"&\"$C$2:$G$200\"),4,FALSE),\"\")","v":3.30787037037037E-2},{"$f":"IFERROR(VLOOKUP(B149,INDIRECT(\"'\"&$H$1&\"'!\"&\"$C$2:$G$200\"),5,FALSE),0)","v":93.014898555064775},{"$f":"IFERROR(VLOOKUP(B149,INDIRECT(\"'\"&$J$1&\"'!\"&\"$C$2:$G$200\"),4,FALSE),\"\")","v":""},{"$f":"IFERROR(VLOOKUP(B149,INDIRECT(\"'\"&$J$1&\"'!\"&\"$C$2:$G$200\"),5,FALSE),0)","v":0},{"$f":"IFERROR(VLOOKUP(B149,INDIRECT(\"'\"&$L$1&\"'!\"&\"$C$2:$G$200\"),4,FALSE),\"\")","v":""},{"$f":"IFERROR(VLOOKUP(B149,INDIRECT(\"'\"&$L$1&\"'!\"&\"$C$2:$G$200\"),5,FALSE),0)","v":0},{"$f":"IFERROR(VLOOKUP(B149,INDIRECT(\"'\"&$N$1&\"'!\"&\"$C$2:$G$200\"),4,FALSE),\"\")","v":""},{"$f":"IFERROR(VLOOKUP(B149,INDIRECT(\"'\"&$N$1&\"'!\"&\"$C$2:$G$200\"),5,FALSE),0)","v":0},{"$f":"IFERROR(VLOOKUP(B149,INDIRECT(\"'\"&$P$1&\"'!\"&\"$C$2:$G$200\"),4,FALSE),\"\")","v":""},{"$f":"IFERROR(VLOOKUP(B149,INDIRECT(\"'\"&$P$1&\"'!\"&\"$C$2:$G$200\"),5,FALSE),0)","v":0},{"$f":"IFERROR(VLOOKUP(B149,INDIRECT(\"'\"&$R$1&\"'!\"&\"$C$2:$G$200\"),4,FALSE),\"\")","v":""},{"$f":"IFERROR(VLOOKUP(B149,INDIRECT(\"'\"&$R$1&\"'!\"&\"$C$2:$G$200\"),5,FALSE),0)","v":0},{"$f":"IFERROR(VLOOKUP(B149,INDIRECT(\"'\"&$T$1&\"'!\"&\"$C$2:$G$200\"),4,FALSE),\"\")","v":""},{"$f":"IFERROR(VLOOKUP(B149,INDIRECT(\"'\"&$T$1&\"'!\"&\"$C$2:$G$200\"),5,FALSE),0)","v":0},{"$f":"8-COUNTIF(F149:U149,\"\")","v":1},{"$f":"E149/IF(V149>4,5,V149)","v":93.014898555064775}]
[148,"Sean Taylor","Micky Morris Racing Team","M40",{"$f":"SUM(LARGE((S150,G150,I150,K150,M150,O150,Q150,U150),{1,2,3,4,5}))","v":92.827784628031253},{"$f":"IFERROR(VLOOKUP(B150,INDIRECT(\"'\"&$F$1&\"'!\"&\"$C$2:$G$200\"),4,FALSE),\"\")","v":""},{"$f":"IFERROR(VLOOKUP(B150,INDIRECT(\"'\"&$F$1&\"'!\"&\"$C$2:$G$200\"),5,FALSE),0)","v":0},{"$f":"IFERROR(VLOOKUP(B150,INDIRECT(\"'\"&$H$1&\"'!\"&\"$C$2:$G$200\"),4,FALSE),\"\")","v":""},{"$f":"IFERROR(VLOOKUP(B150,INDIRECT(\"'\"&$H$1&\"'!\"&\"$C$2:$G$200\"),5,FALSE),0)","v":0},{"$f":"IFERROR(VLOOKUP(B150,INDIRECT(\"'\"&$J$1&\"'!\"&\"$C$2:$G$200\"),4,FALSE),\"\")","v":""},{"$f":"IFERROR(VLOOKUP(B150,INDIRECT(\"'\"&$J$1&\"'!\"&\"$C$2:$G$200\"),5,FALSE),0)","v":0},{"$f":"IFERROR(VLOOKUP(B150,INDIRECT(\"'\"&$L$1&\"'!\"&\"$C$2:$G$200\"),4,FALSE),\"\")","v":""},{"$f":"IFERROR(VLOOKUP(B150,INDIRECT(\"'\"&$L$1&\"'!\"&\"$C$2:$G$200\"),5,FALSE),0)","v":0},{"$f":"IFERROR(VLOOKUP(B150,INDIRECT(\"'\"&$N$1&\"'!\"&\"$C$2:$G$200\"),4,FALSE),\"\")","v":2.4143518518518519E-2},{"$f":"IFERROR(VLOOKUP(B150,INDIRECT(\"'\"&$N$1&\"'!\"&\"$C$2:$G$200\"),5,FALSE),0)","v":92.827784628031253},{"$f":"IFERROR(VLOOKUP(B150,INDIRECT(\"'\"&$P$1&\"'!\"&\"$C$2:$G$200\"),4,FALSE),\"\")","v":""},{"$f":"IFERROR(VLOOKUP(B150,INDIRECT(\"'\"&$P$1&\"'!\"&\"$C$2:$G$200\"),5,FALSE),0)","v":0},{"$f":"IFERROR(VLOOKUP(B150,INDIRECT(\"'\"&$R$1&\"'!\"&\"$C$2:$G$200\"),4,FALSE),\"\")","v":""},{"$f":"IFERROR(VLOOKUP(B150,INDIRECT(\"'\"&$R$1&\"'!\"&\"$C$2:$G$200\"),5,FALSE),0)","v":0},{"$f":"IFERROR(VLOOKUP(B150,INDIRECT(\"'\"&$T$1&\"'!\"&\"$C$2:$G$200\"),4,FALSE),\"\")","v":""},{"$f":"IFERROR(VLOOKUP(B150,INDIRECT(\"'\"&$T$1&\"'!\"&\"$C$2:$G$200\"),5,FALSE),0)","v":0},{"$f":"8-COUNTIF(F150:U150,\"\")","v":1},{"$f":"E150/IF(V150>4,5,V150)","v":92.827784628031253}]
[149,"Jack Turner","East Wales","SM",{"$f":"SUM(LARGE((S151,G151,I151,K151,M151,O151,Q151,U151),{1,2,3,4,5}))","v":92.793481028775133},{"$f":"IFERROR(VLOOKUP(B151,INDIRECT(\"'\"&$F$1&\"'!\"&\"$C$2:$G$200\"),4,FALSE),\"\")","v":""},{"$f":"IFERROR(VLOOKUP(B151,INDIRECT(\"'\"&$F$1&\"'!\"&\"$C$2:$G$200\"),5,FALSE),0)","v":0},{"$f":"IFERROR(VLOOKUP(B151,INDIRECT(\"'\"&$H$1&\"'!\"&\"$C$2:$G$200\"),4,FALSE),\"\")","v":""},{"$f":"IFERROR(VLOOKUP(B151,INDIRECT(\"'\"&$H$1&\"'!\"&\"$C$2:$G$200\"),5,FALSE),0)","v":0},{"$f":"IFERROR(VLOOKUP(B151,INDIRECT(\"'\"&$J$1&\"'!\"&\"$C$2:$G$200\"),4,FALSE),\"\")","v":""},{"$f":"IFERROR(VLOOKUP(B151,INDIRECT(\"'\"&$J$1&\"'!\"&\"$C$2:$G$200\"),5,FALSE),0)","v":0},{"$f":"IFERROR(VLOOKUP(B151,INDIRECT(\"'\"&$L$1&\"'!\"&\"$C$2:$G$200\"),4,FALSE),\"\")","v":""},{"$f":"IFERROR(VLOOKUP(B151,INDIRECT(\"'\"&$L$1&\"'!\"&\"$C$2:$G$200\"),5,FALSE),0)","v":0},{"$f":"IFERROR(VLOOKUP(B151,INDIRECT(\"'\"&$N$1&\"'!\"&\"$C$2:$G$200\"),4,FALSE),\"\")","v":""},{"$f":"IFERROR(VLOOKUP(B151,INDIRECT(\"'\"&$N$1&\"'!\"&\"$C$2:$G$200\"),5,FALSE),0)","v":0},{"$f":"IFERROR(VLOOKUP(B151,INDIRECT(\"'\"&$P$1&\"'!\"&\"$C$2:$G$200\"),4,FALSE),\"\")","v":""},{"$f":"IFERROR(VLOOKUP(B151,INDIRECT(\"'\"&$P$1&\"'!\"&\"$C$2:$G$200\"),5,FALSE),0)","v":0},{"$f":"IFERROR(VLOOKUP(B151,INDIRECT(\"'\"&$R$1&\"'!\"&\"$C$2:$G$200\"),4,FALSE),\"\")","v":""},{"$f":"IFERROR(VLOOKUP(B151,INDIRECT(\"'\"&$R$1&\"'!\"&\"$C$2:$G$200\"),5,FALSE),0)","v":0},{"$f":"IFERROR(VLOOKUP(B151,INDIRECT(\"'\"&$T$1&\"'!\"&\"$C$2:$G$200\"),4,FALSE),\"\")","v":3.8981481481481485E-2},{"$f":"IFERROR(VLOOKUP(B151,INDIRECT(\"'\"&$T$1&\"'!\"&\"$C$2:$G$200\"),5,FALSE),0)","v":92.793481028775133},{"$f":"8-COUNTIF(F151:U151,\"\")","v":1},{"$f":"E151/IF(V151>4,5,V151)","v":92.793481028775133}]
[150,"Megan Tucker","Unaffiliated","FU23",{"$f":"SUM(LARGE((S152,G152,I152,K152,M152,O152,Q152,U152),{1,2,3,4,5}))","v":92.688148996400543},{"$f":"IFERROR(VLOOKUP(B152,INDIRECT(\"'\"&$F$1&\"'!\"&\"$C$2:$G$200\"),4,FALSE),\"\")","v":""},{"$f":"IFERROR(VLOOKUP(B152,INDIRECT(\"'\"&$F$1&\"'!\"&\"$C$2:$G$200\"),5,FALSE),0)","v":0},{"$f":"IFERROR(VLOOKUP(B152,INDIRECT(\"'\"&$H$1&\"'!\"&\"$C$2:$G$200\"),4,FALSE),\"\")","v":""},{"$f":"IFERROR(VLOOKUP(B152,INDIRECT(\"'\"&$H$1&\"'!\"&\"$C$2:$G$200\"),5,FALSE),0)","v":0},{"$f":"IFERROR(VLOOKUP(B152,INDIRECT(\"'\"&$J$1&\"'!\"&\"$C$2:$G$200\"),4,FALSE),\"\")","v":""},{"$f":"IFERROR(VLOOKUP(B152,INDIRECT(\"'\"&$J$1&\"'!\"&\"$C$2:$G$200\"),5,FALSE),0)","v":0},{"$f":"IFERROR(VLOOKUP(B152,INDIRECT(\"'\"&$L$1&\"'!\"&\"$C$2:$G$200\"),4,FALSE),\"\")","v":""},{"$f":"IFERROR(VLOOKUP(B152,INDIRECT(\"'\"&$L$1&\"'!\"&\"$C$2:$G$200\"),5,FALSE),0)","v":0},{"$f":"IFERROR(VLOOKUP(B152,INDIRECT(\"'\"&$N$1&\"'!\"&\"$C$2:$G$200\"),4,FALSE),\"\")","v":""},{"$f":"IFERROR(VLOOKUP(B152,INDIRECT(\"'\"&$N$1&\"'!\"&\"$C$2:$G$200\"),5,FALSE),0)","v":0},{"$f":"IFERROR(VLOOKUP(B152,INDIRECT(\"'\"&$P$1&\"'!\"&\"$C$2:$G$200\"),4,FALSE),\"\")","v":3.363425925925926E-2},{"$f":"IFERROR(VLOOKUP(B152,INDIRECT(\"'\"&$P$1&\"'!\"&\"$C$2:$G$200\"),5,FALSE),0)","v":45.65540684087528},{"$f":"IFERROR(VLOOKUP(B152,INDIRECT(\"'\"&$R$1&\"'!\"&\"$C$2:$G$200\"),4,FALSE),\"\")","v":3.1145833333333334E-2},{"$f":"IFERROR(VLOOKUP(B152,INDIRECT(\"'\"&$R$1&\"'!\"&\"$C$2:$G$200\"),5,FALSE),0)","v":47.032742155525263},null,{"$f":"IFERROR(VLOOKUP(B152,INDIRECT(\"'\"&$T$1&\"'!\"&\"$C$2:$G$200\"),5,FALSE),0)","v":0},{"$f":"8-COUNTIF(F152:U152,\"\")","v":2},{"$f":"E152/IF(V152>4,5,V152)","v":46.344074498200271}]
[151,"Jacob Dobson","Unaffiliated","SM",{"$f":"SUM(LARGE((S153,G153,I153,K153,M153,O153,Q153,U153),{1,2,3,4,5}))","v":92.570664629488149},{"$f":"IFERROR(VLOOKUP(B153,INDIRECT(\"'\"&$F$1&\"'!\"&\"$C$2:$G$200\"),4,FALSE),\"\")","v":""},{"$f":"IFERROR(VLOOKUP(B153,INDIRECT(\"'\"&$F$1&\"'!\"&\"$C$2:$G$200\"),5,FALSE),0)","v":0},{"$f":"IFERROR(VLOOKUP(B153,INDIRECT(\"'\"&$H$1&\"'!\"&\"$C$2:$G$200\"),4,FALSE),\"\")","v":""},{"$f":"IFERROR(VLOOKUP(B153,INDIRECT(\"'\"&$H$1&\"'!\"&\"$C$2:$G$200\"),5,FALSE),0)","v":0},{"$f":"IFERROR(VLOOKUP(B153,INDIRECT(\"'\"&$J$1&\"'!\"&\"$C$2:$G$200\"),4,FALSE),\"\")","v":""},{"$f":"IFERROR(VLOOKUP(B153,INDIRECT(\"'\"&$J$1&\"'!\"&\"$C$2:$G$200\"),5,FALSE),0)","v":0},{"$f":"IFERROR(VLOOKUP(B153,INDIRECT(\"'\"&$L$1&\"'!\"&\"$C$2:$G$200\"),4,FALSE),\"\")","v":""},{"$f":"IFERROR(VLOOKUP(B153,INDIRECT(\"'\"&$L$1&\"'!\"&\"$C$2:$G$200\"),5,FALSE),0)","v":0},{"$f":"IFERROR(VLOOKUP(B153,INDIRECT(\"'\"&$N$1&\"'!\"&\"$C$2:$G$200\"),4,FALSE),\"\")","v":""},{"$f":"IFERROR(VLOOKUP(B153,INDIRECT(\"'\"&$N$1&\"'!\"&\"$C$2:$G$200\"),5,FALSE),0)","v":0},{"$f":"IFERROR(VLOOKUP(B153,INDIRECT(\"'\"&$P$1&\"'!\"&\"$C$2:$G$200\"),4,FALSE),\"\")","v":""},{"$f":"IFERROR(VLOOKUP(B153,INDIRECT(\"'\"&$P$1&\"'!\"&\"$C$2:$G$200\"),5,FALSE),0)","v":0},{"$f":"IFERROR(VLOOKUP(B153,INDIRECT(\"'\"&$R$1&\"'!\"&\"$C$2:$G$200\"),4,FALSE),\"\")","v":""},{"$f":"IFERROR(VLOOKUP(B153,INDIRECT(\"'\"&$R$1&\"'!\"&\"$C$2:$G$200\"),5,FALSE),0)","v":0},{"$f":"IFERROR(VLOOKUP(B153,INDIRECT(\"'\"&$T$1&\"'!\"&\"$C$2:$G$200\"),4,FALSE),\"\")","v":3.90625E-2},{"$f":"IFERROR(VLOOKUP(B153,INDIRECT(\"'\"&$T$1&\"'!\"&\"$C$2:$G$200\"),5,FALSE),0)","v":92.570664629488149},{"$f":"8-COUNTIF(F153:U153,\"\")","v":1},{"$f":"E153/IF(V153>4,5,V153)","v":92.570664629488149}]
[152,"Angela Price","Hay Hotfooters","F40",{"$f":"SUM(LARGE((S154,G154,I154,K154,M154,O154,Q154,U154),{1,2,3,4,5}))","v":92.352193229960534},{"$f":"IFERROR(VLOOKUP(B154,INDIRECT(\"'\"&$F$1&\"'!\"&\"$C$2:$G$200\"),4,FALSE),\"\")","v":""},{"$f":"IFERROR(VLOOKUP(B154,INDIRECT(\"'\"&$F$1&\"'!\"&\"$C$2:$G$200\"),5,FALSE),0)","v":0},{"$f":"IFERROR(VLOOKUP(B154,INDIRECT(\"'\"&$H$1&\"'!\"&\"$C$2:$G$200\"),4,FALSE),\"\")","v":""},{"$f":"IFERROR(VLOOKUP(B154,INDIRECT(\"'\"&$H$1&\"'!\"&\"$C$2:$G$200\"),5,FALSE),0)","v":0},{"$f":"IFERROR(VLOOKUP(B154,INDIRECT(\"'\"&$J$1&\"'!\"&\"$C$2:$G$200\"),4,FALSE),\"\")","v":""},{"$f":"IFERROR(VLOOKUP(B154,INDIRECT(\"'\"&$J$1&\"'!\"&\"$C$2:$G$200\"),5,FALSE),0)","v":0},{"$f":"IFERROR(VLOOKUP(B154,INDIRECT(\"'\"&$L$1&\"'!\"&\"$C$2:$G$200\"),4,FALSE),\"\")","v":""},{"$f":"IFERROR(VLOOKUP(B154,INDIRECT(\"'\"&$L$1&\"'!\"&\"$C$2:$G$200\"),5,FALSE),0)","v":0},{"$f":"IFERROR(VLOOKUP(B154,INDIRECT(\"'\"&$N$1&\"'!\"&\"$C$2:$G$200\"),4,FALSE),\"\")","v":""},{"$f":"IFERROR(VLOOKUP(B154,INDIRECT(\"'\"&$N$1&\"'!\"&\"$C$2:$G$200\"),5,FALSE),0)","v":0},{"$f":"IFERROR(VLOOKUP(B154,INDIRECT(\"'\"&$P$1&\"'!\"&\"$C$2:$G$200\"),4,FALSE),\"\")","v":3.4884259259259261E-2},{"$f":"IFERROR(VLOOKUP(B154,INDIRECT(\"'\"&$P$1&\"'!\"&\"$C$2:$G$200\"),5,FALSE),0)","v":39.919269173571251},{"$f":"IFERROR(VLOOKUP(B154,INDIRECT(\"'\"&$R$1&\"'!\"&\"$C$2:$G$200\"),4,FALSE),\"\")","v":3.0046296296296297E-2},{"$f":"IFERROR(VLOOKUP(B154,INDIRECT(\"'\"&$R$1&\"'!\"&\"$C$2:$G$200\"),5,FALSE),0)","v":52.432924056389282},{"$f":"IFERROR(VLOOKUP(B154,INDIRECT(\"'\"&$T$1&\"'!\"&\"$C$2:$G$200\"),4,FALSE),\"\")","v":""},{"$f":"IFERROR(VLOOKUP(B154,INDIRECT(\"'\"&$T$1&\"'!\"&\"$C$2:$G$200\"),5,FALSE),0)","v":0},{"$f":"8-COUNTIF(F154:U154,\"\")","v":2},{"$f":"E154/IF(V154>4,5,V154)","v":46.176096614980267}]
[153,"Leighton Webb","Micky Morris Racing Team","SM",{"$f":"SUM(LARGE((S155,G155,I155,K155,M155,O155,Q155,U155),{1,2,3,4,5}))","v":91.0309201167927},{"$f":"IFERROR(VLOOKUP(B155,INDIRECT(\"'\"&$F$1&\"'!\"&\"$C$2:$G$200\"),4,FALSE),\"\")","v":""},{"$f":"IFERROR(VLOOKUP(B155,INDIRECT(\"'\"&$F$1&\"'!\"&\"$C$2:$G$200\"),5,FALSE),0)","v":0},{"$f":"IFERROR(VLOOKUP(B155,INDIRECT(\"'\"&$H$1&\"'!\"&\"$C$2:$G$200\"),4,FALSE),\"\")","v":3.3692129629629627E-2},{"$f":"IFERROR(VLOOKUP(B155,INDIRECT(\"'\"&$H$1&\"'!\"&\"$C$2:$G$200\"),5,FALSE),0)","v":91.0309201167927},{"$f":"IFERROR(VLOOKUP(B155,INDIRECT(\"'\"&$J$1&\"'!\"&\"$C$2:$G$200\"),4,FALSE),\"\")","v":""},{"$f":"IFERROR(VLOOKUP(B155,INDIRECT(\"'\"&$J$1&\"'!\"&\"$C$2:$G$200\"),5,FALSE),0)","v":0},{"$f":"IFERROR(VLOOKUP(B155,INDIRECT(\"'\"&$L$1&\"'!\"&\"$C$2:$G$200\"),4,FALSE),\"\")","v":""},{"$f":"IFERROR(VLOOKUP(B155,INDIRECT(\"'\"&$L$1&\"'!\"&\"$C$2:$G$200\"),5,FALSE),0)","v":0},{"$f":"IFERROR(VLOOKUP(B155,INDIRECT(\"'\"&$N$1&\"'!\"&\"$C$2:$G$200\"),4,FALSE),\"\")","v":""},{"$f":"IFERROR(VLOOKUP(B155,INDIRECT(\"'\"&$N$1&\"'!\"&\"$C$2:$G$200\"),5,FALSE),0)","v":0},{"$f":"IFERROR(VLOOKUP(B155,INDIRECT(\"'\"&$P$1&\"'!\"&\"$C$2:$G$200\"),4,FALSE),\"\")","v":""},{"$f":"IFERROR(VLOOKUP(B155,INDIRECT(\"'\"&$P$1&\"'!\"&\"$C$2:$G$200\"),5,FALSE),0)","v":0},{"$f":"IFERROR(VLOOKUP(B155,INDIRECT(\"'\"&$R$1&\"'!\"&\"$C$2:$G$200\"),4,FALSE),\"\")","v":""},{"$f":"IFERROR(VLOOKUP(B155,INDIRECT(\"'\"&$R$1&\"'!\"&\"$C$2:$G$200\"),5,FALSE),0)","v":0},null,{"$f":"IFERROR(VLOOKUP(B155,INDIRECT(\"'\"&$T$1&\"'!\"&\"$C$2:$G$200\"),5,FALSE),0)","v":0},{"$f":"8-COUNTIF(F155:U155,\"\")","v":1},{"$f":"E155/IF(V155>4,5,V155)","v":91.0309201167927}]
[154,"Matthew Collins","Micky Morris Racing Team","SM",{"$f":"SUM(LARGE((S156,G156,I156,K156,M156,O156,Q156,U156),{1,2,3,4,5}))","v":90.692640692640694},{"$f":"IFERROR(VLOOKUP(B156,INDIRECT(\"'\"&$F$1&\"'!\"&\"$C$2:$G$200\"),4,FALSE),\"\")","v":""},{"$f":"IFERROR(VLOOKUP(B156,INDIRECT(\"'\"&$F$1&\"'!\"&\"$C$2:$G$200\"),5,FALSE),0)","v":0},{"$f":"IFERROR(VLOOKUP(B156,INDIRECT(\"'\"&$H$1&\"'!\"&\"$C$2:$G$200\"),4,FALSE),\"\")","v":""},{"$f":"IFERROR(VLOOKUP(B156,INDIRECT(\"'\"&$H$1&\"'!\"&\"$C$2:$G$200\"),5,FALSE),0)","v":0},{"$f":"IFERROR(VLOOKUP(B156,INDIRECT(\"'\"&$J$1&\"'!\"&\"$C$2:$G$200\"),4,FALSE),\"\")","v":""},{"$f":"IFERROR(VLOOKUP(B156,INDIRECT(\"'\"&$J$1&\"'!\"&\"$C$2:$G$200\"),5,FALSE),0)","v":0},{"$f":"IFERROR(VLOOKUP(B156,INDIRECT(\"'\"&$L$1&\"'!\"&\"$C$2:$G$200\"),4,FALSE),\"\")","v":""},{"$f":"IFERROR(VLOOKUP(B156,INDIRECT(\"'\"&$L$1&\"'!\"&\"$C$2:$G$200\"),5,FALSE),0)","v":0},{"$f":"IFERROR(VLOOKUP(B156,INDIRECT(\"'\"&$N$1&\"'!\"&\"$C$2:$G$200\"),4,FALSE),\"\")","v":""},{"$f":"IFERROR(VLOOKUP(B156,INDIRECT(\"'\"&$N$1&\"'!\"&\"$C$2:$G$200\"),5,FALSE),0)","v":0},{"$f":"IFERROR(VLOOKUP(B156,INDIRECT(\"'\"&$P$1&\"'!\"&\"$C$2:$G$200\"),4,FALSE),\"\")","v":""},{"$f":"IFERROR(VLOOKUP(B156,INDIRECT(\"'\"&$P$1&\"'!\"&\"$C$2:$G$200\"),5,FALSE),0)","v":0},{"$f":"IFERROR(VLOOKUP(B156,INDIRECT(\"'\"&$R$1&\"'!\"&\"$C$2:$G$200\"),4,FALSE),\"\")","v":""},{"$f":"IFERROR(VLOOKUP(B156,INDIRECT(\"'\"&$R$1&\"'!\"&\"$C$2:$G$200\"),5,FALSE),0)","v":0},{"$f":"IFERROR(VLOOKUP(B156,INDIRECT(\"'\"&$T$1&\"'!\"&\"$C$2:$G$200\"),4,FALSE),\"\")","v":3.9745370370370368E-2},{"$f":"IFERROR(VLOOKUP(B156,INDIRECT(\"'\"&$T$1&\"'!\"&\"$C$2:$G$200\"),5,FALSE),0)","v":90.692640692640694},{"$f":"8-COUNTIF(F156:U156,\"\")","v":1},{"$f":"E156/IF(V156>4,5,V156)","v":90.692640692640694}]
[155,"Ake Fagerang","MDC","SM",{"$f":"SUM(LARGE((S157,G157,I157,K157,M157,O157,Q157,U157),{1,2,3,4,5}))","v":90.376035691523242},{"$f":"IFERROR(VLOOKUP(B157,INDIRECT(\"'\"&$F$1&\"'!\"&\"$C$2:$G$200\"),4,FALSE),\"\")","v":""},{"$f":"IFERROR(VLOOKUP(B157,INDIRECT(\"'\"&$F$1&\"'!\"&\"$C$2:$G$200\"),5,FALSE),0)","v":0},{"$f":"IFERROR(VLOOKUP(B157,INDIRECT(\"'\"&$H$1&\"'!\"&\"$C$2:$G$200\"),4,FALSE),\"\")","v":""},{"$f":"IFERROR(VLOOKUP(B157,INDIRECT(\"'\"&$H$1&\"'!\"&\"$C$2:$G$200\"),5,FALSE),0)","v":0},{"$f":"IFERROR(VLOOKUP(B157,INDIRECT(\"'\"&$J$1&\"'!\"&\"$C$2:$G$200\"),4,FALSE),\"\")","v":""},{"$f":"IFERROR(VLOOKUP(B157,INDIRECT(\"'\"&$J$1&\"'!\"&\"$C$2:$G$200\"),5,FALSE),0)","v":0},{"$f":"IFERROR(VLOOKUP(B157,INDIRECT(\"'\"&$L$1&\"'!\"&\"$C$2:$G$200\"),4,FALSE),\"\")","v":""},{"$f":"IFERROR(VLOOKUP(B157,INDIRECT(\"'\"&$L$1&\"'!\"&\"$C$2:$G$200\"),5,FALSE),0)","v":0},{"$f":"IFERROR(VLOOKUP(B157,INDIRECT(\"'\"&$N$1&\"'!\"&\"$C$2:$G$200\"),4,FALSE),\"\")","v":""},{"$f":"IFERROR(VLOOKUP(B157,INDIRECT(\"'\"&$N$1&\"'!\"&\"$C$2:$G$200\"),5,FALSE),0)","v":0},{"$f":"IFERROR(VLOOKUP(B157,INDIRECT(\"'\"&$P$1&\"'!\"&\"$C$2:$G$200\"),4,FALSE),\"\")","v":2.388888888888889E-2},{"$f":"IFERROR(VLOOKUP(B157,INDIRECT(\"'\"&$P$1&\"'!\"&\"$C$2:$G$200\"),5,FALSE),0)","v":90.376035691523242},{"$f":"IFERROR(VLOOKUP(B157,INDIRECT(\"'\"&$R$1&\"'!\"&\"$C$2:$G$200\"),4,FALSE),\"\")","v":""},{"$f":"IFERROR(VLOOKUP(B157,INDIRECT(\"'\"&$R$1&\"'!\"&\"$C$2:$G$200\"),5,FALSE),0)","v":0},null,{"$f":"IFERROR(VLOOKUP(B157,INDIRECT(\"'\"&$T$1&\"'!\"&\"$C$2:$G$200\"),5,FALSE),0)","v":0},{"$f":"8-COUNTIF(F157:U157,\"\")","v":1},{"$f":"E157/IF(V157>4,5,V157)","v":90.376035691523242}]
[156,"Neil Jones","Ogmore Phoenix Runners","SM",{"$f":"SUM(LARGE((S158,G158,I158,K158,M158,O158,Q158,U158),{1,2,3,4,5}))","v":89.951136605056291},{"$f":"IFERROR(VLOOKUP(B158,INDIRECT(\"'\"&$F$1&\"'!\"&\"$C$2:$G$200\"),4,FALSE),\"\")","v":""},{"$f":"IFERROR(VLOOKUP(B158,INDIRECT(\"'\"&$F$1&\"'!\"&\"$C$2:$G$200\"),5,FALSE),0)","v":0},{"$f":"IFERROR(VLOOKUP(B158,INDIRECT(\"'\"&$H$1&\"'!\"&\"$C$2:$G$200\"),4,FALSE),\"\")","v":""},{"$f":"IFERROR(VLOOKUP(B158,INDIRECT(\"'\"&$H$1&\"'!\"&\"$C$2:$G$200\"),5,FALSE),0)","v":0},{"$f":"IFERROR(VLOOKUP(B158,INDIRECT(\"'\"&$J$1&\"'!\"&\"$C$2:$G$200\"),4,FALSE),\"\")","v":""},{"$f":"IFERROR(VLOOKUP(B158,INDIRECT(\"'\"&$J$1&\"'!\"&\"$C$2:$G$200\"),5,FALSE),0)","v":0},{"$f":"IFERROR(VLOOKUP(B158,INDIRECT(\"'\"&$L$1&\"'!\"&\"$C$2:$G$200\"),4,FALSE),\"\")","v":""},{"$f":"IFERROR(VLOOKUP(B158,INDIRECT(\"'\"&$L$1&\"'!\"&\"$C$2:$G$200\"),5,FALSE),0)","v":0},{"$f":"IFERROR(VLOOKUP(B158,INDIRECT(\"'\"&$N$1&\"'!\"&\"$C$2:$G$200\"),4,FALSE),\"\")","v":""},{"$f":"IFERROR(VLOOKUP(B158,INDIRECT(\"'\"&$N$1&\"'!\"&\"$C$2:$G$200\"),5,FALSE),0)","v":0},{"$f":"IFERROR(VLOOKUP(B158,INDIRECT(\"'\"&$P$1&\"'!\"&\"$C$2:$G$200\"),4,FALSE),\"\")","v":2.3981481481481479E-2},{"$f":"IFERROR(VLOOKUP(B158,INDIRECT(\"'\"&$P$1&\"'!\"&\"$C$2:$G$200\"),5,FALSE),0)","v":89.951136605056291},{"$f":"IFERROR(VLOOKUP(B158,INDIRECT(\"'\"&$R$1&\"'!\"&\"$C$2:$G$200\"),4,FALSE),\"\")","v":""},{"$f":"IFERROR(VLOOKUP(B158,INDIRECT(\"'\"&$R$1&\"'!\"&\"$C$2:$G$200\"),5,FALSE),0)","v":0},{"$f":"IFERROR(VLOOKUP(B158,INDIRECT(\"'\"&$T$1&\"'!\"&\"$C$2:$G$200\"),4,FALSE),\"\")","v":""},{"$f":"IFERROR(VLOOKUP(B158,INDIRECT(\"'\"&$T$1&\"'!\"&\"$C$2:$G$200\"),5,FALSE),0)","v":0},{"$f":"8-COUNTIF(F158:U158,\"\")","v":1},{"$f":"E158/IF(V158>4,5,V158)","v":89.951136605056291}]
[157,"Steve Claxton","Poole Runners","M40",{"$f":"SUM(LARGE((S159,G159,I159,K159,M159,O159,Q159,U159),{1,2,3,4,5}))","v":89.693793670365835},{"$f":"IFERROR(VLOOKUP(B159,INDIRECT(\"'\"&$F$1&\"'!\"&\"$C$2:$G$200\"),4,FALSE),\"\")","v":""},{"$f":"IFERROR(VLOOKUP(B159,INDIRECT(\"'\"&$F$1&\"'!\"&\"$C$2:$G$200\"),5,FALSE),0)","v":0},{"$f":"IFERROR(VLOOKUP(B159,INDIRECT(\"'\"&$H$1&\"'!\"&\"$C$2:$G$200\"),4,FALSE),\"\")","v":""},{"$f":"IFERROR(VLOOKUP(B159,INDIRECT(\"'\"&$H$1&\"'!\"&\"$C$2:$G$200\"),5,FALSE),0)","v":0},{"$f":"IFERROR(VLOOKUP(B159,INDIRECT(\"'\"&$J$1&\"'!\"&\"$C$2:$G$200\"),4,FALSE),\"\")","v":""},{"$f":"IFERROR(VLOOKUP(B159,INDIRECT(\"'\"&$J$1&\"'!\"&\"$C$2:$G$200\"),5,FALSE),0)","v":0},{"$f":"IFERROR(VLOOKUP(B159,INDIRECT(\"'\"&$L$1&\"'!\"&\"$C$2:$G$200\"),4,FALSE),\"\")","v":""},{"$f":"IFERROR(VLOOKUP(B159,INDIRECT(\"'\"&$L$1&\"'!\"&\"$C$2:$G$200\"),5,FALSE),0)","v":0},{"$f":"IFERROR(VLOOKUP(B159,INDIRECT(\"'\"&$N$1&\"'!\"&\"$C$2:$G$200\"),4,FALSE),\"\")","v":2.4849537037037035E-2},{"$f":"IFERROR(VLOOKUP(B159,INDIRECT(\"'\"&$N$1&\"'!\"&\"$C$2:$G$200\"),5,FALSE),0)","v":89.693793670365835},{"$f":"IFERROR(VLOOKUP(B159,INDIRECT(\"'\"&$P$1&\"'!\"&\"$C$2:$G$200\"),4,FALSE),\"\")","v":""},{"$f":"IFERROR(VLOOKUP(B159,INDIRECT(\"'\"&$P$1&\"'!\"&\"$C$2:$G$200\"),5,FALSE),0)","v":0},{"$f":"IFERROR(VLOOKUP(B159,INDIRECT(\"'\"&$R$1&\"'!\"&\"$C$2:$G$200\"),4,FALSE),\"\")","v":""},{"$f":"IFERROR(VLOOKUP(B159,INDIRECT(\"'\"&$R$1&\"'!\"&\"$C$2:$G$200\"),5,FALSE),0)","v":0},{"$f":"IFERROR(VLOOKUP(B159,INDIRECT(\"'\"&$T$1&\"'!\"&\"$C$2:$G$200\"),4,FALSE),\"\")","v":""},{"$f":"IFERROR(VLOOKUP(B159,INDIRECT(\"'\"&$T$1&\"'!\"&\"$C$2:$G$200\"),5,FALSE),0)","v":0},{"$f":"8-COUNTIF(F159:U159,\"\")","v":1},{"$f":"E159/IF(V159>4,5,V159)","v":89.693793670365835}]
[158,"Sue Shergold","Forest Of Dean AC","F50",{"$f":"SUM(LARGE((S160,G160,I160,K160,M160,O160,Q160,U160),{1,2,3,4,5}))","v":89.629302716408404},{"$f":"IFERROR(VLOOKUP(B160,INDIRECT(\"'\"&$F$1&\"'!\"&\"$C$2:$G$200\"),4,FALSE),\"\")","v":""},{"$f":"IFERROR(VLOOKUP(B160,INDIRECT(\"'\"&$F$1&\"'!\"&\"$C$2:$G$200\"),5,FALSE),0)","v":0},{"$f":"IFERROR(VLOOKUP(B160,INDIRECT(\"'\"&$H$1&\"'!\"&\"$C$2:$G$200\"),4,FALSE),\"\")","v":4.6226851851851852E-2},{"$f":"IFERROR(VLOOKUP(B160,INDIRECT(\"'\"&$H$1&\"'!\"&\"$C$2:$G$200\"),5,FALSE),0)","v":50.490379576252174},{"$f":"IFERROR(VLOOKUP(B160,INDIRECT(\"'\"&$J$1&\"'!\"&\"$C$2:$G$200\"),4,FALSE),\"\")","v":""},{"$f":"IFERROR(VLOOKUP(B160,INDIRECT(\"'\"&$J$1&\"'!\"&\"$C$2:$G$200\"),5,FALSE),0)","v":0},{"$f":"IFERROR(VLOOKUP(B160,INDIRECT(\"'\"&$L$1&\"'!\"&\"$C$2:$G$200\"),4,FALSE),\"\")","v":""},{"$f":"IFERROR(VLOOKUP(B160,INDIRECT(\"'\"&$L$1&\"'!\"&\"$C$2:$G$200\"),5,FALSE),0)","v":0},{"$f":"IFERROR(VLOOKUP(B160,INDIRECT(\"'\"&$N$1&\"'!\"&\"$C$2:$G$200\"),4,FALSE),\"\")","v":3.6238425925925924E-2},{"$f":"IFERROR(VLOOKUP(B160,INDIRECT(\"'\"&$N$1&\"'!\"&\"$C$2:$G$200\"),5,FALSE),0)","v":39.138923140156237},{"$f":"IFERROR(VLOOKUP(B160,INDIRECT(\"'\"&$P$1&\"'!\"&\"$C$2:$G$200\"),4,FALSE),\"\")","v":""},{"$f":"IFERROR(VLOOKUP(B160,INDIRECT(\"'\"&$P$1&\"'!\"&\"$C$2:$G$200\"),5,FALSE),0)","v":0},{"$f":"IFERROR(VLOOKUP(B160,INDIRECT(\"'\"&$R$1&\"'!\"&\"$C$2:$G$200\"),4,FALSE),\"\")","v":""},{"$f":"IFERROR(VLOOKUP(B160,INDIRECT(\"'\"&$R$1&\"'!\"&\"$C$2:$G$200\"),5,FALSE),0)","v":0},{"$f":"IFERROR(VLOOKUP(B160,INDIRECT(\"'\"&$T$1&\"'!\"&\"$C$2:$G$200\"),4,FALSE),\"\")","v":""},{"$f":"IFERROR(VLOOKUP(B160,INDIRECT(\"'\"&$T$1&\"'!\"&\"$C$2:$G$200\"),5,FALSE),0)","v":0},{"$f":"8-COUNTIF(F160:U160,\"\")","v":2},{"$f":"E160/IF(V160>4,5,V160)","v":44.814651358204202}]
[159,"Ed Dickson","MDC","SM",{"$f":"SUM(LARGE((S161,G161,I161,K161,M161,O161,Q161,U161),{1,2,3,4,5}))","v":89.02589395807648},{"$f":"IFERROR(VLOOKUP(B161,INDIRECT(\"'\"&$F$1&\"'!\"&\"$C$2:$G$200\"),4,FALSE),\"\")","v":""},{"$f":"IFERROR(VLOOKUP(B161,INDIRECT(\"'\"&$F$1&\"'!\"&\"$C$2:$G$200\"),5,FALSE),0)","v":0},{"$f":"IFERROR(VLOOKUP(B161,INDIRECT(\"'\"&$H$1&\"'!\"&\"$C$2:$G$200\"),4,FALSE),\"\")","v":""},{"$f":"IFERROR(VLOOKUP(B161,INDIRECT(\"'\"&$H$1&\"'!\"&\"$C$2:$G$200\"),5,FALSE),0)","v":0},{"$f":"IFERROR(VLOOKUP(B161,INDIRECT(\"'\"&$J$1&\"'!\"&\"$C$2:$G$200\"),4,FALSE),\"\")","v":""},{"$f":"IFERROR(VLOOKUP(B161,INDIRECT(\"'\"&$J$1&\"'!\"&\"$C$2:$G$200\"),5,FALSE),0)","v":0},{"$f":"IFERROR(VLOOKUP(B161,INDIRECT(\"'\"&$L$1&\"'!\"&\"$C$2:$G$200\"),4,FALSE),\"\")","v":""},{"$f":"IFERROR(VLOOKUP(B161,INDIRECT(\"'\"&$L$1&\"'!\"&\"$C$2:$G$200\"),5,FALSE),0)","v":0},{"$f":"IFERROR(VLOOKUP(B161,INDIRECT(\"'\"&$N$1&\"'!\"&\"$C$2:$G$200\"),4,FALSE),\"\")","v":2.4999999999999998E-2},{"$f":"IFERROR(VLOOKUP(B161,INDIRECT(\"'\"&$N$1&\"'!\"&\"$C$2:$G$200\"),5,FALSE),0)","v":89.02589395807648},{"$f":"IFERROR(VLOOKUP(B161,INDIRECT(\"'\"&$P$1&\"'!\"&\"$C$2:$G$200\"),4,FALSE),\"\")","v":""},{"$f":"IFERROR(VLOOKUP(B161,INDIRECT(\"'\"&$P$1&\"'!\"&\"$C$2:$G$200\"),5,FALSE),0)","v":0},{"$f":"IFERROR(VLOOKUP(B161,INDIRECT(\"'\"&$R$1&\"'!\"&\"$C$2:$G$200\"),4,FALSE),\"\")","v":""},{"$f":"IFERROR(VLOOKUP(B161,INDIRECT(\"'\"&$R$1&\"'!\"&\"$C$2:$G$200\"),5,FALSE),0)","v":0},{"$f":"IFERROR(VLOOKUP(B161,INDIRECT(\"'\"&$T$1&\"'!\"&\"$C$2:$G$200\"),4,FALSE),\"\")","v":""},{"$f":"IFERROR(VLOOKUP(B161,INDIRECT(\"'\"&$T$1&\"'!\"&\"$C$2:$G$200\"),5,FALSE),0)","v":0},{"$f":"8-COUNTIF(F161:U161,\"\")","v":1},{"$f":"E161/IF(V161>4,5,V161)","v":89.02589395807648}]
[160,"Matthew Pickering","UBOC","SM",{"$f":"SUM(LARGE((S162,G162,I162,K162,M162,O162,Q162,U162),{1,2,3,4,5}))","v":88.820386354295124},{"$f":"IFERROR(VLOOKUP(B162,INDIRECT(\"'\"&$F$1&\"'!\"&\"$C$2:$G$200\"),4,FALSE),\"\")","v":""},{"$f":"IFERROR(VLOOKUP(B162,INDIRECT(\"'\"&$F$1&\"'!\"&\"$C$2:$G$200\"),5,FALSE),0)","v":0},{"$f":"IFERROR(VLOOKUP(B162,INDIRECT(\"'\"&$H$1&\"'!\"&\"$C$2:$G$200\"),4,FALSE),\"\")","v":""},{"$f":"IFERROR(VLOOKUP(B162,INDIRECT(\"'\"&$H$1&\"'!\"&\"$C$2:$G$200\"),5,FALSE),0)","v":0},{"$f":"IFERROR(VLOOKUP(B162,INDIRECT(\"'\"&$J$1&\"'!\"&\"$C$2:$G$200\"),4,FALSE),\"\")","v":""},{"$f":"IFERROR(VLOOKUP(B162,INDIRECT(\"'\"&$J$1&\"'!\"&\"$C$2:$G$200\"),5,FALSE),0)","v":0},{"$f":"IFERROR(VLOOKUP(B162,INDIRECT(\"'\"&$L$1&\"'!\"&\"$C$2:$G$200\"),4,FALSE),\"\")","v":""},{"$f":"IFERROR(VLOOKUP(B162,INDIRECT(\"'\"&$L$1&\"'!\"&\"$C$2:$G$200\"),5,FALSE),0)","v":0},{"$f":"IFERROR(VLOOKUP(B162,INDIRECT(\"'\"&$N$1&\"'!\"&\"$C$2:$G$200\"),4,FALSE),\"\")","v":2.5046296296296299E-2},{"$f":"IFERROR(VLOOKUP(B162,INDIRECT(\"'\"&$N$1&\"'!\"&\"$C$2:$G$200\"),5,FALSE),0)","v":88.820386354295124},{"$f":"IFERROR(VLOOKUP(B162,INDIRECT(\"'\"&$P$1&\"'!\"&\"$C$2:$G$200\"),4,FALSE),\"\")","v":""},{"$f":"IFERROR(VLOOKUP(B162,INDIRECT(\"'\"&$P$1&\"'!\"&\"$C$2:$G$200\"),5,FALSE),0)","v":0},{"$f":"IFERROR(VLOOKUP(B162,INDIRECT(\"'\"&$R$1&\"'!\"&\"$C$2:$G$200\"),4,FALSE),\"\")","v":""},{"$f":"IFERROR(VLOOKUP(B162,INDIRECT(\"'\"&$R$1&\"'!\"&\"$C$2:$G$200\"),5,FALSE),0)","v":0},{"$f":"IFERROR(VLOOKUP(B162,INDIRECT(\"'\"&$T$1&\"'!\"&\"$C$2:$G$200\"),4,FALSE),\"\")","v":""},{"$f":"IFERROR(VLOOKUP(B162,INDIRECT(\"'\"&$T$1&\"'!\"&\"$C$2:$G$200\"),5,FALSE),0)","v":0},{"$f":"8-COUNTIF(F162:U162,\"\")","v":1},{"$f":"E162/IF(V162>4,5,V162)","v":88.820386354295124}]
[161,"Megan Carter-Davies","MDC","FU23",{"$f":"SUM(LARGE((S163,G163,I163,K163,M163,O163,Q163,U163),{1,2,3,4,5}))","v":88.820183032401687},{"$f":"IFERROR(VLOOKUP(B163,INDIRECT(\"'\"&$F$1&\"'!\"&\"$C$2:$G$200\"),4,FALSE),\"\")","v":""},{"$f":"IFERROR(VLOOKUP(B163,INDIRECT(\"'\"&$F$1&\"'!\"&\"$C$2:$G$200\"),5,FALSE),0)","v":0},{"$f":"IFERROR(VLOOKUP(B163,INDIRECT(\"'\"&$H$1&\"'!\"&\"$C$2:$G$200\"),4,FALSE),\"\")","v":""},{"$f":"IFERROR(VLOOKUP(B163,INDIRECT(\"'\"&$H$1&\"'!\"&\"$C$2:$G$200\"),5,FALSE),0)","v":0},{"$f":"IFERROR(VLOOKUP(B163,INDIRECT(\"'\"&$J$1&\"'!\"&\"$C$2:$G$200\"),4,FALSE),\"\")","v":""},{"$f":"IFERROR(VLOOKUP(B163,INDIRECT(\"'\"&$J$1&\"'!\"&\"$C$2:$G$200\"),5,FALSE),0)","v":0},{"$f":"IFERROR(VLOOKUP(B163,INDIRECT(\"'\"&$L$1&\"'!\"&\"$C$2:$G$200\"),4,FALSE),\"\")","v":2.0810185185185185E-2},{"$f":"IFERROR(VLOOKUP(B163,INDIRECT(\"'\"&$L$1&\"'!\"&\"$C$2:$G$200\"),5,FALSE),0)","v":88.820183032401687},{"$f":"IFERROR(VLOOKUP(B163,INDIRECT(\"'\"&$N$1&\"'!\"&\"$C$2:$G$200\"),4,FALSE),\"\")","v":""},{"$f":"IFERROR(VLOOKUP(B163,INDIRECT(\"'\"&$N$1&\"'!\"&\"$C$2:$G$200\"),5,FALSE),0)","v":0},{"$f":"IFERROR(VLOOKUP(B163,INDIRECT(\"'\"&$P$1&\"'!\"&\"$C$2:$G$200\"),4,FALSE),\"\")","v":""},{"$f":"IFERROR(VLOOKUP(B163,INDIRECT(\"'\"&$P$1&\"'!\"&\"$C$2:$G$200\"),5,FALSE),0)","v":0},{"$f":"IFERROR(VLOOKUP(B163,INDIRECT(\"'\"&$R$1&\"'!\"&\"$C$2:$G$200\"),4,FALSE),\"\")","v":""},{"$f":"IFERROR(VLOOKUP(B163,INDIRECT(\"'\"&$R$1&\"'!\"&\"$C$2:$G$200\"),5,FALSE),0)","v":0},{"$f":"IFERROR(VLOOKUP(B163,INDIRECT(\"'\"&$T$1&\"'!\"&\"$C$2:$G$200\"),4,FALSE),\"\")","v":""},{"$f":"IFERROR(VLOOKUP(B163,INDIRECT(\"'\"&$T$1&\"'!\"&\"$C$2:$G$200\"),5,FALSE),0)","v":0},{"$f":"8-COUNTIF(F163:U163,\"\")","v":1},{"$f":"E163/IF(V163>4,5,V163)","v":88.820183032401687}]
[162,"Martyn Peters","Unaffiliated","M60",{"$f":"SUM(LARGE((S164,G164,I164,K164,M164,O164,Q164,U164),{1,2,3,4,5}))","v":87.587571453431963},{"$f":"IFERROR(VLOOKUP(B164,INDIRECT(\"'\"&$F$1&\"'!\"&\"$C$2:$G$200\"),4,FALSE),\"\")","v":2.508101851851852E-2},{"$f":"IFERROR(VLOOKUP(B164,INDIRECT(\"'\"&$F$1&\"'!\"&\"$C$2:$G$200\"),5,FALSE),0)","v":28.858000315905841},{"$f":"IFERROR(VLOOKUP(B164,INDIRECT(\"'\"&$H$1&\"'!\"&\"$C$2:$G$200\"),4,FALSE),\"\")","v":5.6585648148148149E-2},{"$f":"IFERROR(VLOOKUP(B164,INDIRECT(\"'\"&$H$1&\"'!\"&\"$C$2:$G$200\"),5,FALSE),0)","v":16.987347458261603},{"$f":"IFERROR(VLOOKUP(B164,INDIRECT(\"'\"&$J$1&\"'!\"&\"$C$2:$G$200\"),4,FALSE),\"\")","v":""},{"$f":"IFERROR(VLOOKUP(B164,INDIRECT(\"'\"&$J$1&\"'!\"&\"$C$2:$G$200\"),5,FALSE),0)","v":0},{"$f":"IFERROR(VLOOKUP(B164,INDIRECT(\"'\"&$L$1&\"'!\"&\"$C$2:$G$200\"),4,FALSE),\"\")","v":3.560185185185185E-2},{"$f":"IFERROR(VLOOKUP(B164,INDIRECT(\"'\"&$L$1&\"'!\"&\"$C$2:$G$200\"),5,FALSE),0)","v":9.7947069008162515},{"$f":"IFERROR(VLOOKUP(B164,INDIRECT(\"'\"&$N$1&\"'!\"&\"$C$2:$G$200\"),4,FALSE),\"\")","v":4.2025462962962966E-2},{"$f":"IFERROR(VLOOKUP(B164,INDIRECT(\"'\"&$N$1&\"'!\"&\"$C$2:$G$200\"),5,FALSE),0)","v":13.450472667488711},{"$f":"IFERROR(VLOOKUP(B164,INDIRECT(\"'\"&$P$1&\"'!\"&\"$C$2:$G$200\"),4,FALSE),\"\")","v":""},{"$f":"IFERROR(VLOOKUP(B164,INDIRECT(\"'\"&$P$1&\"'!\"&\"$C$2:$G$200\"),5,FALSE),0)","v":0},{"$f":"IFERROR(VLOOKUP(B164,INDIRECT(\"'\"&$R$1&\"'!\"&\"$C$2:$G$200\"),4,FALSE),\"\")","v":3.695601851851852E-2},{"$f":"IFERROR(VLOOKUP(B164,INDIRECT(\"'\"&$R$1&\"'!\"&\"$C$2:$G$200\"),5,FALSE),0)","v":18.49704411095956},{"$f":"IFERROR(VLOOKUP(B164,INDIRECT(\"'\"&$T$1&\"'!\"&\"$C$2:$G$200\"),4,FALSE),\"\")","v":""},{"$f":"IFERROR(VLOOKUP(B164,INDIRECT(\"'\"&$T$1&\"'!\"&\"$C$2:$G$200\"),5,FALSE),0)","v":0},{"$f":"8-COUNTIF(F164:U164,\"\")","v":5},{"$f":"E164/IF(V164>4,5,V164)","v":17.517514290686393}]
[163,"Karie Atkins","Chepstow Harriers","M40",{"$f":"SUM(LARGE((S165,G165,I165,K165,M165,O165,Q165,U165),{1,2,3,4,5}))","v":87.484586929716428},{"$f":"IFERROR(VLOOKUP(B165,INDIRECT(\"'\"&$F$1&\"'!\"&\"$C$2:$G$200\"),4,FALSE),\"\")","v":""},{"$f":"IFERROR(VLOOKUP(B165,INDIRECT(\"'\"&$F$1&\"'!\"&\"$C$2:$G$200\"),5,FALSE),0)","v":0},{"$f":"IFERROR(VLOOKUP(B165,INDIRECT(\"'\"&$H$1&\"'!\"&\"$C$2:$G$200\"),4,FALSE),\"\")","v":""},{"$f":"IFERROR(VLOOKUP(B165,INDIRECT(\"'\"&$H$1&\"'!\"&\"$C$2:$G$200\"),5,FALSE),0)","v":0},{"$f":"IFERROR(VLOOKUP(B165,INDIRECT(\"'\"&$J$1&\"'!\"&\"$C$2:$G$200\"),4,FALSE),\"\")","v":""},{"$f":"IFERROR(VLOOKUP(B165,INDIRECT(\"'\"&$J$1&\"'!\"&\"$C$2:$G$200\"),5,FALSE),0)","v":0},{"$f":"IFERROR(VLOOKUP(B165,INDIRECT(\"'\"&$L$1&\"'!\"&\"$C$2:$G$200\"),4,FALSE),\"\")","v":""},{"$f":"IFERROR(VLOOKUP(B165,INDIRECT(\"'\"&$L$1&\"'!\"&\"$C$2:$G$200\"),5,FALSE),0)","v":0},{"$f":"IFERROR(VLOOKUP(B165,INDIRECT(\"'\"&$N$1&\"'!\"&\"$C$2:$G$200\"),4,FALSE),\"\")","v":2.5347222222222219E-2},{"$f":"IFERROR(VLOOKUP(B165,INDIRECT(\"'\"&$N$1&\"'!\"&\"$C$2:$G$200\"),5,FALSE),0)","v":87.484586929716428},{"$f":"IFERROR(VLOOKUP(B165,INDIRECT(\"'\"&$P$1&\"'!\"&\"$C$2:$G$200\"),4,FALSE),\"\")","v":""},{"$f":"IFERROR(VLOOKUP(B165,INDIRECT(\"'\"&$P$1&\"'!\"&\"$C$2:$G$200\"),5,FALSE),0)","v":0},{"$f":"IFERROR(VLOOKUP(B165,INDIRECT(\"'\"&$R$1&\"'!\"&\"$C$2:$G$200\"),4,FALSE),\"\")","v":""},{"$f":"IFERROR(VLOOKUP(B165,INDIRECT(\"'\"&$R$1&\"'!\"&\"$C$2:$G$200\"),5,FALSE),0)","v":0},{"$f":"IFERROR(VLOOKUP(B165,INDIRECT(\"'\"&$T$1&\"'!\"&\"$C$2:$G$200\"),4,FALSE),\"\")","v":""},{"$f":"IFERROR(VLOOKUP(B165,INDIRECT(\"'\"&$T$1&\"'!\"&\"$C$2:$G$200\"),5,FALSE),0)","v":0},{"$f":"8-COUNTIF(F165:U165,\"\")","v":1},{"$f":"E165/IF(V165>4,5,V165)","v":87.484586929716428}]
[164,"Rhys Williams","MDC","M40",{"$f":"SUM(LARGE((S166,G166,I166,K166,M166,O166,Q166,U166),{1,2,3,4,5}))","v":86.994088221919071},{"$f":"IFERROR(VLOOKUP(B166,INDIRECT(\"'\"&$F$1&\"'!\"&\"$C$2:$G$200\"),4,FALSE),\"\")","v":""},{"$f":"IFERROR(VLOOKUP(B166,INDIRECT(\"'\"&$F$1&\"'!\"&\"$C$2:$G$200\"),5,FALSE),0)","v":0},{"$f":"IFERROR(VLOOKUP(B166,INDIRECT(\"'\"&$H$1&\"'!\"&\"$C$2:$G$200\"),4,FALSE),\"\")","v":""},{"$f":"IFERROR(VLOOKUP(B166,INDIRECT(\"'\"&$H$1&\"'!\"&\"$C$2:$G$200\"),5,FALSE),0)","v":0},{"$f":"IFERROR(VLOOKUP(B166,INDIRECT(\"'\"&$J$1&\"'!\"&\"$C$2:$G$200\"),4,FALSE),\"\")","v":""},{"$f":"IFERROR(VLOOKUP(B166,INDIRECT(\"'\"&$J$1&\"'!\"&\"$C$2:$G$200\"),5,FALSE),0)","v":0},{"$f":"IFERROR(VLOOKUP(B166,INDIRECT(\"'\"&$L$1&\"'!\"&\"$C$2:$G$200\"),4,FALSE),\"\")","v":""},{"$f":"IFERROR(VLOOKUP(B166,INDIRECT(\"'\"&$L$1&\"'!\"&\"$C$2:$G$200\"),5,FALSE),0)","v":0},{"$f":"IFERROR(VLOOKUP(B166,INDIRECT(\"'\"&$N$1&\"'!\"&\"$C$2:$G$200\"),4,FALSE),\"\")","v":""},{"$f":"IFERROR(VLOOKUP(B166,INDIRECT(\"'\"&$N$1&\"'!\"&\"$C$2:$G$200\"),5,FALSE),0)","v":0},{"$f":"IFERROR(VLOOKUP(B166,INDIRECT(\"'\"&$P$1&\"'!\"&\"$C$2:$G$200\"),4,FALSE),\"\")","v":""},{"$f":"IFERROR(VLOOKUP(B166,INDIRECT(\"'\"&$P$1&\"'!\"&\"$C$2:$G$200\"),5,FALSE),0)","v":0},{"$f":"IFERROR(VLOOKUP(B166,INDIRECT(\"'\"&$R$1&\"'!\"&\"$C$2:$G$200\"),4,FALSE),\"\")","v":2.3009259259259257E-2},{"$f":"IFERROR(VLOOKUP(B166,INDIRECT(\"'\"&$R$1&\"'!\"&\"$C$2:$G$200\"),5,FALSE),0)","v":86.994088221919071},{"$f":"IFERROR(VLOOKUP(B166,INDIRECT(\"'\"&$T$1&\"'!\"&\"$C$2:$G$200\"),4,FALSE),\"\")","v":""},{"$f":"IFERROR(VLOOKUP(B166,INDIRECT(\"'\"&$T$1&\"'!\"&\"$C$2:$G$200\"),5,FALSE),0)","v":0},{"$f":"8-COUNTIF(F166:U166,\"\")","v":1},{"$f":"E166/IF(V166>4,5,V166)","v":86.994088221919071}]
[165,"Rudy Lewis","Unaffiliated","SM",{"$f":"SUM(LARGE((S167,G167,I167,K167,M167,O167,Q167,U167),{1,2,3,4,5}))","v":86.800928352174921},{"$f":"IFERROR(VLOOKUP(B167,INDIRECT(\"'\"&$F$1&\"'!\"&\"$C$2:$G$200\"),4,FALSE),\"\")","v":""},{"$f":"IFERROR(VLOOKUP(B167,INDIRECT(\"'\"&$F$1&\"'!\"&\"$C$2:$G$200\"),5,FALSE),0)","v":0},{"$f":"IFERROR(VLOOKUP(B167,INDIRECT(\"'\"&$H$1&\"'!\"&\"$C$2:$G$200\"),4,FALSE),\"\")","v":3.4999999999999996E-2},{"$f":"IFERROR(VLOOKUP(B167,INDIRECT(\"'\"&$H$1&\"'!\"&\"$C$2:$G$200\"),5,FALSE),0)","v":86.800928352174921},{"$f":"IFERROR(VLOOKUP(B167,INDIRECT(\"'\"&$J$1&\"'!\"&\"$C$2:$G$200\"),4,FALSE),\"\")","v":""},{"$f":"IFERROR(VLOOKUP(B167,INDIRECT(\"'\"&$J$1&\"'!\"&\"$C$2:$G$200\"),5,FALSE),0)","v":0},{"$f":"IFERROR(VLOOKUP(B167,INDIRECT(\"'\"&$L$1&\"'!\"&\"$C$2:$G$200\"),4,FALSE),\"\")","v":""},{"$f":"IFERROR(VLOOKUP(B167,INDIRECT(\"'\"&$L$1&\"'!\"&\"$C$2:$G$200\"),5,FALSE),0)","v":0},{"$f":"IFERROR(VLOOKUP(B167,INDIRECT(\"'\"&$N$1&\"'!\"&\"$C$2:$G$200\"),4,FALSE),\"\")","v":""},{"$f":"IFERROR(VLOOKUP(B167,INDIRECT(\"'\"&$N$1&\"'!\"&\"$C$2:$G$200\"),5,FALSE),0)","v":0},{"$f":"IFERROR(VLOOKUP(B167,INDIRECT(\"'\"&$P$1&\"'!\"&\"$C$2:$G$200\"),4,FALSE),\"\")","v":""},{"$f":"IFERROR(VLOOKUP(B167,INDIRECT(\"'\"&$P$1&\"'!\"&\"$C$2:$G$200\"),5,FALSE),0)","v":0},{"$f":"IFERROR(VLOOKUP(B167,INDIRECT(\"'\"&$R$1&\"'!\"&\"$C$2:$G$200\"),4,FALSE),\"\")","v":""},{"$f":"IFERROR(VLOOKUP(B167,INDIRECT(\"'\"&$R$1&\"'!\"&\"$C$2:$G$200\"),5,FALSE),0)","v":0},{"$f":"IFERROR(VLOOKUP(B167,INDIRECT(\"'\"&$T$1&\"'!\"&\"$C$2:$G$200\"),4,FALSE),\"\")","v":""},{"$f":"IFERROR(VLOOKUP(B167,INDIRECT(\"'\"&$T$1&\"'!\"&\"$C$2:$G$200\"),5,FALSE),0)","v":0},{"$f":"8-COUNTIF(F167:U167,\"\")","v":1},{"$f":"E167/IF(V167>4,5,V167)","v":86.800928352174921}]
[166,"Flora Gunner","Croft Ambrey","F50",{"$f":"SUM(LARGE((S168,G168,I168,K168,M168,O168,Q168,U168),{1,2,3,4,5}))","v":85.954941321685567},{"$f":"IFERROR(VLOOKUP(B168,INDIRECT(\"'\"&$F$1&\"'!\"&\"$C$2:$G$200\"),4,FALSE),\"\")","v":""},{"$f":"IFERROR(VLOOKUP(B168,INDIRECT(\"'\"&$F$1&\"'!\"&\"$C$2:$G$200\"),5,FALSE),0)","v":0},{"$f":"IFERROR(VLOOKUP(B168,INDIRECT(\"'\"&$H$1&\"'!\"&\"$C$2:$G$200\"),4,FALSE),\"\")","v":""},{"$f":"IFERROR(VLOOKUP(B168,INDIRECT(\"'\"&$H$1&\"'!\"&\"$C$2:$G$200\"),5,FALSE),0)","v":0},{"$f":"IFERROR(VLOOKUP(B168,INDIRECT(\"'\"&$J$1&\"'!\"&\"$C$2:$G$200\"),4,FALSE),\"\")","v":""},{"$f":"IFERROR(VLOOKUP(B168,INDIRECT(\"'\"&$J$1&\"'!\"&\"$C$2:$G$200\"),5,FALSE),0)","v":0},{"$f":"IFERROR(VLOOKUP(B168,INDIRECT(\"'\"&$L$1&\"'!\"&\"$C$2:$G$200\"),4,FALSE),\"\")","v":""},{"$f":"IFERROR(VLOOKUP(B168,INDIRECT(\"'\"&$L$1&\"'!\"&\"$C$2:$G$200\"),5,FALSE),0)","v":0},{"$f":"IFERROR(VLOOKUP(B168,INDIRECT(\"'\"&$N$1&\"'!\"&\"$C$2:$G$200\"),4,FALSE),\"\")","v":""},{"$f":"IFERROR(VLOOKUP(B168,INDIRECT(\"'\"&$N$1&\"'!\"&\"$C$2:$G$200\"),5,FALSE),0)","v":0},{"$f":"IFERROR(VLOOKUP(B168,INDIRECT(\"'\"&$P$1&\"'!\"&\"$C$2:$G$200\"),4,FALSE),\"\")","v":""},{"$f":"IFERROR(VLOOKUP(B168,INDIRECT(\"'\"&$P$1&\"'!\"&\"$C$2:$G$200\"),5,FALSE),0)","v":0},{"$f":"IFERROR(VLOOKUP(B168,INDIRECT(\"'\"&$R$1&\"'!\"&\"$C$2:$G$200\"),4,FALSE),\"\")","v":3.0150462962962962E-2},{"$f":"IFERROR(VLOOKUP(B168,INDIRECT(\"'\"&$R$1&\"'!\"&\"$C$2:$G$200\"),5,FALSE),0)","v":51.92132787630743},{"$f":"IFERROR(VLOOKUP(B168,INDIRECT(\"'\"&$T$1&\"'!\"&\"$C$2:$G$200\"),4,FALSE),\"\")","v":6.0347222222222219E-2},{"$f":"IFERROR(VLOOKUP(B168,INDIRECT(\"'\"&$T$1&\"'!\"&\"$C$2:$G$200\"),5,FALSE),0)","v":34.033613445378144},{"$f":"8-COUNTIF(F168:U168,\"\")","v":2},{"$f":"E168/IF(V168>4,5,V168)","v":42.977470660842783}]
[167,"Ian Smith","Forest Of Dean AC","M50",{"$f":"SUM(LARGE((S169,G169,I169,K169,M169,O169,Q169,U169),{1,2,3,4,5}))","v":85.266152579171958},{"$f":"IFERROR(VLOOKUP(B169,INDIRECT(\"'\"&$F$1&\"'!\"&\"$C$2:$G$200\"),4,FALSE),\"\")","v":""},{"$f":"IFERROR(VLOOKUP(B169,INDIRECT(\"'\"&$F$1&\"'!\"&\"$C$2:$G$200\"),5,FALSE),0)","v":0},{"$f":"IFERROR(VLOOKUP(B169,INDIRECT(\"'\"&$H$1&\"'!\"&\"$C$2:$G$200\"),4,FALSE),\"\")","v":3.5474537037037041E-2},{"$f":"IFERROR(VLOOKUP(B169,INDIRECT(\"'\"&$H$1&\"'!\"&\"$C$2:$G$200\"),5,FALSE),0)","v":85.266152579171958},{"$f":"IFERROR(VLOOKUP(B169,INDIRECT(\"'\"&$J$1&\"'!\"&\"$C$2:$G$200\"),4,FALSE),\"\")","v":""},{"$f":"IFERROR(VLOOKUP(B169,INDIRECT(\"'\"&$J$1&\"'!\"&\"$C$2:$G$200\"),5,FALSE),0)","v":0},{"$f":"IFERROR(VLOOKUP(B169,INDIRECT(\"'\"&$L$1&\"'!\"&\"$C$2:$G$200\"),4,FALSE),\"\")","v":""},{"$f":"IFERROR(VLOOKUP(B169,INDIRECT(\"'\"&$L$1&\"'!\"&\"$C$2:$G$200\"),5,FALSE),0)","v":0},{"$f":"IFERROR(VLOOKUP(B169,INDIRECT(\"'\"&$N$1&\"'!\"&\"$C$2:$G$200\"),4,FALSE),\"\")","v":""},{"$f":"IFERROR(VLOOKUP(B169,INDIRECT(\"'\"&$N$1&\"'!\"&\"$C$2:$G$200\"),5,FALSE),0)","v":0},{"$f":"IFERROR(VLOOKUP(B169,INDIRECT(\"'\"&$P$1&\"'!\"&\"$C$2:$G$200\"),4,FALSE),\"\")","v":""},{"$f":"IFERROR(VLOOKUP(B169,INDIRECT(\"'\"&$P$1&\"'!\"&\"$C$2:$G$200\"),5,FALSE),0)","v":0},{"$f":"IFERROR(VLOOKUP(B169,INDIRECT(\"'\"&$R$1&\"'!\"&\"$C$2:$G$200\"),4,FALSE),\"\")","v":""},{"$f":"IFERROR(VLOOKUP(B169,INDIRECT(\"'\"&$R$1&\"'!\"&\"$C$2:$G$200\"),5,FALSE),0)","v":0},{"$f":"IFERROR(VLOOKUP(B169,INDIRECT(\"'\"&$T$1&\"'!\"&\"$C$2:$G$200\"),4,FALSE),\"\")","v":""},{"$f":"IFERROR(VLOOKUP(B169,INDIRECT(\"'\"&$T$1&\"'!\"&\"$C$2:$G$200\"),5,FALSE),0)","v":0},{"$f":"8-COUNTIF(F169:U169,\"\")","v":1},{"$f":"E169/IF(V169>4,5,V169)","v":85.266152579171958}]
[168,"Robin Spacie","Unaffiliated","SM",{"$f":"SUM(LARGE((S170,G170,I170,K170,M170,O170,Q170,U170),{1,2,3,4,5}))","v":84.958572339069448},{"$f":"IFERROR(VLOOKUP(B170,INDIRECT(\"'\"&$F$1&\"'!\"&\"$C$2:$G$200\"),4,FALSE),\"\")","v":""},{"$f":"IFERROR(VLOOKUP(B170,INDIRECT(\"'\"&$F$1&\"'!\"&\"$C$2:$G$200\"),5,FALSE),0)","v":0},{"$f":"IFERROR(VLOOKUP(B170,INDIRECT(\"'\"&$H$1&\"'!\"&\"$C$2:$G$200\"),4,FALSE),\"\")","v":""},{"$f":"IFERROR(VLOOKUP(B170,INDIRECT(\"'\"&$H$1&\"'!\"&\"$C$2:$G$200\"),5,FALSE),0)","v":0},{"$f":"IFERROR(VLOOKUP(B170,INDIRECT(\"'\"&$J$1&\"'!\"&\"$C$2:$G$200\"),4,FALSE),\"\")","v":""},{"$f":"IFERROR(VLOOKUP(B170,INDIRECT(\"'\"&$J$1&\"'!\"&\"$C$2:$G$200\"),5,FALSE),0)","v":0},{"$f":"IFERROR(VLOOKUP(B170,INDIRECT(\"'\"&$L$1&\"'!\"&\"$C$2:$G$200\"),4,FALSE),\"\")","v":""},{"$f":"IFERROR(VLOOKUP(B170,INDIRECT(\"'\"&$L$1&\"'!\"&\"$C$2:$G$200\"),5,FALSE),0)","v":0},{"$f":"IFERROR(VLOOKUP(B170,INDIRECT(\"'\"&$N$1&\"'!\"&\"$C$2:$G$200\"),4,FALSE),\"\")","v":""},{"$f":"IFERROR(VLOOKUP(B170,INDIRECT(\"'\"&$N$1&\"'!\"&\"$C$2:$G$200\"),5,FALSE),0)","v":0},{"$f":"IFERROR(VLOOKUP(B170,INDIRECT(\"'\"&$P$1&\"'!\"&\"$C$2:$G$200\"),4,FALSE),\"\")","v":2.5069444444444446E-2},{"$f":"IFERROR(VLOOKUP(B170,INDIRECT(\"'\"&$P$1&\"'!\"&\"$C$2:$G$200\"),5,FALSE),0)","v":84.958572339069448},{"$f":"IFERROR(VLOOKUP(B170,INDIRECT(\"'\"&$R$1&\"'!\"&\"$C$2:$G$200\"),4,FALSE),\"\")","v":""},{"$f":"IFERROR(VLOOKUP(B170,INDIRECT(\"'\"&$R$1&\"'!\"&\"$C$2:$G$200\"),5,FALSE),0)","v":0},{"$f":"IFERROR(VLOOKUP(B170,INDIRECT(\"'\"&$T$1&\"'!\"&\"$C$2:$G$200\"),4,FALSE),\"\")","v":""},{"$f":"IFERROR(VLOOKUP(B170,INDIRECT(\"'\"&$T$1&\"'!\"&\"$C$2:$G$200\"),5,FALSE),0)","v":0},{"$f":"8-COUNTIF(F170:U170,\"\")","v":1},{"$f":"E170/IF(V170>4,5,V170)","v":84.958572339069448}]
[169,"Leslie Cupis","Ryde Harriers","M50",{"$f":"SUM(LARGE((S171,G171,I171,K171,M171,O171,Q171,U171),{1,2,3,4,5}))","v":84.030845249681832},{"$f":"IFERROR(VLOOKUP(B171,INDIRECT(\"'\"&$F$1&\"'!\"&\"$C$2:$G$200\"),4,FALSE),\"\")","v":""},{"$f":"IFERROR(VLOOKUP(B171,INDIRECT(\"'\"&$F$1&\"'!\"&\"$C$2:$G$200\"),5,FALSE),0)","v":0},{"$f":"IFERROR(VLOOKUP(B171,INDIRECT(\"'\"&$H$1&\"'!\"&\"$C$2:$G$200\"),4,FALSE),\"\")","v":3.5856481481481482E-2},{"$f":"IFERROR(VLOOKUP(B171,INDIRECT(\"'\"&$H$1&\"'!\"&\"$C$2:$G$200\"),5,FALSE),0)","v":84.030845249681832},{"$f":"IFERROR(VLOOKUP(B171,INDIRECT(\"'\"&$J$1&\"'!\"&\"$C$2:$G$200\"),4,FALSE),\"\")","v":""},{"$f":"IFERROR(VLOOKUP(B171,INDIRECT(\"'\"&$J$1&\"'!\"&\"$C$2:$G$200\"),5,FALSE),0)","v":0},{"$f":"IFERROR(VLOOKUP(B171,INDIRECT(\"'\"&$L$1&\"'!\"&\"$C$2:$G$200\"),4,FALSE),\"\")","v":""},{"$f":"IFERROR(VLOOKUP(B171,INDIRECT(\"'\"&$L$1&\"'!\"&\"$C$2:$G$200\"),5,FALSE),0)","v":0},{"$f":"IFERROR(VLOOKUP(B171,INDIRECT(\"'\"&$N$1&\"'!\"&\"$C$2:$G$200\"),4,FALSE),\"\")","v":""},{"$f":"IFERROR(VLOOKUP(B171,INDIRECT(\"'\"&$N$1&\"'!\"&\"$C$2:$G$200\"),5,FALSE),0)","v":0},{"$f":"IFERROR(VLOOKUP(B171,INDIRECT(\"'\"&$P$1&\"'!\"&\"$C$2:$G$200\"),4,FALSE),\"\")","v":""},{"$f":"IFERROR(VLOOKUP(B171,INDIRECT(\"'\"&$P$1&\"'!\"&\"$C$2:$G$200\"),5,FALSE),0)","v":0},{"$f":"IFERROR(VLOOKUP(B171,INDIRECT(\"'\"&$R$1&\"'!\"&\"$C$2:$G$200\"),4,FALSE),\"\")","v":""},{"$f":"IFERROR(VLOOKUP(B171,INDIRECT(\"'\"&$R$1&\"'!\"&\"$C$2:$G$200\"),5,FALSE),0)","v":0},{"$f":"IFERROR(VLOOKUP(B171,INDIRECT(\"'\"&$T$1&\"'!\"&\"$C$2:$G$200\"),4,FALSE),\"\")","v":""},{"$f":"IFERROR(VLOOKUP(B171,INDIRECT(\"'\"&$T$1&\"'!\"&\"$C$2:$G$200\"),5,FALSE),0)","v":0},{"$f":"8-COUNTIF(F171:U171,\"\")","v":1},{"$f":"E171/IF(V171>4,5,V171)","v":84.030845249681832}]
[170,"Richard Millier","Unaffiliated","SM",{"$f":"SUM(LARGE((S172,G172,I172,K172,M172,O172,Q172,U172),{1,2,3,4,5}))","v":83.577650308051844},{"$f":"IFERROR(VLOOKUP(B172,INDIRECT(\"'\"&$F$1&\"'!\"&\"$C$2:$G$200\"),4,FALSE),\"\")","v":""},{"$f":"IFERROR(VLOOKUP(B172,INDIRECT(\"'\"&$F$1&\"'!\"&\"$C$2:$G$200\"),5,FALSE),0)","v":0},{"$f":"IFERROR(VLOOKUP(B172,INDIRECT(\"'\"&$H$1&\"'!\"&\"$C$2:$G$200\"),4,FALSE),\"\")","v":""},{"$f":"IFERROR(VLOOKUP(B172,INDIRECT(\"'\"&$H$1&\"'!\"&\"$C$2:$G$200\"),5,FALSE),0)","v":0},{"$f":"IFERROR(VLOOKUP(B172,INDIRECT(\"'\"&$J$1&\"'!\"&\"$C$2:$G$200\"),4,FALSE),\"\")","v":""},{"$f":"IFERROR(VLOOKUP(B172,INDIRECT(\"'\"&$J$1&\"'!\"&\"$C$2:$G$200\"),5,FALSE),0)","v":0},{"$f":"IFERROR(VLOOKUP(B172,INDIRECT(\"'\"&$L$1&\"'!\"&\"$C$2:$G$200\"),4,FALSE),\"\")","v":""},{"$f":"IFERROR(VLOOKUP(B172,INDIRECT(\"'\"&$L$1&\"'!\"&\"$C$2:$G$200\"),5,FALSE),0)","v":0},{"$f":"IFERROR(VLOOKUP(B172,INDIRECT(\"'\"&$N$1&\"'!\"&\"$C$2:$G$200\"),4,FALSE),\"\")","v":""},{"$f":"IFERROR(VLOOKUP(B172,INDIRECT(\"'\"&$N$1&\"'!\"&\"$C$2:$G$200\"),5,FALSE),0)","v":0},{"$f":"IFERROR(VLOOKUP(B172,INDIRECT(\"'\"&$P$1&\"'!\"&\"$C$2:$G$200\"),4,FALSE),\"\")","v":2.5370370370370366E-2},{"$f":"IFERROR(VLOOKUP(B172,INDIRECT(\"'\"&$P$1&\"'!\"&\"$C$2:$G$200\"),5,FALSE),0)","v":83.577650308051844},{"$f":"IFERROR(VLOOKUP(B172,INDIRECT(\"'\"&$R$1&\"'!\"&\"$C$2:$G$200\"),4,FALSE),\"\")","v":""},{"$f":"IFERROR(VLOOKUP(B172,INDIRECT(\"'\"&$R$1&\"'!\"&\"$C$2:$G$200\"),5,FALSE),0)","v":0},null,{"$f":"IFERROR(VLOOKUP(B172,INDIRECT(\"'\"&$T$1&\"'!\"&\"$C$2:$G$200\"),5,FALSE),0)","v":0},{"$f":"8-COUNTIF(F172:U172,\"\")","v":1},{"$f":"E172/IF(V172>4,5,V172)","v":83.577650308051844}]
[171,"Peter Flynn","Wye Valley Runners","SM",{"$f":"SUM(LARGE((S173,G173,I173,K173,M173,O173,Q173,U173),{1,2,3,4,5}))","v":83.431908362656301},{"$f":"IFERROR(VLOOKUP(B173,INDIRECT(\"'\"&$F$1&\"'!\"&\"$C$2:$G$200\"),4,FALSE),\"\")","v":""},{"$f":"IFERROR(VLOOKUP(B173,INDIRECT(\"'\"&$F$1&\"'!\"&\"$C$2:$G$200\"),5,FALSE),0)","v":0},{"$f":"IFERROR(VLOOKUP(B173,INDIRECT(\"'\"&$H$1&\"'!\"&\"$C$2:$G$200\"),4,FALSE),\"\")","v":3.6041666666666666E-2},{"$f":"IFERROR(VLOOKUP(B173,INDIRECT(\"'\"&$H$1&\"'!\"&\"$C$2:$G$200\"),5,FALSE),0)","v":83.431908362656301},{"$f":"IFERROR(VLOOKUP(B173,INDIRECT(\"'\"&$J$1&\"'!\"&\"$C$2:$G$200\"),4,FALSE),\"\")","v":""},{"$f":"IFERROR(VLOOKUP(B173,INDIRECT(\"'\"&$J$1&\"'!\"&\"$C$2:$G$200\"),5,FALSE),0)","v":0},{"$f":"IFERROR(VLOOKUP(B173,INDIRECT(\"'\"&$L$1&\"'!\"&\"$C$2:$G$200\"),4,FALSE),\"\")","v":""},{"$f":"IFERROR(VLOOKUP(B173,INDIRECT(\"'\"&$L$1&\"'!\"&\"$C$2:$G$200\"),5,FALSE),0)","v":0},{"$f":"IFERROR(VLOOKUP(B173,INDIRECT(\"'\"&$N$1&\"'!\"&\"$C$2:$G$200\"),4,FALSE),\"\")","v":""},{"$f":"IFERROR(VLOOKUP(B173,INDIRECT(\"'\"&$N$1&\"'!\"&\"$C$2:$G$200\"),5,FALSE),0)","v":0},{"$f":"IFERROR(VLOOKUP(B173,INDIRECT(\"'\"&$P$1&\"'!\"&\"$C$2:$G$200\"),4,FALSE),\"\")","v":""},{"$f":"IFERROR(VLOOKUP(B173,INDIRECT(\"'\"&$P$1&\"'!\"&\"$C$2:$G$200\"),5,FALSE),0)","v":0},{"$f":"IFERROR(VLOOKUP(B173,INDIRECT(\"'\"&$R$1&\"'!\"&\"$C$2:$G$200\"),4,FALSE),\"\")","v":""},{"$f":"IFERROR(VLOOKUP(B173,INDIRECT(\"'\"&$R$1&\"'!\"&\"$C$2:$G$200\"),5,FALSE),0)","v":0},{"$f":"IFERROR(VLOOKUP(B173,INDIRECT(\"'\"&$T$1&\"'!\"&\"$C$2:$G$200\"),4,FALSE),\"\")","v":""},{"$f":"IFERROR(VLOOKUP(B173,INDIRECT(\"'\"&$T$1&\"'!\"&\"$C$2:$G$200\"),5,FALSE),0)","v":0},{"$f":"8-COUNTIF(F173:U173,\"\")","v":1},{"$f":"E173/IF(V173>4,5,V173)","v":83.431908362656301}]
[172,"Ben Gibbison","Mynydd Du","SM",{"$f":"SUM(LARGE((S174,G174,I174,K174,M174,O174,Q174,U174),{1,2,3,4,5}))","v":83.403361344537814},{"$f":"IFERROR(VLOOKUP(B174,INDIRECT(\"'\"&$F$1&\"'!\"&\"$C$2:$G$200\"),4,FALSE),\"\")","v":""},{"$f":"IFERROR(VLOOKUP(B174,INDIRECT(\"'\"&$F$1&\"'!\"&\"$C$2:$G$200\"),5,FALSE),0)","v":0},{"$f":"IFERROR(VLOOKUP(B174,INDIRECT(\"'\"&$H$1&\"'!\"&\"$C$2:$G$200\"),4,FALSE),\"\")","v":""},{"$f":"IFERROR(VLOOKUP(B174,INDIRECT(\"'\"&$H$1&\"'!\"&\"$C$2:$G$200\"),5,FALSE),0)","v":0},{"$f":"IFERROR(VLOOKUP(B174,INDIRECT(\"'\"&$J$1&\"'!\"&\"$C$2:$G$200\"),4,FALSE),\"\")","v":""},{"$f":"IFERROR(VLOOKUP(B174,INDIRECT(\"'\"&$J$1&\"'!\"&\"$C$2:$G$200\"),5,FALSE),0)","v":0},{"$f":"IFERROR(VLOOKUP(B174,INDIRECT(\"'\"&$L$1&\"'!\"&\"$C$2:$G$200\"),4,FALSE),\"\")","v":""},{"$f":"IFERROR(VLOOKUP(B174,INDIRECT(\"'\"&$L$1&\"'!\"&\"$C$2:$G$200\"),5,FALSE),0)","v":0},{"$f":"IFERROR(VLOOKUP(B174,INDIRECT(\"'\"&$N$1&\"'!\"&\"$C$2:$G$200\"),4,FALSE),\"\")","v":""},{"$f":"IFERROR(VLOOKUP(B174,INDIRECT(\"'\"&$N$1&\"'!\"&\"$C$2:$G$200\"),5,FALSE),0)","v":0},{"$f":"IFERROR(VLOOKUP(B174,INDIRECT(\"'\"&$P$1&\"'!\"&\"$C$2:$G$200\"),4,FALSE),\"\")","v":""},{"$f":"IFERROR(VLOOKUP(B174,INDIRECT(\"'\"&$P$1&\"'!\"&\"$C$2:$G$200\"),5,FALSE),0)","v":0},{"$f":"IFERROR(VLOOKUP(B174,INDIRECT(\"'\"&$R$1&\"'!\"&\"$C$2:$G$200\"),4,FALSE),\"\")","v":""},{"$f":"IFERROR(VLOOKUP(B174,INDIRECT(\"'\"&$R$1&\"'!\"&\"$C$2:$G$200\"),5,FALSE),0)","v":0},{"$f":"IFERROR(VLOOKUP(B174,INDIRECT(\"'\"&$T$1&\"'!\"&\"$C$2:$G$200\"),4,FALSE),\"\")","v":4.2395833333333334E-2},{"$f":"IFERROR(VLOOKUP(B174,INDIRECT(\"'\"&$T$1&\"'!\"&\"$C$2:$G$200\"),5,FALSE),0)","v":83.403361344537814},{"$f":"8-COUNTIF(F174:U174,\"\")","v":1},{"$f":"E174/IF(V174>4,5,V174)","v":83.403361344537814}]
[173,"Gavin Jones","Monross Trailblazers","SM",{"$f":"SUM(LARGE((S175,G175,I175,K175,M175,O175,Q175,U175),{1,2,3,4,5}))","v":83.3744348540896},{"$f":"IFERROR(VLOOKUP(B175,INDIRECT(\"'\"&$F$1&\"'!\"&\"$C$2:$G$200\"),4,FALSE),\"\")","v":""},{"$f":"IFERROR(VLOOKUP(B175,INDIRECT(\"'\"&$F$1&\"'!\"&\"$C$2:$G$200\"),5,FALSE),0)","v":0},{"$f":"IFERROR(VLOOKUP(B175,INDIRECT(\"'\"&$H$1&\"'!\"&\"$C$2:$G$200\"),4,FALSE),\"\")","v":""},{"$f":"IFERROR(VLOOKUP(B175,INDIRECT(\"'\"&$H$1&\"'!\"&\"$C$2:$G$200\"),5,FALSE),0)","v":0},{"$f":"IFERROR(VLOOKUP(B175,INDIRECT(\"'\"&$J$1&\"'!\"&\"$C$2:$G$200\"),4,FALSE),\"\")","v":""},{"$f":"IFERROR(VLOOKUP(B175,INDIRECT(\"'\"&$J$1&\"'!\"&\"$C$2:$G$200\"),5,FALSE),0)","v":0},{"$f":"IFERROR(VLOOKUP(B175,INDIRECT(\"'\"&$L$1&\"'!\"&\"$C$2:$G$200\"),4,FALSE),\"\")","v":""},{"$f":"IFERROR(VLOOKUP(B175,INDIRECT(\"'\"&$L$1&\"'!\"&\"$C$2:$G$200\"),5,FALSE),0)","v":0},{"$f":"IFERROR(VLOOKUP(B175,INDIRECT(\"'\"&$N$1&\"'!\"&\"$C$2:$G$200\"),4,FALSE),\"\")","v":2.6273148148148153E-2},{"$f":"IFERROR(VLOOKUP(B175,INDIRECT(\"'\"&$N$1&\"'!\"&\"$C$2:$G$200\"),5,FALSE),0)","v":83.3744348540896},{"$f":"IFERROR(VLOOKUP(B175,INDIRECT(\"'\"&$P$1&\"'!\"&\"$C$2:$G$200\"),4,FALSE),\"\")","v":""},{"$f":"IFERROR(VLOOKUP(B175,INDIRECT(\"'\"&$P$1&\"'!\"&\"$C$2:$G$200\"),5,FALSE),0)","v":0},{"$f":"IFERROR(VLOOKUP(B175,INDIRECT(\"'\"&$R$1&\"'!\"&\"$C$2:$G$200\"),4,FALSE),\"\")","v":""},{"$f":"IFERROR(VLOOKUP(B175,INDIRECT(\"'\"&$R$1&\"'!\"&\"$C$2:$G$200\"),5,FALSE),0)","v":0},{"$f":"IFERROR(VLOOKUP(B175,INDIRECT(\"'\"&$T$1&\"'!\"&\"$C$2:$G$200\"),4,FALSE),\"\")","v":""},{"$f":"IFERROR(VLOOKUP(B175,INDIRECT(\"'\"&$T$1&\"'!\"&\"$C$2:$G$200\"),5,FALSE),0)","v":0},{"$f":"8-COUNTIF(F175:U175,\"\")","v":1},{"$f":"E175/IF(V175>4,5,V175)","v":83.3744348540896}]
[174,"Sam Weale","Monross Trailblazers","SM",{"$f":"SUM(LARGE((S176,G176,I176,K176,M176,O176,Q176,U176),{1,2,3,4,5}))","v":83.014796547472287},{"$f":"IFERROR(VLOOKUP(B176,INDIRECT(\"'\"&$F$1&\"'!\"&\"$C$2:$G$200\"),4,FALSE),\"\")","v":""},{"$f":"IFERROR(VLOOKUP(B176,INDIRECT(\"'\"&$F$1&\"'!\"&\"$C$2:$G$200\"),5,FALSE),0)","v":0},{"$f":"IFERROR(VLOOKUP(B176,INDIRECT(\"'\"&$H$1&\"'!\"&\"$C$2:$G$200\"),4,FALSE),\"\")","v":""},{"$f":"IFERROR(VLOOKUP(B176,INDIRECT(\"'\"&$H$1&\"'!\"&\"$C$2:$G$200\"),5,FALSE),0)","v":0},{"$f":"IFERROR(VLOOKUP(B176,INDIRECT(\"'\"&$J$1&\"'!\"&\"$C$2:$G$200\"),4,FALSE),\"\")","v":""},{"$f":"IFERROR(VLOOKUP(B176,INDIRECT(\"'\"&$J$1&\"'!\"&\"$C$2:$G$200\"),5,FALSE),0)","v":0},{"$f":"IFERROR(VLOOKUP(B176,INDIRECT(\"'\"&$L$1&\"'!\"&\"$C$2:$G$200\"),4,FALSE),\"\")","v":""},{"$f":"IFERROR(VLOOKUP(B176,INDIRECT(\"'\"&$L$1&\"'!\"&\"$C$2:$G$200\"),5,FALSE),0)","v":0},{"$f":"IFERROR(VLOOKUP(B176,INDIRECT(\"'\"&$N$1&\"'!\"&\"$C$2:$G$200\"),4,FALSE),\"\")","v":2.6354166666666668E-2},{"$f":"IFERROR(VLOOKUP(B176,INDIRECT(\"'\"&$N$1&\"'!\"&\"$C$2:$G$200\"),5,FALSE),0)","v":83.014796547472287},{"$f":"IFERROR(VLOOKUP(B176,INDIRECT(\"'\"&$P$1&\"'!\"&\"$C$2:$G$200\"),4,FALSE),\"\")","v":""},{"$f":"IFERROR(VLOOKUP(B176,INDIRECT(\"'\"&$P$1&\"'!\"&\"$C$2:$G$200\"),5,FALSE),0)","v":0},{"$f":"IFERROR(VLOOKUP(B176,INDIRECT(\"'\"&$R$1&\"'!\"&\"$C$2:$G$200\"),4,FALSE),\"\")","v":""},{"$f":"IFERROR(VLOOKUP(B176,INDIRECT(\"'\"&$R$1&\"'!\"&\"$C$2:$G$200\"),5,FALSE),0)","v":0},null,{"$f":"IFERROR(VLOOKUP(B176,INDIRECT(\"'\"&$T$1&\"'!\"&\"$C$2:$G$200\"),5,FALSE),0)","v":0},{"$f":"8-COUNTIF(F176:U176,\"\")","v":1},{"$f":"E176/IF(V176>4,5,V176)","v":83.014796547472287}]
[175,"Guy Bradford","Weston","M40",{"$f":"SUM(LARGE((S177,G177,I177,K177,M177,O177,Q177,U177),{1,2,3,4,5}))","v":82.945272141948038},{"$f":"IFERROR(VLOOKUP(B177,INDIRECT(\"'\"&$F$1&\"'!\"&\"$C$2:$G$200\"),4,FALSE),\"\")","v":""},{"$f":"IFERROR(VLOOKUP(B177,INDIRECT(\"'\"&$F$1&\"'!\"&\"$C$2:$G$200\"),5,FALSE),0)","v":0},{"$f":"IFERROR(VLOOKUP(B177,INDIRECT(\"'\"&$H$1&\"'!\"&\"$C$2:$G$200\"),4,FALSE),\"\")","v":3.619212962962963E-2},{"$f":"IFERROR(VLOOKUP(B177,INDIRECT(\"'\"&$H$1&\"'!\"&\"$C$2:$G$200\"),5,FALSE),0)","v":82.945272141948038},{"$f":"IFERROR(VLOOKUP(B177,INDIRECT(\"'\"&$J$1&\"'!\"&\"$C$2:$G$200\"),4,FALSE),\"\")","v":""},{"$f":"IFERROR(VLOOKUP(B177,INDIRECT(\"'\"&$J$1&\"'!\"&\"$C$2:$G$200\"),5,FALSE),0)","v":0},{"$f":"IFERROR(VLOOKUP(B177,INDIRECT(\"'\"&$L$1&\"'!\"&\"$C$2:$G$200\"),4,FALSE),\"\")","v":""},{"$f":"IFERROR(VLOOKUP(B177,INDIRECT(\"'\"&$L$1&\"'!\"&\"$C$2:$G$200\"),5,FALSE),0)","v":0},{"$f":"IFERROR(VLOOKUP(B177,INDIRECT(\"'\"&$N$1&\"'!\"&\"$C$2:$G$200\"),4,FALSE),\"\")","v":""},{"$f":"IFERROR(VLOOKUP(B177,INDIRECT(\"'\"&$N$1&\"'!\"&\"$C$2:$G$200\"),5,FALSE),0)","v":0},{"$f":"IFERROR(VLOOKUP(B177,INDIRECT(\"'\"&$P$1&\"'!\"&\"$C$2:$G$200\"),4,FALSE),\"\")","v":""},{"$f":"IFERROR(VLOOKUP(B177,INDIRECT(\"'\"&$P$1&\"'!\"&\"$C$2:$G$200\"),5,FALSE),0)","v":0},{"$f":"IFERROR(VLOOKUP(B177,INDIRECT(\"'\"&$R$1&\"'!\"&\"$C$2:$G$200\"),4,FALSE),\"\")","v":""},{"$f":"IFERROR(VLOOKUP(B177,INDIRECT(\"'\"&$R$1&\"'!\"&\"$C$2:$G$200\"),5,FALSE),0)","v":0},{"$f":"IFERROR(VLOOKUP(B177,INDIRECT(\"'\"&$T$1&\"'!\"&\"$C$2:$G$200\"),4,FALSE),\"\")","v":""},{"$f":"IFERROR(VLOOKUP(B177,INDIRECT(\"'\"&$T$1&\"'!\"&\"$C$2:$G$200\"),5,FALSE),0)","v":0},{"$f":"8-COUNTIF(F177:U177,\"\")","v":1},{"$f":"E177/IF(V177>4,5,V177)","v":82.945272141948038}]
[176,"Anthony Bannon","San Domenico","SM",{"$f":"SUM(LARGE((S178,G178,I178,K178,M178,O178,Q178,U178),{1,2,3,4,5}))","v":82.449650637073589},{"$f":"IFERROR(VLOOKUP(B178,INDIRECT(\"'\"&$F$1&\"'!\"&\"$C$2:$G$200\"),4,FALSE),\"\")","v":""},{"$f":"IFERROR(VLOOKUP(B178,INDIRECT(\"'\"&$F$1&\"'!\"&\"$C$2:$G$200\"),5,FALSE),0)","v":0},{"$f":"IFERROR(VLOOKUP(B178,INDIRECT(\"'\"&$H$1&\"'!\"&\"$C$2:$G$200\"),4,FALSE),\"\")","v":""},{"$f":"IFERROR(VLOOKUP(B178,INDIRECT(\"'\"&$H$1&\"'!\"&\"$C$2:$G$200\"),5,FALSE),0)","v":0},{"$f":"IFERROR(VLOOKUP(B178,INDIRECT(\"'\"&$J$1&\"'!\"&\"$C$2:$G$200\"),4,FALSE),\"\")","v":""},{"$f":"IFERROR(VLOOKUP(B178,INDIRECT(\"'\"&$J$1&\"'!\"&\"$C$2:$G$200\"),5,FALSE),0)","v":0},{"$f":"IFERROR(VLOOKUP(B178,INDIRECT(\"'\"&$L$1&\"'!\"&\"$C$2:$G$200\"),4,FALSE),\"\")","v":""},{"$f":"IFERROR(VLOOKUP(B178,INDIRECT(\"'\"&$L$1&\"'!\"&\"$C$2:$G$200\"),5,FALSE),0)","v":0},{"$f":"IFERROR(VLOOKUP(B178,INDIRECT(\"'\"&$N$1&\"'!\"&\"$C$2:$G$200\"),4,FALSE),\"\")","v":2.6481481481481481E-2},{"$f":"IFERROR(VLOOKUP(B178,INDIRECT(\"'\"&$N$1&\"'!\"&\"$C$2:$G$200\"),5,FALSE),0)","v":82.449650637073589},{"$f":"IFERROR(VLOOKUP(B178,INDIRECT(\"'\"&$P$1&\"'!\"&\"$C$2:$G$200\"),4,FALSE),\"\")","v":""},{"$f":"IFERROR(VLOOKUP(B178,INDIRECT(\"'\"&$P$1&\"'!\"&\"$C$2:$G$200\"),5,FALSE),0)","v":0},{"$f":"IFERROR(VLOOKUP(B178,INDIRECT(\"'\"&$R$1&\"'!\"&\"$C$2:$G$200\"),4,FALSE),\"\")","v":""},{"$f":"IFERROR(VLOOKUP(B178,INDIRECT(\"'\"&$R$1&\"'!\"&\"$C$2:$G$200\"),5,FALSE),0)","v":0},{"$f":"IFERROR(VLOOKUP(B178,INDIRECT(\"'\"&$T$1&\"'!\"&\"$C$2:$G$200\"),4,FALSE),\"\")","v":""},{"$f":"IFERROR(VLOOKUP(B178,INDIRECT(\"'\"&$T$1&\"'!\"&\"$C$2:$G$200\"),5,FALSE),0)","v":0},{"$f":"8-COUNTIF(F178:U178,\"\")","v":1},{"$f":"E178/IF(V178>4,5,V178)","v":82.449650637073589}]
[177,"Stefanie Francis","Forest Of Dean AC","F50",{"$f":"SUM(LARGE((S179,G179,I179,K179,M179,O179,Q179,U179),{1,2,3,4,5}))","v":82.390240951233835},{"$f":"IFERROR(VLOOKUP(B179,INDIRECT(\"'\"&$F$1&\"'!\"&\"$C$2:$G$200\"),4,FALSE),\"\")","v":""},{"$f":"IFERROR(VLOOKUP(B179,INDIRECT(\"'\"&$F$1&\"'!\"&\"$C$2:$G$200\"),5,FALSE),0)","v":0},{"$f":"IFERROR(VLOOKUP(B179,INDIRECT(\"'\"&$H$1&\"'!\"&\"$C$2:$G$200\"),4,FALSE),\"\")","v":5.0185185185185187E-2},{"$f":"IFERROR(VLOOKUP(B179,INDIRECT(\"'\"&$H$1&\"'!\"&\"$C$2:$G$200\"),5,FALSE),0)","v":37.688103616081456},{"$f":"IFERROR(VLOOKUP(B179,INDIRECT(\"'\"&$J$1&\"'!\"&\"$C$2:$G$200\"),4,FALSE),\"\")","v":""},{"$f":"IFERROR(VLOOKUP(B179,INDIRECT(\"'\"&$J$1&\"'!\"&\"$C$2:$G$200\"),5,FALSE),0)","v":0},{"$f":"IFERROR(VLOOKUP(B179,INDIRECT(\"'\"&$L$1&\"'!\"&\"$C$2:$G$200\"),4,FALSE),\"\")","v":""},{"$f":"IFERROR(VLOOKUP(B179,INDIRECT(\"'\"&$L$1&\"'!\"&\"$C$2:$G$200\"),5,FALSE),0)","v":0},{"$f":"IFERROR(VLOOKUP(B179,INDIRECT(\"'\"&$N$1&\"'!\"&\"$C$2:$G$200\"),4,FALSE),\"\")","v":""},{"$f":"IFERROR(VLOOKUP(B179,INDIRECT(\"'\"&$N$1&\"'!\"&\"$C$2:$G$200\"),5,FALSE),0)","v":0},{"$f":"IFERROR(VLOOKUP(B179,INDIRECT(\"'\"&$P$1&\"'!\"&\"$C$2:$G$200\"),4,FALSE),\"\")","v":""},{"$f":"IFERROR(VLOOKUP(B179,INDIRECT(\"'\"&$P$1&\"'!\"&\"$C$2:$G$200\"),5,FALSE),0)","v":0},{"$f":"IFERROR(VLOOKUP(B179,INDIRECT(\"'\"&$R$1&\"'!\"&\"$C$2:$G$200\"),4,FALSE),\"\")","v":3.1620370370370368E-2},{"$f":"IFERROR(VLOOKUP(B179,INDIRECT(\"'\"&$R$1&\"'!\"&\"$C$2:$G$200\"),5,FALSE),0)","v":44.702137335152379},{"$f":"IFERROR(VLOOKUP(B179,INDIRECT(\"'\"&$T$1&\"'!\"&\"$C$2:$G$200\"),4,FALSE),\"\")","v":""},{"$f":"IFERROR(VLOOKUP(B179,INDIRECT(\"'\"&$T$1&\"'!\"&\"$C$2:$G$200\"),5,FALSE),0)","v":0},{"$f":"8-COUNTIF(F179:U179,\"\")","v":2},{"$f":"E179/IF(V179>4,5,V179)","v":41.195120475616918}]
[178,"David Wright","Newbury","M50",{"$f":"SUM(LARGE((S180,G180,I180,K180,M180,O180,Q180,U180),{1,2,3,4,5}))","v":81.859699034214287},{"$f":"IFERROR(VLOOKUP(B180,INDIRECT(\"'\"&$F$1&\"'!\"&\"$C$2:$G$200\"),4,FALSE),\"\")","v":""},{"$f":"IFERROR(VLOOKUP(B180,INDIRECT(\"'\"&$F$1&\"'!\"&\"$C$2:$G$200\"),5,FALSE),0)","v":0},{"$f":"IFERROR(VLOOKUP(B180,INDIRECT(\"'\"&$H$1&\"'!\"&\"$C$2:$G$200\"),4,FALSE),\"\")","v":3.6527777777777777E-2},{"$f":"IFERROR(VLOOKUP(B180,INDIRECT(\"'\"&$H$1&\"'!\"&\"$C$2:$G$200\"),5,FALSE),0)","v":81.859699034214287},{"$f":"IFERROR(VLOOKUP(B180,INDIRECT(\"'\"&$J$1&\"'!\"&\"$C$2:$G$200\"),4,FALSE),\"\")","v":""},{"$f":"IFERROR(VLOOKUP(B180,INDIRECT(\"'\"&$J$1&\"'!\"&\"$C$2:$G$200\"),5,FALSE),0)","v":0},{"$f":"IFERROR(VLOOKUP(B180,INDIRECT(\"'\"&$L$1&\"'!\"&\"$C$2:$G$200\"),4,FALSE),\"\")","v":""},{"$f":"IFERROR(VLOOKUP(B180,INDIRECT(\"'\"&$L$1&\"'!\"&\"$C$2:$G$200\"),5,FALSE),0)","v":0},{"$f":"IFERROR(VLOOKUP(B180,INDIRECT(\"'\"&$N$1&\"'!\"&\"$C$2:$G$200\"),4,FALSE),\"\")","v":""},{"$f":"IFERROR(VLOOKUP(B180,INDIRECT(\"'\"&$N$1&\"'!\"&\"$C$2:$G$200\"),5,FALSE),0)","v":0},{"$f":"IFERROR(VLOOKUP(B180,INDIRECT(\"'\"&$P$1&\"'!\"&\"$C$2:$G$200\"),4,FALSE),\"\")","v":""},{"$f":"IFERROR(VLOOKUP(B180,INDIRECT(\"'\"&$P$1&\"'!\"&\"$C$2:$G$200\"),5,FALSE),0)","v":0},{"$f":"IFERROR(VLOOKUP(B180,INDIRECT(\"'\"&$R$1&\"'!\"&\"$C$2:$G$200\"),4,FALSE),\"\")","v":""},{"$f":"IFERROR(VLOOKUP(B180,INDIRECT(\"'\"&$R$1&\"'!\"&\"$C$2:$G$200\"),5,FALSE),0)","v":0},{"$f":"IFERROR(VLOOKUP(B180,INDIRECT(\"'\"&$T$1&\"'!\"&\"$C$2:$G$200\"),4,FALSE),\"\")","v":""},{"$f":"IFERROR(VLOOKUP(B180,INDIRECT(\"'\"&$T$1&\"'!\"&\"$C$2:$G$200\"),5,FALSE),0)","v":0},{"$f":"8-COUNTIF(F180:U180,\"\")","v":1},{"$f":"E180/IF(V180>4,5,V180)","v":81.859699034214287}]
[179,"Alastair Morton","Unaffiliated","SM",{"$f":"SUM(LARGE((S181,G181,I181,K181,M181,O181,Q181,U181),{1,2,3,4,5}))","v":81.824941576375593},{"$f":"IFERROR(VLOOKUP(B181,INDIRECT(\"'\"&$F$1&\"'!\"&\"$C$2:$G$200\"),4,FALSE),\"\")","v":""},{"$f":"IFERROR(VLOOKUP(B181,INDIRECT(\"'\"&$F$1&\"'!\"&\"$C$2:$G$200\"),5,FALSE),0)","v":0},{"$f":"IFERROR(VLOOKUP(B181,INDIRECT(\"'\"&$H$1&\"'!\"&\"$C$2:$G$200\"),4,FALSE),\"\")","v":""},{"$f":"IFERROR(VLOOKUP(B181,INDIRECT(\"'\"&$H$1&\"'!\"&\"$C$2:$G$200\"),5,FALSE),0)","v":0},{"$f":"IFERROR(VLOOKUP(B181,INDIRECT(\"'\"&$J$1&\"'!\"&\"$C$2:$G$200\"),4,FALSE),\"\")","v":""},{"$f":"IFERROR(VLOOKUP(B181,INDIRECT(\"'\"&$J$1&\"'!\"&\"$C$2:$G$200\"),5,FALSE),0)","v":0},{"$f":"IFERROR(VLOOKUP(B181,INDIRECT(\"'\"&$L$1&\"'!\"&\"$C$2:$G$200\"),4,FALSE),\"\")","v":""},{"$f":"IFERROR(VLOOKUP(B181,INDIRECT(\"'\"&$L$1&\"'!\"&\"$C$2:$G$200\"),5,FALSE),0)","v":0},{"$f":"IFERROR(VLOOKUP(B181,INDIRECT(\"'\"&$N$1&\"'!\"&\"$C$2:$G$200\"),4,FALSE),\"\")","v":""},{"$f":"IFERROR(VLOOKUP(B181,INDIRECT(\"'\"&$N$1&\"'!\"&\"$C$2:$G$200\"),5,FALSE),0)","v":0},{"$f":"IFERROR(VLOOKUP(B181,INDIRECT(\"'\"&$P$1&\"'!\"&\"$C$2:$G$200\"),4,FALSE),\"\")","v":2.5752314814814815E-2},{"$f":"IFERROR(VLOOKUP(B181,INDIRECT(\"'\"&$P$1&\"'!\"&\"$C$2:$G$200\"),5,FALSE),0)","v":81.824941576375593},{"$f":"IFERROR(VLOOKUP(B181,INDIRECT(\"'\"&$R$1&\"'!\"&\"$C$2:$G$200\"),4,FALSE),\"\")","v":""},{"$f":"IFERROR(VLOOKUP(B181,INDIRECT(\"'\"&$R$1&\"'!\"&\"$C$2:$G$200\"),5,FALSE),0)","v":0},{"$f":"IFERROR(VLOOKUP(B181,INDIRECT(\"'\"&$T$1&\"'!\"&\"$C$2:$G$200\"),4,FALSE),\"\")","v":""},{"$f":"IFERROR(VLOOKUP(B181,INDIRECT(\"'\"&$T$1&\"'!\"&\"$C$2:$G$200\"),5,FALSE),0)","v":0},{"$f":"8-COUNTIF(F181:U181,\"\")","v":1},{"$f":"E181/IF(V181>4,5,V181)","v":81.824941576375593}]
[180,"Matt Whipple","Bristol Orienteers","SM",{"$f":"SUM(LARGE((S182,G182,I182,K182,M182,O182,Q182,U182),{1,2,3,4,5}))","v":81.730374023838891},{"$f":"IFERROR(VLOOKUP(B182,INDIRECT(\"'\"&$F$1&\"'!\"&\"$C$2:$G$200\"),4,FALSE),\"\")","v":""},{"$f":"IFERROR(VLOOKUP(B182,INDIRECT(\"'\"&$F$1&\"'!\"&\"$C$2:$G$200\"),5,FALSE),0)","v":0},{"$f":"IFERROR(VLOOKUP(B182,INDIRECT(\"'\"&$H$1&\"'!\"&\"$C$2:$G$200\"),4,FALSE),\"\")","v":""},{"$f":"IFERROR(VLOOKUP(B182,INDIRECT(\"'\"&$H$1&\"'!\"&\"$C$2:$G$200\"),5,FALSE),0)","v":0},{"$f":"IFERROR(VLOOKUP(B182,INDIRECT(\"'\"&$J$1&\"'!\"&\"$C$2:$G$200\"),4,FALSE),\"\")","v":""},{"$f":"IFERROR(VLOOKUP(B182,INDIRECT(\"'\"&$J$1&\"'!\"&\"$C$2:$G$200\"),5,FALSE),0)","v":0},{"$f":"IFERROR(VLOOKUP(B182,INDIRECT(\"'\"&$L$1&\"'!\"&\"$C$2:$G$200\"),4,FALSE),\"\")","v":""},{"$f":"IFERROR(VLOOKUP(B182,INDIRECT(\"'\"&$L$1&\"'!\"&\"$C$2:$G$200\"),5,FALSE),0)","v":0},{"$f":"IFERROR(VLOOKUP(B182,INDIRECT(\"'\"&$N$1&\"'!\"&\"$C$2:$G$200\"),4,FALSE),\"\")","v":2.6643518518518521E-2},{"$f":"IFERROR(VLOOKUP(B182,INDIRECT(\"'\"&$N$1&\"'!\"&\"$C$2:$G$200\"),5,FALSE),0)","v":81.730374023838891},{"$f":"IFERROR(VLOOKUP(B182,INDIRECT(\"'\"&$P$1&\"'!\"&\"$C$2:$G$200\"),4,FALSE),\"\")","v":""},{"$f":"IFERROR(VLOOKUP(B182,INDIRECT(\"'\"&$P$1&\"'!\"&\"$C$2:$G$200\"),5,FALSE),0)","v":0},{"$f":"IFERROR(VLOOKUP(B182,INDIRECT(\"'\"&$R$1&\"'!\"&\"$C$2:$G$200\"),4,FALSE),\"\")","v":""},{"$f":"IFERROR(VLOOKUP(B182,INDIRECT(\"'\"&$R$1&\"'!\"&\"$C$2:$G$200\"),5,FALSE),0)","v":0},{"$f":"IFERROR(VLOOKUP(B182,INDIRECT(\"'\"&$T$1&\"'!\"&\"$C$2:$G$200\"),4,FALSE),\"\")","v":""},{"$f":"IFERROR(VLOOKUP(B182,INDIRECT(\"'\"&$T$1&\"'!\"&\"$C$2:$G$200\"),5,FALSE),0)","v":0},{"$f":"8-COUNTIF(F182:U182,\"\")","v":1},{"$f":"E182/IF(V182>4,5,V182)","v":81.730374023838891}]
[181,"Andrew Brasington","Mynydd Du","M50",{"$f":"SUM(LARGE((S183,G183,I183,K183,M183,O183,Q183,U183),{1,2,3,4,5}))","v":81.627620221948234},{"$f":"IFERROR(VLOOKUP(B183,INDIRECT(\"'\"&$F$1&\"'!\"&\"$C$2:$G$200\"),4,FALSE),\"\")","v":""},{"$f":"IFERROR(VLOOKUP(B183,INDIRECT(\"'\"&$F$1&\"'!\"&\"$C$2:$G$200\"),5,FALSE),0)","v":0},{"$f":"IFERROR(VLOOKUP(B183,INDIRECT(\"'\"&$H$1&\"'!\"&\"$C$2:$G$200\"),4,FALSE),\"\")","v":""},{"$f":"IFERROR(VLOOKUP(B183,INDIRECT(\"'\"&$H$1&\"'!\"&\"$C$2:$G$200\"),5,FALSE),0)","v":0},{"$f":"IFERROR(VLOOKUP(B183,INDIRECT(\"'\"&$J$1&\"'!\"&\"$C$2:$G$200\"),4,FALSE),\"\")","v":""},{"$f":"IFERROR(VLOOKUP(B183,INDIRECT(\"'\"&$J$1&\"'!\"&\"$C$2:$G$200\"),5,FALSE),0)","v":0},{"$f":"IFERROR(VLOOKUP(B183,INDIRECT(\"'\"&$L$1&\"'!\"&\"$C$2:$G$200\"),4,FALSE),\"\")","v":""},{"$f":"IFERROR(VLOOKUP(B183,INDIRECT(\"'\"&$L$1&\"'!\"&\"$C$2:$G$200\"),5,FALSE),0)","v":0},{"$f":"IFERROR(VLOOKUP(B183,INDIRECT(\"'\"&$N$1&\"'!\"&\"$C$2:$G$200\"),4,FALSE),\"\")","v":2.6666666666666668E-2},{"$f":"IFERROR(VLOOKUP(B183,INDIRECT(\"'\"&$N$1&\"'!\"&\"$C$2:$G$200\"),5,FALSE),0)","v":81.627620221948234},{"$f":"IFERROR(VLOOKUP(B183,INDIRECT(\"'\"&$P$1&\"'!\"&\"$C$2:$G$200\"),4,FALSE),\"\")","v":""},{"$f":"IFERROR(VLOOKUP(B183,INDIRECT(\"'\"&$P$1&\"'!\"&\"$C$2:$G$200\"),5,FALSE),0)","v":0},{"$f":"IFERROR(VLOOKUP(B183,INDIRECT(\"'\"&$R$1&\"'!\"&\"$C$2:$G$200\"),4,FALSE),\"\")","v":""},{"$f":"IFERROR(VLOOKUP(B183,INDIRECT(\"'\"&$R$1&\"'!\"&\"$C$2:$G$200\"),5,FALSE),0)","v":0},{"$f":"IFERROR(VLOOKUP(B183,INDIRECT(\"'\"&$T$1&\"'!\"&\"$C$2:$G$200\"),4,FALSE),\"\")","v":""},{"$f":"IFERROR(VLOOKUP(B183,INDIRECT(\"'\"&$T$1&\"'!\"&\"$C$2:$G$200\"),5,FALSE),0)","v":0},{"$f":"8-COUNTIF(F183:U183,\"\")","v":1},{"$f":"E183/IF(V183>4,5,V183)","v":81.627620221948234}]
[182,"Jamie Vanstone","Ogmore Phoenix Runners","SM",{"$f":"SUM(LARGE((S184,G184,I184,K184,M184,O184,Q184,U184),{1,2,3,4,5}))","v":81.612492033142118},{"$f":"IFERROR(VLOOKUP(B184,INDIRECT(\"'\"&$F$1&\"'!\"&\"$C$2:$G$200\"),4,FALSE),\"\")","v":""},{"$f":"IFERROR(VLOOKUP(B184,INDIRECT(\"'\"&$F$1&\"'!\"&\"$C$2:$G$200\"),5,FALSE),0)","v":0},{"$f":"IFERROR(VLOOKUP(B184,INDIRECT(\"'\"&$H$1&\"'!\"&\"$C$2:$G$200\"),4,FALSE),\"\")","v":""},{"$f":"IFERROR(VLOOKUP(B184,INDIRECT(\"'\"&$H$1&\"'!\"&\"$C$2:$G$200\"),5,FALSE),0)","v":0},{"$f":"IFERROR(VLOOKUP(B184,INDIRECT(\"'\"&$J$1&\"'!\"&\"$C$2:$G$200\"),4,FALSE),\"\")","v":""},{"$f":"IFERROR(VLOOKUP(B184,INDIRECT(\"'\"&$J$1&\"'!\"&\"$C$2:$G$200\"),5,FALSE),0)","v":0},{"$f":"IFERROR(VLOOKUP(B184,INDIRECT(\"'\"&$L$1&\"'!\"&\"$C$2:$G$200\"),4,FALSE),\"\")","v":""},{"$f":"IFERROR(VLOOKUP(B184,INDIRECT(\"'\"&$L$1&\"'!\"&\"$C$2:$G$200\"),5,FALSE),0)","v":0},{"$f":"IFERROR(VLOOKUP(B184,INDIRECT(\"'\"&$N$1&\"'!\"&\"$C$2:$G$200\"),4,FALSE),\"\")","v":""},{"$f":"IFERROR(VLOOKUP(B184,INDIRECT(\"'\"&$N$1&\"'!\"&\"$C$2:$G$200\"),5,FALSE),0)","v":0},{"$f":"IFERROR(VLOOKUP(B184,INDIRECT(\"'\"&$P$1&\"'!\"&\"$C$2:$G$200\"),4,FALSE),\"\")","v":2.5798611111111109E-2},{"$f":"IFERROR(VLOOKUP(B184,INDIRECT(\"'\"&$P$1&\"'!\"&\"$C$2:$G$200\"),5,FALSE),0)","v":81.612492033142118},{"$f":"IFERROR(VLOOKUP(B184,INDIRECT(\"'\"&$R$1&\"'!\"&\"$C$2:$G$200\"),4,FALSE),\"\")","v":""},{"$f":"IFERROR(VLOOKUP(B184,INDIRECT(\"'\"&$R$1&\"'!\"&\"$C$2:$G$200\"),5,FALSE),0)","v":0},null,{"$f":"IFERROR(VLOOKUP(B184,INDIRECT(\"'\"&$T$1&\"'!\"&\"$C$2:$G$200\"),5,FALSE),0)","v":0},{"$f":"8-COUNTIF(F184:U184,\"\")","v":1},{"$f":"E184/IF(V184>4,5,V184)","v":81.612492033142118}]
[183,"Tom Lawson","Carduro","M50",{"$f":"SUM(LARGE((S185,G185,I185,K185,M185,O185,Q185,U185),{1,2,3,4,5}))","v":81.410496368945132},{"$f":"IFERROR(VLOOKUP(B185,INDIRECT(\"'\"&$F$1&\"'!\"&\"$C$2:$G$200\"),4,FALSE),\"\")","v":""},{"$f":"IFERROR(VLOOKUP(B185,INDIRECT(\"'\"&$F$1&\"'!\"&\"$C$2:$G$200\"),5,FALSE),0)","v":0},{"$f":"IFERROR(VLOOKUP(B185,INDIRECT(\"'\"&$H$1&\"'!\"&\"$C$2:$G$200\"),4,FALSE),\"\")","v":3.6666666666666667E-2},{"$f":"IFERROR(VLOOKUP(B185,INDIRECT(\"'\"&$H$1&\"'!\"&\"$C$2:$G$200\"),5,FALSE),0)","v":81.410496368945132},{"$f":"IFERROR(VLOOKUP(B185,INDIRECT(\"'\"&$J$1&\"'!\"&\"$C$2:$G$200\"),4,FALSE),\"\")","v":""},{"$f":"IFERROR(VLOOKUP(B185,INDIRECT(\"'\"&$J$1&\"'!\"&\"$C$2:$G$200\"),5,FALSE),0)","v":0},{"$f":"IFERROR(VLOOKUP(B185,INDIRECT(\"'\"&$L$1&\"'!\"&\"$C$2:$G$200\"),4,FALSE),\"\")","v":""},{"$f":"IFERROR(VLOOKUP(B185,INDIRECT(\"'\"&$L$1&\"'!\"&\"$C$2:$G$200\"),5,FALSE),0)","v":0},{"$f":"IFERROR(VLOOKUP(B185,INDIRECT(\"'\"&$N$1&\"'!\"&\"$C$2:$G$200\"),4,FALSE),\"\")","v":""},{"$f":"IFERROR(VLOOKUP(B185,INDIRECT(\"'\"&$N$1&\"'!\"&\"$C$2:$G$200\"),5,FALSE),0)","v":0},{"$f":"IFERROR(VLOOKUP(B185,INDIRECT(\"'\"&$P$1&\"'!\"&\"$C$2:$G$200\"),4,FALSE),\"\")","v":""},{"$f":"IFERROR(VLOOKUP(B185,INDIRECT(\"'\"&$P$1&\"'!\"&\"$C$2:$G$200\"),5,FALSE),0)","v":0},{"$f":"IFERROR(VLOOKUP(B185,INDIRECT(\"'\"&$R$1&\"'!\"&\"$C$2:$G$200\"),4,FALSE),\"\")","v":""},{"$f":"IFERROR(VLOOKUP(B185,INDIRECT(\"'\"&$R$1&\"'!\"&\"$C$2:$G$200\"),5,FALSE),0)","v":0},{"$f":"IFERROR(VLOOKUP(B185,INDIRECT(\"'\"&$T$1&\"'!\"&\"$C$2:$G$200\"),4,FALSE),\"\")","v":""},{"$f":"IFERROR(VLOOKUP(B185,INDIRECT(\"'\"&$T$1&\"'!\"&\"$C$2:$G$200\"),5,FALSE),0)","v":0},{"$f":"8-COUNTIF(F185:U185,\"\")","v":1},{"$f":"E185/IF(V185>4,5,V185)","v":81.410496368945132}]
[184,"Katie Beecher","Les Croupiers","SF",{"$f":"SUM(LARGE((S186,G186,I186,K186,M186,O186,Q186,U186),{1,2,3,4,5}))","v":81.207028265851775},{"$f":"IFERROR(VLOOKUP(B186,INDIRECT(\"'\"&$F$1&\"'!\"&\"$C$2:$G$200\"),4,FALSE),\"\")","v":""},{"$f":"IFERROR(VLOOKUP(B186,INDIRECT(\"'\"&$F$1&\"'!\"&\"$C$2:$G$200\"),5,FALSE),0)","v":0},{"$f":"IFERROR(VLOOKUP(B186,INDIRECT(\"'\"&$H$1&\"'!\"&\"$C$2:$G$200\"),4,FALSE),\"\")","v":""},{"$f":"IFERROR(VLOOKUP(B186,INDIRECT(\"'\"&$H$1&\"'!\"&\"$C$2:$G$200\"),5,FALSE),0)","v":0},{"$f":"IFERROR(VLOOKUP(B186,INDIRECT(\"'\"&$J$1&\"'!\"&\"$C$2:$G$200\"),4,FALSE),\"\")","v":""},{"$f":"IFERROR(VLOOKUP(B186,INDIRECT(\"'\"&$J$1&\"'!\"&\"$C$2:$G$200\"),5,FALSE),0)","v":0},{"$f":"IFERROR(VLOOKUP(B186,INDIRECT(\"'\"&$L$1&\"'!\"&\"$C$2:$G$200\"),4,FALSE),\"\")","v":""},{"$f":"IFERROR(VLOOKUP(B186,INDIRECT(\"'\"&$L$1&\"'!\"&\"$C$2:$G$200\"),5,FALSE),0)","v":0},{"$f":"IFERROR(VLOOKUP(B186,INDIRECT(\"'\"&$N$1&\"'!\"&\"$C$2:$G$200\"),4,FALSE),\"\")","v":""},{"$f":"IFERROR(VLOOKUP(B186,INDIRECT(\"'\"&$N$1&\"'!\"&\"$C$2:$G$200\"),5,FALSE),0)","v":0},{"$f":"IFERROR(VLOOKUP(B186,INDIRECT(\"'\"&$P$1&\"'!\"&\"$C$2:$G$200\"),4,FALSE),\"\")","v":""},{"$f":"IFERROR(VLOOKUP(B186,INDIRECT(\"'\"&$P$1&\"'!\"&\"$C$2:$G$200\"),5,FALSE),0)","v":0},{"$f":"IFERROR(VLOOKUP(B186,INDIRECT(\"'\"&$R$1&\"'!\"&\"$C$2:$G$200\"),4,FALSE),\"\")","v":""},{"$f":"IFERROR(VLOOKUP(B186,INDIRECT(\"'\"&$R$1&\"'!\"&\"$C$2:$G$200\"),5,FALSE),0)","v":0},{"$f":"IFERROR(VLOOKUP(B186,INDIRECT(\"'\"&$T$1&\"'!\"&\"$C$2:$G$200\"),4,FALSE),\"\")","v":4.3194444444444445E-2},{"$f":"IFERROR(VLOOKUP(B186,INDIRECT(\"'\"&$T$1&\"'!\"&\"$C$2:$G$200\"),5,FALSE),0)","v":81.207028265851775},{"$f":"8-COUNTIF(F186:U186,\"\")","v":1},{"$f":"E186/IF(V186>4,5,V186)","v":81.207028265851775}]
[185,"Jake Underhill","Hereford Couriers","M40",{"$f":"SUM(LARGE((S187,G187,I187,K187,M187,O187,Q187,U187),{1,2,3,4,5}))","v":81.082310140973178},{"$f":"IFERROR(VLOOKUP(B187,INDIRECT(\"'\"&$F$1&\"'!\"&\"$C$2:$G$200\"),4,FALSE),\"\")","v":""},{"$f":"IFERROR(VLOOKUP(B187,INDIRECT(\"'\"&$F$1&\"'!\"&\"$C$2:$G$200\"),5,FALSE),0)","v":0},{"$f":"IFERROR(VLOOKUP(B187,INDIRECT(\"'\"&$H$1&\"'!\"&\"$C$2:$G$200\"),4,FALSE),\"\")","v":""},{"$f":"IFERROR(VLOOKUP(B187,INDIRECT(\"'\"&$H$1&\"'!\"&\"$C$2:$G$200\"),5,FALSE),0)","v":0},{"$f":"IFERROR(VLOOKUP(B187,INDIRECT(\"'\"&$J$1&\"'!\"&\"$C$2:$G$200\"),4,FALSE),\"\")","v":""},{"$f":"IFERROR(VLOOKUP(B187,INDIRECT(\"'\"&$J$1&\"'!\"&\"$C$2:$G$200\"),5,FALSE),0)","v":0},{"$f":"IFERROR(VLOOKUP(B187,INDIRECT(\"'\"&$L$1&\"'!\"&\"$C$2:$G$200\"),4,FALSE),\"\")","v":""},{"$f":"IFERROR(VLOOKUP(B187,INDIRECT(\"'\"&$L$1&\"'!\"&\"$C$2:$G$200\"),5,FALSE),0)","v":0},{"$f":"IFERROR(VLOOKUP(B187,INDIRECT(\"'\"&$N$1&\"'!\"&\"$C$2:$G$200\"),4,FALSE),\"\")","v":""},{"$f":"IFERROR(VLOOKUP(B187,INDIRECT(\"'\"&$N$1&\"'!\"&\"$C$2:$G$200\"),5,FALSE),0)","v":0},{"$f":"IFERROR(VLOOKUP(B187,INDIRECT(\"'\"&$P$1&\"'!\"&\"$C$2:$G$200\"),4,FALSE),\"\")","v":""},{"$f":"IFERROR(VLOOKUP(B187,INDIRECT(\"'\"&$P$1&\"'!\"&\"$C$2:$G$200\"),5,FALSE),0)","v":0},{"$f":"IFERROR(VLOOKUP(B187,INDIRECT(\"'\"&$R$1&\"'!\"&\"$C$2:$G$200\"),4,FALSE),\"\")","v":2.4212962962962964E-2},{"$f":"IFERROR(VLOOKUP(B187,INDIRECT(\"'\"&$R$1&\"'!\"&\"$C$2:$G$200\"),5,FALSE),0)","v":81.082310140973178},null,{"$f":"IFERROR(VLOOKUP(B187,INDIRECT(\"'\"&$T$1&\"'!\"&\"$C$2:$G$200\"),5,FALSE),0)","v":0},{"$f":"8-COUNTIF(F187:U187,\"\")","v":1},{"$f":"E187/IF(V187>4,5,V187)","v":81.082310140973178}]
[186,"Rhodri Evans","Pontypridd Roadents","M40",{"$f":"SUM(LARGE((S188,G188,I188,K188,M188,O188,Q188,U188),{1,2,3,4,5}))","v":81.081368175058401},{"$f":"IFERROR(VLOOKUP(B188,INDIRECT(\"'\"&$F$1&\"'!\"&\"$C$2:$G$200\"),4,FALSE),\"\")","v":""},{"$f":"IFERROR(VLOOKUP(B188,INDIRECT(\"'\"&$F$1&\"'!\"&\"$C$2:$G$200\"),5,FALSE),0)","v":0},{"$f":"IFERROR(VLOOKUP(B188,INDIRECT(\"'\"&$H$1&\"'!\"&\"$C$2:$G$200\"),4,FALSE),\"\")","v":""},{"$f":"IFERROR(VLOOKUP(B188,INDIRECT(\"'\"&$H$1&\"'!\"&\"$C$2:$G$200\"),5,FALSE),0)","v":0},{"$f":"IFERROR(VLOOKUP(B188,INDIRECT(\"'\"&$J$1&\"'!\"&\"$C$2:$G$200\"),4,FALSE),\"\")","v":""},{"$f":"IFERROR(VLOOKUP(B188,INDIRECT(\"'\"&$J$1&\"'!\"&\"$C$2:$G$200\"),5,FALSE),0)","v":0},{"$f":"IFERROR(VLOOKUP(B188,INDIRECT(\"'\"&$L$1&\"'!\"&\"$C$2:$G$200\"),4,FALSE),\"\")","v":""},{"$f":"IFERROR(VLOOKUP(B188,INDIRECT(\"'\"&$L$1&\"'!\"&\"$C$2:$G$200\"),5,FALSE),0)","v":0},{"$f":"IFERROR(VLOOKUP(B188,INDIRECT(\"'\"&$N$1&\"'!\"&\"$C$2:$G$200\"),4,FALSE),\"\")","v":""},{"$f":"IFERROR(VLOOKUP(B188,INDIRECT(\"'\"&$N$1&\"'!\"&\"$C$2:$G$200\"),5,FALSE),0)","v":0},{"$f":"IFERROR(VLOOKUP(B188,INDIRECT(\"'\"&$P$1&\"'!\"&\"$C$2:$G$200\"),4,FALSE),\"\")","v":2.5914351851851855E-2},{"$f":"IFERROR(VLOOKUP(B188,INDIRECT(\"'\"&$P$1&\"'!\"&\"$C$2:$G$200\"),5,FALSE),0)","v":81.081368175058401},{"$f":"IFERROR(VLOOKUP(B188,INDIRECT(\"'\"&$R$1&\"'!\"&\"$C$2:$G$200\"),4,FALSE),\"\")","v":""},{"$f":"IFERROR(VLOOKUP(B188,INDIRECT(\"'\"&$R$1&\"'!\"&\"$C$2:$G$200\"),5,FALSE),0)","v":0},{"$f":"IFERROR(VLOOKUP(B188,INDIRECT(\"'\"&$T$1&\"'!\"&\"$C$2:$G$200\"),4,FALSE),\"\")","v":""},{"$f":"IFERROR(VLOOKUP(B188,INDIRECT(\"'\"&$T$1&\"'!\"&\"$C$2:$G$200\"),5,FALSE),0)","v":0},{"$f":"8-COUNTIF(F188:U188,\"\")","v":1},{"$f":"E188/IF(V188>4,5,V188)","v":81.081368175058401}]
[187,"Trevor McAlister","Ryde Harriers","SM",{"$f":"SUM(LARGE((S189,G189,I189,K189,M189,O189,Q189,U189),{1,2,3,4,5}))","v":81.073594369993259},{"$f":"IFERROR(VLOOKUP(B189,INDIRECT(\"'\"&$F$1&\"'!\"&\"$C$2:$G$200\"),4,FALSE),\"\")","v":""},{"$f":"IFERROR(VLOOKUP(B189,INDIRECT(\"'\"&$F$1&\"'!\"&\"$C$2:$G$200\"),5,FALSE),0)","v":0},{"$f":"IFERROR(VLOOKUP(B189,INDIRECT(\"'\"&$H$1&\"'!\"&\"$C$2:$G$200\"),4,FALSE),\"\")","v":3.6770833333333336E-2},{"$f":"IFERROR(VLOOKUP(B189,INDIRECT(\"'\"&$H$1&\"'!\"&\"$C$2:$G$200\"),5,FALSE),0)","v":81.073594369993259},{"$f":"IFERROR(VLOOKUP(B189,INDIRECT(\"'\"&$J$1&\"'!\"&\"$C$2:$G$200\"),4,FALSE),\"\")","v":""},{"$f":"IFERROR(VLOOKUP(B189,INDIRECT(\"'\"&$J$1&\"'!\"&\"$C$2:$G$200\"),5,FALSE),0)","v":0},{"$f":"IFERROR(VLOOKUP(B189,INDIRECT(\"'\"&$L$1&\"'!\"&\"$C$2:$G$200\"),4,FALSE),\"\")","v":""},{"$f":"IFERROR(VLOOKUP(B189,INDIRECT(\"'\"&$L$1&\"'!\"&\"$C$2:$G$200\"),5,FALSE),0)","v":0},{"$f":"IFERROR(VLOOKUP(B189,INDIRECT(\"'\"&$N$1&\"'!\"&\"$C$2:$G$200\"),4,FALSE),\"\")","v":""},{"$f":"IFERROR(VLOOKUP(B189,INDIRECT(\"'\"&$N$1&\"'!\"&\"$C$2:$G$200\"),5,FALSE),0)","v":0},{"$f":"IFERROR(VLOOKUP(B189,INDIRECT(\"'\"&$P$1&\"'!\"&\"$C$2:$G$200\"),4,FALSE),\"\")","v":""},{"$f":"IFERROR(VLOOKUP(B189,INDIRECT(\"'\"&$P$1&\"'!\"&\"$C$2:$G$200\"),5,FALSE),0)","v":0},{"$f":"IFERROR(VLOOKUP(B189,INDIRECT(\"'\"&$R$1&\"'!\"&\"$C$2:$G$200\"),4,FALSE),\"\")","v":""},{"$f":"IFERROR(VLOOKUP(B189,INDIRECT(\"'\"&$R$1&\"'!\"&\"$C$2:$G$200\"),5,FALSE),0)","v":0},{"$f":"IFERROR(VLOOKUP(B189,INDIRECT(\"'\"&$T$1&\"'!\"&\"$C$2:$G$200\"),4,FALSE),\"\")","v":""},{"$f":"IFERROR(VLOOKUP(B189,INDIRECT(\"'\"&$T$1&\"'!\"&\"$C$2:$G$200\"),5,FALSE),0)","v":0},{"$f":"8-COUNTIF(F189:U189,\"\")","v":1},{"$f":"E189/IF(V189>4,5,V189)","v":81.073594369993259}]
[188,"Julian Jones","Unaffiliated","SM",{"$f":"SUM(LARGE((S190,G190,I190,K190,M190,O190,Q190,U190),{1,2,3,4,5}))","v":81.04787369493252},{"$f":"IFERROR(VLOOKUP(B190,INDIRECT(\"'\"&$F$1&\"'!\"&\"$C$2:$G$200\"),4,FALSE),\"\")","v":""},{"$f":"IFERROR(VLOOKUP(B190,INDIRECT(\"'\"&$F$1&\"'!\"&\"$C$2:$G$200\"),5,FALSE),0)","v":0},{"$f":"IFERROR(VLOOKUP(B190,INDIRECT(\"'\"&$H$1&\"'!\"&\"$C$2:$G$200\"),4,FALSE),\"\")","v":""},{"$f":"IFERROR(VLOOKUP(B190,INDIRECT(\"'\"&$H$1&\"'!\"&\"$C$2:$G$200\"),5,FALSE),0)","v":0},{"$f":"IFERROR(VLOOKUP(B190,INDIRECT(\"'\"&$J$1&\"'!\"&\"$C$2:$G$200\"),4,FALSE),\"\")","v":""},{"$f":"IFERROR(VLOOKUP(B190,INDIRECT(\"'\"&$J$1&\"'!\"&\"$C$2:$G$200\"),5,FALSE),0)","v":0},{"$f":"IFERROR(VLOOKUP(B190,INDIRECT(\"'\"&$L$1&\"'!\"&\"$C$2:$G$200\"),4,FALSE),\"\")","v":""},{"$f":"IFERROR(VLOOKUP(B190,INDIRECT(\"'\"&$L$1&\"'!\"&\"$C$2:$G$200\"),5,FALSE),0)","v":0},{"$f":"IFERROR(VLOOKUP(B190,INDIRECT(\"'\"&$N$1&\"'!\"&\"$C$2:$G$200\"),4,FALSE),\"\")","v":""},{"$f":"IFERROR(VLOOKUP(B190,INDIRECT(\"'\"&$N$1&\"'!\"&\"$C$2:$G$200\"),5,FALSE),0)","v":0},{"$f":"IFERROR(VLOOKUP(B190,INDIRECT(\"'\"&$P$1&\"'!\"&\"$C$2:$G$200\"),4,FALSE),\"\")","v":""},{"$f":"IFERROR(VLOOKUP(B190,INDIRECT(\"'\"&$P$1&\"'!\"&\"$C$2:$G$200\"),5,FALSE),0)","v":0},{"$f":"IFERROR(VLOOKUP(B190,INDIRECT(\"'\"&$R$1&\"'!\"&\"$C$2:$G$200\"),4,FALSE),\"\")","v":""},{"$f":"IFERROR(VLOOKUP(B190,INDIRECT(\"'\"&$R$1&\"'!\"&\"$C$2:$G$200\"),5,FALSE),0)","v":0},{"$f":"IFERROR(VLOOKUP(B190,INDIRECT(\"'\"&$T$1&\"'!\"&\"$C$2:$G$200\"),4,FALSE),\"\")","v":4.3252314814814813E-2},{"$f":"IFERROR(VLOOKUP(B190,INDIRECT(\"'\"&$T$1&\"'!\"&\"$C$2:$G$200\"),5,FALSE),0)","v":81.04787369493252},{"$f":"8-COUNTIF(F190:U190,\"\")","v":1},{"$f":"E190/IF(V190>4,5,V190)","v":81.04787369493252}]
[189,"Carey Davies","Unaffiliated","SM",{"$f":"SUM(LARGE((S191,G191,I191,K191,M191,O191,Q191,U191),{1,2,3,4,5}))","v":80.952380952380935},{"$f":"IFERROR(VLOOKUP(B191,INDIRECT(\"'\"&$F$1&\"'!\"&\"$C$2:$G$200\"),4,FALSE),\"\")","v":""},{"$f":"IFERROR(VLOOKUP(B191,INDIRECT(\"'\"&$F$1&\"'!\"&\"$C$2:$G$200\"),5,FALSE),0)","v":0},{"$f":"IFERROR(VLOOKUP(B191,INDIRECT(\"'\"&$H$1&\"'!\"&\"$C$2:$G$200\"),4,FALSE),\"\")","v":""},{"$f":"IFERROR(VLOOKUP(B191,INDIRECT(\"'\"&$H$1&\"'!\"&\"$C$2:$G$200\"),5,FALSE),0)","v":0},{"$f":"IFERROR(VLOOKUP(B191,INDIRECT(\"'\"&$J$1&\"'!\"&\"$C$2:$G$200\"),4,FALSE),\"\")","v":""},{"$f":"IFERROR(VLOOKUP(B191,INDIRECT(\"'\"&$J$1&\"'!\"&\"$C$2:$G$200\"),5,FALSE),0)","v":0},{"$f":"IFERROR(VLOOKUP(B191,INDIRECT(\"'\"&$L$1&\"'!\"&\"$C$2:$G$200\"),4,FALSE),\"\")","v":""},{"$f":"IFERROR(VLOOKUP(B191,INDIRECT(\"'\"&$L$1&\"'!\"&\"$C$2:$G$200\"),5,FALSE),0)","v":0},{"$f":"IFERROR(VLOOKUP(B191,INDIRECT(\"'\"&$N$1&\"'!\"&\"$C$2:$G$200\"),4,FALSE),\"\")","v":""},{"$f":"IFERROR(VLOOKUP(B191,INDIRECT(\"'\"&$N$1&\"'!\"&\"$C$2:$G$200\"),5,FALSE),0)","v":0},{"$f":"IFERROR(VLOOKUP(B191,INDIRECT(\"'\"&$P$1&\"'!\"&\"$C$2:$G$200\"),4,FALSE),\"\")","v":""},{"$f":"IFERROR(VLOOKUP(B191,INDIRECT(\"'\"&$P$1&\"'!\"&\"$C$2:$G$200\"),5,FALSE),0)","v":0},{"$f":"IFERROR(VLOOKUP(B191,INDIRECT(\"'\"&$R$1&\"'!\"&\"$C$2:$G$200\"),4,FALSE),\"\")","v":""},{"$f":"IFERROR(VLOOKUP(B191,INDIRECT(\"'\"&$R$1&\"'!\"&\"$C$2:$G$200\"),5,FALSE),0)","v":0},{"$f":"IFERROR(VLOOKUP(B191,INDIRECT(\"'\"&$T$1&\"'!\"&\"$C$2:$G$200\"),4,FALSE),\"\")","v":4.3287037037037041E-2},{"$f":"IFERROR(VLOOKUP(B191,INDIRECT(\"'\"&$T$1&\"'!\"&\"$C$2:$G$200\"),5,FALSE),0)","v":80.952380952380935},{"$f":"8-COUNTIF(F191:U191,\"\")","v":1},{"$f":"E191/IF(V191>4,5,V191)","v":80.952380952380935}]
[190,"Jamie Tedford","Unaffiliated","SM",{"$f":"SUM(LARGE((S192,G192,I192,K192,M192,O192,Q192,U192),{1,2,3,4,5}))","v":80.952380952380935},{"$f":"IFERROR(VLOOKUP(B192,INDIRECT(\"'\"&$F$1&\"'!\"&\"$C$2:$G$200\"),4,FALSE),\"\")","v":""},{"$f":"IFERROR(VLOOKUP(B192,INDIRECT(\"'\"&$F$1&\"'!\"&\"$C$2:$G$200\"),5,FALSE),0)","v":0},{"$f":"IFERROR(VLOOKUP(B192,INDIRECT(\"'\"&$H$1&\"'!\"&\"$C$2:$G$200\"),4,FALSE),\"\")","v":""},{"$f":"IFERROR(VLOOKUP(B192,INDIRECT(\"'\"&$H$1&\"'!\"&\"$C$2:$G$200\"),5,FALSE),0)","v":0},{"$f":"IFERROR(VLOOKUP(B192,INDIRECT(\"'\"&$J$1&\"'!\"&\"$C$2:$G$200\"),4,FALSE),\"\")","v":""},{"$f":"IFERROR(VLOOKUP(B192,INDIRECT(\"'\"&$J$1&\"'!\"&\"$C$2:$G$200\"),5,FALSE),0)","v":0},{"$f":"IFERROR(VLOOKUP(B192,INDIRECT(\"'\"&$L$1&\"'!\"&\"$C$2:$G$200\"),4,FALSE),\"\")","v":""},{"$f":"IFERROR(VLOOKUP(B192,INDIRECT(\"'\"&$L$1&\"'!\"&\"$C$2:$G$200\"),5,FALSE),0)","v":0},{"$f":"IFERROR(VLOOKUP(B192,INDIRECT(\"'\"&$N$1&\"'!\"&\"$C$2:$G$200\"),4,FALSE),\"\")","v":""},{"$f":"IFERROR(VLOOKUP(B192,INDIRECT(\"'\"&$N$1&\"'!\"&\"$C$2:$G$200\"),5,FALSE),0)","v":0},{"$f":"IFERROR(VLOOKUP(B192,INDIRECT(\"'\"&$P$1&\"'!\"&\"$C$2:$G$200\"),4,FALSE),\"\")","v":""},{"$f":"IFERROR(VLOOKUP(B192,INDIRECT(\"'\"&$P$1&\"'!\"&\"$C$2:$G$200\"),5,FALSE),0)","v":0},{"$f":"IFERROR(VLOOKUP(B192,INDIRECT(\"'\"&$R$1&\"'!\"&\"$C$2:$G$200\"),4,FALSE),\"\")","v":""},{"$f":"IFERROR(VLOOKUP(B192,INDIRECT(\"'\"&$R$1&\"'!\"&\"$C$2:$G$200\"),5,FALSE),0)","v":0},{"$f":"IFERROR(VLOOKUP(B192,INDIRECT(\"'\"&$T$1&\"'!\"&\"$C$2:$G$200\"),4,FALSE),\"\")","v":4.3287037037037041E-2},{"$f":"IFERROR(VLOOKUP(B192,INDIRECT(\"'\"&$T$1&\"'!\"&\"$C$2:$G$200\"),5,FALSE),0)","v":80.952380952380935},{"$f":"8-COUNTIF(F192:U192,\"\")","v":1},{"$f":"E192/IF(V192>4,5,V192)","v":80.952380952380935}]
[191,"Steve Epstein","Unaffiliated","M40",{"$f":"SUM(LARGE((S193,G193,I193,K193,M193,O193,Q193,U193),{1,2,3,4,5}))","v":80.666561364713303},{"$f":"IFERROR(VLOOKUP(B193,INDIRECT(\"'\"&$F$1&\"'!\"&\"$C$2:$G$200\"),4,FALSE),\"\")","v":1.7488425925925925E-2},{"$f":"IFERROR(VLOOKUP(B193,INDIRECT(\"'\"&$F$1&\"'!\"&\"$C$2:$G$200\"),5,FALSE),0)","v":80.666561364713303},{"$f":"IFERROR(VLOOKUP(B193,INDIRECT(\"'\"&$H$1&\"'!\"&\"$C$2:$G$200\"),4,FALSE),\"\")","v":""},{"$f":"IFERROR(VLOOKUP(B193,INDIRECT(\"'\"&$H$1&\"'!\"&\"$C$2:$G$200\"),5,FALSE),0)","v":0},{"$f":"IFERROR(VLOOKUP(B193,INDIRECT(\"'\"&$J$1&\"'!\"&\"$C$2:$G$200\"),4,FALSE),\"\")","v":""},{"$f":"IFERROR(VLOOKUP(B193,INDIRECT(\"'\"&$J$1&\"'!\"&\"$C$2:$G$200\"),5,FALSE),0)","v":0},{"$f":"IFERROR(VLOOKUP(B193,INDIRECT(\"'\"&$L$1&\"'!\"&\"$C$2:$G$200\"),4,FALSE),\"\")","v":""},{"$f":"IFERROR(VLOOKUP(B193,INDIRECT(\"'\"&$L$1&\"'!\"&\"$C$2:$G$200\"),5,FALSE),0)","v":0},{"$f":"IFERROR(VLOOKUP(B193,INDIRECT(\"'\"&$N$1&\"'!\"&\"$C$2:$G$200\"),4,FALSE),\"\")","v":""},{"$f":"IFERROR(VLOOKUP(B193,INDIRECT(\"'\"&$N$1&\"'!\"&\"$C$2:$G$200\"),5,FALSE),0)","v":0},{"$f":"IFERROR(VLOOKUP(B193,INDIRECT(\"'\"&$P$1&\"'!\"&\"$C$2:$G$200\"),4,FALSE),\"\")","v":""},{"$f":"IFERROR(VLOOKUP(B193,INDIRECT(\"'\"&$P$1&\"'!\"&\"$C$2:$G$200\"),5,FALSE),0)","v":0},{"$f":"IFERROR(VLOOKUP(B193,INDIRECT(\"'\"&$R$1&\"'!\"&\"$C$2:$G$200\"),4,FALSE),\"\")","v":""},{"$f":"IFERROR(VLOOKUP(B193,INDIRECT(\"'\"&$R$1&\"'!\"&\"$C$2:$G$200\"),5,FALSE),0)","v":0},{"$f":"IFERROR(VLOOKUP(B193,INDIRECT(\"'\"&$T$1&\"'!\"&\"$C$2:$G$200\"),4,FALSE),\"\")","v":""},{"$f":"IFERROR(VLOOKUP(B193,INDIRECT(\"'\"&$T$1&\"'!\"&\"$C$2:$G$200\"),5,FALSE),0)","v":0},{"$f":"8-COUNTIF(F193:U193,\"\")","v":1},{"$f":"E193/IF(V193>4,5,V193)","v":80.666561364713303}]
[192,"Tom Blackwell","Ryde Harriers","M40",{"$f":"SUM(LARGE((S194,G194,I194,K194,M194,O194,Q194,U194),{1,2,3,4,5}))","v":80.025454817698602},{"$f":"IFERROR(VLOOKUP(B194,INDIRECT(\"'\"&$F$1&\"'!\"&\"$C$2:$G$200\"),4,FALSE),\"\")","v":""},{"$f":"IFERROR(VLOOKUP(B194,INDIRECT(\"'\"&$F$1&\"'!\"&\"$C$2:$G$200\"),5,FALSE),0)","v":0},{"$f":"IFERROR(VLOOKUP(B194,INDIRECT(\"'\"&$H$1&\"'!\"&\"$C$2:$G$200\"),4,FALSE),\"\")","v":3.7094907407407403E-2},{"$f":"IFERROR(VLOOKUP(B194,INDIRECT(\"'\"&$H$1&\"'!\"&\"$C$2:$G$200\"),5,FALSE),0)","v":80.025454817698602},{"$f":"IFERROR(VLOOKUP(B194,INDIRECT(\"'\"&$J$1&\"'!\"&\"$C$2:$G$200\"),4,FALSE),\"\")","v":""},{"$f":"IFERROR(VLOOKUP(B194,INDIRECT(\"'\"&$J$1&\"'!\"&\"$C$2:$G$200\"),5,FALSE),0)","v":0},{"$f":"IFERROR(VLOOKUP(B194,INDIRECT(\"'\"&$L$1&\"'!\"&\"$C$2:$G$200\"),4,FALSE),\"\")","v":""},{"$f":"IFERROR(VLOOKUP(B194,INDIRECT(\"'\"&$L$1&\"'!\"&\"$C$2:$G$200\"),5,FALSE),0)","v":0},{"$f":"IFERROR(VLOOKUP(B194,INDIRECT(\"'\"&$N$1&\"'!\"&\"$C$2:$G$200\"),4,FALSE),\"\")","v":""},{"$f":"IFERROR(VLOOKUP(B194,INDIRECT(\"'\"&$N$1&\"'!\"&\"$C$2:$G$200\"),5,FALSE),0)","v":0},{"$f":"IFERROR(VLOOKUP(B194,INDIRECT(\"'\"&$P$1&\"'!\"&\"$C$2:$G$200\"),4,FALSE),\"\")","v":""},{"$f":"IFERROR(VLOOKUP(B194,INDIRECT(\"'\"&$P$1&\"'!\"&\"$C$2:$G$200\"),5,FALSE),0)","v":0},{"$f":"IFERROR(VLOOKUP(B194,INDIRECT(\"'\"&$R$1&\"'!\"&\"$C$2:$G$200\"),4,FALSE),\"\")","v":""},{"$f":"IFERROR(VLOOKUP(B194,INDIRECT(\"'\"&$R$1&\"'!\"&\"$C$2:$G$200\"),5,FALSE),0)","v":0},{"$f":"IFERROR(VLOOKUP(B194,INDIRECT(\"'\"&$T$1&\"'!\"&\"$C$2:$G$200\"),4,FALSE),\"\")","v":""},{"$f":"IFERROR(VLOOKUP(B194,INDIRECT(\"'\"&$T$1&\"'!\"&\"$C$2:$G$200\"),5,FALSE),0)","v":0},{"$f":"8-COUNTIF(F194:U194,\"\")","v":1},{"$f":"E194/IF(V194>4,5,V194)","v":80.025454817698602}]
[193,"Oliver Lanford","MDC","SM",{"$f":"SUM(LARGE((S195,G195,I195,K195,M195,O195,Q195,U195),{1,2,3,4,5}))","v":79.725986374185837},{"$f":"IFERROR(VLOOKUP(B195,INDIRECT(\"'\"&$F$1&\"'!\"&\"$C$2:$G$200\"),4,FALSE),\"\")","v":""},{"$f":"IFERROR(VLOOKUP(B195,INDIRECT(\"'\"&$F$1&\"'!\"&\"$C$2:$G$200\"),5,FALSE),0)","v":0},{"$f":"IFERROR(VLOOKUP(B195,INDIRECT(\"'\"&$H$1&\"'!\"&\"$C$2:$G$200\"),4,FALSE),\"\")","v":3.7187499999999998E-2},{"$f":"IFERROR(VLOOKUP(B195,INDIRECT(\"'\"&$H$1&\"'!\"&\"$C$2:$G$200\"),5,FALSE),0)","v":79.725986374185837},{"$f":"IFERROR(VLOOKUP(B195,INDIRECT(\"'\"&$J$1&\"'!\"&\"$C$2:$G$200\"),4,FALSE),\"\")","v":""},{"$f":"IFERROR(VLOOKUP(B195,INDIRECT(\"'\"&$J$1&\"'!\"&\"$C$2:$G$200\"),5,FALSE),0)","v":0},{"$f":"IFERROR(VLOOKUP(B195,INDIRECT(\"'\"&$L$1&\"'!\"&\"$C$2:$G$200\"),4,FALSE),\"\")","v":""},{"$f":"IFERROR(VLOOKUP(B195,INDIRECT(\"'\"&$L$1&\"'!\"&\"$C$2:$G$200\"),5,FALSE),0)","v":0},{"$f":"IFERROR(VLOOKUP(B195,INDIRECT(\"'\"&$N$1&\"'!\"&\"$C$2:$G$200\"),4,FALSE),\"\")","v":""},{"$f":"IFERROR(VLOOKUP(B195,INDIRECT(\"'\"&$N$1&\"'!\"&\"$C$2:$G$200\"),5,FALSE),0)","v":0},{"$f":"IFERROR(VLOOKUP(B195,INDIRECT(\"'\"&$P$1&\"'!\"&\"$C$2:$G$200\"),4,FALSE),\"\")","v":""},{"$f":"IFERROR(VLOOKUP(B195,INDIRECT(\"'\"&$P$1&\"'!\"&\"$C$2:$G$200\"),5,FALSE),0)","v":0},{"$f":"IFERROR(VLOOKUP(B195,INDIRECT(\"'\"&$R$1&\"'!\"&\"$C$2:$G$200\"),4,FALSE),\"\")","v":""},{"$f":"IFERROR(VLOOKUP(B195,INDIRECT(\"'\"&$R$1&\"'!\"&\"$C$2:$G$200\"),5,FALSE),0)","v":0},{"$f":"IFERROR(VLOOKUP(B195,INDIRECT(\"'\"&$T$1&\"'!\"&\"$C$2:$G$200\"),4,FALSE),\"\")","v":""},{"$f":"IFERROR(VLOOKUP(B195,INDIRECT(\"'\"&$T$1&\"'!\"&\"$C$2:$G$200\"),5,FALSE),0)","v":0},{"$f":"8-COUNTIF(F195:U195,\"\")","v":1},{"$f":"E195/IF(V195>4,5,V195)","v":79.725986374185837}]
[194,"Laurie Carter","Chepstow Harriers","M60",{"$f":"SUM(LARGE((S196,G196,I196,K196,M196,O196,Q196,U196),{1,2,3,4,5}))","v":79.521167283189499},{"$f":"IFERROR(VLOOKUP(B196,INDIRECT(\"'\"&$F$1&\"'!\"&\"$C$2:$G$200\"),4,FALSE),\"\")","v":""},{"$f":"IFERROR(VLOOKUP(B196,INDIRECT(\"'\"&$F$1&\"'!\"&\"$C$2:$G$200\"),5,FALSE),0)","v":0},{"$f":"IFERROR(VLOOKUP(B196,INDIRECT(\"'\"&$H$1&\"'!\"&\"$C$2:$G$200\"),4,FALSE),\"\")","v":""},{"$f":"IFERROR(VLOOKUP(B196,INDIRECT(\"'\"&$H$1&\"'!\"&\"$C$2:$G$200\"),5,FALSE),0)","v":0},{"$f":"IFERROR(VLOOKUP(B196,INDIRECT(\"'\"&$J$1&\"'!\"&\"$C$2:$G$200\"),4,FALSE),\"\")","v":""},{"$f":"IFERROR(VLOOKUP(B196,INDIRECT(\"'\"&$J$1&\"'!\"&\"$C$2:$G$200\"),5,FALSE),0)","v":0},{"$f":"IFERROR(VLOOKUP(B196,INDIRECT(\"'\"&$L$1&\"'!\"&\"$C$2:$G$200\"),4,FALSE),\"\")","v":""},{"$f":"IFERROR(VLOOKUP(B196,INDIRECT(\"'\"&$L$1&\"'!\"&\"$C$2:$G$200\"),5,FALSE),0)","v":0},{"$f":"IFERROR(VLOOKUP(B196,INDIRECT(\"'\"&$N$1&\"'!\"&\"$C$2:$G$200\"),4,FALSE),\"\")","v":2.7141203703703706E-2},{"$f":"IFERROR(VLOOKUP(B196,INDIRECT(\"'\"&$N$1&\"'!\"&\"$C$2:$G$200\"),5,FALSE),0)","v":79.521167283189499},{"$f":"IFERROR(VLOOKUP(B196,INDIRECT(\"'\"&$P$1&\"'!\"&\"$C$2:$G$200\"),4,FALSE),\"\")","v":""},{"$f":"IFERROR(VLOOKUP(B196,INDIRECT(\"'\"&$P$1&\"'!\"&\"$C$2:$G$200\"),5,FALSE),0)","v":0},{"$f":"IFERROR(VLOOKUP(B196,INDIRECT(\"'\"&$R$1&\"'!\"&\"$C$2:$G$200\"),4,FALSE),\"\")","v":""},{"$f":"IFERROR(VLOOKUP(B196,INDIRECT(\"'\"&$R$1&\"'!\"&\"$C$2:$G$200\"),5,FALSE),0)","v":0},{"$f":"IFERROR(VLOOKUP(B196,INDIRECT(\"'\"&$T$1&\"'!\"&\"$C$2:$G$200\"),4,FALSE),\"\")","v":""},{"$f":"IFERROR(VLOOKUP(B196,INDIRECT(\"'\"&$T$1&\"'!\"&\"$C$2:$G$200\"),5,FALSE),0)","v":0},{"$f":"8-COUNTIF(F196:U196,\"\")","v":1},{"$f":"E196/IF(V196>4,5,V196)","v":79.521167283189499}]
[195,"David Barber","Unaffiliated","M40",{"$f":"SUM(LARGE((S197,G197,I197,K197,M197,O197,Q197,U197),{1,2,3,4,5}))","v":79.367036580353485},{"$f":"IFERROR(VLOOKUP(B197,INDIRECT(\"'\"&$F$1&\"'!\"&\"$C$2:$G$200\"),4,FALSE),\"\")","v":""},{"$f":"IFERROR(VLOOKUP(B197,INDIRECT(\"'\"&$F$1&\"'!\"&\"$C$2:$G$200\"),5,FALSE),0)","v":0},{"$f":"IFERROR(VLOOKUP(B197,INDIRECT(\"'\"&$H$1&\"'!\"&\"$C$2:$G$200\"),4,FALSE),\"\")","v":""},{"$f":"IFERROR(VLOOKUP(B197,INDIRECT(\"'\"&$H$1&\"'!\"&\"$C$2:$G$200\"),5,FALSE),0)","v":0},{"$f":"IFERROR(VLOOKUP(B197,INDIRECT(\"'\"&$J$1&\"'!\"&\"$C$2:$G$200\"),4,FALSE),\"\")","v":""},{"$f":"IFERROR(VLOOKUP(B197,INDIRECT(\"'\"&$J$1&\"'!\"&\"$C$2:$G$200\"),5,FALSE),0)","v":0},{"$f":"IFERROR(VLOOKUP(B197,INDIRECT(\"'\"&$L$1&\"'!\"&\"$C$2:$G$200\"),4,FALSE),\"\")","v":""},{"$f":"IFERROR(VLOOKUP(B197,INDIRECT(\"'\"&$L$1&\"'!\"&\"$C$2:$G$200\"),5,FALSE),0)","v":0},{"$f":"IFERROR(VLOOKUP(B197,INDIRECT(\"'\"&$N$1&\"'!\"&\"$C$2:$G$200\"),4,FALSE),\"\")","v":2.7175925925925926E-2},{"$f":"IFERROR(VLOOKUP(B197,INDIRECT(\"'\"&$N$1&\"'!\"&\"$C$2:$G$200\"),5,FALSE),0)","v":79.367036580353485},{"$f":"IFERROR(VLOOKUP(B197,INDIRECT(\"'\"&$P$1&\"'!\"&\"$C$2:$G$200\"),4,FALSE),\"\")","v":""},{"$f":"IFERROR(VLOOKUP(B197,INDIRECT(\"'\"&$P$1&\"'!\"&\"$C$2:$G$200\"),5,FALSE),0)","v":0},{"$f":"IFERROR(VLOOKUP(B197,INDIRECT(\"'\"&$R$1&\"'!\"&\"$C$2:$G$200\"),4,FALSE),\"\")","v":""},{"$f":"IFERROR(VLOOKUP(B197,INDIRECT(\"'\"&$R$1&\"'!\"&\"$C$2:$G$200\"),5,FALSE),0)","v":0},{"$f":"IFERROR(VLOOKUP(B197,INDIRECT(\"'\"&$T$1&\"'!\"&\"$C$2:$G$200\"),4,FALSE),\"\")","v":""},{"$f":"IFERROR(VLOOKUP(B197,INDIRECT(\"'\"&$T$1&\"'!\"&\"$C$2:$G$200\"),5,FALSE),0)","v":0},{"$f":"8-COUNTIF(F197:U197,\"\")","v":1},{"$f":"E197/IF(V197>4,5,V197)","v":79.367036580353485}]
[196,"Steven Flowers","Wye Valley Runners","SM",{"$f":"SUM(LARGE((S198,G198,I198,K198,M198,O198,Q198,U198),{1,2,3,4,5}))","v":79.110152075626814},{"$f":"IFERROR(VLOOKUP(B198,INDIRECT(\"'\"&$F$1&\"'!\"&\"$C$2:$G$200\"),4,FALSE),\"\")","v":""},{"$f":"IFERROR(VLOOKUP(B198,INDIRECT(\"'\"&$F$1&\"'!\"&\"$C$2:$G$200\"),5,FALSE),0)","v":0},{"$f":"IFERROR(VLOOKUP(B198,INDIRECT(\"'\"&$H$1&\"'!\"&\"$C$2:$G$200\"),4,FALSE),\"\")","v":""},{"$f":"IFERROR(VLOOKUP(B198,INDIRECT(\"'\"&$H$1&\"'!\"&\"$C$2:$G$200\"),5,FALSE),0)","v":0},{"$f":"IFERROR(VLOOKUP(B198,INDIRECT(\"'\"&$J$1&\"'!\"&\"$C$2:$G$200\"),4,FALSE),\"\")","v":""},{"$f":"IFERROR(VLOOKUP(B198,INDIRECT(\"'\"&$J$1&\"'!\"&\"$C$2:$G$200\"),5,FALSE),0)","v":0},{"$f":"IFERROR(VLOOKUP(B198,INDIRECT(\"'\"&$L$1&\"'!\"&\"$C$2:$G$200\"),4,FALSE),\"\")","v":""},{"$f":"IFERROR(VLOOKUP(B198,INDIRECT(\"'\"&$L$1&\"'!\"&\"$C$2:$G$200\"),5,FALSE),0)","v":0},{"$f":"IFERROR(VLOOKUP(B198,INDIRECT(\"'\"&$N$1&\"'!\"&\"$C$2:$G$200\"),4,FALSE),\"\")","v":2.7233796296296298E-2},{"$f":"IFERROR(VLOOKUP(B198,INDIRECT(\"'\"&$N$1&\"'!\"&\"$C$2:$G$200\"),5,FALSE),0)","v":79.110152075626814},{"$f":"IFERROR(VLOOKUP(B198,INDIRECT(\"'\"&$P$1&\"'!\"&\"$C$2:$G$200\"),4,FALSE),\"\")","v":""},{"$f":"IFERROR(VLOOKUP(B198,INDIRECT(\"'\"&$P$1&\"'!\"&\"$C$2:$G$200\"),5,FALSE),0)","v":0},{"$f":"IFERROR(VLOOKUP(B198,INDIRECT(\"'\"&$R$1&\"'!\"&\"$C$2:$G$200\"),4,FALSE),\"\")","v":""},{"$f":"IFERROR(VLOOKUP(B198,INDIRECT(\"'\"&$R$1&\"'!\"&\"$C$2:$G$200\"),5,FALSE),0)","v":0},{"$f":"IFERROR(VLOOKUP(B198,INDIRECT(\"'\"&$T$1&\"'!\"&\"$C$2:$G$200\"),4,FALSE),\"\")","v":""},{"$f":"IFERROR(VLOOKUP(B198,INDIRECT(\"'\"&$T$1&\"'!\"&\"$C$2:$G$200\"),5,FALSE),0)","v":0},{"$f":"8-COUNTIF(F198:U198,\"\")","v":1},{"$f":"E198/IF(V198>4,5,V198)","v":79.110152075626814}]
[197,"Gwyn Johnson","Pontypridd Roadents","SM",{"$f":"SUM(LARGE((S199,G199,I199,K199,M199,O199,Q199,U199),{1,2,3,4,5}))","v":78.319524113023164},{"$f":"IFERROR(VLOOKUP(B199,INDIRECT(\"'\"&$F$1&\"'!\"&\"$C$2:$G$200\"),4,FALSE),\"\")","v":""},{"$f":"IFERROR(VLOOKUP(B199,INDIRECT(\"'\"&$F$1&\"'!\"&\"$C$2:$G$200\"),5,FALSE),0)","v":0},{"$f":"IFERROR(VLOOKUP(B199,INDIRECT(\"'\"&$H$1&\"'!\"&\"$C$2:$G$200\"),4,FALSE),\"\")","v":""},{"$f":"IFERROR(VLOOKUP(B199,INDIRECT(\"'\"&$H$1&\"'!\"&\"$C$2:$G$200\"),5,FALSE),0)","v":0},{"$f":"IFERROR(VLOOKUP(B199,INDIRECT(\"'\"&$J$1&\"'!\"&\"$C$2:$G$200\"),4,FALSE),\"\")","v":""},{"$f":"IFERROR(VLOOKUP(B199,INDIRECT(\"'\"&$J$1&\"'!\"&\"$C$2:$G$200\"),5,FALSE),0)","v":0},{"$f":"IFERROR(VLOOKUP(B199,INDIRECT(\"'\"&$L$1&\"'!\"&\"$C$2:$G$200\"),4,FALSE),\"\")","v":""},{"$f":"IFERROR(VLOOKUP(B199,INDIRECT(\"'\"&$L$1&\"'!\"&\"$C$2:$G$200\"),5,FALSE),0)","v":0},{"$f":"IFERROR(VLOOKUP(B199,INDIRECT(\"'\"&$N$1&\"'!\"&\"$C$2:$G$200\"),4,FALSE),\"\")","v":""},{"$f":"IFERROR(VLOOKUP(B199,INDIRECT(\"'\"&$N$1&\"'!\"&\"$C$2:$G$200\"),5,FALSE),0)","v":0},{"$f":"IFERROR(VLOOKUP(B199,INDIRECT(\"'\"&$P$1&\"'!\"&\"$C$2:$G$200\"),4,FALSE),\"\")","v":2.6516203703703698E-2},{"$f":"IFERROR(VLOOKUP(B199,INDIRECT(\"'\"&$P$1&\"'!\"&\"$C$2:$G$200\"),5,FALSE),0)","v":78.319524113023164},{"$f":"IFERROR(VLOOKUP(B199,INDIRECT(\"'\"&$R$1&\"'!\"&\"$C$2:$G$200\"),4,FALSE),\"\")","v":""},{"$f":"IFERROR(VLOOKUP(B199,INDIRECT(\"'\"&$R$1&\"'!\"&\"$C$2:$G$200\"),5,FALSE),0)","v":0},null,{"$f":"IFERROR(VLOOKUP(B199,INDIRECT(\"'\"&$T$1&\"'!\"&\"$C$2:$G$200\"),5,FALSE),0)","v":0},{"$f":"8-COUNTIF(F199:U199,\"\")","v":1},{"$f":"E199/IF(V199>4,5,V199)","v":78.319524113023164}]
[198,"Mike Link","Hereford Couriers","M40",{"$f":"SUM(LARGE((S200,G200,I200,K200,M200,O200,Q200,U200),{1,2,3,4,5}))","v":78.240109140518427},{"$f":"IFERROR(VLOOKUP(B200,INDIRECT(\"'\"&$F$1&\"'!\"&\"$C$2:$G$200\"),4,FALSE),\"\")","v":""},{"$f":"IFERROR(VLOOKUP(B200,INDIRECT(\"'\"&$F$1&\"'!\"&\"$C$2:$G$200\"),5,FALSE),0)","v":0},{"$f":"IFERROR(VLOOKUP(B200,INDIRECT(\"'\"&$H$1&\"'!\"&\"$C$2:$G$200\"),4,FALSE),\"\")","v":""},{"$f":"IFERROR(VLOOKUP(B200,INDIRECT(\"'\"&$H$1&\"'!\"&\"$C$2:$G$200\"),5,FALSE),0)","v":0},{"$f":"IFERROR(VLOOKUP(B200,INDIRECT(\"'\"&$J$1&\"'!\"&\"$C$2:$G$200\"),4,FALSE),\"\")","v":""},{"$f":"IFERROR(VLOOKUP(B200,INDIRECT(\"'\"&$J$1&\"'!\"&\"$C$2:$G$200\"),5,FALSE),0)","v":0},{"$f":"IFERROR(VLOOKUP(B200,INDIRECT(\"'\"&$L$1&\"'!\"&\"$C$2:$G$200\"),4,FALSE),\"\")","v":""},{"$f":"IFERROR(VLOOKUP(B200,INDIRECT(\"'\"&$L$1&\"'!\"&\"$C$2:$G$200\"),5,FALSE),0)","v":0},{"$f":"IFERROR(VLOOKUP(B200,INDIRECT(\"'\"&$N$1&\"'!\"&\"$C$2:$G$200\"),4,FALSE),\"\")","v":""},{"$f":"IFERROR(VLOOKUP(B200,INDIRECT(\"'\"&$N$1&\"'!\"&\"$C$2:$G$200\"),5,FALSE),0)","v":0},{"$f":"IFERROR(VLOOKUP(B200,INDIRECT(\"'\"&$P$1&\"'!\"&\"$C$2:$G$200\"),4,FALSE),\"\")","v":""},{"$f":"IFERROR(VLOOKUP(B200,INDIRECT(\"'\"&$P$1&\"'!\"&\"$C$2:$G$200\"),5,FALSE),0)","v":0},{"$f":"IFERROR(VLOOKUP(B200,INDIRECT(\"'\"&$R$1&\"'!\"&\"$C$2:$G$200\"),4,FALSE),\"\")","v":2.479166666666667E-2},{"$f":"IFERROR(VLOOKUP(B200,INDIRECT(\"'\"&$R$1&\"'!\"&\"$C$2:$G$200\"),5,FALSE),0)","v":78.240109140518427},null,{"$f":"IFERROR(VLOOKUP(B200,INDIRECT(\"'\"&$T$1&\"'!\"&\"$C$2:$G$200\"),5,FALSE),0)","v":0},{"$f":"8-COUNTIF(F200:U200,\"\")","v":1},{"$f":"E200/IF(V200>4,5,V200)","v":78.240109140518427}]
[199,"James Fletcher","Monross Trailblazers","M50",{"$f":"SUM(LARGE((S201,G201,I201,K201,M201,O201,Q201,U201),{1,2,3,4,5}))","v":78.116343490304743},{"$f":"IFERROR(VLOOKUP(B201,INDIRECT(\"'\"&$F$1&\"'!\"&\"$C$2:$G$200\"),4,FALSE),\"\")","v":""},{"$f":"IFERROR(VLOOKUP(B201,INDIRECT(\"'\"&$F$1&\"'!\"&\"$C$2:$G$200\"),5,FALSE),0)","v":0},{"$f":"IFERROR(VLOOKUP(B201,INDIRECT(\"'\"&$H$1&\"'!\"&\"$C$2:$G$200\"),4,FALSE),\"\")","v":3.7685185185185183E-2},{"$f":"IFERROR(VLOOKUP(B201,INDIRECT(\"'\"&$H$1&\"'!\"&\"$C$2:$G$200\"),5,FALSE),0)","v":78.116343490304743},{"$f":"IFERROR(VLOOKUP(B201,INDIRECT(\"'\"&$J$1&\"'!\"&\"$C$2:$G$200\"),4,FALSE),\"\")","v":""},{"$f":"IFERROR(VLOOKUP(B201,INDIRECT(\"'\"&$J$1&\"'!\"&\"$C$2:$G$200\"),5,FALSE),0)","v":0},{"$f":"IFERROR(VLOOKUP(B201,INDIRECT(\"'\"&$L$1&\"'!\"&\"$C$2:$G$200\"),4,FALSE),\"\")","v":""},{"$f":"IFERROR(VLOOKUP(B201,INDIRECT(\"'\"&$L$1&\"'!\"&\"$C$2:$G$200\"),5,FALSE),0)","v":0},{"$f":"IFERROR(VLOOKUP(B201,INDIRECT(\"'\"&$N$1&\"'!\"&\"$C$2:$G$200\"),4,FALSE),\"\")","v":""},{"$f":"IFERROR(VLOOKUP(B201,INDIRECT(\"'\"&$N$1&\"'!\"&\"$C$2:$G$200\"),5,FALSE),0)","v":0},{"$f":"IFERROR(VLOOKUP(B201,INDIRECT(\"'\"&$P$1&\"'!\"&\"$C$2:$G$200\"),4,FALSE),\"\")","v":""},{"$f":"IFERROR(VLOOKUP(B201,INDIRECT(\"'\"&$P$1&\"'!\"&\"$C$2:$G$200\"),5,FALSE),0)","v":0},{"$f":"IFERROR(VLOOKUP(B201,INDIRECT(\"'\"&$R$1&\"'!\"&\"$C$2:$G$200\"),4,FALSE),\"\")","v":""},{"$f":"IFERROR(VLOOKUP(B201,INDIRECT(\"'\"&$R$1&\"'!\"&\"$C$2:$G$200\"),5,FALSE),0)","v":0},{"$f":"IFERROR(VLOOKUP(B201,INDIRECT(\"'\"&$T$1&\"'!\"&\"$C$2:$G$200\"),4,FALSE),\"\")","v":""},{"$f":"IFERROR(VLOOKUP(B201,INDIRECT(\"'\"&$T$1&\"'!\"&\"$C$2:$G$200\"),5,FALSE),0)","v":0},{"$f":"8-COUNTIF(F201:U201,\"\")","v":1},{"$f":"E201/IF(V201>4,5,V201)","v":78.116343490304743}]
[200,"Richard Sheehy","Unaffiliated","SM",{"$f":"SUM(LARGE((S202,G202,I202,K202,M202,O202,Q202,U202),{1,2,3,4,5}))","v":77.629707269596466},{"$f":"IFERROR(VLOOKUP(B202,INDIRECT(\"'\"&$F$1&\"'!\"&\"$C$2:$G$200\"),4,FALSE),\"\")","v":""},{"$f":"IFERROR(VLOOKUP(B202,INDIRECT(\"'\"&$F$1&\"'!\"&\"$C$2:$G$200\"),5,FALSE),0)","v":0},{"$f":"IFERROR(VLOOKUP(B202,INDIRECT(\"'\"&$H$1&\"'!\"&\"$C$2:$G$200\"),4,FALSE),\"\")","v":3.7835648148148153E-2},{"$f":"IFERROR(VLOOKUP(B202,INDIRECT(\"'\"&$H$1&\"'!\"&\"$C$2:$G$200\"),5,FALSE),0)","v":77.629707269596466},{"$f":"IFERROR(VLOOKUP(B202,INDIRECT(\"'\"&$J$1&\"'!\"&\"$C$2:$G$200\"),4,FALSE),\"\")","v":""},{"$f":"IFERROR(VLOOKUP(B202,INDIRECT(\"'\"&$J$1&\"'!\"&\"$C$2:$G$200\"),5,FALSE),0)","v":0},{"$f":"IFERROR(VLOOKUP(B202,INDIRECT(\"'\"&$L$1&\"'!\"&\"$C$2:$G$200\"),4,FALSE),\"\")","v":""},{"$f":"IFERROR(VLOOKUP(B202,INDIRECT(\"'\"&$L$1&\"'!\"&\"$C$2:$G$200\"),5,FALSE),0)","v":0},{"$f":"IFERROR(VLOOKUP(B202,INDIRECT(\"'\"&$N$1&\"'!\"&\"$C$2:$G$200\"),4,FALSE),\"\")","v":""},{"$f":"IFERROR(VLOOKUP(B202,INDIRECT(\"'\"&$N$1&\"'!\"&\"$C$2:$G$200\"),5,FALSE),0)","v":0},{"$f":"IFERROR(VLOOKUP(B202,INDIRECT(\"'\"&$P$1&\"'!\"&\"$C$2:$G$200\"),4,FALSE),\"\")","v":""},{"$f":"IFERROR(VLOOKUP(B202,INDIRECT(\"'\"&$P$1&\"'!\"&\"$C$2:$G$200\"),5,FALSE),0)","v":0},{"$f":"IFERROR(VLOOKUP(B202,INDIRECT(\"'\"&$R$1&\"'!\"&\"$C$2:$G$200\"),4,FALSE),\"\")","v":""},{"$f":"IFERROR(VLOOKUP(B202,INDIRECT(\"'\"&$R$1&\"'!\"&\"$C$2:$G$200\"),5,FALSE),0)","v":0},{"$f":"IFERROR(VLOOKUP(B202,INDIRECT(\"'\"&$T$1&\"'!\"&\"$C$2:$G$200\"),4,FALSE),\"\")","v":""},{"$f":"IFERROR(VLOOKUP(B202,INDIRECT(\"'\"&$T$1&\"'!\"&\"$C$2:$G$200\"),5,FALSE),0)","v":0},{"$f":"8-COUNTIF(F202:U202,\"\")","v":1},{"$f":"E202/IF(V202>4,5,V202)","v":77.629707269596466}]
[201,"David Richardson","Pont-y-Pwl and District","M40",{"$f":"SUM(LARGE((S203,G203,I203,K203,M203,O203,Q203,U203),{1,2,3,4,5}))","v":77.517406603279213},{"$f":"IFERROR(VLOOKUP(B203,INDIRECT(\"'\"&$F$1&\"'!\"&\"$C$2:$G$200\"),4,FALSE),\"\")","v":""},{"$f":"IFERROR(VLOOKUP(B203,INDIRECT(\"'\"&$F$1&\"'!\"&\"$C$2:$G$200\"),5,FALSE),0)","v":0},{"$f":"IFERROR(VLOOKUP(B203,INDIRECT(\"'\"&$H$1&\"'!\"&\"$C$2:$G$200\"),4,FALSE),\"\")","v":3.7870370370370367E-2},{"$f":"IFERROR(VLOOKUP(B203,INDIRECT(\"'\"&$H$1&\"'!\"&\"$C$2:$G$200\"),5,FALSE),0)","v":77.517406603279213},{"$f":"IFERROR(VLOOKUP(B203,INDIRECT(\"'\"&$J$1&\"'!\"&\"$C$2:$G$200\"),4,FALSE),\"\")","v":""},{"$f":"IFERROR(VLOOKUP(B203,INDIRECT(\"'\"&$J$1&\"'!\"&\"$C$2:$G$200\"),5,FALSE),0)","v":0},{"$f":"IFERROR(VLOOKUP(B203,INDIRECT(\"'\"&$L$1&\"'!\"&\"$C$2:$G$200\"),4,FALSE),\"\")","v":""},{"$f":"IFERROR(VLOOKUP(B203,INDIRECT(\"'\"&$L$1&\"'!\"&\"$C$2:$G$200\"),5,FALSE),0)","v":0},{"$f":"IFERROR(VLOOKUP(B203,INDIRECT(\"'\"&$N$1&\"'!\"&\"$C$2:$G$200\"),4,FALSE),\"\")","v":""},{"$f":"IFERROR(VLOOKUP(B203,INDIRECT(\"'\"&$N$1&\"'!\"&\"$C$2:$G$200\"),5,FALSE),0)","v":0},{"$f":"IFERROR(VLOOKUP(B203,INDIRECT(\"'\"&$P$1&\"'!\"&\"$C$2:$G$200\"),4,FALSE),\"\")","v":""},{"$f":"IFERROR(VLOOKUP(B203,INDIRECT(\"'\"&$P$1&\"'!\"&\"$C$2:$G$200\"),5,FALSE),0)","v":0},{"$f":"IFERROR(VLOOKUP(B203,INDIRECT(\"'\"&$R$1&\"'!\"&\"$C$2:$G$200\"),4,FALSE),\"\")","v":""},{"$f":"IFERROR(VLOOKUP(B203,INDIRECT(\"'\"&$R$1&\"'!\"&\"$C$2:$G$200\"),5,FALSE),0)","v":0},{"$f":"IFERROR(VLOOKUP(B203,INDIRECT(\"'\"&$T$1&\"'!\"&\"$C$2:$G$200\"),4,FALSE),\"\")","v":""},{"$f":"IFERROR(VLOOKUP(B203,INDIRECT(\"'\"&$T$1&\"'!\"&\"$C$2:$G$200\"),5,FALSE),0)","v":0},{"$f":"8-COUNTIF(F203:U203,\"\")","v":1},{"$f":"E203/IF(V203>4,5,V203)","v":77.517406603279213}]
[202,"Dee Jolly","West Wales","SF",{"$f":"SUM(LARGE((S204,G204,I204,K204,M204,O204,Q204,U204),{1,2,3,4,5}))","v":77.355487649605266},{"$f":"IFERROR(VLOOKUP(B204,INDIRECT(\"'\"&$F$1&\"'!\"&\"$C$2:$G$200\"),4,FALSE),\"\")","v":""},{"$f":"IFERROR(VLOOKUP(B204,INDIRECT(\"'\"&$F$1&\"'!\"&\"$C$2:$G$200\"),5,FALSE),0)","v":0},{"$f":"IFERROR(VLOOKUP(B204,INDIRECT(\"'\"&$H$1&\"'!\"&\"$C$2:$G$200\"),4,FALSE),\"\")","v":""},{"$f":"IFERROR(VLOOKUP(B204,INDIRECT(\"'\"&$H$1&\"'!\"&\"$C$2:$G$200\"),5,FALSE),0)","v":0},{"$f":"IFERROR(VLOOKUP(B204,INDIRECT(\"'\"&$J$1&\"'!\"&\"$C$2:$G$200\"),4,FALSE),\"\")","v":""},{"$f":"IFERROR(VLOOKUP(B204,INDIRECT(\"'\"&$J$1&\"'!\"&\"$C$2:$G$200\"),5,FALSE),0)","v":0},{"$f":"IFERROR(VLOOKUP(B204,INDIRECT(\"'\"&$L$1&\"'!\"&\"$C$2:$G$200\"),4,FALSE),\"\")","v":""},{"$f":"IFERROR(VLOOKUP(B204,INDIRECT(\"'\"&$L$1&\"'!\"&\"$C$2:$G$200\"),5,FALSE),0)","v":0},{"$f":"IFERROR(VLOOKUP(B204,INDIRECT(\"'\"&$N$1&\"'!\"&\"$C$2:$G$200\"),4,FALSE),\"\")","v":""},{"$f":"IFERROR(VLOOKUP(B204,INDIRECT(\"'\"&$N$1&\"'!\"&\"$C$2:$G$200\"),5,FALSE),0)","v":0},{"$f":"IFERROR(VLOOKUP(B204,INDIRECT(\"'\"&$P$1&\"'!\"&\"$C$2:$G$200\"),4,FALSE),\"\")","v":""},{"$f":"IFERROR(VLOOKUP(B204,INDIRECT(\"'\"&$P$1&\"'!\"&\"$C$2:$G$200\"),5,FALSE),0)","v":0},{"$f":"IFERROR(VLOOKUP(B204,INDIRECT(\"'\"&$R$1&\"'!\"&\"$C$2:$G$200\"),4,FALSE),\"\")","v":""},{"$f":"IFERROR(VLOOKUP(B204,INDIRECT(\"'\"&$R$1&\"'!\"&\"$C$2:$G$200\"),5,FALSE),0)","v":0},{"$f":"IFERROR(VLOOKUP(B204,INDIRECT(\"'\"&$T$1&\"'!\"&\"$C$2:$G$200\"),4,FALSE),\"\")","v":4.4594907407407409E-2},{"$f":"IFERROR(VLOOKUP(B204,INDIRECT(\"'\"&$T$1&\"'!\"&\"$C$2:$G$200\"),5,FALSE),0)","v":77.355487649605266},{"$f":"8-COUNTIF(F204:U204,\"\")","v":1},{"$f":"E204/IF(V204>4,5,V204)","v":77.355487649605266}]
[203,"Sam Harness","Monross Trailblazers","M40",{"$f":"SUM(LARGE((S205,G205,I205,K205,M205,O205,Q205,U205),{1,2,3,4,5}))","v":76.806169049936386},{"$f":"IFERROR(VLOOKUP(B205,INDIRECT(\"'\"&$F$1&\"'!\"&\"$C$2:$G$200\"),4,FALSE),\"\")","v":""},{"$f":"IFERROR(VLOOKUP(B205,INDIRECT(\"'\"&$F$1&\"'!\"&\"$C$2:$G$200\"),5,FALSE),0)","v":0},{"$f":"IFERROR(VLOOKUP(B205,INDIRECT(\"'\"&$H$1&\"'!\"&\"$C$2:$G$200\"),4,FALSE),\"\")","v":3.8090277777777778E-2},{"$f":"IFERROR(VLOOKUP(B205,INDIRECT(\"'\"&$H$1&\"'!\"&\"$C$2:$G$200\"),5,FALSE),0)","v":76.806169049936386},{"$f":"IFERROR(VLOOKUP(B205,INDIRECT(\"'\"&$J$1&\"'!\"&\"$C$2:$G$200\"),4,FALSE),\"\")","v":""},{"$f":"IFERROR(VLOOKUP(B205,INDIRECT(\"'\"&$J$1&\"'!\"&\"$C$2:$G$200\"),5,FALSE),0)","v":0},{"$f":"IFERROR(VLOOKUP(B205,INDIRECT(\"'\"&$L$1&\"'!\"&\"$C$2:$G$200\"),4,FALSE),\"\")","v":""},{"$f":"IFERROR(VLOOKUP(B205,INDIRECT(\"'\"&$L$1&\"'!\"&\"$C$2:$G$200\"),5,FALSE),0)","v":0},{"$f":"IFERROR(VLOOKUP(B205,INDIRECT(\"'\"&$N$1&\"'!\"&\"$C$2:$G$200\"),4,FALSE),\"\")","v":""},{"$f":"IFERROR(VLOOKUP(B205,INDIRECT(\"'\"&$N$1&\"'!\"&\"$C$2:$G$200\"),5,FALSE),0)","v":0},{"$f":"IFERROR(VLOOKUP(B205,INDIRECT(\"'\"&$P$1&\"'!\"&\"$C$2:$G$200\"),4,FALSE),\"\")","v":""},{"$f":"IFERROR(VLOOKUP(B205,INDIRECT(\"'\"&$P$1&\"'!\"&\"$C$2:$G$200\"),5,FALSE),0)","v":0},{"$f":"IFERROR(VLOOKUP(B205,INDIRECT(\"'\"&$R$1&\"'!\"&\"$C$2:$G$200\"),4,FALSE),\"\")","v":""},{"$f":"IFERROR(VLOOKUP(B205,INDIRECT(\"'\"&$R$1&\"'!\"&\"$C$2:$G$200\"),5,FALSE),0)","v":0},{"$f":"IFERROR(VLOOKUP(B205,INDIRECT(\"'\"&$T$1&\"'!\"&\"$C$2:$G$200\"),4,FALSE),\"\")","v":""},{"$f":"IFERROR(VLOOKUP(B205,INDIRECT(\"'\"&$T$1&\"'!\"&\"$C$2:$G$200\"),5,FALSE),0)","v":0},{"$f":"8-COUNTIF(F205:U205,\"\")","v":1},{"$f":"E205/IF(V205>4,5,V205)","v":76.806169049936386}]
[204,"Nigel Eldridge","Ryde Harriers","M40",{"$f":"SUM(LARGE((S206,G206,I206,K206,M206,O206,Q206,U206),{1,2,3,4,5}))","v":76.244665718349935},{"$f":"IFERROR(VLOOKUP(B206,INDIRECT(\"'\"&$F$1&\"'!\"&\"$C$2:$G$200\"),4,FALSE),\"\")","v":""},{"$f":"IFERROR(VLOOKUP(B206,INDIRECT(\"'\"&$F$1&\"'!\"&\"$C$2:$G$200\"),5,FALSE),0)","v":0},{"$f":"IFERROR(VLOOKUP(B206,INDIRECT(\"'\"&$H$1&\"'!\"&\"$C$2:$G$200\"),4,FALSE),\"\")","v":3.8263888888888889E-2},{"$f":"IFERROR(VLOOKUP(B206,INDIRECT(\"'\"&$H$1&\"'!\"&\"$C$2:$G$200\"),5,FALSE),0)","v":76.244665718349935},{"$f":"IFERROR(VLOOKUP(B206,INDIRECT(\"'\"&$J$1&\"'!\"&\"$C$2:$G$200\"),4,FALSE),\"\")","v":""},{"$f":"IFERROR(VLOOKUP(B206,INDIRECT(\"'\"&$J$1&\"'!\"&\"$C$2:$G$200\"),5,FALSE),0)","v":0},{"$f":"IFERROR(VLOOKUP(B206,INDIRECT(\"'\"&$L$1&\"'!\"&\"$C$2:$G$200\"),4,FALSE),\"\")","v":""},{"$f":"IFERROR(VLOOKUP(B206,INDIRECT(\"'\"&$L$1&\"'!\"&\"$C$2:$G$200\"),5,FALSE),0)","v":0},{"$f":"IFERROR(VLOOKUP(B206,INDIRECT(\"'\"&$N$1&\"'!\"&\"$C$2:$G$200\"),4,FALSE),\"\")","v":""},{"$f":"IFERROR(VLOOKUP(B206,INDIRECT(\"'\"&$N$1&\"'!\"&\"$C$2:$G$200\"),5,FALSE),0)","v":0},{"$f":"IFERROR(VLOOKUP(B206,INDIRECT(\"'\"&$P$1&\"'!\"&\"$C$2:$G$200\"),4,FALSE),\"\")","v":""},{"$f":"IFERROR(VLOOKUP(B206,INDIRECT(\"'\"&$P$1&\"'!\"&\"$C$2:$G$200\"),5,FALSE),0)","v":0},{"$f":"IFERROR(VLOOKUP(B206,INDIRECT(\"'\"&$R$1&\"'!\"&\"$C$2:$G$200\"),4,FALSE),\"\")","v":""},{"$f":"IFERROR(VLOOKUP(B206,INDIRECT(\"'\"&$R$1&\"'!\"&\"$C$2:$G$200\"),5,FALSE),0)","v":0},{"$f":"IFERROR(VLOOKUP(B206,INDIRECT(\"'\"&$T$1&\"'!\"&\"$C$2:$G$200\"),4,FALSE),\"\")","v":""},{"$f":"IFERROR(VLOOKUP(B206,INDIRECT(\"'\"&$T$1&\"'!\"&\"$C$2:$G$200\"),5,FALSE),0)","v":0},{"$f":"8-COUNTIF(F206:U206,\"\")","v":1},{"$f":"E206/IF(V206>4,5,V206)","v":76.244665718349935}]
[205,"Joanne Rees","Rhayader","F40",{"$f":"SUM(LARGE((S207,G207,I207,K207,M207,O207,Q207,U207),{1,2,3,4,5}))","v":75.98263083027625},{"$f":"IFERROR(VLOOKUP(B207,INDIRECT(\"'\"&$F$1&\"'!\"&\"$C$2:$G$200\"),4,FALSE),\"\")","v":""},{"$f":"IFERROR(VLOOKUP(B207,INDIRECT(\"'\"&$F$1&\"'!\"&\"$C$2:$G$200\"),5,FALSE),0)","v":0},{"$f":"IFERROR(VLOOKUP(B207,INDIRECT(\"'\"&$H$1&\"'!\"&\"$C$2:$G$200\"),4,FALSE),\"\")","v":3.8344907407407411E-2},{"$f":"IFERROR(VLOOKUP(B207,INDIRECT(\"'\"&$H$1&\"'!\"&\"$C$2:$G$200\"),5,FALSE),0)","v":75.98263083027625},{"$f":"IFERROR(VLOOKUP(B207,INDIRECT(\"'\"&$J$1&\"'!\"&\"$C$2:$G$200\"),4,FALSE),\"\")","v":""},{"$f":"IFERROR(VLOOKUP(B207,INDIRECT(\"'\"&$J$1&\"'!\"&\"$C$2:$G$200\"),5,FALSE),0)","v":0},{"$f":"IFERROR(VLOOKUP(B207,INDIRECT(\"'\"&$L$1&\"'!\"&\"$C$2:$G$200\"),4,FALSE),\"\")","v":""},{"$f":"IFERROR(VLOOKUP(B207,INDIRECT(\"'\"&$L$1&\"'!\"&\"$C$2:$G$200\"),5,FALSE),0)","v":0},{"$f":"IFERROR(VLOOKUP(B207,INDIRECT(\"'\"&$N$1&\"'!\"&\"$C$2:$G$200\"),4,FALSE),\"\")","v":""},{"$f":"IFERROR(VLOOKUP(B207,INDIRECT(\"'\"&$N$1&\"'!\"&\"$C$2:$G$200\"),5,FALSE),0)","v":0},{"$f":"IFERROR(VLOOKUP(B207,INDIRECT(\"'\"&$P$1&\"'!\"&\"$C$2:$G$200\"),4,FALSE),\"\")","v":""},{"$f":"IFERROR(VLOOKUP(B207,INDIRECT(\"'\"&$P$1&\"'!\"&\"$C$2:$G$200\"),5,FALSE),0)","v":0},{"$f":"IFERROR(VLOOKUP(B207,INDIRECT(\"'\"&$R$1&\"'!\"&\"$C$2:$G$200\"),4,FALSE),\"\")","v":""},{"$f":"IFERROR(VLOOKUP(B207,INDIRECT(\"'\"&$R$1&\"'!\"&\"$C$2:$G$200\"),5,FALSE),0)","v":0},{"$f":"IFERROR(VLOOKUP(B207,INDIRECT(\"'\"&$T$1&\"'!\"&\"$C$2:$G$200\"),4,FALSE),\"\")","v":""},{"$f":"IFERROR(VLOOKUP(B207,INDIRECT(\"'\"&$T$1&\"'!\"&\"$C$2:$G$200\"),5,FALSE),0)","v":0},{"$f":"8-COUNTIF(F207:U207,\"\")","v":1},{"$f":"E207/IF(V207>4,5,V207)","v":75.98263083027625}]
[206,"John Seaward","San Domenico","SM",{"$f":"SUM(LARGE((S208,G208,I208,K208,M208,O208,Q208,U208),{1,2,3,4,5}))","v":75.663904822604636},{"$f":"IFERROR(VLOOKUP(B208,INDIRECT(\"'\"&$F$1&\"'!\"&\"$C$2:$G$200\"),4,FALSE),\"\")","v":""},{"$f":"IFERROR(VLOOKUP(B208,INDIRECT(\"'\"&$F$1&\"'!\"&\"$C$2:$G$200\"),5,FALSE),0)","v":0},{"$f":"IFERROR(VLOOKUP(B208,INDIRECT(\"'\"&$H$1&\"'!\"&\"$C$2:$G$200\"),4,FALSE),\"\")","v":""},{"$f":"IFERROR(VLOOKUP(B208,INDIRECT(\"'\"&$H$1&\"'!\"&\"$C$2:$G$200\"),5,FALSE),0)","v":0},{"$f":"IFERROR(VLOOKUP(B208,INDIRECT(\"'\"&$J$1&\"'!\"&\"$C$2:$G$200\"),4,FALSE),\"\")","v":""},{"$f":"IFERROR(VLOOKUP(B208,INDIRECT(\"'\"&$J$1&\"'!\"&\"$C$2:$G$200\"),5,FALSE),0)","v":0},{"$f":"IFERROR(VLOOKUP(B208,INDIRECT(\"'\"&$L$1&\"'!\"&\"$C$2:$G$200\"),4,FALSE),\"\")","v":""},{"$f":"IFERROR(VLOOKUP(B208,INDIRECT(\"'\"&$L$1&\"'!\"&\"$C$2:$G$200\"),5,FALSE),0)","v":0},{"$f":"IFERROR(VLOOKUP(B208,INDIRECT(\"'\"&$N$1&\"'!\"&\"$C$2:$G$200\"),4,FALSE),\"\")","v":""},{"$f":"IFERROR(VLOOKUP(B208,INDIRECT(\"'\"&$N$1&\"'!\"&\"$C$2:$G$200\"),5,FALSE),0)","v":0},{"$f":"IFERROR(VLOOKUP(B208,INDIRECT(\"'\"&$P$1&\"'!\"&\"$C$2:$G$200\"),4,FALSE),\"\")","v":2.7094907407407404E-2},{"$f":"IFERROR(VLOOKUP(B208,INDIRECT(\"'\"&$P$1&\"'!\"&\"$C$2:$G$200\"),5,FALSE),0)","v":75.663904822604636},{"$f":"IFERROR(VLOOKUP(B208,INDIRECT(\"'\"&$R$1&\"'!\"&\"$C$2:$G$200\"),4,FALSE),\"\")","v":""},{"$f":"IFERROR(VLOOKUP(B208,INDIRECT(\"'\"&$R$1&\"'!\"&\"$C$2:$G$200\"),5,FALSE),0)","v":0},{"$f":"IFERROR(VLOOKUP(B208,INDIRECT(\"'\"&$T$1&\"'!\"&\"$C$2:$G$200\"),4,FALSE),\"\")","v":""},{"$f":"IFERROR(VLOOKUP(B208,INDIRECT(\"'\"&$T$1&\"'!\"&\"$C$2:$G$200\"),5,FALSE),0)","v":0},{"$f":"8-COUNTIF(F208:U208,\"\")","v":1},{"$f":"E208/IF(V208>4,5,V208)","v":75.663904822604636}]
[207,"Douglas Briggs","Chepstow Harriers","M50",{"$f":"SUM(LARGE((S209,G209,I209,K209,M209,O209,Q209,U209),{1,2,3,4,5}))","v":75.462392108508041},{"$f":"IFERROR(VLOOKUP(B209,INDIRECT(\"'\"&$F$1&\"'!\"&\"$C$2:$G$200\"),4,FALSE),\"\")","v":""},{"$f":"IFERROR(VLOOKUP(B209,INDIRECT(\"'\"&$F$1&\"'!\"&\"$C$2:$G$200\"),5,FALSE),0)","v":0},{"$f":"IFERROR(VLOOKUP(B209,INDIRECT(\"'\"&$H$1&\"'!\"&\"$C$2:$G$200\"),4,FALSE),\"\")","v":""},{"$f":"IFERROR(VLOOKUP(B209,INDIRECT(\"'\"&$H$1&\"'!\"&\"$C$2:$G$200\"),5,FALSE),0)","v":0},{"$f":"IFERROR(VLOOKUP(B209,INDIRECT(\"'\"&$J$1&\"'!\"&\"$C$2:$G$200\"),4,FALSE),\"\")","v":""},{"$f":"IFERROR(VLOOKUP(B209,INDIRECT(\"'\"&$J$1&\"'!\"&\"$C$2:$G$200\"),5,FALSE),0)","v":0},{"$f":"IFERROR(VLOOKUP(B209,INDIRECT(\"'\"&$L$1&\"'!\"&\"$C$2:$G$200\"),4,FALSE),\"\")","v":""},{"$f":"IFERROR(VLOOKUP(B209,INDIRECT(\"'\"&$L$1&\"'!\"&\"$C$2:$G$200\"),5,FALSE),0)","v":0},{"$f":"IFERROR(VLOOKUP(B209,INDIRECT(\"'\"&$N$1&\"'!\"&\"$C$2:$G$200\"),4,FALSE),\"\")","v":2.8055555555555556E-2},{"$f":"IFERROR(VLOOKUP(B209,INDIRECT(\"'\"&$N$1&\"'!\"&\"$C$2:$G$200\"),5,FALSE),0)","v":75.462392108508041},{"$f":"IFERROR(VLOOKUP(B209,INDIRECT(\"'\"&$P$1&\"'!\"&\"$C$2:$G$200\"),4,FALSE),\"\")","v":""},{"$f":"IFERROR(VLOOKUP(B209,INDIRECT(\"'\"&$P$1&\"'!\"&\"$C$2:$G$200\"),5,FALSE),0)","v":0},{"$f":"IFERROR(VLOOKUP(B209,INDIRECT(\"'\"&$R$1&\"'!\"&\"$C$2:$G$200\"),4,FALSE),\"\")","v":""},{"$f":"IFERROR(VLOOKUP(B209,INDIRECT(\"'\"&$R$1&\"'!\"&\"$C$2:$G$200\"),5,FALSE),0)","v":0},null,{"$f":"IFERROR(VLOOKUP(B209,INDIRECT(\"'\"&$T$1&\"'!\"&\"$C$2:$G$200\"),5,FALSE),0)","v":0},{"$f":"8-COUNTIF(F209:U209,\"\")","v":1},{"$f":"E209/IF(V209>4,5,V209)","v":75.462392108508041}]
[208,"Sarah Bell","Chepstow Harriers","F40",{"$f":"SUM(LARGE((S210,G210,I210,K210,M210,O210,Q210,U210),{1,2,3,4,5}))","v":75.462392108508041},{"$f":"IFERROR(VLOOKUP(B210,INDIRECT(\"'\"&$F$1&\"'!\"&\"$C$2:$G$200\"),4,FALSE),\"\")","v":""},{"$f":"IFERROR(VLOOKUP(B210,INDIRECT(\"'\"&$F$1&\"'!\"&\"$C$2:$G$200\"),5,FALSE),0)","v":0},{"$f":"IFERROR(VLOOKUP(B210,INDIRECT(\"'\"&$H$1&\"'!\"&\"$C$2:$G$200\"),4,FALSE),\"\")","v":""},{"$f":"IFERROR(VLOOKUP(B210,INDIRECT(\"'\"&$H$1&\"'!\"&\"$C$2:$G$200\"),5,FALSE),0)","v":0},{"$f":"IFERROR(VLOOKUP(B210,INDIRECT(\"'\"&$J$1&\"'!\"&\"$C$2:$G$200\"),4,FALSE),\"\")","v":""},{"$f":"IFERROR(VLOOKUP(B210,INDIRECT(\"'\"&$J$1&\"'!\"&\"$C$2:$G$200\"),5,FALSE),0)","v":0},{"$f":"IFERROR(VLOOKUP(B210,INDIRECT(\"'\"&$L$1&\"'!\"&\"$C$2:$G$200\"),4,FALSE),\"\")","v":""},{"$f":"IFERROR(VLOOKUP(B210,INDIRECT(\"'\"&$L$1&\"'!\"&\"$C$2:$G$200\"),5,FALSE),0)","v":0},{"$f":"IFERROR(VLOOKUP(B210,INDIRECT(\"'\"&$N$1&\"'!\"&\"$C$2:$G$200\"),4,FALSE),\"\")","v":2.8055555555555556E-2},{"$f":"IFERROR(VLOOKUP(B210,INDIRECT(\"'\"&$N$1&\"'!\"&\"$C$2:$G$200\"),5,FALSE),0)","v":75.462392108508041},{"$f":"IFERROR(VLOOKUP(B210,INDIRECT(\"'\"&$P$1&\"'!\"&\"$C$2:$G$200\"),4,FALSE),\"\")","v":""},{"$f":"IFERROR(VLOOKUP(B210,INDIRECT(\"'\"&$P$1&\"'!\"&\"$C$2:$G$200\"),5,FALSE),0)","v":0},{"$f":"IFERROR(VLOOKUP(B210,INDIRECT(\"'\"&$R$1&\"'!\"&\"$C$2:$G$200\"),4,FALSE),\"\")","v":""},{"$f":"IFERROR(VLOOKUP(B210,INDIRECT(\"'\"&$R$1&\"'!\"&\"$C$2:$G$200\"),5,FALSE),0)","v":0},{"$f":"IFERROR(VLOOKUP(B210,INDIRECT(\"'\"&$T$1&\"'!\"&\"$C$2:$G$200\"),4,FALSE),\"\")","v":""},{"$f":"IFERROR(VLOOKUP(B210,INDIRECT(\"'\"&$T$1&\"'!\"&\"$C$2:$G$200\"),5,FALSE),0)","v":0},{"$f":"8-COUNTIF(F210:U210,\"\")","v":1},{"$f":"E210/IF(V210>4,5,V210)","v":75.462392108508041}]
[209,"Lisa Jeffrey","Chepstow Harriers","F40",{"$f":"SUM(LARGE((S211,G211,I211,K211,M211,O211,Q211,U211),{1,2,3,4,5}))","v":74.845869297164029},{"$f":"IFERROR(VLOOKUP(B211,INDIRECT(\"'\"&$F$1&\"'!\"&\"$C$2:$G$200\"),4,FALSE),\"\")","v":""},{"$f":"IFERROR(VLOOKUP(B211,INDIRECT(\"'\"&$F$1&\"'!\"&\"$C$2:$G$200\"),5,FALSE),0)","v":0},{"$f":"IFERROR(VLOOKUP(B211,INDIRECT(\"'\"&$H$1&\"'!\"&\"$C$2:$G$200\"),4,FALSE),\"\")","v":""},{"$f":"IFERROR(VLOOKUP(B211,INDIRECT(\"'\"&$H$1&\"'!\"&\"$C$2:$G$200\"),5,FALSE),0)","v":0},{"$f":"IFERROR(VLOOKUP(B211,INDIRECT(\"'\"&$J$1&\"'!\"&\"$C$2:$G$200\"),4,FALSE),\"\")","v":""},{"$f":"IFERROR(VLOOKUP(B211,INDIRECT(\"'\"&$J$1&\"'!\"&\"$C$2:$G$200\"),5,FALSE),0)","v":0},{"$f":"IFERROR(VLOOKUP(B211,INDIRECT(\"'\"&$L$1&\"'!\"&\"$C$2:$G$200\"),4,FALSE),\"\")","v":""},{"$f":"IFERROR(VLOOKUP(B211,INDIRECT(\"'\"&$L$1&\"'!\"&\"$C$2:$G$200\"),5,FALSE),0)","v":0},{"$f":"IFERROR(VLOOKUP(B211,INDIRECT(\"'\"&$N$1&\"'!\"&\"$C$2:$G$200\"),4,FALSE),\"\")","v":2.8194444444444442E-2},{"$f":"IFERROR(VLOOKUP(B211,INDIRECT(\"'\"&$N$1&\"'!\"&\"$C$2:$G$200\"),5,FALSE),0)","v":74.845869297164029},{"$f":"IFERROR(VLOOKUP(B211,INDIRECT(\"'\"&$P$1&\"'!\"&\"$C$2:$G$200\"),4,FALSE),\"\")","v":""},{"$f":"IFERROR(VLOOKUP(B211,INDIRECT(\"'\"&$P$1&\"'!\"&\"$C$2:$G$200\"),5,FALSE),0)","v":0},{"$f":"IFERROR(VLOOKUP(B211,INDIRECT(\"'\"&$R$1&\"'!\"&\"$C$2:$G$200\"),4,FALSE),\"\")","v":""},{"$f":"IFERROR(VLOOKUP(B211,INDIRECT(\"'\"&$R$1&\"'!\"&\"$C$2:$G$200\"),5,FALSE),0)","v":0},null,{"$f":"IFERROR(VLOOKUP(B211,INDIRECT(\"'\"&$T$1&\"'!\"&\"$C$2:$G$200\"),5,FALSE),0)","v":0},{"$f":"8-COUNTIF(F211:U211,\"\")","v":1},{"$f":"E211/IF(V211>4,5,V211)","v":74.845869297164029}]
[210,"Jane Horler","Chepstow Harriers","F40",{"$f":"SUM(LARGE((S212,G212,I212,K212,M212,O212,Q212,U212),{1,2,3,4,5}))","v":74.537607891492001},{"$f":"IFERROR(VLOOKUP(B212,INDIRECT(\"'\"&$F$1&\"'!\"&\"$C$2:$G$200\"),4,FALSE),\"\")","v":""},{"$f":"IFERROR(VLOOKUP(B212,INDIRECT(\"'\"&$F$1&\"'!\"&\"$C$2:$G$200\"),5,FALSE),0)","v":0},{"$f":"IFERROR(VLOOKUP(B212,INDIRECT(\"'\"&$H$1&\"'!\"&\"$C$2:$G$200\"),4,FALSE),\"\")","v":""},{"$f":"IFERROR(VLOOKUP(B212,INDIRECT(\"'\"&$H$1&\"'!\"&\"$C$2:$G$200\"),5,FALSE),0)","v":0},{"$f":"IFERROR(VLOOKUP(B212,INDIRECT(\"'\"&$J$1&\"'!\"&\"$C$2:$G$200\"),4,FALSE),\"\")","v":""},{"$f":"IFERROR(VLOOKUP(B212,INDIRECT(\"'\"&$J$1&\"'!\"&\"$C$2:$G$200\"),5,FALSE),0)","v":0},{"$f":"IFERROR(VLOOKUP(B212,INDIRECT(\"'\"&$L$1&\"'!\"&\"$C$2:$G$200\"),4,FALSE),\"\")","v":""},{"$f":"IFERROR(VLOOKUP(B212,INDIRECT(\"'\"&$L$1&\"'!\"&\"$C$2:$G$200\"),5,FALSE),0)","v":0},{"$f":"IFERROR(VLOOKUP(B212,INDIRECT(\"'\"&$N$1&\"'!\"&\"$C$2:$G$200\"),4,FALSE),\"\")","v":2.826388888888889E-2},{"$f":"IFERROR(VLOOKUP(B212,INDIRECT(\"'\"&$N$1&\"'!\"&\"$C$2:$G$200\"),5,FALSE),0)","v":74.537607891492001},{"$f":"IFERROR(VLOOKUP(B212,INDIRECT(\"'\"&$P$1&\"'!\"&\"$C$2:$G$200\"),4,FALSE),\"\")","v":""},{"$f":"IFERROR(VLOOKUP(B212,INDIRECT(\"'\"&$P$1&\"'!\"&\"$C$2:$G$200\"),5,FALSE),0)","v":0},{"$f":"IFERROR(VLOOKUP(B212,INDIRECT(\"'\"&$R$1&\"'!\"&\"$C$2:$G$200\"),4,FALSE),\"\")","v":""},{"$f":"IFERROR(VLOOKUP(B212,INDIRECT(\"'\"&$R$1&\"'!\"&\"$C$2:$G$200\"),5,FALSE),0)","v":0},{"$f":"IFERROR(VLOOKUP(B212,INDIRECT(\"'\"&$T$1&\"'!\"&\"$C$2:$G$200\"),4,FALSE),\"\")","v":""},{"$f":"IFERROR(VLOOKUP(B212,INDIRECT(\"'\"&$T$1&\"'!\"&\"$C$2:$G$200\"),5,FALSE),0)","v":0},{"$f":"8-COUNTIF(F212:U212,\"\")","v":1},{"$f":"E212/IF(V212>4,5,V212)","v":74.537607891492001}]
[211,"Martyn Carruthers","Forest Of Dean AC","M40",{"$f":"SUM(LARGE((S213,G213,I213,K213,M213,O213,Q213,U213),{1,2,3,4,5}))","v":73.998652392004189},{"$f":"IFERROR(VLOOKUP(B213,INDIRECT(\"'\"&$F$1&\"'!\"&\"$C$2:$G$200\"),4,FALSE),\"\")","v":""},{"$f":"IFERROR(VLOOKUP(B213,INDIRECT(\"'\"&$F$1&\"'!\"&\"$C$2:$G$200\"),5,FALSE),0)","v":0},{"$f":"IFERROR(VLOOKUP(B213,INDIRECT(\"'\"&$H$1&\"'!\"&\"$C$2:$G$200\"),4,FALSE),\"\")","v":3.8958333333333338E-2},{"$f":"IFERROR(VLOOKUP(B213,INDIRECT(\"'\"&$H$1&\"'!\"&\"$C$2:$G$200\"),5,FALSE),0)","v":73.998652392004189},{"$f":"IFERROR(VLOOKUP(B213,INDIRECT(\"'\"&$J$1&\"'!\"&\"$C$2:$G$200\"),4,FALSE),\"\")","v":""},{"$f":"IFERROR(VLOOKUP(B213,INDIRECT(\"'\"&$J$1&\"'!\"&\"$C$2:$G$200\"),5,FALSE),0)","v":0},{"$f":"IFERROR(VLOOKUP(B213,INDIRECT(\"'\"&$L$1&\"'!\"&\"$C$2:$G$200\"),4,FALSE),\"\")","v":""},{"$f":"IFERROR(VLOOKUP(B213,INDIRECT(\"'\"&$L$1&\"'!\"&\"$C$2:$G$200\"),5,FALSE),0)","v":0},{"$f":"IFERROR(VLOOKUP(B213,INDIRECT(\"'\"&$N$1&\"'!\"&\"$C$2:$G$200\"),4,FALSE),\"\")","v":""},{"$f":"IFERROR(VLOOKUP(B213,INDIRECT(\"'\"&$N$1&\"'!\"&\"$C$2:$G$200\"),5,FALSE),0)","v":0},{"$f":"IFERROR(VLOOKUP(B213,INDIRECT(\"'\"&$P$1&\"'!\"&\"$C$2:$G$200\"),4,FALSE),\"\")","v":""},{"$f":"IFERROR(VLOOKUP(B213,INDIRECT(\"'\"&$P$1&\"'!\"&\"$C$2:$G$200\"),5,FALSE),0)","v":0},{"$f":"IFERROR(VLOOKUP(B213,INDIRECT(\"'\"&$R$1&\"'!\"&\"$C$2:$G$200\"),4,FALSE),\"\")","v":""},{"$f":"IFERROR(VLOOKUP(B213,INDIRECT(\"'\"&$R$1&\"'!\"&\"$C$2:$G$200\"),5,FALSE),0)","v":0},{"$f":"IFERROR(VLOOKUP(B213,INDIRECT(\"'\"&$T$1&\"'!\"&\"$C$2:$G$200\"),4,FALSE),\"\")","v":""},{"$f":"IFERROR(VLOOKUP(B213,INDIRECT(\"'\"&$T$1&\"'!\"&\"$C$2:$G$200\"),5,FALSE),0)","v":0},{"$f":"8-COUNTIF(F213:U213,\"\")","v":1},{"$f":"E213/IF(V213>4,5,V213)","v":73.998652392004189}]
[212,"Jason King","LMRT","M40",{"$f":"SUM(LARGE((S214,G214,I214,K214,M214,O214,Q214,U214),{1,2,3,4,5}))","v":73.848918170247813},{"$f":"IFERROR(VLOOKUP(B214,INDIRECT(\"'\"&$F$1&\"'!\"&\"$C$2:$G$200\"),4,FALSE),\"\")","v":""},{"$f":"IFERROR(VLOOKUP(B214,INDIRECT(\"'\"&$F$1&\"'!\"&\"$C$2:$G$200\"),5,FALSE),0)","v":0},{"$f":"IFERROR(VLOOKUP(B214,INDIRECT(\"'\"&$H$1&\"'!\"&\"$C$2:$G$200\"),4,FALSE),\"\")","v":3.9004629629629632E-2},{"$f":"IFERROR(VLOOKUP(B214,INDIRECT(\"'\"&$H$1&\"'!\"&\"$C$2:$G$200\"),5,FALSE),0)","v":73.848918170247813},{"$f":"IFERROR(VLOOKUP(B214,INDIRECT(\"'\"&$J$1&\"'!\"&\"$C$2:$G$200\"),4,FALSE),\"\")","v":""},{"$f":"IFERROR(VLOOKUP(B214,INDIRECT(\"'\"&$J$1&\"'!\"&\"$C$2:$G$200\"),5,FALSE),0)","v":0},{"$f":"IFERROR(VLOOKUP(B214,INDIRECT(\"'\"&$L$1&\"'!\"&\"$C$2:$G$200\"),4,FALSE),\"\")","v":""},{"$f":"IFERROR(VLOOKUP(B214,INDIRECT(\"'\"&$L$1&\"'!\"&\"$C$2:$G$200\"),5,FALSE),0)","v":0},{"$f":"IFERROR(VLOOKUP(B214,INDIRECT(\"'\"&$N$1&\"'!\"&\"$C$2:$G$200\"),4,FALSE),\"\")","v":""},{"$f":"IFERROR(VLOOKUP(B214,INDIRECT(\"'\"&$N$1&\"'!\"&\"$C$2:$G$200\"),5,FALSE),0)","v":0},{"$f":"IFERROR(VLOOKUP(B214,INDIRECT(\"'\"&$P$1&\"'!\"&\"$C$2:$G$200\"),4,FALSE),\"\")","v":""},{"$f":"IFERROR(VLOOKUP(B214,INDIRECT(\"'\"&$P$1&\"'!\"&\"$C$2:$G$200\"),5,FALSE),0)","v":0},{"$f":"IFERROR(VLOOKUP(B214,INDIRECT(\"'\"&$R$1&\"'!\"&\"$C$2:$G$200\"),4,FALSE),\"\")","v":""},{"$f":"IFERROR(VLOOKUP(B214,INDIRECT(\"'\"&$R$1&\"'!\"&\"$C$2:$G$200\"),5,FALSE),0)","v":0},{"$f":"IFERROR(VLOOKUP(B214,INDIRECT(\"'\"&$T$1&\"'!\"&\"$C$2:$G$200\"),4,FALSE),\"\")","v":""},{"$f":"IFERROR(VLOOKUP(B214,INDIRECT(\"'\"&$T$1&\"'!\"&\"$C$2:$G$200\"),5,FALSE),0)","v":0},{"$f":"8-COUNTIF(F214:U214,\"\")","v":1},{"$f":"E214/IF(V214>4,5,V214)","v":73.848918170247813}]
[213,"Elliw Haf","Eryri","SF",{"$f":"SUM(LARGE((S215,G215,I215,K215,M215,O215,Q215,U215),{1,2,3,4,5}))","v":73.822256175197339},{"$f":"IFERROR(VLOOKUP(B215,INDIRECT(\"'\"&$F$1&\"'!\"&\"$C$2:$G$200\"),4,FALSE),\"\")","v":""},{"$f":"IFERROR(VLOOKUP(B215,INDIRECT(\"'\"&$F$1&\"'!\"&\"$C$2:$G$200\"),5,FALSE),0)","v":0},{"$f":"IFERROR(VLOOKUP(B215,INDIRECT(\"'\"&$H$1&\"'!\"&\"$C$2:$G$200\"),4,FALSE),\"\")","v":""},{"$f":"IFERROR(VLOOKUP(B215,INDIRECT(\"'\"&$H$1&\"'!\"&\"$C$2:$G$200\"),5,FALSE),0)","v":0},{"$f":"IFERROR(VLOOKUP(B215,INDIRECT(\"'\"&$J$1&\"'!\"&\"$C$2:$G$200\"),4,FALSE),\"\")","v":""},{"$f":"IFERROR(VLOOKUP(B215,INDIRECT(\"'\"&$J$1&\"'!\"&\"$C$2:$G$200\"),5,FALSE),0)","v":0},{"$f":"IFERROR(VLOOKUP(B215,INDIRECT(\"'\"&$L$1&\"'!\"&\"$C$2:$G$200\"),4,FALSE),\"\")","v":""},{"$f":"IFERROR(VLOOKUP(B215,INDIRECT(\"'\"&$L$1&\"'!\"&\"$C$2:$G$200\"),5,FALSE),0)","v":0},{"$f":"IFERROR(VLOOKUP(B215,INDIRECT(\"'\"&$N$1&\"'!\"&\"$C$2:$G$200\"),4,FALSE),\"\")","v":""},{"$f":"IFERROR(VLOOKUP(B215,INDIRECT(\"'\"&$N$1&\"'!\"&\"$C$2:$G$200\"),5,FALSE),0)","v":0},{"$f":"IFERROR(VLOOKUP(B215,INDIRECT(\"'\"&$P$1&\"'!\"&\"$C$2:$G$200\"),4,FALSE),\"\")","v":""},{"$f":"IFERROR(VLOOKUP(B215,INDIRECT(\"'\"&$P$1&\"'!\"&\"$C$2:$G$200\"),5,FALSE),0)","v":0},{"$f":"IFERROR(VLOOKUP(B215,INDIRECT(\"'\"&$R$1&\"'!\"&\"$C$2:$G$200\"),4,FALSE),\"\")","v":""},{"$f":"IFERROR(VLOOKUP(B215,INDIRECT(\"'\"&$R$1&\"'!\"&\"$C$2:$G$200\"),5,FALSE),0)","v":0},{"$f":"IFERROR(VLOOKUP(B215,INDIRECT(\"'\"&$T$1&\"'!\"&\"$C$2:$G$200\"),4,FALSE),\"\")","v":4.5879629629629631E-2},{"$f":"IFERROR(VLOOKUP(B215,INDIRECT(\"'\"&$T$1&\"'!\"&\"$C$2:$G$200\"),5,FALSE),0)","v":73.822256175197339},{"$f":"8-COUNTIF(F215:U215,\"\")","v":1},{"$f":"E215/IF(V215>4,5,V215)","v":73.822256175197339}]
[214,"Rob Smith","Unaffiliated","M50",{"$f":"SUM(LARGE((S216,G216,I216,K216,M216,O216,Q216,U216),{1,2,3,4,5}))","v":73.664200575421319},{"$f":"IFERROR(VLOOKUP(B216,INDIRECT(\"'\"&$F$1&\"'!\"&\"$C$2:$G$200\"),4,FALSE),\"\")","v":""},{"$f":"IFERROR(VLOOKUP(B216,INDIRECT(\"'\"&$F$1&\"'!\"&\"$C$2:$G$200\"),5,FALSE),0)","v":0},{"$f":"IFERROR(VLOOKUP(B216,INDIRECT(\"'\"&$H$1&\"'!\"&\"$C$2:$G$200\"),4,FALSE),\"\")","v":""},{"$f":"IFERROR(VLOOKUP(B216,INDIRECT(\"'\"&$H$1&\"'!\"&\"$C$2:$G$200\"),5,FALSE),0)","v":0},{"$f":"IFERROR(VLOOKUP(B216,INDIRECT(\"'\"&$J$1&\"'!\"&\"$C$2:$G$200\"),4,FALSE),\"\")","v":""},{"$f":"IFERROR(VLOOKUP(B216,INDIRECT(\"'\"&$J$1&\"'!\"&\"$C$2:$G$200\"),5,FALSE),0)","v":0},{"$f":"IFERROR(VLOOKUP(B216,INDIRECT(\"'\"&$L$1&\"'!\"&\"$C$2:$G$200\"),4,FALSE),\"\")","v":""},{"$f":"IFERROR(VLOOKUP(B216,INDIRECT(\"'\"&$L$1&\"'!\"&\"$C$2:$G$200\"),5,FALSE),0)","v":0},{"$f":"IFERROR(VLOOKUP(B216,INDIRECT(\"'\"&$N$1&\"'!\"&\"$C$2:$G$200\"),4,FALSE),\"\")","v":2.8460648148148148E-2},{"$f":"IFERROR(VLOOKUP(B216,INDIRECT(\"'\"&$N$1&\"'!\"&\"$C$2:$G$200\"),5,FALSE),0)","v":73.664200575421319},{"$f":"IFERROR(VLOOKUP(B216,INDIRECT(\"'\"&$P$1&\"'!\"&\"$C$2:$G$200\"),4,FALSE),\"\")","v":""},{"$f":"IFERROR(VLOOKUP(B216,INDIRECT(\"'\"&$P$1&\"'!\"&\"$C$2:$G$200\"),5,FALSE),0)","v":0},{"$f":"IFERROR(VLOOKUP(B216,INDIRECT(\"'\"&$R$1&\"'!\"&\"$C$2:$G$200\"),4,FALSE),\"\")","v":""},{"$f":"IFERROR(VLOOKUP(B216,INDIRECT(\"'\"&$R$1&\"'!\"&\"$C$2:$G$200\"),5,FALSE),0)","v":0},{"$f":"IFERROR(VLOOKUP(B216,INDIRECT(\"'\"&$T$1&\"'!\"&\"$C$2:$G$200\"),4,FALSE),\"\")","v":""},{"$f":"IFERROR(VLOOKUP(B216,INDIRECT(\"'\"&$T$1&\"'!\"&\"$C$2:$G$200\"),5,FALSE),0)","v":0},{"$f":"8-COUNTIF(F216:U216,\"\")","v":1},{"$f":"E216/IF(V216>4,5,V216)","v":73.664200575421319}]
[215,"Anderson Hirst","Unaffiliated","M50",{"$f":"SUM(LARGE((S217,G217,I217,K217,M217,O217,Q217,U217),{1,2,3,4,5}))","v":73.599439775910369},{"$f":"IFERROR(VLOOKUP(B217,INDIRECT(\"'\"&$F$1&\"'!\"&\"$C$2:$G$200\"),4,FALSE),\"\")","v":""},{"$f":"IFERROR(VLOOKUP(B217,INDIRECT(\"'\"&$F$1&\"'!\"&\"$C$2:$G$200\"),5,FALSE),0)","v":0},{"$f":"IFERROR(VLOOKUP(B217,INDIRECT(\"'\"&$H$1&\"'!\"&\"$C$2:$G$200\"),4,FALSE),\"\")","v":""},{"$f":"IFERROR(VLOOKUP(B217,INDIRECT(\"'\"&$H$1&\"'!\"&\"$C$2:$G$200\"),5,FALSE),0)","v":0},{"$f":"IFERROR(VLOOKUP(B217,INDIRECT(\"'\"&$J$1&\"'!\"&\"$C$2:$G$200\"),4,FALSE),\"\")","v":""},{"$f":"IFERROR(VLOOKUP(B217,INDIRECT(\"'\"&$J$1&\"'!\"&\"$C$2:$G$200\"),5,FALSE),0)","v":0},{"$f":"IFERROR(VLOOKUP(B217,INDIRECT(\"'\"&$L$1&\"'!\"&\"$C$2:$G$200\"),4,FALSE),\"\")","v":""},{"$f":"IFERROR(VLOOKUP(B217,INDIRECT(\"'\"&$L$1&\"'!\"&\"$C$2:$G$200\"),5,FALSE),0)","v":0},{"$f":"IFERROR(VLOOKUP(B217,INDIRECT(\"'\"&$N$1&\"'!\"&\"$C$2:$G$200\"),4,FALSE),\"\")","v":""},{"$f":"IFERROR(VLOOKUP(B217,INDIRECT(\"'\"&$N$1&\"'!\"&\"$C$2:$G$200\"),5,FALSE),0)","v":0},{"$f":"IFERROR(VLOOKUP(B217,INDIRECT(\"'\"&$P$1&\"'!\"&\"$C$2:$G$200\"),4,FALSE),\"\")","v":""},{"$f":"IFERROR(VLOOKUP(B217,INDIRECT(\"'\"&$P$1&\"'!\"&\"$C$2:$G$200\"),5,FALSE),0)","v":0},{"$f":"IFERROR(VLOOKUP(B217,INDIRECT(\"'\"&$R$1&\"'!\"&\"$C$2:$G$200\"),4,FALSE),\"\")","v":""},{"$f":"IFERROR(VLOOKUP(B217,INDIRECT(\"'\"&$R$1&\"'!\"&\"$C$2:$G$200\"),5,FALSE),0)","v":0},{"$f":"IFERROR(VLOOKUP(B217,INDIRECT(\"'\"&$T$1&\"'!\"&\"$C$2:$G$200\"),4,FALSE),\"\")","v":4.5960648148148146E-2},{"$f":"IFERROR(VLOOKUP(B217,INDIRECT(\"'\"&$T$1&\"'!\"&\"$C$2:$G$200\"),5,FALSE),0)","v":73.599439775910369},{"$f":"8-COUNTIF(F217:U217,\"\")","v":1},{"$f":"E217/IF(V217>4,5,V217)","v":73.599439775910369}]
[216,"Jamie Bishop","Pontypridd Roadents","SM",{"$f":"SUM(LARGE((S218,G218,I218,K218,M218,O218,Q218,U218),{1,2,3,4,5}))","v":73.380072232844668},{"$f":"IFERROR(VLOOKUP(B218,INDIRECT(\"'\"&$F$1&\"'!\"&\"$C$2:$G$200\"),4,FALSE),\"\")","v":""},{"$f":"IFERROR(VLOOKUP(B218,INDIRECT(\"'\"&$F$1&\"'!\"&\"$C$2:$G$200\"),5,FALSE),0)","v":0},{"$f":"IFERROR(VLOOKUP(B218,INDIRECT(\"'\"&$H$1&\"'!\"&\"$C$2:$G$200\"),4,FALSE),\"\")","v":""},{"$f":"IFERROR(VLOOKUP(B218,INDIRECT(\"'\"&$H$1&\"'!\"&\"$C$2:$G$200\"),5,FALSE),0)","v":0},{"$f":"IFERROR(VLOOKUP(B218,INDIRECT(\"'\"&$J$1&\"'!\"&\"$C$2:$G$200\"),4,FALSE),\"\")","v":""},{"$f":"IFERROR(VLOOKUP(B218,INDIRECT(\"'\"&$J$1&\"'!\"&\"$C$2:$G$200\"),5,FALSE),0)","v":0},{"$f":"IFERROR(VLOOKUP(B218,INDIRECT(\"'\"&$L$1&\"'!\"&\"$C$2:$G$200\"),4,FALSE),\"\")","v":""},{"$f":"IFERROR(VLOOKUP(B218,INDIRECT(\"'\"&$L$1&\"'!\"&\"$C$2:$G$200\"),5,FALSE),0)","v":0},{"$f":"IFERROR(VLOOKUP(B218,INDIRECT(\"'\"&$N$1&\"'!\"&\"$C$2:$G$200\"),4,FALSE),\"\")","v":""},{"$f":"IFERROR(VLOOKUP(B218,INDIRECT(\"'\"&$N$1&\"'!\"&\"$C$2:$G$200\"),5,FALSE),0)","v":0},{"$f":"IFERROR(VLOOKUP(B218,INDIRECT(\"'\"&$P$1&\"'!\"&\"$C$2:$G$200\"),4,FALSE),\"\")","v":2.7592592592592596E-2},{"$f":"IFERROR(VLOOKUP(B218,INDIRECT(\"'\"&$P$1&\"'!\"&\"$C$2:$G$200\"),5,FALSE),0)","v":73.380072232844668},{"$f":"IFERROR(VLOOKUP(B218,INDIRECT(\"'\"&$R$1&\"'!\"&\"$C$2:$G$200\"),4,FALSE),\"\")","v":""},{"$f":"IFERROR(VLOOKUP(B218,INDIRECT(\"'\"&$R$1&\"'!\"&\"$C$2:$G$200\"),5,FALSE),0)","v":0},null,{"$f":"IFERROR(VLOOKUP(B218,INDIRECT(\"'\"&$T$1&\"'!\"&\"$C$2:$G$200\"),5,FALSE),0)","v":0},{"$f":"8-COUNTIF(F218:U218,\"\")","v":1},{"$f":"E218/IF(V218>4,5,V218)","v":73.380072232844668}]
[217,"Michael Roberts","Unaffiliated","M40",{"$f":"SUM(LARGE((S219,G219,I219,K219,M219,O219,Q219,U219),{1,2,3,4,5}))","v":73.380072232844668},{"$f":"IFERROR(VLOOKUP(B219,INDIRECT(\"'\"&$F$1&\"'!\"&\"$C$2:$G$200\"),4,FALSE),\"\")","v":""},{"$f":"IFERROR(VLOOKUP(B219,INDIRECT(\"'\"&$F$1&\"'!\"&\"$C$2:$G$200\"),5,FALSE),0)","v":0},{"$f":"IFERROR(VLOOKUP(B219,INDIRECT(\"'\"&$H$1&\"'!\"&\"$C$2:$G$200\"),4,FALSE),\"\")","v":""},{"$f":"IFERROR(VLOOKUP(B219,INDIRECT(\"'\"&$H$1&\"'!\"&\"$C$2:$G$200\"),5,FALSE),0)","v":0},{"$f":"IFERROR(VLOOKUP(B219,INDIRECT(\"'\"&$J$1&\"'!\"&\"$C$2:$G$200\"),4,FALSE),\"\")","v":""},{"$f":"IFERROR(VLOOKUP(B219,INDIRECT(\"'\"&$J$1&\"'!\"&\"$C$2:$G$200\"),5,FALSE),0)","v":0},{"$f":"IFERROR(VLOOKUP(B219,INDIRECT(\"'\"&$L$1&\"'!\"&\"$C$2:$G$200\"),4,FALSE),\"\")","v":""},{"$f":"IFERROR(VLOOKUP(B219,INDIRECT(\"'\"&$L$1&\"'!\"&\"$C$2:$G$200\"),5,FALSE),0)","v":0},{"$f":"IFERROR(VLOOKUP(B219,INDIRECT(\"'\"&$N$1&\"'!\"&\"$C$2:$G$200\"),4,FALSE),\"\")","v":""},{"$f":"IFERROR(VLOOKUP(B219,INDIRECT(\"'\"&$N$1&\"'!\"&\"$C$2:$G$200\"),5,FALSE),0)","v":0},{"$f":"IFERROR(VLOOKUP(B219,INDIRECT(\"'\"&$P$1&\"'!\"&\"$C$2:$G$200\"),4,FALSE),\"\")","v":2.7592592592592596E-2},{"$f":"IFERROR(VLOOKUP(B219,INDIRECT(\"'\"&$P$1&\"'!\"&\"$C$2:$G$200\"),5,FALSE),0)","v":73.380072232844668},{"$f":"IFERROR(VLOOKUP(B219,INDIRECT(\"'\"&$R$1&\"'!\"&\"$C$2:$G$200\"),4,FALSE),\"\")","v":""},{"$f":"IFERROR(VLOOKUP(B219,INDIRECT(\"'\"&$R$1&\"'!\"&\"$C$2:$G$200\"),5,FALSE),0)","v":0},{"$f":"IFERROR(VLOOKUP(B219,INDIRECT(\"'\"&$T$1&\"'!\"&\"$C$2:$G$200\"),4,FALSE),\"\")","v":""},{"$f":"IFERROR(VLOOKUP(B219,INDIRECT(\"'\"&$T$1&\"'!\"&\"$C$2:$G$200\"),5,FALSE),0)","v":0},{"$f":"8-COUNTIF(F219:U219,\"\")","v":1},{"$f":"E219/IF(V219>4,5,V219)","v":73.380072232844668}]
[218,"Debbie Stenner","Forest Of Dean AC","F40",{"$f":"SUM(LARGE((S220,G220,I220,K220,M220,O220,Q220,U220),{1,2,3,4,5}))","v":73.150431565967963},{"$f":"IFERROR(VLOOKUP(B220,INDIRECT(\"'\"&$F$1&\"'!\"&\"$C$2:$G$200\"),4,FALSE),\"\")","v":""},{"$f":"IFERROR(VLOOKUP(B220,INDIRECT(\"'\"&$F$1&\"'!\"&\"$C$2:$G$200\"),5,FALSE),0)","v":0},{"$f":"IFERROR(VLOOKUP(B220,INDIRECT(\"'\"&$H$1&\"'!\"&\"$C$2:$G$200\"),4,FALSE),\"\")","v":""},{"$f":"IFERROR(VLOOKUP(B220,INDIRECT(\"'\"&$H$1&\"'!\"&\"$C$2:$G$200\"),5,FALSE),0)","v":0},{"$f":"IFERROR(VLOOKUP(B220,INDIRECT(\"'\"&$J$1&\"'!\"&\"$C$2:$G$200\"),4,FALSE),\"\")","v":""},{"$f":"IFERROR(VLOOKUP(B220,INDIRECT(\"'\"&$J$1&\"'!\"&\"$C$2:$G$200\"),5,FALSE),0)","v":0},{"$f":"IFERROR(VLOOKUP(B220,INDIRECT(\"'\"&$L$1&\"'!\"&\"$C$2:$G$200\"),4,FALSE),\"\")","v":""},{"$f":"IFERROR(VLOOKUP(B220,INDIRECT(\"'\"&$L$1&\"'!\"&\"$C$2:$G$200\"),5,FALSE),0)","v":0},{"$f":"IFERROR(VLOOKUP(B220,INDIRECT(\"'\"&$N$1&\"'!\"&\"$C$2:$G$200\"),4,FALSE),\"\")","v":2.8576388888888887E-2},{"$f":"IFERROR(VLOOKUP(B220,INDIRECT(\"'\"&$N$1&\"'!\"&\"$C$2:$G$200\"),5,FALSE),0)","v":73.150431565967963},{"$f":"IFERROR(VLOOKUP(B220,INDIRECT(\"'\"&$P$1&\"'!\"&\"$C$2:$G$200\"),4,FALSE),\"\")","v":""},{"$f":"IFERROR(VLOOKUP(B220,INDIRECT(\"'\"&$P$1&\"'!\"&\"$C$2:$G$200\"),5,FALSE),0)","v":0},{"$f":"IFERROR(VLOOKUP(B220,INDIRECT(\"'\"&$R$1&\"'!\"&\"$C$2:$G$200\"),4,FALSE),\"\")","v":""},{"$f":"IFERROR(VLOOKUP(B220,INDIRECT(\"'\"&$R$1&\"'!\"&\"$C$2:$G$200\"),5,FALSE),0)","v":0},{"$f":"IFERROR(VLOOKUP(B220,INDIRECT(\"'\"&$T$1&\"'!\"&\"$C$2:$G$200\"),4,FALSE),\"\")","v":""},{"$f":"IFERROR(VLOOKUP(B220,INDIRECT(\"'\"&$T$1&\"'!\"&\"$C$2:$G$200\"),5,FALSE),0)","v":0},{"$f":"8-COUNTIF(F220:U220,\"\")","v":1},{"$f":"E220/IF(V220>4,5,V220)","v":73.150431565967963}]
[219,"Darren Hill","Taff Ely Triathlon","M40",{"$f":"SUM(LARGE((S221,G221,I221,K221,M221,O221,Q221,U221),{1,2,3,4,5}))","v":72.477161674102391},{"$f":"IFERROR(VLOOKUP(B221,INDIRECT(\"'\"&$F$1&\"'!\"&\"$C$2:$G$200\"),4,FALSE),\"\")","v":""},{"$f":"IFERROR(VLOOKUP(B221,INDIRECT(\"'\"&$F$1&\"'!\"&\"$C$2:$G$200\"),5,FALSE),0)","v":0},{"$f":"IFERROR(VLOOKUP(B221,INDIRECT(\"'\"&$H$1&\"'!\"&\"$C$2:$G$200\"),4,FALSE),\"\")","v":""},{"$f":"IFERROR(VLOOKUP(B221,INDIRECT(\"'\"&$H$1&\"'!\"&\"$C$2:$G$200\"),5,FALSE),0)","v":0},{"$f":"IFERROR(VLOOKUP(B221,INDIRECT(\"'\"&$J$1&\"'!\"&\"$C$2:$G$200\"),4,FALSE),\"\")","v":""},{"$f":"IFERROR(VLOOKUP(B221,INDIRECT(\"'\"&$J$1&\"'!\"&\"$C$2:$G$200\"),5,FALSE),0)","v":0},{"$f":"IFERROR(VLOOKUP(B221,INDIRECT(\"'\"&$L$1&\"'!\"&\"$C$2:$G$200\"),4,FALSE),\"\")","v":""},{"$f":"IFERROR(VLOOKUP(B221,INDIRECT(\"'\"&$L$1&\"'!\"&\"$C$2:$G$200\"),5,FALSE),0)","v":0},{"$f":"IFERROR(VLOOKUP(B221,INDIRECT(\"'\"&$N$1&\"'!\"&\"$C$2:$G$200\"),4,FALSE),\"\")","v":""},{"$f":"IFERROR(VLOOKUP(B221,INDIRECT(\"'\"&$N$1&\"'!\"&\"$C$2:$G$200\"),5,FALSE),0)","v":0},{"$f":"IFERROR(VLOOKUP(B221,INDIRECT(\"'\"&$P$1&\"'!\"&\"$C$2:$G$200\"),4,FALSE),\"\")","v":2.7789351851851853E-2},{"$f":"IFERROR(VLOOKUP(B221,INDIRECT(\"'\"&$P$1&\"'!\"&\"$C$2:$G$200\"),5,FALSE),0)","v":72.477161674102391},{"$f":"IFERROR(VLOOKUP(B221,INDIRECT(\"'\"&$R$1&\"'!\"&\"$C$2:$G$200\"),4,FALSE),\"\")","v":""},{"$f":"IFERROR(VLOOKUP(B221,INDIRECT(\"'\"&$R$1&\"'!\"&\"$C$2:$G$200\"),5,FALSE),0)","v":0},{"$f":"IFERROR(VLOOKUP(B221,INDIRECT(\"'\"&$T$1&\"'!\"&\"$C$2:$G$200\"),4,FALSE),\"\")","v":""},{"$f":"IFERROR(VLOOKUP(B221,INDIRECT(\"'\"&$T$1&\"'!\"&\"$C$2:$G$200\"),5,FALSE),0)","v":0},{"$f":"8-COUNTIF(F221:U221,\"\")","v":1},{"$f":"E221/IF(V221>4,5,V221)","v":72.477161674102391}]
[220,"Hywel Loveluck","Carduro","M50",{"$f":"SUM(LARGE((S222,G222,I222,K222,M222,O222,Q222,U222),{1,2,3,4,5}))","v":72.426443063562203},{"$f":"IFERROR(VLOOKUP(B222,INDIRECT(\"'\"&$F$1&\"'!\"&\"$C$2:$G$200\"),4,FALSE),\"\")","v":""},{"$f":"IFERROR(VLOOKUP(B222,INDIRECT(\"'\"&$F$1&\"'!\"&\"$C$2:$G$200\"),5,FALSE),0)","v":0},{"$f":"IFERROR(VLOOKUP(B222,INDIRECT(\"'\"&$H$1&\"'!\"&\"$C$2:$G$200\"),4,FALSE),\"\")","v":3.9444444444444442E-2},{"$f":"IFERROR(VLOOKUP(B222,INDIRECT(\"'\"&$H$1&\"'!\"&\"$C$2:$G$200\"),5,FALSE),0)","v":72.426443063562203},{"$f":"IFERROR(VLOOKUP(B222,INDIRECT(\"'\"&$J$1&\"'!\"&\"$C$2:$G$200\"),4,FALSE),\"\")","v":""},{"$f":"IFERROR(VLOOKUP(B222,INDIRECT(\"'\"&$J$1&\"'!\"&\"$C$2:$G$200\"),5,FALSE),0)","v":0},{"$f":"IFERROR(VLOOKUP(B222,INDIRECT(\"'\"&$L$1&\"'!\"&\"$C$2:$G$200\"),4,FALSE),\"\")","v":""},{"$f":"IFERROR(VLOOKUP(B222,INDIRECT(\"'\"&$L$1&\"'!\"&\"$C$2:$G$200\"),5,FALSE),0)","v":0},{"$f":"IFERROR(VLOOKUP(B222,INDIRECT(\"'\"&$N$1&\"'!\"&\"$C$2:$G$200\"),4,FALSE),\"\")","v":""},{"$f":"IFERROR(VLOOKUP(B222,INDIRECT(\"'\"&$N$1&\"'!\"&\"$C$2:$G$200\"),5,FALSE),0)","v":0},{"$f":"IFERROR(VLOOKUP(B222,INDIRECT(\"'\"&$P$1&\"'!\"&\"$C$2:$G$200\"),4,FALSE),\"\")","v":""},{"$f":"IFERROR(VLOOKUP(B222,INDIRECT(\"'\"&$P$1&\"'!\"&\"$C$2:$G$200\"),5,FALSE),0)","v":0},{"$f":"IFERROR(VLOOKUP(B222,INDIRECT(\"'\"&$R$1&\"'!\"&\"$C$2:$G$200\"),4,FALSE),\"\")","v":""},{"$f":"IFERROR(VLOOKUP(B222,INDIRECT(\"'\"&$R$1&\"'!\"&\"$C$2:$G$200\"),5,FALSE),0)","v":0},{"$f":"IFERROR(VLOOKUP(B222,INDIRECT(\"'\"&$T$1&\"'!\"&\"$C$2:$G$200\"),4,FALSE),\"\")","v":""},{"$f":"IFERROR(VLOOKUP(B222,INDIRECT(\"'\"&$T$1&\"'!\"&\"$C$2:$G$200\"),5,FALSE),0)","v":0},{"$f":"8-COUNTIF(F222:U222,\"\")","v":1},{"$f":"E222/IF(V222>4,5,V222)","v":72.426443063562203}]
[221,"Gary Leavson","Croft Ambrey","M40",{"$f":"SUM(LARGE((S223,G223,I223,K223,M223,O223,Q223,U223),{1,2,3,4,5}))","v":72.326203208556123},{"$f":"IFERROR(VLOOKUP(B223,INDIRECT(\"'\"&$F$1&\"'!\"&\"$C$2:$G$200\"),4,FALSE),\"\")","v":""},{"$f":"IFERROR(VLOOKUP(B223,INDIRECT(\"'\"&$F$1&\"'!\"&\"$C$2:$G$200\"),5,FALSE),0)","v":0},{"$f":"IFERROR(VLOOKUP(B223,INDIRECT(\"'\"&$H$1&\"'!\"&\"$C$2:$G$200\"),4,FALSE),\"\")","v":""},{"$f":"IFERROR(VLOOKUP(B223,INDIRECT(\"'\"&$H$1&\"'!\"&\"$C$2:$G$200\"),5,FALSE),0)","v":0},{"$f":"IFERROR(VLOOKUP(B223,INDIRECT(\"'\"&$J$1&\"'!\"&\"$C$2:$G$200\"),4,FALSE),\"\")","v":""},{"$f":"IFERROR(VLOOKUP(B223,INDIRECT(\"'\"&$J$1&\"'!\"&\"$C$2:$G$200\"),5,FALSE),0)","v":0},{"$f":"IFERROR(VLOOKUP(B223,INDIRECT(\"'\"&$L$1&\"'!\"&\"$C$2:$G$200\"),4,FALSE),\"\")","v":""},{"$f":"IFERROR(VLOOKUP(B223,INDIRECT(\"'\"&$L$1&\"'!\"&\"$C$2:$G$200\"),5,FALSE),0)","v":0},{"$f":"IFERROR(VLOOKUP(B223,INDIRECT(\"'\"&$N$1&\"'!\"&\"$C$2:$G$200\"),4,FALSE),\"\")","v":""},{"$f":"IFERROR(VLOOKUP(B223,INDIRECT(\"'\"&$N$1&\"'!\"&\"$C$2:$G$200\"),5,FALSE),0)","v":0},{"$f":"IFERROR(VLOOKUP(B223,INDIRECT(\"'\"&$P$1&\"'!\"&\"$C$2:$G$200\"),4,FALSE),\"\")","v":""},{"$f":"IFERROR(VLOOKUP(B223,INDIRECT(\"'\"&$P$1&\"'!\"&\"$C$2:$G$200\"),5,FALSE),0)","v":0},{"$f":"IFERROR(VLOOKUP(B223,INDIRECT(\"'\"&$R$1&\"'!\"&\"$C$2:$G$200\"),4,FALSE),\"\")","v":""},{"$f":"IFERROR(VLOOKUP(B223,INDIRECT(\"'\"&$R$1&\"'!\"&\"$C$2:$G$200\"),5,FALSE),0)","v":0},{"$f":"IFERROR(VLOOKUP(B223,INDIRECT(\"'\"&$T$1&\"'!\"&\"$C$2:$G$200\"),4,FALSE),\"\")","v":4.6423611111111117E-2},{"$f":"IFERROR(VLOOKUP(B223,INDIRECT(\"'\"&$T$1&\"'!\"&\"$C$2:$G$200\"),5,FALSE),0)","v":72.326203208556123},{"$f":"8-COUNTIF(F223:U223,\"\")","v":1},{"$f":"E223/IF(V223>4,5,V223)","v":72.326203208556123}]
[222,"Christopher Pudney","Newbury","M50",{"$f":"SUM(LARGE((S224,G224,I224,K224,M224,O224,Q224,U224),{1,2,3,4,5}))","v":72.126974620049438},{"$f":"IFERROR(VLOOKUP(B224,INDIRECT(\"'\"&$F$1&\"'!\"&\"$C$2:$G$200\"),4,FALSE),\"\")","v":""},{"$f":"IFERROR(VLOOKUP(B224,INDIRECT(\"'\"&$F$1&\"'!\"&\"$C$2:$G$200\"),5,FALSE),0)","v":0},{"$f":"IFERROR(VLOOKUP(B224,INDIRECT(\"'\"&$H$1&\"'!\"&\"$C$2:$G$200\"),4,FALSE),\"\")","v":3.953703703703703E-2},{"$f":"IFERROR(VLOOKUP(B224,INDIRECT(\"'\"&$H$1&\"'!\"&\"$C$2:$G$200\"),5,FALSE),0)","v":72.126974620049438},{"$f":"IFERROR(VLOOKUP(B224,INDIRECT(\"'\"&$J$1&\"'!\"&\"$C$2:$G$200\"),4,FALSE),\"\")","v":""},{"$f":"IFERROR(VLOOKUP(B224,INDIRECT(\"'\"&$J$1&\"'!\"&\"$C$2:$G$200\"),5,FALSE),0)","v":0},{"$f":"IFERROR(VLOOKUP(B224,INDIRECT(\"'\"&$L$1&\"'!\"&\"$C$2:$G$200\"),4,FALSE),\"\")","v":""},{"$f":"IFERROR(VLOOKUP(B224,INDIRECT(\"'\"&$L$1&\"'!\"&\"$C$2:$G$200\"),5,FALSE),0)","v":0},{"$f":"IFERROR(VLOOKUP(B224,INDIRECT(\"'\"&$N$1&\"'!\"&\"$C$2:$G$200\"),4,FALSE),\"\")","v":""},{"$f":"IFERROR(VLOOKUP(B224,INDIRECT(\"'\"&$N$1&\"'!\"&\"$C$2:$G$200\"),5,FALSE),0)","v":0},{"$f":"IFERROR(VLOOKUP(B224,INDIRECT(\"'\"&$P$1&\"'!\"&\"$C$2:$G$200\"),4,FALSE),\"\")","v":""},{"$f":"IFERROR(VLOOKUP(B224,INDIRECT(\"'\"&$P$1&\"'!\"&\"$C$2:$G$200\"),5,FALSE),0)","v":0},{"$f":"IFERROR(VLOOKUP(B224,INDIRECT(\"'\"&$R$1&\"'!\"&\"$C$2:$G$200\"),4,FALSE),\"\")","v":""},{"$f":"IFERROR(VLOOKUP(B224,INDIRECT(\"'\"&$R$1&\"'!\"&\"$C$2:$G$200\"),5,FALSE),0)","v":0},{"$f":"IFERROR(VLOOKUP(B224,INDIRECT(\"'\"&$T$1&\"'!\"&\"$C$2:$G$200\"),4,FALSE),\"\")","v":""},{"$f":"IFERROR(VLOOKUP(B224,INDIRECT(\"'\"&$T$1&\"'!\"&\"$C$2:$G$200\"),5,FALSE),0)","v":0},{"$f":"8-COUNTIF(F224:U224,\"\")","v":1},{"$f":"E224/IF(V224>4,5,V224)","v":72.126974620049438}]
[223,"Helen Marshall","West Wales","SF",{"$f":"SUM(LARGE((S225,G225,I225,K225,M225,O225,Q225,U225),{1,2,3,4,5}))","v":72.007894066717597},{"$f":"IFERROR(VLOOKUP(B225,INDIRECT(\"'\"&$F$1&\"'!\"&\"$C$2:$G$200\"),4,FALSE),\"\")","v":""},{"$f":"IFERROR(VLOOKUP(B225,INDIRECT(\"'\"&$F$1&\"'!\"&\"$C$2:$G$200\"),5,FALSE),0)","v":0},{"$f":"IFERROR(VLOOKUP(B225,INDIRECT(\"'\"&$H$1&\"'!\"&\"$C$2:$G$200\"),4,FALSE),\"\")","v":""},{"$f":"IFERROR(VLOOKUP(B225,INDIRECT(\"'\"&$H$1&\"'!\"&\"$C$2:$G$200\"),5,FALSE),0)","v":0},{"$f":"IFERROR(VLOOKUP(B225,INDIRECT(\"'\"&$J$1&\"'!\"&\"$C$2:$G$200\"),4,FALSE),\"\")","v":""},{"$f":"IFERROR(VLOOKUP(B225,INDIRECT(\"'\"&$J$1&\"'!\"&\"$C$2:$G$200\"),5,FALSE),0)","v":0},{"$f":"IFERROR(VLOOKUP(B225,INDIRECT(\"'\"&$L$1&\"'!\"&\"$C$2:$G$200\"),4,FALSE),\"\")","v":""},{"$f":"IFERROR(VLOOKUP(B225,INDIRECT(\"'\"&$L$1&\"'!\"&\"$C$2:$G$200\"),5,FALSE),0)","v":0},{"$f":"IFERROR(VLOOKUP(B225,INDIRECT(\"'\"&$N$1&\"'!\"&\"$C$2:$G$200\"),4,FALSE),\"\")","v":""},{"$f":"IFERROR(VLOOKUP(B225,INDIRECT(\"'\"&$N$1&\"'!\"&\"$C$2:$G$200\"),5,FALSE),0)","v":0},{"$f":"IFERROR(VLOOKUP(B225,INDIRECT(\"'\"&$P$1&\"'!\"&\"$C$2:$G$200\"),4,FALSE),\"\")","v":""},{"$f":"IFERROR(VLOOKUP(B225,INDIRECT(\"'\"&$P$1&\"'!\"&\"$C$2:$G$200\"),5,FALSE),0)","v":0},{"$f":"IFERROR(VLOOKUP(B225,INDIRECT(\"'\"&$R$1&\"'!\"&\"$C$2:$G$200\"),4,FALSE),\"\")","v":""},{"$f":"IFERROR(VLOOKUP(B225,INDIRECT(\"'\"&$R$1&\"'!\"&\"$C$2:$G$200\"),5,FALSE),0)","v":0},{"$f":"IFERROR(VLOOKUP(B225,INDIRECT(\"'\"&$T$1&\"'!\"&\"$C$2:$G$200\"),4,FALSE),\"\")","v":4.6539351851851853E-2},{"$f":"IFERROR(VLOOKUP(B225,INDIRECT(\"'\"&$T$1&\"'!\"&\"$C$2:$G$200\"),5,FALSE),0)","v":72.007894066717597},{"$f":"8-COUNTIF(F225:U225,\"\")","v":1},{"$f":"E225/IF(V225>4,5,V225)","v":72.007894066717597}]
[224,"David Wheeler","Chepstow Harriers","SM",{"$f":"SUM(LARGE((S226,G226,I226,K226,M226,O226,Q226,U226),{1,2,3,4,5}))","v":71.968762844225267},{"$f":"IFERROR(VLOOKUP(B226,INDIRECT(\"'\"&$F$1&\"'!\"&\"$C$2:$G$200\"),4,FALSE),\"\")","v":""},{"$f":"IFERROR(VLOOKUP(B226,INDIRECT(\"'\"&$F$1&\"'!\"&\"$C$2:$G$200\"),5,FALSE),0)","v":0},{"$f":"IFERROR(VLOOKUP(B226,INDIRECT(\"'\"&$H$1&\"'!\"&\"$C$2:$G$200\"),4,FALSE),\"\")","v":""},{"$f":"IFERROR(VLOOKUP(B226,INDIRECT(\"'\"&$H$1&\"'!\"&\"$C$2:$G$200\"),5,FALSE),0)","v":0},{"$f":"IFERROR(VLOOKUP(B226,INDIRECT(\"'\"&$J$1&\"'!\"&\"$C$2:$G$200\"),4,FALSE),\"\")","v":""},{"$f":"IFERROR(VLOOKUP(B226,INDIRECT(\"'\"&$J$1&\"'!\"&\"$C$2:$G$200\"),5,FALSE),0)","v":0},{"$f":"IFERROR(VLOOKUP(B226,INDIRECT(\"'\"&$L$1&\"'!\"&\"$C$2:$G$200\"),4,FALSE),\"\")","v":""},{"$f":"IFERROR(VLOOKUP(B226,INDIRECT(\"'\"&$L$1&\"'!\"&\"$C$2:$G$200\"),5,FALSE),0)","v":0},{"$f":"IFERROR(VLOOKUP(B226,INDIRECT(\"'\"&$N$1&\"'!\"&\"$C$2:$G$200\"),4,FALSE),\"\")","v":2.884259259259259E-2},{"$f":"IFERROR(VLOOKUP(B226,INDIRECT(\"'\"&$N$1&\"'!\"&\"$C$2:$G$200\"),5,FALSE),0)","v":71.968762844225267},{"$f":"IFERROR(VLOOKUP(B226,INDIRECT(\"'\"&$P$1&\"'!\"&\"$C$2:$G$200\"),4,FALSE),\"\")","v":""},{"$f":"IFERROR(VLOOKUP(B226,INDIRECT(\"'\"&$P$1&\"'!\"&\"$C$2:$G$200\"),5,FALSE),0)","v":0},{"$f":"IFERROR(VLOOKUP(B226,INDIRECT(\"'\"&$R$1&\"'!\"&\"$C$2:$G$200\"),4,FALSE),\"\")","v":""},{"$f":"IFERROR(VLOOKUP(B226,INDIRECT(\"'\"&$R$1&\"'!\"&\"$C$2:$G$200\"),5,FALSE),0)","v":0},null,{"$f":"IFERROR(VLOOKUP(B226,INDIRECT(\"'\"&$T$1&\"'!\"&\"$C$2:$G$200\"),5,FALSE),0)","v":0},{"$f":"8-COUNTIF(F226:U226,\"\")","v":1},{"$f":"E226/IF(V226>4,5,V226)","v":71.968762844225267}]
[225,"David Harness","San Domenico","M40",{"$f":"SUM(LARGE((S227,G227,I227,K227,M227,O227,Q227,U227),{1,2,3,4,5}))","v":71.900173748222997},{"$f":"IFERROR(VLOOKUP(B227,INDIRECT(\"'\"&$F$1&\"'!\"&\"$C$2:$G$200\"),4,FALSE),\"\")","v":1.877314814814815E-2},{"$f":"IFERROR(VLOOKUP(B227,INDIRECT(\"'\"&$F$1&\"'!\"&\"$C$2:$G$200\"),5,FALSE),0)","v":71.900173748222997},{"$f":"IFERROR(VLOOKUP(B227,INDIRECT(\"'\"&$H$1&\"'!\"&\"$C$2:$G$200\"),4,FALSE),\"\")","v":""},{"$f":"IFERROR(VLOOKUP(B227,INDIRECT(\"'\"&$H$1&\"'!\"&\"$C$2:$G$200\"),5,FALSE),0)","v":0},{"$f":"IFERROR(VLOOKUP(B227,INDIRECT(\"'\"&$J$1&\"'!\"&\"$C$2:$G$200\"),4,FALSE),\"\")","v":""},{"$f":"IFERROR(VLOOKUP(B227,INDIRECT(\"'\"&$J$1&\"'!\"&\"$C$2:$G$200\"),5,FALSE),0)","v":0},{"$f":"IFERROR(VLOOKUP(B227,INDIRECT(\"'\"&$L$1&\"'!\"&\"$C$2:$G$200\"),4,FALSE),\"\")","v":""},{"$f":"IFERROR(VLOOKUP(B227,INDIRECT(\"'\"&$L$1&\"'!\"&\"$C$2:$G$200\"),5,FALSE),0)","v":0},{"$f":"IFERROR(VLOOKUP(B227,INDIRECT(\"'\"&$N$1&\"'!\"&\"$C$2:$G$200\"),4,FALSE),\"\")","v":""},{"$f":"IFERROR(VLOOKUP(B227,INDIRECT(\"'\"&$N$1&\"'!\"&\"$C$2:$G$200\"),5,FALSE),0)","v":0},{"$f":"IFERROR(VLOOKUP(B227,INDIRECT(\"'\"&$P$1&\"'!\"&\"$C$2:$G$200\"),4,FALSE),\"\")","v":""},{"$f":"IFERROR(VLOOKUP(B227,INDIRECT(\"'\"&$P$1&\"'!\"&\"$C$2:$G$200\"),5,FALSE),0)","v":0},{"$f":"IFERROR(VLOOKUP(B227,INDIRECT(\"'\"&$R$1&\"'!\"&\"$C$2:$G$200\"),4,FALSE),\"\")","v":""},{"$f":"IFERROR(VLOOKUP(B227,INDIRECT(\"'\"&$R$1&\"'!\"&\"$C$2:$G$200\"),5,FALSE),0)","v":0},{"$f":"IFERROR(VLOOKUP(B227,INDIRECT(\"'\"&$T$1&\"'!\"&\"$C$2:$G$200\"),4,FALSE),\"\")","v":""},{"$f":"IFERROR(VLOOKUP(B227,INDIRECT(\"'\"&$T$1&\"'!\"&\"$C$2:$G$200\"),5,FALSE),0)","v":0},{"$f":"8-COUNTIF(F227:U227,\"\")","v":1},{"$f":"E227/IF(V227>4,5,V227)","v":71.900173748222997}]
[226,"Simon Barker","Newent Runners","M60",{"$f":"SUM(LARGE((S228,G228,I228,K228,M228,O228,Q228,U228),{1,2,3,4,5}))","v":71.532514779445222},{"$f":"IFERROR(VLOOKUP(B228,INDIRECT(\"'\"&$F$1&\"'!\"&\"$C$2:$G$200\"),4,FALSE),\"\")","v":""},{"$f":"IFERROR(VLOOKUP(B228,INDIRECT(\"'\"&$F$1&\"'!\"&\"$C$2:$G$200\"),5,FALSE),0)","v":0},{"$f":"IFERROR(VLOOKUP(B228,INDIRECT(\"'\"&$H$1&\"'!\"&\"$C$2:$G$200\"),4,FALSE),\"\")","v":""},{"$f":"IFERROR(VLOOKUP(B228,INDIRECT(\"'\"&$H$1&\"'!\"&\"$C$2:$G$200\"),5,FALSE),0)","v":0},{"$f":"IFERROR(VLOOKUP(B228,INDIRECT(\"'\"&$J$1&\"'!\"&\"$C$2:$G$200\"),4,FALSE),\"\")","v":""},{"$f":"IFERROR(VLOOKUP(B228,INDIRECT(\"'\"&$J$1&\"'!\"&\"$C$2:$G$200\"),5,FALSE),0)","v":0},{"$f":"IFERROR(VLOOKUP(B228,INDIRECT(\"'\"&$L$1&\"'!\"&\"$C$2:$G$200\"),4,FALSE),\"\")","v":""},{"$f":"IFERROR(VLOOKUP(B228,INDIRECT(\"'\"&$L$1&\"'!\"&\"$C$2:$G$200\"),5,FALSE),0)","v":0},{"$f":"IFERROR(VLOOKUP(B228,INDIRECT(\"'\"&$N$1&\"'!\"&\"$C$2:$G$200\"),4,FALSE),\"\")","v":""},{"$f":"IFERROR(VLOOKUP(B228,INDIRECT(\"'\"&$N$1&\"'!\"&\"$C$2:$G$200\"),5,FALSE),0)","v":0},{"$f":"IFERROR(VLOOKUP(B228,INDIRECT(\"'\"&$P$1&\"'!\"&\"$C$2:$G$200\"),4,FALSE),\"\")","v":""},{"$f":"IFERROR(VLOOKUP(B228,INDIRECT(\"'\"&$P$1&\"'!\"&\"$C$2:$G$200\"),5,FALSE),0)","v":0},{"$f":"IFERROR(VLOOKUP(B228,INDIRECT(\"'\"&$R$1&\"'!\"&\"$C$2:$G$200\"),4,FALSE),\"\")","v":2.6157407407407407E-2},{"$f":"IFERROR(VLOOKUP(B228,INDIRECT(\"'\"&$R$1&\"'!\"&\"$C$2:$G$200\"),5,FALSE),0)","v":71.532514779445222},{"$f":"IFERROR(VLOOKUP(B228,INDIRECT(\"'\"&$T$1&\"'!\"&\"$C$2:$G$200\"),4,FALSE),\"\")","v":""},{"$f":"IFERROR(VLOOKUP(B228,INDIRECT(\"'\"&$T$1&\"'!\"&\"$C$2:$G$200\"),5,FALSE),0)","v":0},{"$f":"8-COUNTIF(F228:U228,\"\")","v":1},{"$f":"E228/IF(V228>4,5,V228)","v":71.532514779445222}]
[227,"Peter Gardner","Unaffiliated","M50",{"$f":"SUM(LARGE((S229,G229,I229,K229,M229,O229,Q229,U229),{1,2,3,4,5}))","v":71.530430353959758},{"$f":"IFERROR(VLOOKUP(B229,INDIRECT(\"'\"&$F$1&\"'!\"&\"$C$2:$G$200\"),4,FALSE),\"\")","v":""},{"$f":"IFERROR(VLOOKUP(B229,INDIRECT(\"'\"&$F$1&\"'!\"&\"$C$2:$G$200\"),5,FALSE),0)","v":0},{"$f":"IFERROR(VLOOKUP(B229,INDIRECT(\"'\"&$H$1&\"'!\"&\"$C$2:$G$200\"),4,FALSE),\"\")","v":""},{"$f":"IFERROR(VLOOKUP(B229,INDIRECT(\"'\"&$H$1&\"'!\"&\"$C$2:$G$200\"),5,FALSE),0)","v":0},{"$f":"IFERROR(VLOOKUP(B229,INDIRECT(\"'\"&$J$1&\"'!\"&\"$C$2:$G$200\"),4,FALSE),\"\")","v":""},{"$f":"IFERROR(VLOOKUP(B229,INDIRECT(\"'\"&$J$1&\"'!\"&\"$C$2:$G$200\"),5,FALSE),0)","v":0},{"$f":"IFERROR(VLOOKUP(B229,INDIRECT(\"'\"&$L$1&\"'!\"&\"$C$2:$G$200\"),4,FALSE),\"\")","v":""},{"$f":"IFERROR(VLOOKUP(B229,INDIRECT(\"'\"&$L$1&\"'!\"&\"$C$2:$G$200\"),5,FALSE),0)","v":0},{"$f":"IFERROR(VLOOKUP(B229,INDIRECT(\"'\"&$N$1&\"'!\"&\"$C$2:$G$200\"),4,FALSE),\"\")","v":""},{"$f":"IFERROR(VLOOKUP(B229,INDIRECT(\"'\"&$N$1&\"'!\"&\"$C$2:$G$200\"),5,FALSE),0)","v":0},{"$f":"IFERROR(VLOOKUP(B229,INDIRECT(\"'\"&$P$1&\"'!\"&\"$C$2:$G$200\"),4,FALSE),\"\")","v":""},{"$f":"IFERROR(VLOOKUP(B229,INDIRECT(\"'\"&$P$1&\"'!\"&\"$C$2:$G$200\"),5,FALSE),0)","v":0},{"$f":"IFERROR(VLOOKUP(B229,INDIRECT(\"'\"&$R$1&\"'!\"&\"$C$2:$G$200\"),4,FALSE),\"\")","v":""},{"$f":"IFERROR(VLOOKUP(B229,INDIRECT(\"'\"&$R$1&\"'!\"&\"$C$2:$G$200\"),5,FALSE),0)","v":0},{"$f":"IFERROR(VLOOKUP(B229,INDIRECT(\"'\"&$T$1&\"'!\"&\"$C$2:$G$200\"),4,FALSE),\"\")","v":4.6712962962962963E-2},{"$f":"IFERROR(VLOOKUP(B229,INDIRECT(\"'\"&$T$1&\"'!\"&\"$C$2:$G$200\"),5,FALSE),0)","v":71.530430353959758},{"$f":"8-COUNTIF(F229:U229,\"\")","v":1},{"$f":"E229/IF(V229>4,5,V229)","v":71.530430353959758}]
[228,"Martin Carter","Hay Hotfooters","M50",{"$f":"SUM(LARGE((S230,G230,I230,K230,M230,O230,Q230,U230),{1,2,3,4,5}))","v":70.850386539336114},{"$f":"IFERROR(VLOOKUP(B230,INDIRECT(\"'\"&$F$1&\"'!\"&\"$C$2:$G$200\"),4,FALSE),\"\")","v":""},{"$f":"IFERROR(VLOOKUP(B230,INDIRECT(\"'\"&$F$1&\"'!\"&\"$C$2:$G$200\"),5,FALSE),0)","v":0},{"$f":"IFERROR(VLOOKUP(B230,INDIRECT(\"'\"&$H$1&\"'!\"&\"$C$2:$G$200\"),4,FALSE),\"\")","v":""},{"$f":"IFERROR(VLOOKUP(B230,INDIRECT(\"'\"&$H$1&\"'!\"&\"$C$2:$G$200\"),5,FALSE),0)","v":0},{"$f":"IFERROR(VLOOKUP(B230,INDIRECT(\"'\"&$J$1&\"'!\"&\"$C$2:$G$200\"),4,FALSE),\"\")","v":""},{"$f":"IFERROR(VLOOKUP(B230,INDIRECT(\"'\"&$J$1&\"'!\"&\"$C$2:$G$200\"),5,FALSE),0)","v":0},{"$f":"IFERROR(VLOOKUP(B230,INDIRECT(\"'\"&$L$1&\"'!\"&\"$C$2:$G$200\"),4,FALSE),\"\")","v":""},{"$f":"IFERROR(VLOOKUP(B230,INDIRECT(\"'\"&$L$1&\"'!\"&\"$C$2:$G$200\"),5,FALSE),0)","v":0},{"$f":"IFERROR(VLOOKUP(B230,INDIRECT(\"'\"&$N$1&\"'!\"&\"$C$2:$G$200\"),4,FALSE),\"\")","v":""},{"$f":"IFERROR(VLOOKUP(B230,INDIRECT(\"'\"&$N$1&\"'!\"&\"$C$2:$G$200\"),5,FALSE),0)","v":0},{"$f":"IFERROR(VLOOKUP(B230,INDIRECT(\"'\"&$P$1&\"'!\"&\"$C$2:$G$200\"),4,FALSE),\"\")","v":""},{"$f":"IFERROR(VLOOKUP(B230,INDIRECT(\"'\"&$P$1&\"'!\"&\"$C$2:$G$200\"),5,FALSE),0)","v":0},{"$f":"IFERROR(VLOOKUP(B230,INDIRECT(\"'\"&$R$1&\"'!\"&\"$C$2:$G$200\"),4,FALSE),\"\")","v":2.6296296296296293E-2},{"$f":"IFERROR(VLOOKUP(B230,INDIRECT(\"'\"&$R$1&\"'!\"&\"$C$2:$G$200\"),5,FALSE),0)","v":70.850386539336114},{"$f":"IFERROR(VLOOKUP(B230,INDIRECT(\"'\"&$T$1&\"'!\"&\"$C$2:$G$200\"),4,FALSE),\"\")","v":""},{"$f":"IFERROR(VLOOKUP(B230,INDIRECT(\"'\"&$T$1&\"'!\"&\"$C$2:$G$200\"),5,FALSE),0)","v":0},{"$f":"8-COUNTIF(F230:U230,\"\")","v":1},{"$f":"E230/IF(V230>4,5,V230)","v":70.850386539336114}]
[229,"Stephen Priestnall","Running somewhere else","M50",{"$f":"SUM(LARGE((S231,G231,I231,K231,M231,O231,Q231,U231),{1,2,3,4,5}))","v":70.7044995133638},{"$f":"IFERROR(VLOOKUP(B231,INDIRECT(\"'\"&$F$1&\"'!\"&\"$C$2:$G$200\"),4,FALSE),\"\")","v":""},{"$f":"IFERROR(VLOOKUP(B231,INDIRECT(\"'\"&$F$1&\"'!\"&\"$C$2:$G$200\"),5,FALSE),0)","v":0},{"$f":"IFERROR(VLOOKUP(B231,INDIRECT(\"'\"&$H$1&\"'!\"&\"$C$2:$G$200\"),4,FALSE),\"\")","v":3.9976851851851854E-2},{"$f":"IFERROR(VLOOKUP(B231,INDIRECT(\"'\"&$H$1&\"'!\"&\"$C$2:$G$200\"),5,FALSE),0)","v":70.7044995133638},{"$f":"IFERROR(VLOOKUP(B231,INDIRECT(\"'\"&$J$1&\"'!\"&\"$C$2:$G$200\"),4,FALSE),\"\")","v":""},{"$f":"IFERROR(VLOOKUP(B231,INDIRECT(\"'\"&$J$1&\"'!\"&\"$C$2:$G$200\"),5,FALSE),0)","v":0},{"$f":"IFERROR(VLOOKUP(B231,INDIRECT(\"'\"&$L$1&\"'!\"&\"$C$2:$G$200\"),4,FALSE),\"\")","v":""},{"$f":"IFERROR(VLOOKUP(B231,INDIRECT(\"'\"&$L$1&\"'!\"&\"$C$2:$G$200\"),5,FALSE),0)","v":0},{"$f":"IFERROR(VLOOKUP(B231,INDIRECT(\"'\"&$N$1&\"'!\"&\"$C$2:$G$200\"),4,FALSE),\"\")","v":""},{"$f":"IFERROR(VLOOKUP(B231,INDIRECT(\"'\"&$N$1&\"'!\"&\"$C$2:$G$200\"),5,FALSE),0)","v":0},{"$f":"IFERROR(VLOOKUP(B231,INDIRECT(\"'\"&$P$1&\"'!\"&\"$C$2:$G$200\"),4,FALSE),\"\")","v":""},{"$f":"IFERROR(VLOOKUP(B231,INDIRECT(\"'\"&$P$1&\"'!\"&\"$C$2:$G$200\"),5,FALSE),0)","v":0},{"$f":"IFERROR(VLOOKUP(B231,INDIRECT(\"'\"&$R$1&\"'!\"&\"$C$2:$G$200\"),4,FALSE),\"\")","v":""},{"$f":"IFERROR(VLOOKUP(B231,INDIRECT(\"'\"&$R$1&\"'!\"&\"$C$2:$G$200\"),5,FALSE),0)","v":0},{"$f":"IFERROR(VLOOKUP(B231,INDIRECT(\"'\"&$T$1&\"'!\"&\"$C$2:$G$200\"),4,FALSE),\"\")","v":""},{"$f":"IFERROR(VLOOKUP(B231,INDIRECT(\"'\"&$T$1&\"'!\"&\"$C$2:$G$200\"),5,FALSE),0)","v":0},{"$f":"8-COUNTIF(F231:U231,\"\")","v":1},{"$f":"E231/IF(V231>4,5,V231)","v":70.7044995133638}]
[230,"Suzette Botha","Hereford Couriers","SF",{"$f":"SUM(LARGE((S232,G232,I232,K232,M232,O232,Q232,U232),{1,2,3,4,5}))","v":70.16825829922692},{"$f":"IFERROR(VLOOKUP(B232,INDIRECT(\"'\"&$F$1&\"'!\"&\"$C$2:$G$200\"),4,FALSE),\"\")","v":""},{"$f":"IFERROR(VLOOKUP(B232,INDIRECT(\"'\"&$F$1&\"'!\"&\"$C$2:$G$200\"),5,FALSE),0)","v":0},{"$f":"IFERROR(VLOOKUP(B232,INDIRECT(\"'\"&$H$1&\"'!\"&\"$C$2:$G$200\"),4,FALSE),\"\")","v":""},{"$f":"IFERROR(VLOOKUP(B232,INDIRECT(\"'\"&$H$1&\"'!\"&\"$C$2:$G$200\"),5,FALSE),0)","v":0},{"$f":"IFERROR(VLOOKUP(B232,INDIRECT(\"'\"&$J$1&\"'!\"&\"$C$2:$G$200\"),4,FALSE),\"\")","v":""},{"$f":"IFERROR(VLOOKUP(B232,INDIRECT(\"'\"&$J$1&\"'!\"&\"$C$2:$G$200\"),5,FALSE),0)","v":0},{"$f":"IFERROR(VLOOKUP(B232,INDIRECT(\"'\"&$L$1&\"'!\"&\"$C$2:$G$200\"),4,FALSE),\"\")","v":""},{"$f":"IFERROR(VLOOKUP(B232,INDIRECT(\"'\"&$L$1&\"'!\"&\"$C$2:$G$200\"),5,FALSE),0)","v":0},{"$f":"IFERROR(VLOOKUP(B232,INDIRECT(\"'\"&$N$1&\"'!\"&\"$C$2:$G$200\"),4,FALSE),\"\")","v":""},{"$f":"IFERROR(VLOOKUP(B232,INDIRECT(\"'\"&$N$1&\"'!\"&\"$C$2:$G$200\"),5,FALSE),0)","v":0},{"$f":"IFERROR(VLOOKUP(B232,INDIRECT(\"'\"&$P$1&\"'!\"&\"$C$2:$G$200\"),4,FALSE),\"\")","v":""},{"$f":"IFERROR(VLOOKUP(B232,INDIRECT(\"'\"&$P$1&\"'!\"&\"$C$2:$G$200\"),5,FALSE),0)","v":0},{"$f":"IFERROR(VLOOKUP(B232,INDIRECT(\"'\"&$R$1&\"'!\"&\"$C$2:$G$200\"),4,FALSE),\"\")","v":2.6435185185185187E-2},{"$f":"IFERROR(VLOOKUP(B232,INDIRECT(\"'\"&$R$1&\"'!\"&\"$C$2:$G$200\"),5,FALSE),0)","v":70.16825829922692},{"$f":"IFERROR(VLOOKUP(B232,INDIRECT(\"'\"&$T$1&\"'!\"&\"$C$2:$G$200\"),4,FALSE),\"\")","v":""},{"$f":"IFERROR(VLOOKUP(B232,INDIRECT(\"'\"&$T$1&\"'!\"&\"$C$2:$G$200\"),5,FALSE),0)","v":0},{"$f":"8-COUNTIF(F232:U232,\"\")","v":1},{"$f":"E232/IF(V232>4,5,V232)","v":70.16825829922692}]
[231,"Mike Roberts","Unaffiliated","M40",{"$f":"SUM(LARGE((S233,G233,I233,K233,M233,O233,Q233,U233),{1,2,3,4,5}))","v":70.098039215686271},{"$f":"IFERROR(VLOOKUP(B233,INDIRECT(\"'\"&$F$1&\"'!\"&\"$C$2:$G$200\"),4,FALSE),\"\")","v":""},{"$f":"IFERROR(VLOOKUP(B233,INDIRECT(\"'\"&$F$1&\"'!\"&\"$C$2:$G$200\"),5,FALSE),0)","v":0},{"$f":"IFERROR(VLOOKUP(B233,INDIRECT(\"'\"&$H$1&\"'!\"&\"$C$2:$G$200\"),4,FALSE),\"\")","v":""},{"$f":"IFERROR(VLOOKUP(B233,INDIRECT(\"'\"&$H$1&\"'!\"&\"$C$2:$G$200\"),5,FALSE),0)","v":0},{"$f":"IFERROR(VLOOKUP(B233,INDIRECT(\"'\"&$J$1&\"'!\"&\"$C$2:$G$200\"),4,FALSE),\"\")","v":""},{"$f":"IFERROR(VLOOKUP(B233,INDIRECT(\"'\"&$J$1&\"'!\"&\"$C$2:$G$200\"),5,FALSE),0)","v":0},{"$f":"IFERROR(VLOOKUP(B233,INDIRECT(\"'\"&$L$1&\"'!\"&\"$C$2:$G$200\"),4,FALSE),\"\")","v":""},{"$f":"IFERROR(VLOOKUP(B233,INDIRECT(\"'\"&$L$1&\"'!\"&\"$C$2:$G$200\"),5,FALSE),0)","v":0},{"$f":"IFERROR(VLOOKUP(B233,INDIRECT(\"'\"&$N$1&\"'!\"&\"$C$2:$G$200\"),4,FALSE),\"\")","v":""},{"$f":"IFERROR(VLOOKUP(B233,INDIRECT(\"'\"&$N$1&\"'!\"&\"$C$2:$G$200\"),5,FALSE),0)","v":0},{"$f":"IFERROR(VLOOKUP(B233,INDIRECT(\"'\"&$P$1&\"'!\"&\"$C$2:$G$200\"),4,FALSE),\"\")","v":""},{"$f":"IFERROR(VLOOKUP(B233,INDIRECT(\"'\"&$P$1&\"'!\"&\"$C$2:$G$200\"),5,FALSE),0)","v":0},{"$f":"IFERROR(VLOOKUP(B233,INDIRECT(\"'\"&$R$1&\"'!\"&\"$C$2:$G$200\"),4,FALSE),\"\")","v":""},{"$f":"IFERROR(VLOOKUP(B233,INDIRECT(\"'\"&$R$1&\"'!\"&\"$C$2:$G$200\"),5,FALSE),0)","v":0},{"$f":"IFERROR(VLOOKUP(B233,INDIRECT(\"'\"&$T$1&\"'!\"&\"$C$2:$G$200\"),4,FALSE),\"\")","v":4.7233796296296295E-2},{"$f":"IFERROR(VLOOKUP(B233,INDIRECT(\"'\"&$T$1&\"'!\"&\"$C$2:$G$200\"),5,FALSE),0)","v":70.098039215686271},{"$f":"8-COUNTIF(F233:U233,\"\")","v":1},{"$f":"E233/IF(V233>4,5,V233)","v":70.098039215686271}]
[232,"Steve Owen","Chepstow Harriers","M60",{"$f":"SUM(LARGE((S234,G234,I234,K234,M234,O234,Q234,U234),{1,2,3,4,5}))","v":70.06781750924786},{"$f":"IFERROR(VLOOKUP(B234,INDIRECT(\"'\"&$F$1&\"'!\"&\"$C$2:$G$200\"),4,FALSE),\"\")","v":""},{"$f":"IFERROR(VLOOKUP(B234,INDIRECT(\"'\"&$F$1&\"'!\"&\"$C$2:$G$200\"),5,FALSE),0)","v":0},{"$f":"IFERROR(VLOOKUP(B234,INDIRECT(\"'\"&$H$1&\"'!\"&\"$C$2:$G$200\"),4,FALSE),\"\")","v":""},{"$f":"IFERROR(VLOOKUP(B234,INDIRECT(\"'\"&$H$1&\"'!\"&\"$C$2:$G$200\"),5,FALSE),0)","v":0},{"$f":"IFERROR(VLOOKUP(B234,INDIRECT(\"'\"&$J$1&\"'!\"&\"$C$2:$G$200\"),4,FALSE),\"\")","v":""},{"$f":"IFERROR(VLOOKUP(B234,INDIRECT(\"'\"&$J$1&\"'!\"&\"$C$2:$G$200\"),5,FALSE),0)","v":0},{"$f":"IFERROR(VLOOKUP(B234,INDIRECT(\"'\"&$L$1&\"'!\"&\"$C$2:$G$200\"),4,FALSE),\"\")","v":""},{"$f":"IFERROR(VLOOKUP(B234,INDIRECT(\"'\"&$L$1&\"'!\"&\"$C$2:$G$200\"),5,FALSE),0)","v":0},{"$f":"IFERROR(VLOOKUP(B234,INDIRECT(\"'\"&$N$1&\"'!\"&\"$C$2:$G$200\"),4,FALSE),\"\")","v":2.9270833333333333E-2},{"$f":"IFERROR(VLOOKUP(B234,INDIRECT(\"'\"&$N$1&\"'!\"&\"$C$2:$G$200\"),5,FALSE),0)","v":70.06781750924786},{"$f":"IFERROR(VLOOKUP(B234,INDIRECT(\"'\"&$P$1&\"'!\"&\"$C$2:$G$200\"),4,FALSE),\"\")","v":""},{"$f":"IFERROR(VLOOKUP(B234,INDIRECT(\"'\"&$P$1&\"'!\"&\"$C$2:$G$200\"),5,FALSE),0)","v":0},{"$f":"IFERROR(VLOOKUP(B234,INDIRECT(\"'\"&$R$1&\"'!\"&\"$C$2:$G$200\"),4,FALSE),\"\")","v":""},{"$f":"IFERROR(VLOOKUP(B234,INDIRECT(\"'\"&$R$1&\"'!\"&\"$C$2:$G$200\"),5,FALSE),0)","v":0},{"$f":"IFERROR(VLOOKUP(B234,INDIRECT(\"'\"&$T$1&\"'!\"&\"$C$2:$G$200\"),4,FALSE),\"\")","v":""},{"$f":"IFERROR(VLOOKUP(B234,INDIRECT(\"'\"&$T$1&\"'!\"&\"$C$2:$G$200\"),5,FALSE),0)","v":0},{"$f":"8-COUNTIF(F234:U234,\"\")","v":1},{"$f":"E234/IF(V234>4,5,V234)","v":70.06781750924786}]
[233,"Paul Colley-Davis","Croft Ambrey","M50",{"$f":"SUM(LARGE((S235,G235,I235,K235,M235,O235,Q235,U235),{1,2,3,4,5}))","v":69.431758628434537},{"$f":"IFERROR(VLOOKUP(B235,INDIRECT(\"'\"&$F$1&\"'!\"&\"$C$2:$G$200\"),4,FALSE),\"\")","v":""},{"$f":"IFERROR(VLOOKUP(B235,INDIRECT(\"'\"&$F$1&\"'!\"&\"$C$2:$G$200\"),5,FALSE),0)","v":0},{"$f":"IFERROR(VLOOKUP(B235,INDIRECT(\"'\"&$H$1&\"'!\"&\"$C$2:$G$200\"),4,FALSE),\"\")","v":4.0370370370370369E-2},{"$f":"IFERROR(VLOOKUP(B235,INDIRECT(\"'\"&$H$1&\"'!\"&\"$C$2:$G$200\"),5,FALSE),0)","v":69.431758628434537},{"$f":"IFERROR(VLOOKUP(B235,INDIRECT(\"'\"&$J$1&\"'!\"&\"$C$2:$G$200\"),4,FALSE),\"\")","v":""},{"$f":"IFERROR(VLOOKUP(B235,INDIRECT(\"'\"&$J$1&\"'!\"&\"$C$2:$G$200\"),5,FALSE),0)","v":0},{"$f":"IFERROR(VLOOKUP(B235,INDIRECT(\"'\"&$L$1&\"'!\"&\"$C$2:$G$200\"),4,FALSE),\"\")","v":""},{"$f":"IFERROR(VLOOKUP(B235,INDIRECT(\"'\"&$L$1&\"'!\"&\"$C$2:$G$200\"),5,FALSE),0)","v":0},{"$f":"IFERROR(VLOOKUP(B235,INDIRECT(\"'\"&$N$1&\"'!\"&\"$C$2:$G$200\"),4,FALSE),\"\")","v":""},{"$f":"IFERROR(VLOOKUP(B235,INDIRECT(\"'\"&$N$1&\"'!\"&\"$C$2:$G$200\"),5,FALSE),0)","v":0},{"$f":"IFERROR(VLOOKUP(B235,INDIRECT(\"'\"&$P$1&\"'!\"&\"$C$2:$G$200\"),4,FALSE),\"\")","v":""},{"$f":"IFERROR(VLOOKUP(B235,INDIRECT(\"'\"&$P$1&\"'!\"&\"$C$2:$G$200\"),5,FALSE),0)","v":0},{"$f":"IFERROR(VLOOKUP(B235,INDIRECT(\"'\"&$R$1&\"'!\"&\"$C$2:$G$200\"),4,FALSE),\"\")","v":""},{"$f":"IFERROR(VLOOKUP(B235,INDIRECT(\"'\"&$R$1&\"'!\"&\"$C$2:$G$200\"),5,FALSE),0)","v":0},{"$f":"IFERROR(VLOOKUP(B235,INDIRECT(\"'\"&$T$1&\"'!\"&\"$C$2:$G$200\"),4,FALSE),\"\")","v":""},{"$f":"IFERROR(VLOOKUP(B235,INDIRECT(\"'\"&$T$1&\"'!\"&\"$C$2:$G$200\"),5,FALSE),0)","v":0},{"$f":"8-COUNTIF(F235:U235,\"\")","v":1},{"$f":"E235/IF(V235>4,5,V235)","v":69.431758628434537}]
[234,"David Harden","Pontypridd Roadents","SM",{"$f":"SUM(LARGE((S236,G236,I236,K236,M236,O236,Q236,U236),{1,2,3,4,5}))","v":69.343530911408521},{"$f":"IFERROR(VLOOKUP(B236,INDIRECT(\"'\"&$F$1&\"'!\"&\"$C$2:$G$200\"),4,FALSE),\"\")","v":""},{"$f":"IFERROR(VLOOKUP(B236,INDIRECT(\"'\"&$F$1&\"'!\"&\"$C$2:$G$200\"),5,FALSE),0)","v":0},{"$f":"IFERROR(VLOOKUP(B236,INDIRECT(\"'\"&$H$1&\"'!\"&\"$C$2:$G$200\"),4,FALSE),\"\")","v":""},{"$f":"IFERROR(VLOOKUP(B236,INDIRECT(\"'\"&$H$1&\"'!\"&\"$C$2:$G$200\"),5,FALSE),0)","v":0},{"$f":"IFERROR(VLOOKUP(B236,INDIRECT(\"'\"&$J$1&\"'!\"&\"$C$2:$G$200\"),4,FALSE),\"\")","v":""},{"$f":"IFERROR(VLOOKUP(B236,INDIRECT(\"'\"&$J$1&\"'!\"&\"$C$2:$G$200\"),5,FALSE),0)","v":0},{"$f":"IFERROR(VLOOKUP(B236,INDIRECT(\"'\"&$L$1&\"'!\"&\"$C$2:$G$200\"),4,FALSE),\"\")","v":""},{"$f":"IFERROR(VLOOKUP(B236,INDIRECT(\"'\"&$L$1&\"'!\"&\"$C$2:$G$200\"),5,FALSE),0)","v":0},{"$f":"IFERROR(VLOOKUP(B236,INDIRECT(\"'\"&$N$1&\"'!\"&\"$C$2:$G$200\"),4,FALSE),\"\")","v":""},{"$f":"IFERROR(VLOOKUP(B236,INDIRECT(\"'\"&$N$1&\"'!\"&\"$C$2:$G$200\"),5,FALSE),0)","v":0},{"$f":"IFERROR(VLOOKUP(B236,INDIRECT(\"'\"&$P$1&\"'!\"&\"$C$2:$G$200\"),4,FALSE),\"\")","v":2.8472222222222222E-2},{"$f":"IFERROR(VLOOKUP(B236,INDIRECT(\"'\"&$P$1&\"'!\"&\"$C$2:$G$200\"),5,FALSE),0)","v":69.343530911408521},{"$f":"IFERROR(VLOOKUP(B236,INDIRECT(\"'\"&$R$1&\"'!\"&\"$C$2:$G$200\"),4,FALSE),\"\")","v":""},{"$f":"IFERROR(VLOOKUP(B236,INDIRECT(\"'\"&$R$1&\"'!\"&\"$C$2:$G$200\"),5,FALSE),0)","v":0},{"$f":"IFERROR(VLOOKUP(B236,INDIRECT(\"'\"&$T$1&\"'!\"&\"$C$2:$G$200\"),4,FALSE),\"\")","v":""},{"$f":"IFERROR(VLOOKUP(B236,INDIRECT(\"'\"&$T$1&\"'!\"&\"$C$2:$G$200\"),5,FALSE),0)","v":0},{"$f":"8-COUNTIF(F236:U236,\"\")","v":1},{"$f":"E236/IF(V236>4,5,V236)","v":69.343530911408521}]
[235,"Luke Styles","Griffithstown Harriers","SM",{"$f":"SUM(LARGE((S237,G237,I237,K237,M237,O237,Q237,U237),{1,2,3,4,5}))","v":69.297163995067848},{"$f":"IFERROR(VLOOKUP(B237,INDIRECT(\"'\"&$F$1&\"'!\"&\"$C$2:$G$200\"),4,FALSE),\"\")","v":""},{"$f":"IFERROR(VLOOKUP(B237,INDIRECT(\"'\"&$F$1&\"'!\"&\"$C$2:$G$200\"),5,FALSE),0)","v":0},{"$f":"IFERROR(VLOOKUP(B237,INDIRECT(\"'\"&$H$1&\"'!\"&\"$C$2:$G$200\"),4,FALSE),\"\")","v":""},{"$f":"IFERROR(VLOOKUP(B237,INDIRECT(\"'\"&$H$1&\"'!\"&\"$C$2:$G$200\"),5,FALSE),0)","v":0},{"$f":"IFERROR(VLOOKUP(B237,INDIRECT(\"'\"&$J$1&\"'!\"&\"$C$2:$G$200\"),4,FALSE),\"\")","v":""},{"$f":"IFERROR(VLOOKUP(B237,INDIRECT(\"'\"&$J$1&\"'!\"&\"$C$2:$G$200\"),5,FALSE),0)","v":0},{"$f":"IFERROR(VLOOKUP(B237,INDIRECT(\"'\"&$L$1&\"'!\"&\"$C$2:$G$200\"),4,FALSE),\"\")","v":""},{"$f":"IFERROR(VLOOKUP(B237,INDIRECT(\"'\"&$L$1&\"'!\"&\"$C$2:$G$200\"),5,FALSE),0)","v":0},{"$f":"IFERROR(VLOOKUP(B237,INDIRECT(\"'\"&$N$1&\"'!\"&\"$C$2:$G$200\"),4,FALSE),\"\")","v":2.9444444444444443E-2},{"$f":"IFERROR(VLOOKUP(B237,INDIRECT(\"'\"&$N$1&\"'!\"&\"$C$2:$G$200\"),5,FALSE),0)","v":69.297163995067848},{"$f":"IFERROR(VLOOKUP(B237,INDIRECT(\"'\"&$P$1&\"'!\"&\"$C$2:$G$200\"),4,FALSE),\"\")","v":""},{"$f":"IFERROR(VLOOKUP(B237,INDIRECT(\"'\"&$P$1&\"'!\"&\"$C$2:$G$200\"),5,FALSE),0)","v":0},{"$f":"IFERROR(VLOOKUP(B237,INDIRECT(\"'\"&$R$1&\"'!\"&\"$C$2:$G$200\"),4,FALSE),\"\")","v":""},{"$f":"IFERROR(VLOOKUP(B237,INDIRECT(\"'\"&$R$1&\"'!\"&\"$C$2:$G$200\"),5,FALSE),0)","v":0},{"$f":"IFERROR(VLOOKUP(B237,INDIRECT(\"'\"&$T$1&\"'!\"&\"$C$2:$G$200\"),4,FALSE),\"\")","v":""},{"$f":"IFERROR(VLOOKUP(B237,INDIRECT(\"'\"&$T$1&\"'!\"&\"$C$2:$G$200\"),5,FALSE),0)","v":0},{"$f":"8-COUNTIF(F237:U237,\"\")","v":1},{"$f":"E237/IF(V237>4,5,V237)","v":69.297163995067848}]
[236,"Dean Makar","Team Kenney","M40",{"$f":"SUM(LARGE((S238,G238,I238,K238,M238,O238,Q238,U238),{1,2,3,4,5}))","v":69.207157295799959},{"$f":"IFERROR(VLOOKUP(B238,INDIRECT(\"'\"&$F$1&\"'!\"&\"$C$2:$G$200\"),4,FALSE),\"\")","v":""},{"$f":"IFERROR(VLOOKUP(B238,INDIRECT(\"'\"&$F$1&\"'!\"&\"$C$2:$G$200\"),5,FALSE),0)","v":0},{"$f":"IFERROR(VLOOKUP(B238,INDIRECT(\"'\"&$H$1&\"'!\"&\"$C$2:$G$200\"),4,FALSE),\"\")","v":4.0439814814814817E-2},{"$f":"IFERROR(VLOOKUP(B238,INDIRECT(\"'\"&$H$1&\"'!\"&\"$C$2:$G$200\"),5,FALSE),0)","v":69.207157295799959},{"$f":"IFERROR(VLOOKUP(B238,INDIRECT(\"'\"&$J$1&\"'!\"&\"$C$2:$G$200\"),4,FALSE),\"\")","v":""},{"$f":"IFERROR(VLOOKUP(B238,INDIRECT(\"'\"&$J$1&\"'!\"&\"$C$2:$G$200\"),5,FALSE),0)","v":0},{"$f":"IFERROR(VLOOKUP(B238,INDIRECT(\"'\"&$L$1&\"'!\"&\"$C$2:$G$200\"),4,FALSE),\"\")","v":""},{"$f":"IFERROR(VLOOKUP(B238,INDIRECT(\"'\"&$L$1&\"'!\"&\"$C$2:$G$200\"),5,FALSE),0)","v":0},{"$f":"IFERROR(VLOOKUP(B238,INDIRECT(\"'\"&$N$1&\"'!\"&\"$C$2:$G$200\"),4,FALSE),\"\")","v":""},{"$f":"IFERROR(VLOOKUP(B238,INDIRECT(\"'\"&$N$1&\"'!\"&\"$C$2:$G$200\"),5,FALSE),0)","v":0},{"$f":"IFERROR(VLOOKUP(B238,INDIRECT(\"'\"&$P$1&\"'!\"&\"$C$2:$G$200\"),4,FALSE),\"\")","v":""},{"$f":"IFERROR(VLOOKUP(B238,INDIRECT(\"'\"&$P$1&\"'!\"&\"$C$2:$G$200\"),5,FALSE),0)","v":0},{"$f":"IFERROR(VLOOKUP(B238,INDIRECT(\"'\"&$R$1&\"'!\"&\"$C$2:$G$200\"),4,FALSE),\"\")","v":""},{"$f":"IFERROR(VLOOKUP(B238,INDIRECT(\"'\"&$R$1&\"'!\"&\"$C$2:$G$200\"),5,FALSE),0)","v":0},{"$f":"IFERROR(VLOOKUP(B238,INDIRECT(\"'\"&$T$1&\"'!\"&\"$C$2:$G$200\"),4,FALSE),\"\")","v":""},{"$f":"IFERROR(VLOOKUP(B238,INDIRECT(\"'\"&$T$1&\"'!\"&\"$C$2:$G$200\"),5,FALSE),0)","v":0},{"$f":"8-COUNTIF(F238:U238,\"\")","v":1},{"$f":"E238/IF(V238>4,5,V238)","v":69.207157295799959}]
[237,"William Lort","Unaffiliated","SM",{"$f":"SUM(LARGE((S239,G239,I239,K239,M239,O239,Q239,U239),{1,2,3,4,5}))","v":69.145065939063215},{"$f":"IFERROR(VLOOKUP(B239,INDIRECT(\"'\"&$F$1&\"'!\"&\"$C$2:$G$200\"),4,FALSE),\"\")","v":""},{"$f":"IFERROR(VLOOKUP(B239,INDIRECT(\"'\"&$F$1&\"'!\"&\"$C$2:$G$200\"),5,FALSE),0)","v":0},{"$f":"IFERROR(VLOOKUP(B239,INDIRECT(\"'\"&$H$1&\"'!\"&\"$C$2:$G$200\"),4,FALSE),\"\")","v":""},{"$f":"IFERROR(VLOOKUP(B239,INDIRECT(\"'\"&$H$1&\"'!\"&\"$C$2:$G$200\"),5,FALSE),0)","v":0},{"$f":"IFERROR(VLOOKUP(B239,INDIRECT(\"'\"&$J$1&\"'!\"&\"$C$2:$G$200\"),4,FALSE),\"\")","v":""},{"$f":"IFERROR(VLOOKUP(B239,INDIRECT(\"'\"&$J$1&\"'!\"&\"$C$2:$G$200\"),5,FALSE),0)","v":0},{"$f":"IFERROR(VLOOKUP(B239,INDIRECT(\"'\"&$L$1&\"'!\"&\"$C$2:$G$200\"),4,FALSE),\"\")","v":""},{"$f":"IFERROR(VLOOKUP(B239,INDIRECT(\"'\"&$L$1&\"'!\"&\"$C$2:$G$200\"),5,FALSE),0)","v":0},{"$f":"IFERROR(VLOOKUP(B239,INDIRECT(\"'\"&$N$1&\"'!\"&\"$C$2:$G$200\"),4,FALSE),\"\")","v":""},{"$f":"IFERROR(VLOOKUP(B239,INDIRECT(\"'\"&$N$1&\"'!\"&\"$C$2:$G$200\"),5,FALSE),0)","v":0},{"$f":"IFERROR(VLOOKUP(B239,INDIRECT(\"'\"&$P$1&\"'!\"&\"$C$2:$G$200\"),4,FALSE),\"\")","v":""},{"$f":"IFERROR(VLOOKUP(B239,INDIRECT(\"'\"&$P$1&\"'!\"&\"$C$2:$G$200\"),5,FALSE),0)","v":0},{"$f":"IFERROR(VLOOKUP(B239,INDIRECT(\"'\"&$R$1&\"'!\"&\"$C$2:$G$200\"),4,FALSE),\"\")","v":2.6643518518518521E-2},{"$f":"IFERROR(VLOOKUP(B239,INDIRECT(\"'\"&$R$1&\"'!\"&\"$C$2:$G$200\"),5,FALSE),0)","v":69.145065939063215},null,{"$f":"IFERROR(VLOOKUP(B239,INDIRECT(\"'\"&$T$1&\"'!\"&\"$C$2:$G$200\"),5,FALSE),0)","v":0},{"$f":"8-COUNTIF(F239:U239,\"\")","v":1},{"$f":"E239/IF(V239>4,5,V239)","v":69.145065939063215}]
[238,"James Taylor","Hay Hotfooters","SM",{"$f":"SUM(LARGE((S240,G240,I240,K240,M240,O240,Q240,U240),{1,2,3,4,5}))","v":68.629264282778493},{"$f":"IFERROR(VLOOKUP(B240,INDIRECT(\"'\"&$F$1&\"'!\"&\"$C$2:$G$200\"),4,FALSE),\"\")","v":""},{"$f":"IFERROR(VLOOKUP(B240,INDIRECT(\"'\"&$F$1&\"'!\"&\"$C$2:$G$200\"),5,FALSE),0)","v":0},{"$f":"IFERROR(VLOOKUP(B240,INDIRECT(\"'\"&$H$1&\"'!\"&\"$C$2:$G$200\"),4,FALSE),\"\")","v":""},{"$f":"IFERROR(VLOOKUP(B240,INDIRECT(\"'\"&$H$1&\"'!\"&\"$C$2:$G$200\"),5,FALSE),0)","v":0},{"$f":"IFERROR(VLOOKUP(B240,INDIRECT(\"'\"&$J$1&\"'!\"&\"$C$2:$G$200\"),4,FALSE),\"\")","v":""},{"$f":"IFERROR(VLOOKUP(B240,INDIRECT(\"'\"&$J$1&\"'!\"&\"$C$2:$G$200\"),5,FALSE),0)","v":0},{"$f":"IFERROR(VLOOKUP(B240,INDIRECT(\"'\"&$L$1&\"'!\"&\"$C$2:$G$200\"),4,FALSE),\"\")","v":""},{"$f":"IFERROR(VLOOKUP(B240,INDIRECT(\"'\"&$L$1&\"'!\"&\"$C$2:$G$200\"),5,FALSE),0)","v":0},{"$f":"IFERROR(VLOOKUP(B240,INDIRECT(\"'\"&$N$1&\"'!\"&\"$C$2:$G$200\"),4,FALSE),\"\")","v":2.9594907407407407E-2},{"$f":"IFERROR(VLOOKUP(B240,INDIRECT(\"'\"&$N$1&\"'!\"&\"$C$2:$G$200\"),5,FALSE),0)","v":68.629264282778493},{"$f":"IFERROR(VLOOKUP(B240,INDIRECT(\"'\"&$P$1&\"'!\"&\"$C$2:$G$200\"),4,FALSE),\"\")","v":""},{"$f":"IFERROR(VLOOKUP(B240,INDIRECT(\"'\"&$P$1&\"'!\"&\"$C$2:$G$200\"),5,FALSE),0)","v":0},{"$f":"IFERROR(VLOOKUP(B240,INDIRECT(\"'\"&$R$1&\"'!\"&\"$C$2:$G$200\"),4,FALSE),\"\")","v":""},{"$f":"IFERROR(VLOOKUP(B240,INDIRECT(\"'\"&$R$1&\"'!\"&\"$C$2:$G$200\"),5,FALSE),0)","v":0},{"$f":"IFERROR(VLOOKUP(B240,INDIRECT(\"'\"&$T$1&\"'!\"&\"$C$2:$G$200\"),4,FALSE),\"\")","v":""},{"$f":"IFERROR(VLOOKUP(B240,INDIRECT(\"'\"&$T$1&\"'!\"&\"$C$2:$G$200\"),5,FALSE),0)","v":0},{"$f":"8-COUNTIF(F240:U240,\"\")","v":1},{"$f":"E240/IF(V240>4,5,V240)","v":68.629264282778493}]
[239,"Emma Battensby","MDC","SF",{"$f":"SUM(LARGE((S241,G241,I241,K241,M241,O241,Q241,U241),{1,2,3,4,5}))","v":67.803271722965761},{"$f":"IFERROR(VLOOKUP(B241,INDIRECT(\"'\"&$F$1&\"'!\"&\"$C$2:$G$200\"),4,FALSE),\"\")","v":""},{"$f":"IFERROR(VLOOKUP(B241,INDIRECT(\"'\"&$F$1&\"'!\"&\"$C$2:$G$200\"),5,FALSE),0)","v":0},{"$f":"IFERROR(VLOOKUP(B241,INDIRECT(\"'\"&$H$1&\"'!\"&\"$C$2:$G$200\"),4,FALSE),\"\")","v":""},{"$f":"IFERROR(VLOOKUP(B241,INDIRECT(\"'\"&$H$1&\"'!\"&\"$C$2:$G$200\"),5,FALSE),0)","v":0},{"$f":"IFERROR(VLOOKUP(B241,INDIRECT(\"'\"&$J$1&\"'!\"&\"$C$2:$G$200\"),4,FALSE),\"\")","v":""},{"$f":"IFERROR(VLOOKUP(B241,INDIRECT(\"'\"&$J$1&\"'!\"&\"$C$2:$G$200\"),5,FALSE),0)","v":0},{"$f":"IFERROR(VLOOKUP(B241,INDIRECT(\"'\"&$L$1&\"'!\"&\"$C$2:$G$200\"),4,FALSE),\"\")","v":""},{"$f":"IFERROR(VLOOKUP(B241,INDIRECT(\"'\"&$L$1&\"'!\"&\"$C$2:$G$200\"),5,FALSE),0)","v":0},{"$f":"IFERROR(VLOOKUP(B241,INDIRECT(\"'\"&$N$1&\"'!\"&\"$C$2:$G$200\"),4,FALSE),\"\")","v":""},{"$f":"IFERROR(VLOOKUP(B241,INDIRECT(\"'\"&$N$1&\"'!\"&\"$C$2:$G$200\"),5,FALSE),0)","v":0},{"$f":"IFERROR(VLOOKUP(B241,INDIRECT(\"'\"&$P$1&\"'!\"&\"$C$2:$G$200\"),4,FALSE),\"\")","v":2.8807870370370373E-2},{"$f":"IFERROR(VLOOKUP(B241,INDIRECT(\"'\"&$P$1&\"'!\"&\"$C$2:$G$200\"),5,FALSE),0)","v":67.803271722965761},{"$f":"IFERROR(VLOOKUP(B241,INDIRECT(\"'\"&$R$1&\"'!\"&\"$C$2:$G$200\"),4,FALSE),\"\")","v":""},{"$f":"IFERROR(VLOOKUP(B241,INDIRECT(\"'\"&$R$1&\"'!\"&\"$C$2:$G$200\"),5,FALSE),0)","v":0},{"$f":"IFERROR(VLOOKUP(B241,INDIRECT(\"'\"&$T$1&\"'!\"&\"$C$2:$G$200\"),4,FALSE),\"\")","v":""},{"$f":"IFERROR(VLOOKUP(B241,INDIRECT(\"'\"&$T$1&\"'!\"&\"$C$2:$G$200\"),5,FALSE),0)","v":0},{"$f":"8-COUNTIF(F241:U241,\"\")","v":1},{"$f":"E241/IF(V241>4,5,V241)","v":67.803271722965761}]
[240,"Louise Barker","West Wales","F40",{"$f":"SUM(LARGE((S242,G242,I242,K242,M242,O242,Q242,U242),{1,2,3,4,5}))","v":67.774382480264819},{"$f":"IFERROR(VLOOKUP(B242,INDIRECT(\"'\"&$F$1&\"'!\"&\"$C$2:$G$200\"),4,FALSE),\"\")","v":""},{"$f":"IFERROR(VLOOKUP(B242,INDIRECT(\"'\"&$F$1&\"'!\"&\"$C$2:$G$200\"),5,FALSE),0)","v":0},{"$f":"IFERROR(VLOOKUP(B242,INDIRECT(\"'\"&$H$1&\"'!\"&\"$C$2:$G$200\"),4,FALSE),\"\")","v":""},{"$f":"IFERROR(VLOOKUP(B242,INDIRECT(\"'\"&$H$1&\"'!\"&\"$C$2:$G$200\"),5,FALSE),0)","v":0},{"$f":"IFERROR(VLOOKUP(B242,INDIRECT(\"'\"&$J$1&\"'!\"&\"$C$2:$G$200\"),4,FALSE),\"\")","v":""},{"$f":"IFERROR(VLOOKUP(B242,INDIRECT(\"'\"&$J$1&\"'!\"&\"$C$2:$G$200\"),5,FALSE),0)","v":0},{"$f":"IFERROR(VLOOKUP(B242,INDIRECT(\"'\"&$L$1&\"'!\"&\"$C$2:$G$200\"),4,FALSE),\"\")","v":""},{"$f":"IFERROR(VLOOKUP(B242,INDIRECT(\"'\"&$L$1&\"'!\"&\"$C$2:$G$200\"),5,FALSE),0)","v":0},{"$f":"IFERROR(VLOOKUP(B242,INDIRECT(\"'\"&$N$1&\"'!\"&\"$C$2:$G$200\"),4,FALSE),\"\")","v":""},{"$f":"IFERROR(VLOOKUP(B242,INDIRECT(\"'\"&$N$1&\"'!\"&\"$C$2:$G$200\"),5,FALSE),0)","v":0},{"$f":"IFERROR(VLOOKUP(B242,INDIRECT(\"'\"&$P$1&\"'!\"&\"$C$2:$G$200\"),4,FALSE),\"\")","v":""},{"$f":"IFERROR(VLOOKUP(B242,INDIRECT(\"'\"&$P$1&\"'!\"&\"$C$2:$G$200\"),5,FALSE),0)","v":0},{"$f":"IFERROR(VLOOKUP(B242,INDIRECT(\"'\"&$R$1&\"'!\"&\"$C$2:$G$200\"),4,FALSE),\"\")","v":""},{"$f":"IFERROR(VLOOKUP(B242,INDIRECT(\"'\"&$R$1&\"'!\"&\"$C$2:$G$200\"),5,FALSE),0)","v":0},{"$f":"IFERROR(VLOOKUP(B242,INDIRECT(\"'\"&$T$1&\"'!\"&\"$C$2:$G$200\"),4,FALSE),\"\")","v":4.8078703703703707E-2},{"$f":"IFERROR(VLOOKUP(B242,INDIRECT(\"'\"&$T$1&\"'!\"&\"$C$2:$G$200\"),5,FALSE),0)","v":67.774382480264819},{"$f":"8-COUNTIF(F242:U242,\"\")","v":1},{"$f":"E242/IF(V242>4,5,V242)","v":67.774382480264819}]
[241,"Stephen Hind","Unaffiliated","M50",{"$f":"SUM(LARGE((S243,G243,I243,K243,M243,O243,Q243,U243),{1,2,3,4,5}))","v":67.49897246198114},{"$f":"IFERROR(VLOOKUP(B243,INDIRECT(\"'\"&$F$1&\"'!\"&\"$C$2:$G$200\"),4,FALSE),\"\")","v":""},{"$f":"IFERROR(VLOOKUP(B243,INDIRECT(\"'\"&$F$1&\"'!\"&\"$C$2:$G$200\"),5,FALSE),0)","v":0},{"$f":"IFERROR(VLOOKUP(B243,INDIRECT(\"'\"&$H$1&\"'!\"&\"$C$2:$G$200\"),4,FALSE),\"\")","v":""},{"$f":"IFERROR(VLOOKUP(B243,INDIRECT(\"'\"&$H$1&\"'!\"&\"$C$2:$G$200\"),5,FALSE),0)","v":0},{"$f":"IFERROR(VLOOKUP(B243,INDIRECT(\"'\"&$J$1&\"'!\"&\"$C$2:$G$200\"),4,FALSE),\"\")","v":""},{"$f":"IFERROR(VLOOKUP(B243,INDIRECT(\"'\"&$J$1&\"'!\"&\"$C$2:$G$200\"),5,FALSE),0)","v":0},{"$f":"IFERROR(VLOOKUP(B243,INDIRECT(\"'\"&$L$1&\"'!\"&\"$C$2:$G$200\"),4,FALSE),\"\")","v":""},{"$f":"IFERROR(VLOOKUP(B243,INDIRECT(\"'\"&$L$1&\"'!\"&\"$C$2:$G$200\"),5,FALSE),0)","v":0},{"$f":"IFERROR(VLOOKUP(B243,INDIRECT(\"'\"&$N$1&\"'!\"&\"$C$2:$G$200\"),4,FALSE),\"\")","v":2.9849537037037036E-2},{"$f":"IFERROR(VLOOKUP(B243,INDIRECT(\"'\"&$N$1&\"'!\"&\"$C$2:$G$200\"),5,FALSE),0)","v":67.49897246198114},{"$f":"IFERROR(VLOOKUP(B243,INDIRECT(\"'\"&$P$1&\"'!\"&\"$C$2:$G$200\"),4,FALSE),\"\")","v":""},{"$f":"IFERROR(VLOOKUP(B243,INDIRECT(\"'\"&$P$1&\"'!\"&\"$C$2:$G$200\"),5,FALSE),0)","v":0},{"$f":"IFERROR(VLOOKUP(B243,INDIRECT(\"'\"&$R$1&\"'!\"&\"$C$2:$G$200\"),4,FALSE),\"\")","v":""},{"$f":"IFERROR(VLOOKUP(B243,INDIRECT(\"'\"&$R$1&\"'!\"&\"$C$2:$G$200\"),5,FALSE),0)","v":0},{"$f":"IFERROR(VLOOKUP(B243,INDIRECT(\"'\"&$T$1&\"'!\"&\"$C$2:$G$200\"),4,FALSE),\"\")","v":""},{"$f":"IFERROR(VLOOKUP(B243,INDIRECT(\"'\"&$T$1&\"'!\"&\"$C$2:$G$200\"),5,FALSE),0)","v":0},{"$f":"8-COUNTIF(F243:U243,\"\")","v":1},{"$f":"E243/IF(V243>4,5,V243)","v":67.49897246198114}]
[242,"Luke Davies","Swansea Harriers","SM",{"$f":"SUM(LARGE((S244,G244,I244,K244,M244,O244,Q244,U244),{1,2,3,4,5}))","v":67.424242424242408},{"$f":"IFERROR(VLOOKUP(B244,INDIRECT(\"'\"&$F$1&\"'!\"&\"$C$2:$G$200\"),4,FALSE),\"\")","v":""},{"$f":"IFERROR(VLOOKUP(B244,INDIRECT(\"'\"&$F$1&\"'!\"&\"$C$2:$G$200\"),5,FALSE),0)","v":0},{"$f":"IFERROR(VLOOKUP(B244,INDIRECT(\"'\"&$H$1&\"'!\"&\"$C$2:$G$200\"),4,FALSE),\"\")","v":""},{"$f":"IFERROR(VLOOKUP(B244,INDIRECT(\"'\"&$H$1&\"'!\"&\"$C$2:$G$200\"),5,FALSE),0)","v":0},{"$f":"IFERROR(VLOOKUP(B244,INDIRECT(\"'\"&$J$1&\"'!\"&\"$C$2:$G$200\"),4,FALSE),\"\")","v":""},{"$f":"IFERROR(VLOOKUP(B244,INDIRECT(\"'\"&$J$1&\"'!\"&\"$C$2:$G$200\"),5,FALSE),0)","v":0},{"$f":"IFERROR(VLOOKUP(B244,INDIRECT(\"'\"&$L$1&\"'!\"&\"$C$2:$G$200\"),4,FALSE),\"\")","v":""},{"$f":"IFERROR(VLOOKUP(B244,INDIRECT(\"'\"&$L$1&\"'!\"&\"$C$2:$G$200\"),5,FALSE),0)","v":0},{"$f":"IFERROR(VLOOKUP(B244,INDIRECT(\"'\"&$N$1&\"'!\"&\"$C$2:$G$200\"),4,FALSE),\"\")","v":""},{"$f":"IFERROR(VLOOKUP(B244,INDIRECT(\"'\"&$N$1&\"'!\"&\"$C$2:$G$200\"),5,FALSE),0)","v":0},{"$f":"IFERROR(VLOOKUP(B244,INDIRECT(\"'\"&$P$1&\"'!\"&\"$C$2:$G$200\"),4,FALSE),\"\")","v":""},{"$f":"IFERROR(VLOOKUP(B244,INDIRECT(\"'\"&$P$1&\"'!\"&\"$C$2:$G$200\"),5,FALSE),0)","v":0},{"$f":"IFERROR(VLOOKUP(B244,INDIRECT(\"'\"&$R$1&\"'!\"&\"$C$2:$G$200\"),4,FALSE),\"\")","v":""},{"$f":"IFERROR(VLOOKUP(B244,INDIRECT(\"'\"&$R$1&\"'!\"&\"$C$2:$G$200\"),5,FALSE),0)","v":0},{"$f":"IFERROR(VLOOKUP(B244,INDIRECT(\"'\"&$T$1&\"'!\"&\"$C$2:$G$200\"),4,FALSE),\"\")","v":4.8206018518518523E-2},{"$f":"IFERROR(VLOOKUP(B244,INDIRECT(\"'\"&$T$1&\"'!\"&\"$C$2:$G$200\"),5,FALSE),0)","v":67.424242424242408},{"$f":"8-COUNTIF(F244:U244,\"\")","v":1},{"$f":"E244/IF(V244>4,5,V244)","v":67.424242424242408}]
[243,"Llinos Davies","Run 4 All Neath","SF",{"$f":"SUM(LARGE((S245,G245,I245,K245,M245,O245,Q245,U245),{1,2,3,4,5}))","v":67.398515242457719},{"$f":"IFERROR(VLOOKUP(B245,INDIRECT(\"'\"&$F$1&\"'!\"&\"$C$2:$G$200\"),4,FALSE),\"\")","v":1.9432870370370371E-2},{"$f":"IFERROR(VLOOKUP(B245,INDIRECT(\"'\"&$F$1&\"'!\"&\"$C$2:$G$200\"),5,FALSE),0)","v":67.398515242457719},{"$f":"IFERROR(VLOOKUP(B245,INDIRECT(\"'\"&$H$1&\"'!\"&\"$C$2:$G$200\"),4,FALSE),\"\")","v":""},{"$f":"IFERROR(VLOOKUP(B245,INDIRECT(\"'\"&$H$1&\"'!\"&\"$C$2:$G$200\"),5,FALSE),0)","v":0},{"$f":"IFERROR(VLOOKUP(B245,INDIRECT(\"'\"&$J$1&\"'!\"&\"$C$2:$G$200\"),4,FALSE),\"\")","v":""},{"$f":"IFERROR(VLOOKUP(B245,INDIRECT(\"'\"&$J$1&\"'!\"&\"$C$2:$G$200\"),5,FALSE),0)","v":0},{"$f":"IFERROR(VLOOKUP(B245,INDIRECT(\"'\"&$L$1&\"'!\"&\"$C$2:$G$200\"),4,FALSE),\"\")","v":""},{"$f":"IFERROR(VLOOKUP(B245,INDIRECT(\"'\"&$L$1&\"'!\"&\"$C$2:$G$200\"),5,FALSE),0)","v":0},{"$f":"IFERROR(VLOOKUP(B245,INDIRECT(\"'\"&$N$1&\"'!\"&\"$C$2:$G$200\"),4,FALSE),\"\")","v":""},{"$f":"IFERROR(VLOOKUP(B245,INDIRECT(\"'\"&$N$1&\"'!\"&\"$C$2:$G$200\"),5,FALSE),0)","v":0},{"$f":"IFERROR(VLOOKUP(B245,INDIRECT(\"'\"&$P$1&\"'!\"&\"$C$2:$G$200\"),4,FALSE),\"\")","v":""},{"$f":"IFERROR(VLOOKUP(B245,INDIRECT(\"'\"&$P$1&\"'!\"&\"$C$2:$G$200\"),5,FALSE),0)","v":0},{"$f":"IFERROR(VLOOKUP(B245,INDIRECT(\"'\"&$R$1&\"'!\"&\"$C$2:$G$200\"),4,FALSE),\"\")","v":""},{"$f":"IFERROR(VLOOKUP(B245,INDIRECT(\"'\"&$R$1&\"'!\"&\"$C$2:$G$200\"),5,FALSE),0)","v":0},{"$f":"IFERROR(VLOOKUP(B245,INDIRECT(\"'\"&$T$1&\"'!\"&\"$C$2:$G$200\"),4,FALSE),\"\")","v":""},{"$f":"IFERROR(VLOOKUP(B245,INDIRECT(\"'\"&$T$1&\"'!\"&\"$C$2:$G$200\"),5,FALSE),0)","v":0},{"$f":"8-COUNTIF(F245:U245,\"\")","v":1},{"$f":"E245/IF(V245>4,5,V245)","v":67.398515242457719}]
[244,"Richard Melville","Ryde Harriers","SM",{"$f":"SUM(LARGE((S246,G246,I246,K246,M246,O246,Q246,U246),{1,2,3,4,5}))","v":67.073444635771523},{"$f":"IFERROR(VLOOKUP(B246,INDIRECT(\"'\"&$F$1&\"'!\"&\"$C$2:$G$200\"),4,FALSE),\"\")","v":""},{"$f":"IFERROR(VLOOKUP(B246,INDIRECT(\"'\"&$F$1&\"'!\"&\"$C$2:$G$200\"),5,FALSE),0)","v":0},{"$f":"IFERROR(VLOOKUP(B246,INDIRECT(\"'\"&$H$1&\"'!\"&\"$C$2:$G$200\"),4,FALSE),\"\")","v":4.1099537037037039E-2},{"$f":"IFERROR(VLOOKUP(B246,INDIRECT(\"'\"&$H$1&\"'!\"&\"$C$2:$G$200\"),5,FALSE),0)","v":67.073444635771523},{"$f":"IFERROR(VLOOKUP(B246,INDIRECT(\"'\"&$J$1&\"'!\"&\"$C$2:$G$200\"),4,FALSE),\"\")","v":""},{"$f":"IFERROR(VLOOKUP(B246,INDIRECT(\"'\"&$J$1&\"'!\"&\"$C$2:$G$200\"),5,FALSE),0)","v":0},{"$f":"IFERROR(VLOOKUP(B246,INDIRECT(\"'\"&$L$1&\"'!\"&\"$C$2:$G$200\"),4,FALSE),\"\")","v":""},{"$f":"IFERROR(VLOOKUP(B246,INDIRECT(\"'\"&$L$1&\"'!\"&\"$C$2:$G$200\"),5,FALSE),0)","v":0},{"$f":"IFERROR(VLOOKUP(B246,INDIRECT(\"'\"&$N$1&\"'!\"&\"$C$2:$G$200\"),4,FALSE),\"\")","v":""},{"$f":"IFERROR(VLOOKUP(B246,INDIRECT(\"'\"&$N$1&\"'!\"&\"$C$2:$G$200\"),5,FALSE),0)","v":0},{"$f":"IFERROR(VLOOKUP(B246,INDIRECT(\"'\"&$P$1&\"'!\"&\"$C$2:$G$200\"),4,FALSE),\"\")","v":""},{"$f":"IFERROR(VLOOKUP(B246,INDIRECT(\"'\"&$P$1&\"'!\"&\"$C$2:$G$200\"),5,FALSE),0)","v":0},{"$f":"IFERROR(VLOOKUP(B246,INDIRECT(\"'\"&$R$1&\"'!\"&\"$C$2:$G$200\"),4,FALSE),\"\")","v":""},{"$f":"IFERROR(VLOOKUP(B246,INDIRECT(\"'\"&$R$1&\"'!\"&\"$C$2:$G$200\"),5,FALSE),0)","v":0},{"$f":"IFERROR(VLOOKUP(B246,INDIRECT(\"'\"&$T$1&\"'!\"&\"$C$2:$G$200\"),4,FALSE),\"\")","v":""},{"$f":"IFERROR(VLOOKUP(B246,INDIRECT(\"'\"&$T$1&\"'!\"&\"$C$2:$G$200\"),5,FALSE),0)","v":0},{"$f":"8-COUNTIF(F246:U246,\"\")","v":1},{"$f":"E246/IF(V246>4,5,V246)","v":67.073444635771523}]
[245,"Huw Rowlands","Unaffiliated","M40",{"$f":"SUM(LARGE((S247,G247,I247,K247,M247,O247,Q247,U247),{1,2,3,4,5}))","v":66.324773526989617},{"$f":"IFERROR(VLOOKUP(B247,INDIRECT(\"'\"&$F$1&\"'!\"&\"$C$2:$G$200\"),4,FALSE),\"\")","v":""},{"$f":"IFERROR(VLOOKUP(B247,INDIRECT(\"'\"&$F$1&\"'!\"&\"$C$2:$G$200\"),5,FALSE),0)","v":0},{"$f":"IFERROR(VLOOKUP(B247,INDIRECT(\"'\"&$H$1&\"'!\"&\"$C$2:$G$200\"),4,FALSE),\"\")","v":4.1331018518518517E-2},{"$f":"IFERROR(VLOOKUP(B247,INDIRECT(\"'\"&$H$1&\"'!\"&\"$C$2:$G$200\"),5,FALSE),0)","v":66.324773526989617},{"$f":"IFERROR(VLOOKUP(B247,INDIRECT(\"'\"&$J$1&\"'!\"&\"$C$2:$G$200\"),4,FALSE),\"\")","v":""},{"$f":"IFERROR(VLOOKUP(B247,INDIRECT(\"'\"&$J$1&\"'!\"&\"$C$2:$G$200\"),5,FALSE),0)","v":0},{"$f":"IFERROR(VLOOKUP(B247,INDIRECT(\"'\"&$L$1&\"'!\"&\"$C$2:$G$200\"),4,FALSE),\"\")","v":""},{"$f":"IFERROR(VLOOKUP(B247,INDIRECT(\"'\"&$L$1&\"'!\"&\"$C$2:$G$200\"),5,FALSE),0)","v":0},{"$f":"IFERROR(VLOOKUP(B247,INDIRECT(\"'\"&$N$1&\"'!\"&\"$C$2:$G$200\"),4,FALSE),\"\")","v":""},{"$f":"IFERROR(VLOOKUP(B247,INDIRECT(\"'\"&$N$1&\"'!\"&\"$C$2:$G$200\"),5,FALSE),0)","v":0},{"$f":"IFERROR(VLOOKUP(B247,INDIRECT(\"'\"&$P$1&\"'!\"&\"$C$2:$G$200\"),4,FALSE),\"\")","v":""},{"$f":"IFERROR(VLOOKUP(B247,INDIRECT(\"'\"&$P$1&\"'!\"&\"$C$2:$G$200\"),5,FALSE),0)","v":0},{"$f":"IFERROR(VLOOKUP(B247,INDIRECT(\"'\"&$R$1&\"'!\"&\"$C$2:$G$200\"),4,FALSE),\"\")","v":""},{"$f":"IFERROR(VLOOKUP(B247,INDIRECT(\"'\"&$R$1&\"'!\"&\"$C$2:$G$200\"),5,FALSE),0)","v":0},{"$f":"IFERROR(VLOOKUP(B247,INDIRECT(\"'\"&$T$1&\"'!\"&\"$C$2:$G$200\"),4,FALSE),\"\")","v":""},{"$f":"IFERROR(VLOOKUP(B247,INDIRECT(\"'\"&$T$1&\"'!\"&\"$C$2:$G$200\"),5,FALSE),0)","v":0},{"$f":"8-COUNTIF(F247:U247,\"\")","v":1},{"$f":"E247/IF(V247>4,5,V247)","v":66.324773526989617}]
[246,"Roy Silver","Breize Sport","M60",{"$f":"SUM(LARGE((S248,G248,I248,K248,M248,O248,Q248,U248),{1,2,3,4,5}))","v":66.265926839293087},{"$f":"IFERROR(VLOOKUP(B248,INDIRECT(\"'\"&$F$1&\"'!\"&\"$C$2:$G$200\"),4,FALSE),\"\")","v":""},{"$f":"IFERROR(VLOOKUP(B248,INDIRECT(\"'\"&$F$1&\"'!\"&\"$C$2:$G$200\"),5,FALSE),0)","v":0},{"$f":"IFERROR(VLOOKUP(B248,INDIRECT(\"'\"&$H$1&\"'!\"&\"$C$2:$G$200\"),4,FALSE),\"\")","v":""},{"$f":"IFERROR(VLOOKUP(B248,INDIRECT(\"'\"&$H$1&\"'!\"&\"$C$2:$G$200\"),5,FALSE),0)","v":0},{"$f":"IFERROR(VLOOKUP(B248,INDIRECT(\"'\"&$J$1&\"'!\"&\"$C$2:$G$200\"),4,FALSE),\"\")","v":""},{"$f":"IFERROR(VLOOKUP(B248,INDIRECT(\"'\"&$J$1&\"'!\"&\"$C$2:$G$200\"),5,FALSE),0)","v":0},{"$f":"IFERROR(VLOOKUP(B248,INDIRECT(\"'\"&$L$1&\"'!\"&\"$C$2:$G$200\"),4,FALSE),\"\")","v":""},{"$f":"IFERROR(VLOOKUP(B248,INDIRECT(\"'\"&$L$1&\"'!\"&\"$C$2:$G$200\"),5,FALSE),0)","v":0},{"$f":"IFERROR(VLOOKUP(B248,INDIRECT(\"'\"&$N$1&\"'!\"&\"$C$2:$G$200\"),4,FALSE),\"\")","v":3.0127314814814815E-2},{"$f":"IFERROR(VLOOKUP(B248,INDIRECT(\"'\"&$N$1&\"'!\"&\"$C$2:$G$200\"),5,FALSE),0)","v":66.265926839293087},{"$f":"IFERROR(VLOOKUP(B248,INDIRECT(\"'\"&$P$1&\"'!\"&\"$C$2:$G$200\"),4,FALSE),\"\")","v":""},{"$f":"IFERROR(VLOOKUP(B248,INDIRECT(\"'\"&$P$1&\"'!\"&\"$C$2:$G$200\"),5,FALSE),0)","v":0},{"$f":"IFERROR(VLOOKUP(B248,INDIRECT(\"'\"&$R$1&\"'!\"&\"$C$2:$G$200\"),4,FALSE),\"\")","v":""},{"$f":"IFERROR(VLOOKUP(B248,INDIRECT(\"'\"&$R$1&\"'!\"&\"$C$2:$G$200\"),5,FALSE),0)","v":0},null,{"$f":"IFERROR(VLOOKUP(B248,INDIRECT(\"'\"&$T$1&\"'!\"&\"$C$2:$G$200\"),5,FALSE),0)","v":0},{"$f":"8-COUNTIF(F248:U248,\"\")","v":1},{"$f":"E248/IF(V248>4,5,V248)","v":66.265926839293087}]
[247,"Jon Hancock","Usk Runners","M60",{"$f":"SUM(LARGE((S249,G249,I249,K249,M249,O249,Q249,U249),{1,2,3,4,5}))","v":65.987871528037772},{"$f":"IFERROR(VLOOKUP(B249,INDIRECT(\"'\"&$F$1&\"'!\"&\"$C$2:$G$200\"),4,FALSE),\"\")","v":""},{"$f":"IFERROR(VLOOKUP(B249,INDIRECT(\"'\"&$F$1&\"'!\"&\"$C$2:$G$200\"),5,FALSE),0)","v":0},{"$f":"IFERROR(VLOOKUP(B249,INDIRECT(\"'\"&$H$1&\"'!\"&\"$C$2:$G$200\"),4,FALSE),\"\")","v":4.1435185185185179E-2},{"$f":"IFERROR(VLOOKUP(B249,INDIRECT(\"'\"&$H$1&\"'!\"&\"$C$2:$G$200\"),5,FALSE),0)","v":65.987871528037772},{"$f":"IFERROR(VLOOKUP(B249,INDIRECT(\"'\"&$J$1&\"'!\"&\"$C$2:$G$200\"),4,FALSE),\"\")","v":""},{"$f":"IFERROR(VLOOKUP(B249,INDIRECT(\"'\"&$J$1&\"'!\"&\"$C$2:$G$200\"),5,FALSE),0)","v":0},{"$f":"IFERROR(VLOOKUP(B249,INDIRECT(\"'\"&$L$1&\"'!\"&\"$C$2:$G$200\"),4,FALSE),\"\")","v":""},{"$f":"IFERROR(VLOOKUP(B249,INDIRECT(\"'\"&$L$1&\"'!\"&\"$C$2:$G$200\"),5,FALSE),0)","v":0},{"$f":"IFERROR(VLOOKUP(B249,INDIRECT(\"'\"&$N$1&\"'!\"&\"$C$2:$G$200\"),4,FALSE),\"\")","v":""},{"$f":"IFERROR(VLOOKUP(B249,INDIRECT(\"'\"&$N$1&\"'!\"&\"$C$2:$G$200\"),5,FALSE),0)","v":0},{"$f":"IFERROR(VLOOKUP(B249,INDIRECT(\"'\"&$P$1&\"'!\"&\"$C$2:$G$200\"),4,FALSE),\"\")","v":""},{"$f":"IFERROR(VLOOKUP(B249,INDIRECT(\"'\"&$P$1&\"'!\"&\"$C$2:$G$200\"),5,FALSE),0)","v":0},{"$f":"IFERROR(VLOOKUP(B249,INDIRECT(\"'\"&$R$1&\"'!\"&\"$C$2:$G$200\"),4,FALSE),\"\")","v":""},{"$f":"IFERROR(VLOOKUP(B249,INDIRECT(\"'\"&$R$1&\"'!\"&\"$C$2:$G$200\"),5,FALSE),0)","v":0},{"$f":"IFERROR(VLOOKUP(B249,INDIRECT(\"'\"&$T$1&\"'!\"&\"$C$2:$G$200\"),4,FALSE),\"\")","v":""},{"$f":"IFERROR(VLOOKUP(B249,INDIRECT(\"'\"&$T$1&\"'!\"&\"$C$2:$G$200\"),5,FALSE),0)","v":0},{"$f":"8-COUNTIF(F249:U249,\"\")","v":1},{"$f":"E249/IF(V249>4,5,V249)","v":65.987871528037772}]
[248,"Carwyn Davies","West Wales","M40",{"$f":"SUM(LARGE((S250,G250,I250,K250,M250,O250,Q250,U250),{1,2,3,4,5}))","v":65.864527629233493},{"$f":"IFERROR(VLOOKUP(B250,INDIRECT(\"'\"&$F$1&\"'!\"&\"$C$2:$G$200\"),4,FALSE),\"\")","v":""},{"$f":"IFERROR(VLOOKUP(B250,INDIRECT(\"'\"&$F$1&\"'!\"&\"$C$2:$G$200\"),5,FALSE),0)","v":0},{"$f":"IFERROR(VLOOKUP(B250,INDIRECT(\"'\"&$H$1&\"'!\"&\"$C$2:$G$200\"),4,FALSE),\"\")","v":""},{"$f":"IFERROR(VLOOKUP(B250,INDIRECT(\"'\"&$H$1&\"'!\"&\"$C$2:$G$200\"),5,FALSE),0)","v":0},{"$f":"IFERROR(VLOOKUP(B250,INDIRECT(\"'\"&$J$1&\"'!\"&\"$C$2:$G$200\"),4,FALSE),\"\")","v":""},{"$f":"IFERROR(VLOOKUP(B250,INDIRECT(\"'\"&$J$1&\"'!\"&\"$C$2:$G$200\"),5,FALSE),0)","v":0},{"$f":"IFERROR(VLOOKUP(B250,INDIRECT(\"'\"&$L$1&\"'!\"&\"$C$2:$G$200\"),4,FALSE),\"\")","v":""},{"$f":"IFERROR(VLOOKUP(B250,INDIRECT(\"'\"&$L$1&\"'!\"&\"$C$2:$G$200\"),5,FALSE),0)","v":0},{"$f":"IFERROR(VLOOKUP(B250,INDIRECT(\"'\"&$N$1&\"'!\"&\"$C$2:$G$200\"),4,FALSE),\"\")","v":""},{"$f":"IFERROR(VLOOKUP(B250,INDIRECT(\"'\"&$N$1&\"'!\"&\"$C$2:$G$200\"),5,FALSE),0)","v":0},{"$f":"IFERROR(VLOOKUP(B250,INDIRECT(\"'\"&$P$1&\"'!\"&\"$C$2:$G$200\"),4,FALSE),\"\")","v":""},{"$f":"IFERROR(VLOOKUP(B250,INDIRECT(\"'\"&$P$1&\"'!\"&\"$C$2:$G$200\"),5,FALSE),0)","v":0},{"$f":"IFERROR(VLOOKUP(B250,INDIRECT(\"'\"&$R$1&\"'!\"&\"$C$2:$G$200\"),4,FALSE),\"\")","v":""},{"$f":"IFERROR(VLOOKUP(B250,INDIRECT(\"'\"&$R$1&\"'!\"&\"$C$2:$G$200\"),5,FALSE),0)","v":0},{"$f":"IFERROR(VLOOKUP(B250,INDIRECT(\"'\"&$T$1&\"'!\"&\"$C$2:$G$200\"),4,FALSE),\"\")","v":4.8773148148148149E-2},{"$f":"IFERROR(VLOOKUP(B250,INDIRECT(\"'\"&$T$1&\"'!\"&\"$C$2:$G$200\"),5,FALSE),0)","v":65.864527629233493},{"$f":"8-COUNTIF(F250:U250,\"\")","v":1},{"$f":"E250/IF(V250>4,5,V250)","v":65.864527629233493}]
[249,"Marc Recoquille","Unaffiliated","M40",{"$f":"SUM(LARGE((S251,G251,I251,K251,M251,O251,Q251,U251),{1,2,3,4,5}))","v":65.351501085573105},{"$f":"IFERROR(VLOOKUP(B251,INDIRECT(\"'\"&$F$1&\"'!\"&\"$C$2:$G$200\"),4,FALSE),\"\")","v":""},{"$f":"IFERROR(VLOOKUP(B251,INDIRECT(\"'\"&$F$1&\"'!\"&\"$C$2:$G$200\"),5,FALSE),0)","v":0},{"$f":"IFERROR(VLOOKUP(B251,INDIRECT(\"'\"&$H$1&\"'!\"&\"$C$2:$G$200\"),4,FALSE),\"\")","v":4.1631944444444451E-2},{"$f":"IFERROR(VLOOKUP(B251,INDIRECT(\"'\"&$H$1&\"'!\"&\"$C$2:$G$200\"),5,FALSE),0)","v":65.351501085573105},{"$f":"IFERROR(VLOOKUP(B251,INDIRECT(\"'\"&$J$1&\"'!\"&\"$C$2:$G$200\"),4,FALSE),\"\")","v":""},{"$f":"IFERROR(VLOOKUP(B251,INDIRECT(\"'\"&$J$1&\"'!\"&\"$C$2:$G$200\"),5,FALSE),0)","v":0},{"$f":"IFERROR(VLOOKUP(B251,INDIRECT(\"'\"&$L$1&\"'!\"&\"$C$2:$G$200\"),4,FALSE),\"\")","v":""},{"$f":"IFERROR(VLOOKUP(B251,INDIRECT(\"'\"&$L$1&\"'!\"&\"$C$2:$G$200\"),5,FALSE),0)","v":0},{"$f":"IFERROR(VLOOKUP(B251,INDIRECT(\"'\"&$N$1&\"'!\"&\"$C$2:$G$200\"),4,FALSE),\"\")","v":""},{"$f":"IFERROR(VLOOKUP(B251,INDIRECT(\"'\"&$N$1&\"'!\"&\"$C$2:$G$200\"),5,FALSE),0)","v":0},{"$f":"IFERROR(VLOOKUP(B251,INDIRECT(\"'\"&$P$1&\"'!\"&\"$C$2:$G$200\"),4,FALSE),\"\")","v":""},{"$f":"IFERROR(VLOOKUP(B251,INDIRECT(\"'\"&$P$1&\"'!\"&\"$C$2:$G$200\"),5,FALSE),0)","v":0},{"$f":"IFERROR(VLOOKUP(B251,INDIRECT(\"'\"&$R$1&\"'!\"&\"$C$2:$G$200\"),4,FALSE),\"\")","v":""},{"$f":"IFERROR(VLOOKUP(B251,INDIRECT(\"'\"&$R$1&\"'!\"&\"$C$2:$G$200\"),5,FALSE),0)","v":0},{"$f":"IFERROR(VLOOKUP(B251,INDIRECT(\"'\"&$T$1&\"'!\"&\"$C$2:$G$200\"),4,FALSE),\"\")","v":""},{"$f":"IFERROR(VLOOKUP(B251,INDIRECT(\"'\"&$T$1&\"'!\"&\"$C$2:$G$200\"),5,FALSE),0)","v":0},{"$f":"8-COUNTIF(F251:U251,\"\")","v":1},{"$f":"E251/IF(V251>4,5,V251)","v":65.351501085573105}]
[250,"Gerry Meredith","Monross Trailblazers","M40",{"$f":"SUM(LARGE((S252,G252,I252,K252,M252,O252,Q252,U252),{1,2,3,4,5}))","v":65.239200419255837},{"$f":"IFERROR(VLOOKUP(B252,INDIRECT(\"'\"&$F$1&\"'!\"&\"$C$2:$G$200\"),4,FALSE),\"\")","v":""},{"$f":"IFERROR(VLOOKUP(B252,INDIRECT(\"'\"&$F$1&\"'!\"&\"$C$2:$G$200\"),5,FALSE),0)","v":0},{"$f":"IFERROR(VLOOKUP(B252,INDIRECT(\"'\"&$H$1&\"'!\"&\"$C$2:$G$200\"),4,FALSE),\"\")","v":4.1666666666666664E-2},{"$f":"IFERROR(VLOOKUP(B252,INDIRECT(\"'\"&$H$1&\"'!\"&\"$C$2:$G$200\"),5,FALSE),0)","v":65.239200419255837},{"$f":"IFERROR(VLOOKUP(B252,INDIRECT(\"'\"&$J$1&\"'!\"&\"$C$2:$G$200\"),4,FALSE),\"\")","v":""},{"$f":"IFERROR(VLOOKUP(B252,INDIRECT(\"'\"&$J$1&\"'!\"&\"$C$2:$G$200\"),5,FALSE),0)","v":0},{"$f":"IFERROR(VLOOKUP(B252,INDIRECT(\"'\"&$L$1&\"'!\"&\"$C$2:$G$200\"),4,FALSE),\"\")","v":""},{"$f":"IFERROR(VLOOKUP(B252,INDIRECT(\"'\"&$L$1&\"'!\"&\"$C$2:$G$200\"),5,FALSE),0)","v":0},{"$f":"IFERROR(VLOOKUP(B252,INDIRECT(\"'\"&$N$1&\"'!\"&\"$C$2:$G$200\"),4,FALSE),\"\")","v":""},{"$f":"IFERROR(VLOOKUP(B252,INDIRECT(\"'\"&$N$1&\"'!\"&\"$C$2:$G$200\"),5,FALSE),0)","v":0},{"$f":"IFERROR(VLOOKUP(B252,INDIRECT(\"'\"&$P$1&\"'!\"&\"$C$2:$G$200\"),4,FALSE),\"\")","v":""},{"$f":"IFERROR(VLOOKUP(B252,INDIRECT(\"'\"&$P$1&\"'!\"&\"$C$2:$G$200\"),5,FALSE),0)","v":0},{"$f":"IFERROR(VLOOKUP(B252,INDIRECT(\"'\"&$R$1&\"'!\"&\"$C$2:$G$200\"),4,FALSE),\"\")","v":""},{"$f":"IFERROR(VLOOKUP(B252,INDIRECT(\"'\"&$R$1&\"'!\"&\"$C$2:$G$200\"),5,FALSE),0)","v":0},{"$f":"IFERROR(VLOOKUP(B252,INDIRECT(\"'\"&$T$1&\"'!\"&\"$C$2:$G$200\"),4,FALSE),\"\")","v":""},{"$f":"IFERROR(VLOOKUP(B252,INDIRECT(\"'\"&$T$1&\"'!\"&\"$C$2:$G$200\"),5,FALSE),0)","v":0},{"$f":"8-COUNTIF(F252:U252,\"\")","v":1},{"$f":"E252/IF(V252>4,5,V252)","v":65.239200419255837}]
[251,"Nathaniel Swain","Unaffiliated","SM",{"$f":"SUM(LARGE((S253,G253,I253,K253,M253,O253,Q253,U253),{1,2,3,4,5}))","v":65.12689975293857},{"$f":"IFERROR(VLOOKUP(B253,INDIRECT(\"'\"&$F$1&\"'!\"&\"$C$2:$G$200\"),4,FALSE),\"\")","v":""},{"$f":"IFERROR(VLOOKUP(B253,INDIRECT(\"'\"&$F$1&\"'!\"&\"$C$2:$G$200\"),5,FALSE),0)","v":0},{"$f":"IFERROR(VLOOKUP(B253,INDIRECT(\"'\"&$H$1&\"'!\"&\"$C$2:$G$200\"),4,FALSE),\"\")","v":4.1701388888888885E-2},{"$f":"IFERROR(VLOOKUP(B253,INDIRECT(\"'\"&$H$1&\"'!\"&\"$C$2:$G$200\"),5,FALSE),0)","v":65.12689975293857},{"$f":"IFERROR(VLOOKUP(B253,INDIRECT(\"'\"&$J$1&\"'!\"&\"$C$2:$G$200\"),4,FALSE),\"\")","v":""},{"$f":"IFERROR(VLOOKUP(B253,INDIRECT(\"'\"&$J$1&\"'!\"&\"$C$2:$G$200\"),5,FALSE),0)","v":0},{"$f":"IFERROR(VLOOKUP(B253,INDIRECT(\"'\"&$L$1&\"'!\"&\"$C$2:$G$200\"),4,FALSE),\"\")","v":""},{"$f":"IFERROR(VLOOKUP(B253,INDIRECT(\"'\"&$L$1&\"'!\"&\"$C$2:$G$200\"),5,FALSE),0)","v":0},{"$f":"IFERROR(VLOOKUP(B253,INDIRECT(\"'\"&$N$1&\"'!\"&\"$C$2:$G$200\"),4,FALSE),\"\")","v":""},{"$f":"IFERROR(VLOOKUP(B253,INDIRECT(\"'\"&$N$1&\"'!\"&\"$C$2:$G$200\"),5,FALSE),0)","v":0},{"$f":"IFERROR(VLOOKUP(B253,INDIRECT(\"'\"&$P$1&\"'!\"&\"$C$2:$G$200\"),4,FALSE),\"\")","v":""},{"$f":"IFERROR(VLOOKUP(B253,INDIRECT(\"'\"&$P$1&\"'!\"&\"$C$2:$G$200\"),5,FALSE),0)","v":0},{"$f":"IFERROR(VLOOKUP(B253,INDIRECT(\"'\"&$R$1&\"'!\"&\"$C$2:$G$200\"),4,FALSE),\"\")","v":""},{"$f":"IFERROR(VLOOKUP(B253,INDIRECT(\"'\"&$R$1&\"'!\"&\"$C$2:$G$200\"),5,FALSE),0)","v":0},{"$f":"IFERROR(VLOOKUP(B253,INDIRECT(\"'\"&$T$1&\"'!\"&\"$C$2:$G$200\"),4,FALSE),\"\")","v":""},{"$f":"IFERROR(VLOOKUP(B253,INDIRECT(\"'\"&$T$1&\"'!\"&\"$C$2:$G$200\"),5,FALSE),0)","v":0},{"$f":"8-COUNTIF(F253:U253,\"\")","v":1},{"$f":"E253/IF(V253>4,5,V253)","v":65.12689975293857}]
[252,"Simon Paul Morgan","Taff Ely Triathlon","M40",{"$f":"SUM(LARGE((S254,G254,I254,K254,M254,O254,Q254,U254),{1,2,3,4,5}))","v":65.041427660930509},{"$f":"IFERROR(VLOOKUP(B254,INDIRECT(\"'\"&$F$1&\"'!\"&\"$C$2:$G$200\"),4,FALSE),\"\")","v":""},{"$f":"IFERROR(VLOOKUP(B254,INDIRECT(\"'\"&$F$1&\"'!\"&\"$C$2:$G$200\"),5,FALSE),0)","v":0},{"$f":"IFERROR(VLOOKUP(B254,INDIRECT(\"'\"&$H$1&\"'!\"&\"$C$2:$G$200\"),4,FALSE),\"\")","v":""},{"$f":"IFERROR(VLOOKUP(B254,INDIRECT(\"'\"&$H$1&\"'!\"&\"$C$2:$G$200\"),5,FALSE),0)","v":0},{"$f":"IFERROR(VLOOKUP(B254,INDIRECT(\"'\"&$J$1&\"'!\"&\"$C$2:$G$200\"),4,FALSE),\"\")","v":""},{"$f":"IFERROR(VLOOKUP(B254,INDIRECT(\"'\"&$J$1&\"'!\"&\"$C$2:$G$200\"),5,FALSE),0)","v":0},{"$f":"IFERROR(VLOOKUP(B254,INDIRECT(\"'\"&$L$1&\"'!\"&\"$C$2:$G$200\"),4,FALSE),\"\")","v":""},{"$f":"IFERROR(VLOOKUP(B254,INDIRECT(\"'\"&$L$1&\"'!\"&\"$C$2:$G$200\"),5,FALSE),0)","v":0},{"$f":"IFERROR(VLOOKUP(B254,INDIRECT(\"'\"&$N$1&\"'!\"&\"$C$2:$G$200\"),4,FALSE),\"\")","v":""},{"$f":"IFERROR(VLOOKUP(B254,INDIRECT(\"'\"&$N$1&\"'!\"&\"$C$2:$G$200\"),5,FALSE),0)","v":0},{"$f":"IFERROR(VLOOKUP(B254,INDIRECT(\"'\"&$P$1&\"'!\"&\"$C$2:$G$200\"),4,FALSE),\"\")","v":2.9409722222222223E-2},{"$f":"IFERROR(VLOOKUP(B254,INDIRECT(\"'\"&$P$1&\"'!\"&\"$C$2:$G$200\"),5,FALSE),0)","v":65.041427660930509},{"$f":"IFERROR(VLOOKUP(B254,INDIRECT(\"'\"&$R$1&\"'!\"&\"$C$2:$G$200\"),4,FALSE),\"\")","v":""},{"$f":"IFERROR(VLOOKUP(B254,INDIRECT(\"'\"&$R$1&\"'!\"&\"$C$2:$G$200\"),5,FALSE),0)","v":0},null,{"$f":"IFERROR(VLOOKUP(B254,INDIRECT(\"'\"&$T$1&\"'!\"&\"$C$2:$G$200\"),5,FALSE),0)","v":0},{"$f":"8-COUNTIF(F254:U254,\"\")","v":1},{"$f":"E254/IF(V254>4,5,V254)","v":65.041427660930509}]
[253,"Jonathan James","Unaffiliated","M40",{"$f":"SUM(LARGE((S255,G255,I255,K255,M255,O255,Q255,U255),{1,2,3,4,5}))","v":64.902298420303978},{"$f":"IFERROR(VLOOKUP(B255,INDIRECT(\"'\"&$F$1&\"'!\"&\"$C$2:$G$200\"),4,FALSE),\"\")","v":""},{"$f":"IFERROR(VLOOKUP(B255,INDIRECT(\"'\"&$F$1&\"'!\"&\"$C$2:$G$200\"),5,FALSE),0)","v":0},{"$f":"IFERROR(VLOOKUP(B255,INDIRECT(\"'\"&$H$1&\"'!\"&\"$C$2:$G$200\"),4,FALSE),\"\")","v":4.1770833333333333E-2},{"$f":"IFERROR(VLOOKUP(B255,INDIRECT(\"'\"&$H$1&\"'!\"&\"$C$2:$G$200\"),5,FALSE),0)","v":64.902298420303978},{"$f":"IFERROR(VLOOKUP(B255,INDIRECT(\"'\"&$J$1&\"'!\"&\"$C$2:$G$200\"),4,FALSE),\"\")","v":""},{"$f":"IFERROR(VLOOKUP(B255,INDIRECT(\"'\"&$J$1&\"'!\"&\"$C$2:$G$200\"),5,FALSE),0)","v":0},{"$f":"IFERROR(VLOOKUP(B255,INDIRECT(\"'\"&$L$1&\"'!\"&\"$C$2:$G$200\"),4,FALSE),\"\")","v":""},{"$f":"IFERROR(VLOOKUP(B255,INDIRECT(\"'\"&$L$1&\"'!\"&\"$C$2:$G$200\"),5,FALSE),0)","v":0},{"$f":"IFERROR(VLOOKUP(B255,INDIRECT(\"'\"&$N$1&\"'!\"&\"$C$2:$G$200\"),4,FALSE),\"\")","v":""},{"$f":"IFERROR(VLOOKUP(B255,INDIRECT(\"'\"&$N$1&\"'!\"&\"$C$2:$G$200\"),5,FALSE),0)","v":0},{"$f":"IFERROR(VLOOKUP(B255,INDIRECT(\"'\"&$P$1&\"'!\"&\"$C$2:$G$200\"),4,FALSE),\"\")","v":""},{"$f":"IFERROR(VLOOKUP(B255,INDIRECT(\"'\"&$P$1&\"'!\"&\"$C$2:$G$200\"),5,FALSE),0)","v":0},{"$f":"IFERROR(VLOOKUP(B255,INDIRECT(\"'\"&$R$1&\"'!\"&\"$C$2:$G$200\"),4,FALSE),\"\")","v":""},{"$f":"IFERROR(VLOOKUP(B255,INDIRECT(\"'\"&$R$1&\"'!\"&\"$C$2:$G$200\"),5,FALSE),0)","v":0},null,{"$f":"IFERROR(VLOOKUP(B255,INDIRECT(\"'\"&$T$1&\"'!\"&\"$C$2:$G$200\"),5,FALSE),0)","v":0},{"$f":"8-COUNTIF(F255:U255,\"\")","v":1},{"$f":"E255/IF(V255>4,5,V255)","v":64.902298420303978}]
[254,"Tim Reynolds","Unaffiliated","SM",{"$f":"SUM(LARGE((S256,G256,I256,K256,M256,O256,Q256,U256),{1,2,3,4,5}))","v":64.241151005856878},{"$f":"IFERROR(VLOOKUP(B256,INDIRECT(\"'\"&$F$1&\"'!\"&\"$C$2:$G$200\"),4,FALSE),\"\")","v":""},{"$f":"IFERROR(VLOOKUP(B256,INDIRECT(\"'\"&$F$1&\"'!\"&\"$C$2:$G$200\"),5,FALSE),0)","v":0},{"$f":"IFERROR(VLOOKUP(B256,INDIRECT(\"'\"&$H$1&\"'!\"&\"$C$2:$G$200\"),4,FALSE),\"\")","v":""},{"$f":"IFERROR(VLOOKUP(B256,INDIRECT(\"'\"&$H$1&\"'!\"&\"$C$2:$G$200\"),5,FALSE),0)","v":0},{"$f":"IFERROR(VLOOKUP(B256,INDIRECT(\"'\"&$J$1&\"'!\"&\"$C$2:$G$200\"),4,FALSE),\"\")","v":""},{"$f":"IFERROR(VLOOKUP(B256,INDIRECT(\"'\"&$J$1&\"'!\"&\"$C$2:$G$200\"),5,FALSE),0)","v":0},{"$f":"IFERROR(VLOOKUP(B256,INDIRECT(\"'\"&$L$1&\"'!\"&\"$C$2:$G$200\"),4,FALSE),\"\")","v":""},{"$f":"IFERROR(VLOOKUP(B256,INDIRECT(\"'\"&$L$1&\"'!\"&\"$C$2:$G$200\"),5,FALSE),0)","v":0},{"$f":"IFERROR(VLOOKUP(B256,INDIRECT(\"'\"&$N$1&\"'!\"&\"$C$2:$G$200\"),4,FALSE),\"\")","v":""},{"$f":"IFERROR(VLOOKUP(B256,INDIRECT(\"'\"&$N$1&\"'!\"&\"$C$2:$G$200\"),5,FALSE),0)","v":0},{"$f":"IFERROR(VLOOKUP(B256,INDIRECT(\"'\"&$P$1&\"'!\"&\"$C$2:$G$200\"),4,FALSE),\"\")","v":""},{"$f":"IFERROR(VLOOKUP(B256,INDIRECT(\"'\"&$P$1&\"'!\"&\"$C$2:$G$200\"),5,FALSE),0)","v":0},{"$f":"IFERROR(VLOOKUP(B256,INDIRECT(\"'\"&$R$1&\"'!\"&\"$C$2:$G$200\"),4,FALSE),\"\")","v":""},{"$f":"IFERROR(VLOOKUP(B256,INDIRECT(\"'\"&$R$1&\"'!\"&\"$C$2:$G$200\"),5,FALSE),0)","v":0},{"$f":"IFERROR(VLOOKUP(B256,INDIRECT(\"'\"&$T$1&\"'!\"&\"$C$2:$G$200\"),4,FALSE),\"\")","v":4.9363425925925929E-2},{"$f":"IFERROR(VLOOKUP(B256,INDIRECT(\"'\"&$T$1&\"'!\"&\"$C$2:$G$200\"),5,FALSE),0)","v":64.241151005856878},{"$f":"8-COUNTIF(F256:U256,\"\")","v":1},{"$f":"E256/IF(V256>4,5,V256)","v":64.241151005856878}]
[255,"John Kerley","AS Chamonix","M60",{"$f":"SUM(LARGE((S257,G257,I257,K257,M257,O257,Q257,U257),{1,2,3,4,5}))","v":64.003893089765683},{"$f":"IFERROR(VLOOKUP(B257,INDIRECT(\"'\"&$F$1&\"'!\"&\"$C$2:$G$200\"),4,FALSE),\"\")","v":""},{"$f":"IFERROR(VLOOKUP(B257,INDIRECT(\"'\"&$F$1&\"'!\"&\"$C$2:$G$200\"),5,FALSE),0)","v":0},{"$f":"IFERROR(VLOOKUP(B257,INDIRECT(\"'\"&$H$1&\"'!\"&\"$C$2:$G$200\"),4,FALSE),\"\")","v":4.2048611111111113E-2},{"$f":"IFERROR(VLOOKUP(B257,INDIRECT(\"'\"&$H$1&\"'!\"&\"$C$2:$G$200\"),5,FALSE),0)","v":64.003893089765683},{"$f":"IFERROR(VLOOKUP(B257,INDIRECT(\"'\"&$J$1&\"'!\"&\"$C$2:$G$200\"),4,FALSE),\"\")","v":""},{"$f":"IFERROR(VLOOKUP(B257,INDIRECT(\"'\"&$J$1&\"'!\"&\"$C$2:$G$200\"),5,FALSE),0)","v":0},{"$f":"IFERROR(VLOOKUP(B257,INDIRECT(\"'\"&$L$1&\"'!\"&\"$C$2:$G$200\"),4,FALSE),\"\")","v":""},{"$f":"IFERROR(VLOOKUP(B257,INDIRECT(\"'\"&$L$1&\"'!\"&\"$C$2:$G$200\"),5,FALSE),0)","v":0},{"$f":"IFERROR(VLOOKUP(B257,INDIRECT(\"'\"&$N$1&\"'!\"&\"$C$2:$G$200\"),4,FALSE),\"\")","v":""},{"$f":"IFERROR(VLOOKUP(B257,INDIRECT(\"'\"&$N$1&\"'!\"&\"$C$2:$G$200\"),5,FALSE),0)","v":0},{"$f":"IFERROR(VLOOKUP(B257,INDIRECT(\"'\"&$P$1&\"'!\"&\"$C$2:$G$200\"),4,FALSE),\"\")","v":""},{"$f":"IFERROR(VLOOKUP(B257,INDIRECT(\"'\"&$P$1&\"'!\"&\"$C$2:$G$200\"),5,FALSE),0)","v":0},{"$f":"IFERROR(VLOOKUP(B257,INDIRECT(\"'\"&$R$1&\"'!\"&\"$C$2:$G$200\"),4,FALSE),\"\")","v":""},{"$f":"IFERROR(VLOOKUP(B257,INDIRECT(\"'\"&$R$1&\"'!\"&\"$C$2:$G$200\"),5,FALSE),0)","v":0},{"$f":"IFERROR(VLOOKUP(B257,INDIRECT(\"'\"&$T$1&\"'!\"&\"$C$2:$G$200\"),4,FALSE),\"\")","v":""},{"$f":"IFERROR(VLOOKUP(B257,INDIRECT(\"'\"&$T$1&\"'!\"&\"$C$2:$G$200\"),5,FALSE),0)","v":0},{"$f":"8-COUNTIF(F257:U257,\"\")","v":1},{"$f":"E257/IF(V257>4,5,V257)","v":64.003893089765683}]
[256,"Andy Perry","Unaffiliated","M40",{"$f":"SUM(LARGE((S258,G258,I258,K258,M258,O258,Q258,U258),{1,2,3,4,5}))","v":63.98650369238603},{"$f":"IFERROR(VLOOKUP(B258,INDIRECT(\"'\"&$F$1&\"'!\"&\"$C$2:$G$200\"),4,FALSE),\"\")","v":""},{"$f":"IFERROR(VLOOKUP(B258,INDIRECT(\"'\"&$F$1&\"'!\"&\"$C$2:$G$200\"),5,FALSE),0)","v":0},{"$f":"IFERROR(VLOOKUP(B258,INDIRECT(\"'\"&$H$1&\"'!\"&\"$C$2:$G$200\"),4,FALSE),\"\")","v":""},{"$f":"IFERROR(VLOOKUP(B258,INDIRECT(\"'\"&$H$1&\"'!\"&\"$C$2:$G$200\"),5,FALSE),0)","v":0},{"$f":"IFERROR(VLOOKUP(B258,INDIRECT(\"'\"&$J$1&\"'!\"&\"$C$2:$G$200\"),4,FALSE),\"\")","v":""},{"$f":"IFERROR(VLOOKUP(B258,INDIRECT(\"'\"&$J$1&\"'!\"&\"$C$2:$G$200\"),5,FALSE),0)","v":0},{"$f":"IFERROR(VLOOKUP(B258,INDIRECT(\"'\"&$L$1&\"'!\"&\"$C$2:$G$200\"),4,FALSE),\"\")","v":""},{"$f":"IFERROR(VLOOKUP(B258,INDIRECT(\"'\"&$L$1&\"'!\"&\"$C$2:$G$200\"),5,FALSE),0)","v":0},{"$f":"IFERROR(VLOOKUP(B258,INDIRECT(\"'\"&$N$1&\"'!\"&\"$C$2:$G$200\"),4,FALSE),\"\")","v":""},{"$f":"IFERROR(VLOOKUP(B258,INDIRECT(\"'\"&$N$1&\"'!\"&\"$C$2:$G$200\"),5,FALSE),0)","v":0},{"$f":"IFERROR(VLOOKUP(B258,INDIRECT(\"'\"&$P$1&\"'!\"&\"$C$2:$G$200\"),4,FALSE),\"\")","v":""},{"$f":"IFERROR(VLOOKUP(B258,INDIRECT(\"'\"&$P$1&\"'!\"&\"$C$2:$G$200\"),5,FALSE),0)","v":0},{"$f":"IFERROR(VLOOKUP(B258,INDIRECT(\"'\"&$R$1&\"'!\"&\"$C$2:$G$200\"),4,FALSE),\"\")","v":""},{"$f":"IFERROR(VLOOKUP(B258,INDIRECT(\"'\"&$R$1&\"'!\"&\"$C$2:$G$200\"),5,FALSE),0)","v":0},{"$f":"IFERROR(VLOOKUP(B258,INDIRECT(\"'\"&$T$1&\"'!\"&\"$C$2:$G$200\"),4,FALSE),\"\")","v":4.9456018518518517E-2},{"$f":"IFERROR(VLOOKUP(B258,INDIRECT(\"'\"&$T$1&\"'!\"&\"$C$2:$G$200\"),5,FALSE),0)","v":63.98650369238603},{"$f":"8-COUNTIF(F258:U258,\"\")","v":1},{"$f":"E258/IF(V258>4,5,V258)","v":63.98650369238603}]
[257,"Tom Davies","Croft Ambrey","M60",{"$f":"SUM(LARGE((S259,G259,I259,K259,M259,O259,Q259,U259),{1,2,3,4,5}))","v":63.933432460711522},{"$f":"IFERROR(VLOOKUP(B259,INDIRECT(\"'\"&$F$1&\"'!\"&\"$C$2:$G$200\"),4,FALSE),\"\")","v":""},{"$f":"IFERROR(VLOOKUP(B259,INDIRECT(\"'\"&$F$1&\"'!\"&\"$C$2:$G$200\"),5,FALSE),0)","v":0},{"$f":"IFERROR(VLOOKUP(B259,INDIRECT(\"'\"&$H$1&\"'!\"&\"$C$2:$G$200\"),4,FALSE),\"\")","v":5.1423611111111107E-2},{"$f":"IFERROR(VLOOKUP(B259,INDIRECT(\"'\"&$H$1&\"'!\"&\"$C$2:$G$200\"),5,FALSE),0)","v":33.682713184098255},{"$f":"IFERROR(VLOOKUP(B259,INDIRECT(\"'\"&$J$1&\"'!\"&\"$C$2:$G$200\"),4,FALSE),\"\")","v":""},{"$f":"IFERROR(VLOOKUP(B259,INDIRECT(\"'\"&$J$1&\"'!\"&\"$C$2:$G$200\"),5,FALSE),0)","v":0},{"$f":"IFERROR(VLOOKUP(B259,INDIRECT(\"'\"&$L$1&\"'!\"&\"$C$2:$G$200\"),4,FALSE),\"\")","v":""},{"$f":"IFERROR(VLOOKUP(B259,INDIRECT(\"'\"&$L$1&\"'!\"&\"$C$2:$G$200\"),5,FALSE),0)","v":0},{"$f":"IFERROR(VLOOKUP(B259,INDIRECT(\"'\"&$N$1&\"'!\"&\"$C$2:$G$200\"),4,FALSE),\"\")","v":3.8240740740740742E-2},{"$f":"IFERROR(VLOOKUP(B259,INDIRECT(\"'\"&$N$1&\"'!\"&\"$C$2:$G$200\"),5,FALSE),0)","v":30.250719276613268},{"$f":"IFERROR(VLOOKUP(B259,INDIRECT(\"'\"&$P$1&\"'!\"&\"$C$2:$G$200\"),4,FALSE),\"\")","v":""},{"$f":"IFERROR(VLOOKUP(B259,INDIRECT(\"'\"&$P$1&\"'!\"&\"$C$2:$G$200\"),5,FALSE),0)","v":0},{"$f":"IFERROR(VLOOKUP(B259,INDIRECT(\"'\"&$R$1&\"'!\"&\"$C$2:$G$200\"),4,FALSE),\"\")","v":""},{"$f":"IFERROR(VLOOKUP(B259,INDIRECT(\"'\"&$R$1&\"'!\"&\"$C$2:$G$200\"),5,FALSE),0)","v":0},{"$f":"IFERROR(VLOOKUP(B259,INDIRECT(\"'\"&$T$1&\"'!\"&\"$C$2:$G$200\"),4,FALSE),\"\")","v":""},{"$f":"IFERROR(VLOOKUP(B259,INDIRECT(\"'\"&$T$1&\"'!\"&\"$C$2:$G$200\"),5,FALSE),0)","v":0},{"$f":"8-COUNTIF(F259:U259,\"\")","v":2},{"$f":"E259/IF(V259>4,5,V259)","v":31.966716230355761}]
[258,"Stefan Morfey","Unaffiliated","SM",{"$f":"SUM(LARGE((S260,G260,I260,K260,M260,O260,Q260,U260),{1,2,3,4,5}))","v":63.799835593916995},{"$f":"IFERROR(VLOOKUP(B260,INDIRECT(\"'\"&$F$1&\"'!\"&\"$C$2:$G$200\"),4,FALSE),\"\")","v":""},{"$f":"IFERROR(VLOOKUP(B260,INDIRECT(\"'\"&$F$1&\"'!\"&\"$C$2:$G$200\"),5,FALSE),0)","v":0},{"$f":"IFERROR(VLOOKUP(B260,INDIRECT(\"'\"&$H$1&\"'!\"&\"$C$2:$G$200\"),4,FALSE),\"\")","v":""},{"$f":"IFERROR(VLOOKUP(B260,INDIRECT(\"'\"&$H$1&\"'!\"&\"$C$2:$G$200\"),5,FALSE),0)","v":0},{"$f":"IFERROR(VLOOKUP(B260,INDIRECT(\"'\"&$J$1&\"'!\"&\"$C$2:$G$200\"),4,FALSE),\"\")","v":""},{"$f":"IFERROR(VLOOKUP(B260,INDIRECT(\"'\"&$J$1&\"'!\"&\"$C$2:$G$200\"),5,FALSE),0)","v":0},{"$f":"IFERROR(VLOOKUP(B260,INDIRECT(\"'\"&$L$1&\"'!\"&\"$C$2:$G$200\"),4,FALSE),\"\")","v":""},{"$f":"IFERROR(VLOOKUP(B260,INDIRECT(\"'\"&$L$1&\"'!\"&\"$C$2:$G$200\"),5,FALSE),0)","v":0},{"$f":"IFERROR(VLOOKUP(B260,INDIRECT(\"'\"&$N$1&\"'!\"&\"$C$2:$G$200\"),4,FALSE),\"\")","v":3.0682870370370371E-2},{"$f":"IFERROR(VLOOKUP(B260,INDIRECT(\"'\"&$N$1&\"'!\"&\"$C$2:$G$200\"),5,FALSE),0)","v":63.799835593916995},{"$f":"IFERROR(VLOOKUP(B260,INDIRECT(\"'\"&$P$1&\"'!\"&\"$C$2:$G$200\"),4,FALSE),\"\")","v":""},{"$f":"IFERROR(VLOOKUP(B260,INDIRECT(\"'\"&$P$1&\"'!\"&\"$C$2:$G$200\"),5,FALSE),0)","v":0},{"$f":"IFERROR(VLOOKUP(B260,INDIRECT(\"'\"&$R$1&\"'!\"&\"$C$2:$G$200\"),4,FALSE),\"\")","v":""},{"$f":"IFERROR(VLOOKUP(B260,INDIRECT(\"'\"&$R$1&\"'!\"&\"$C$2:$G$200\"),5,FALSE),0)","v":0},{"$f":"IFERROR(VLOOKUP(B260,INDIRECT(\"'\"&$T$1&\"'!\"&\"$C$2:$G$200\"),4,FALSE),\"\")","v":""},{"$f":"IFERROR(VLOOKUP(B260,INDIRECT(\"'\"&$T$1&\"'!\"&\"$C$2:$G$200\"),5,FALSE),0)","v":0},{"$f":"8-COUNTIF(F260:U260,\"\")","v":1},{"$f":"E260/IF(V260>4,5,V260)","v":63.799835593916995}]
[259,"David Daniels","Cobra RC","M60",{"$f":"SUM(LARGE((S261,G261,I261,K261,M261,O261,Q261,U261),{1,2,3,4,5}))","v":63.79551820728291},{"$f":"IFERROR(VLOOKUP(B261,INDIRECT(\"'\"&$F$1&\"'!\"&\"$C$2:$G$200\"),4,FALSE),\"\")","v":""},{"$f":"IFERROR(VLOOKUP(B261,INDIRECT(\"'\"&$F$1&\"'!\"&\"$C$2:$G$200\"),5,FALSE),0)","v":0},{"$f":"IFERROR(VLOOKUP(B261,INDIRECT(\"'\"&$H$1&\"'!\"&\"$C$2:$G$200\"),4,FALSE),\"\")","v":""},{"$f":"IFERROR(VLOOKUP(B261,INDIRECT(\"'\"&$H$1&\"'!\"&\"$C$2:$G$200\"),5,FALSE),0)","v":0},{"$f":"IFERROR(VLOOKUP(B261,INDIRECT(\"'\"&$J$1&\"'!\"&\"$C$2:$G$200\"),4,FALSE),\"\")","v":""},{"$f":"IFERROR(VLOOKUP(B261,INDIRECT(\"'\"&$J$1&\"'!\"&\"$C$2:$G$200\"),5,FALSE),0)","v":0},{"$f":"IFERROR(VLOOKUP(B261,INDIRECT(\"'\"&$L$1&\"'!\"&\"$C$2:$G$200\"),4,FALSE),\"\")","v":""},{"$f":"IFERROR(VLOOKUP(B261,INDIRECT(\"'\"&$L$1&\"'!\"&\"$C$2:$G$200\"),5,FALSE),0)","v":0},{"$f":"IFERROR(VLOOKUP(B261,INDIRECT(\"'\"&$N$1&\"'!\"&\"$C$2:$G$200\"),4,FALSE),\"\")","v":""},{"$f":"IFERROR(VLOOKUP(B261,INDIRECT(\"'\"&$N$1&\"'!\"&\"$C$2:$G$200\"),5,FALSE),0)","v":0},{"$f":"IFERROR(VLOOKUP(B261,INDIRECT(\"'\"&$P$1&\"'!\"&\"$C$2:$G$200\"),4,FALSE),\"\")","v":""},{"$f":"IFERROR(VLOOKUP(B261,INDIRECT(\"'\"&$P$1&\"'!\"&\"$C$2:$G$200\"),5,FALSE),0)","v":0},{"$f":"IFERROR(VLOOKUP(B261,INDIRECT(\"'\"&$R$1&\"'!\"&\"$C$2:$G$200\"),4,FALSE),\"\")","v":""},{"$f":"IFERROR(VLOOKUP(B261,INDIRECT(\"'\"&$R$1&\"'!\"&\"$C$2:$G$200\"),5,FALSE),0)","v":0},{"$f":"IFERROR(VLOOKUP(B261,INDIRECT(\"'\"&$T$1&\"'!\"&\"$C$2:$G$200\"),4,FALSE),\"\")","v":4.9525462962962959E-2},{"$f":"IFERROR(VLOOKUP(B261,INDIRECT(\"'\"&$T$1&\"'!\"&\"$C$2:$G$200\"),5,FALSE),0)","v":63.79551820728291},{"$f":"8-COUNTIF(F261:U261,\"\")","v":1},{"$f":"E261/IF(V261>4,5,V261)","v":63.79551820728291}]
[260,"Johnathan Gentle","Unaffiliated","SM",{"$f":"SUM(LARGE((S262,G262,I262,K262,M262,O262,Q262,U262),{1,2,3,4,5}))","v":63.700025464731326},{"$f":"IFERROR(VLOOKUP(B262,INDIRECT(\"'\"&$F$1&\"'!\"&\"$C$2:$G$200\"),4,FALSE),\"\")","v":""},{"$f":"IFERROR(VLOOKUP(B262,INDIRECT(\"'\"&$F$1&\"'!\"&\"$C$2:$G$200\"),5,FALSE),0)","v":0},{"$f":"IFERROR(VLOOKUP(B262,INDIRECT(\"'\"&$H$1&\"'!\"&\"$C$2:$G$200\"),4,FALSE),\"\")","v":""},{"$f":"IFERROR(VLOOKUP(B262,INDIRECT(\"'\"&$H$1&\"'!\"&\"$C$2:$G$200\"),5,FALSE),0)","v":0},{"$f":"IFERROR(VLOOKUP(B262,INDIRECT(\"'\"&$J$1&\"'!\"&\"$C$2:$G$200\"),4,FALSE),\"\")","v":""},{"$f":"IFERROR(VLOOKUP(B262,INDIRECT(\"'\"&$J$1&\"'!\"&\"$C$2:$G$200\"),5,FALSE),0)","v":0},{"$f":"IFERROR(VLOOKUP(B262,INDIRECT(\"'\"&$L$1&\"'!\"&\"$C$2:$G$200\"),4,FALSE),\"\")","v":""},{"$f":"IFERROR(VLOOKUP(B262,INDIRECT(\"'\"&$L$1&\"'!\"&\"$C$2:$G$200\"),5,FALSE),0)","v":0},{"$f":"IFERROR(VLOOKUP(B262,INDIRECT(\"'\"&$N$1&\"'!\"&\"$C$2:$G$200\"),4,FALSE),\"\")","v":""},{"$f":"IFERROR(VLOOKUP(B262,INDIRECT(\"'\"&$N$1&\"'!\"&\"$C$2:$G$200\"),5,FALSE),0)","v":0},{"$f":"IFERROR(VLOOKUP(B262,INDIRECT(\"'\"&$P$1&\"'!\"&\"$C$2:$G$200\"),4,FALSE),\"\")","v":""},{"$f":"IFERROR(VLOOKUP(B262,INDIRECT(\"'\"&$P$1&\"'!\"&\"$C$2:$G$200\"),5,FALSE),0)","v":0},{"$f":"IFERROR(VLOOKUP(B262,INDIRECT(\"'\"&$R$1&\"'!\"&\"$C$2:$G$200\"),4,FALSE),\"\")","v":""},{"$f":"IFERROR(VLOOKUP(B262,INDIRECT(\"'\"&$R$1&\"'!\"&\"$C$2:$G$200\"),5,FALSE),0)","v":0},{"$f":"IFERROR(VLOOKUP(B262,INDIRECT(\"'\"&$T$1&\"'!\"&\"$C$2:$G$200\"),4,FALSE),\"\")","v":4.9560185185185186E-2},{"$f":"IFERROR(VLOOKUP(B262,INDIRECT(\"'\"&$T$1&\"'!\"&\"$C$2:$G$200\"),5,FALSE),0)","v":63.700025464731326},{"$f":"8-COUNTIF(F262:U262,\"\")","v":1},{"$f":"E262/IF(V262>4,5,V262)","v":63.700025464731326}]
[261,"James Pope","Unaffiliated","M40",{"$f":"SUM(LARGE((S263,G263,I263,K263,M263,O263,Q263,U263),{1,2,3,4,5}))","v":63.604532722179762},{"$f":"IFERROR(VLOOKUP(B263,INDIRECT(\"'\"&$F$1&\"'!\"&\"$C$2:$G$200\"),4,FALSE),\"\")","v":""},{"$f":"IFERROR(VLOOKUP(B263,INDIRECT(\"'\"&$F$1&\"'!\"&\"$C$2:$G$200\"),5,FALSE),0)","v":0},{"$f":"IFERROR(VLOOKUP(B263,INDIRECT(\"'\"&$H$1&\"'!\"&\"$C$2:$G$200\"),4,FALSE),\"\")","v":""},{"$f":"IFERROR(VLOOKUP(B263,INDIRECT(\"'\"&$H$1&\"'!\"&\"$C$2:$G$200\"),5,FALSE),0)","v":0},{"$f":"IFERROR(VLOOKUP(B263,INDIRECT(\"'\"&$J$1&\"'!\"&\"$C$2:$G$200\"),4,FALSE),\"\")","v":""},{"$f":"IFERROR(VLOOKUP(B263,INDIRECT(\"'\"&$J$1&\"'!\"&\"$C$2:$G$200\"),5,FALSE),0)","v":0},{"$f":"IFERROR(VLOOKUP(B263,INDIRECT(\"'\"&$L$1&\"'!\"&\"$C$2:$G$200\"),4,FALSE),\"\")","v":""},{"$f":"IFERROR(VLOOKUP(B263,INDIRECT(\"'\"&$L$1&\"'!\"&\"$C$2:$G$200\"),5,FALSE),0)","v":0},{"$f":"IFERROR(VLOOKUP(B263,INDIRECT(\"'\"&$N$1&\"'!\"&\"$C$2:$G$200\"),4,FALSE),\"\")","v":""},{"$f":"IFERROR(VLOOKUP(B263,INDIRECT(\"'\"&$N$1&\"'!\"&\"$C$2:$G$200\"),5,FALSE),0)","v":0},{"$f":"IFERROR(VLOOKUP(B263,INDIRECT(\"'\"&$P$1&\"'!\"&\"$C$2:$G$200\"),4,FALSE),\"\")","v":""},{"$f":"IFERROR(VLOOKUP(B263,INDIRECT(\"'\"&$P$1&\"'!\"&\"$C$2:$G$200\"),5,FALSE),0)","v":0},{"$f":"IFERROR(VLOOKUP(B263,INDIRECT(\"'\"&$R$1&\"'!\"&\"$C$2:$G$200\"),4,FALSE),\"\")","v":""},{"$f":"IFERROR(VLOOKUP(B263,INDIRECT(\"'\"&$R$1&\"'!\"&\"$C$2:$G$200\"),5,FALSE),0)","v":0},{"$f":"IFERROR(VLOOKUP(B263,INDIRECT(\"'\"&$T$1&\"'!\"&\"$C$2:$G$200\"),4,FALSE),\"\")","v":4.9594907407407407E-2},{"$f":"IFERROR(VLOOKUP(B263,INDIRECT(\"'\"&$T$1&\"'!\"&\"$C$2:$G$200\"),5,FALSE),0)","v":63.604532722179762},{"$f":"8-COUNTIF(F263:U263,\"\")","v":1},{"$f":"E263/IF(V263>4,5,V263)","v":63.604532722179762}]
[262,"Adrian Moir","MDC","M50 ",{"$f":"SUM(LARGE((S264,G264,I264,K264,M264,O264,Q264,U264),{1,2,3,4,5}))","v":63.528668456799849},{"$f":"IFERROR(VLOOKUP(B264,INDIRECT(\"'\"&$F$1&\"'!\"&\"$C$2:$G$200\"),4,FALSE),\"\")","v":0.02},{"$f":"IFERROR(VLOOKUP(B264,INDIRECT(\"'\"&$F$1&\"'!\"&\"$C$2:$G$200\"),5,FALSE),0)","v":63.528668456799849},{"$f":"IFERROR(VLOOKUP(B264,INDIRECT(\"'\"&$H$1&\"'!\"&\"$C$2:$G$200\"),4,FALSE),\"\")","v":""},{"$f":"IFERROR(VLOOKUP(B264,INDIRECT(\"'\"&$H$1&\"'!\"&\"$C$2:$G$200\"),5,FALSE),0)","v":0},{"$f":"IFERROR(VLOOKUP(B264,INDIRECT(\"'\"&$J$1&\"'!\"&\"$C$2:$G$200\"),4,FALSE),\"\")","v":""},{"$f":"IFERROR(VLOOKUP(B264,INDIRECT(\"'\"&$J$1&\"'!\"&\"$C$2:$G$200\"),5,FALSE),0)","v":0},{"$f":"IFERROR(VLOOKUP(B264,INDIRECT(\"'\"&$L$1&\"'!\"&\"$C$2:$G$200\"),4,FALSE),\"\")","v":""},{"$f":"IFERROR(VLOOKUP(B264,INDIRECT(\"'\"&$L$1&\"'!\"&\"$C$2:$G$200\"),5,FALSE),0)","v":0},{"$f":"IFERROR(VLOOKUP(B264,INDIRECT(\"'\"&$N$1&\"'!\"&\"$C$2:$G$200\"),4,FALSE),\"\")","v":""},{"$f":"IFERROR(VLOOKUP(B264,INDIRECT(\"'\"&$N$1&\"'!\"&\"$C$2:$G$200\"),5,FALSE),0)","v":0},{"$f":"IFERROR(VLOOKUP(B264,INDIRECT(\"'\"&$P$1&\"'!\"&\"$C$2:$G$200\"),4,FALSE),\"\")","v":""},{"$f":"IFERROR(VLOOKUP(B264,INDIRECT(\"'\"&$P$1&\"'!\"&\"$C$2:$G$200\"),5,FALSE),0)","v":0},{"$f":"IFERROR(VLOOKUP(B264,INDIRECT(\"'\"&$R$1&\"'!\"&\"$C$2:$G$200\"),4,FALSE),\"\")","v":""},{"$f":"IFERROR(VLOOKUP(B264,INDIRECT(\"'\"&$R$1&\"'!\"&\"$C$2:$G$200\"),5,FALSE),0)","v":0},{"$f":"IFERROR(VLOOKUP(B264,INDIRECT(\"'\"&$T$1&\"'!\"&\"$C$2:$G$200\"),4,FALSE),\"\")","v":""},{"$f":"IFERROR(VLOOKUP(B264,INDIRECT(\"'\"&$T$1&\"'!\"&\"$C$2:$G$200\"),5,FALSE),0)","v":0},{"$f":"8-COUNTIF(F264:U264,\"\")","v":1},{"$f":"E264/IF(V264>4,5,V264)","v":63.528668456799849}]
[263,"Guy Whitmarsh","Croft Ambrey","M70",{"$f":"SUM(LARGE((S265,G265,I265,K265,M265,O265,Q265,U265),{1,2,3,4,5}))","v":63.479823313618347},{"$f":"IFERROR(VLOOKUP(B265,INDIRECT(\"'\"&$F$1&\"'!\"&\"$C$2:$G$200\"),4,FALSE),\"\")","v":""},{"$f":"IFERROR(VLOOKUP(B265,INDIRECT(\"'\"&$F$1&\"'!\"&\"$C$2:$G$200\"),5,FALSE),0)","v":0},{"$f":"IFERROR(VLOOKUP(B265,INDIRECT(\"'\"&$H$1&\"'!\"&\"$C$2:$G$200\"),4,FALSE),\"\")","v":4.221064814814815E-2},{"$f":"IFERROR(VLOOKUP(B265,INDIRECT(\"'\"&$H$1&\"'!\"&\"$C$2:$G$200\"),5,FALSE),0)","v":63.479823313618347},{"$f":"IFERROR(VLOOKUP(B265,INDIRECT(\"'\"&$J$1&\"'!\"&\"$C$2:$G$200\"),4,FALSE),\"\")","v":""},{"$f":"IFERROR(VLOOKUP(B265,INDIRECT(\"'\"&$J$1&\"'!\"&\"$C$2:$G$200\"),5,FALSE),0)","v":0},{"$f":"IFERROR(VLOOKUP(B265,INDIRECT(\"'\"&$L$1&\"'!\"&\"$C$2:$G$200\"),4,FALSE),\"\")","v":""},{"$f":"IFERROR(VLOOKUP(B265,INDIRECT(\"'\"&$L$1&\"'!\"&\"$C$2:$G$200\"),5,FALSE),0)","v":0},{"$f":"IFERROR(VLOOKUP(B265,INDIRECT(\"'\"&$N$1&\"'!\"&\"$C$2:$G$200\"),4,FALSE),\"\")","v":""},{"$f":"IFERROR(VLOOKUP(B265,INDIRECT(\"'\"&$N$1&\"'!\"&\"$C$2:$G$200\"),5,FALSE),0)","v":0},{"$f":"IFERROR(VLOOKUP(B265,INDIRECT(\"'\"&$P$1&\"'!\"&\"$C$2:$G$200\"),4,FALSE),\"\")","v":""},{"$f":"IFERROR(VLOOKUP(B265,INDIRECT(\"'\"&$P$1&\"'!\"&\"$C$2:$G$200\"),5,FALSE),0)","v":0},{"$f":"IFERROR(VLOOKUP(B265,INDIRECT(\"'\"&$R$1&\"'!\"&\"$C$2:$G$200\"),4,FALSE),\"\")","v":""},{"$f":"IFERROR(VLOOKUP(B265,INDIRECT(\"'\"&$R$1&\"'!\"&\"$C$2:$G$200\"),5,FALSE),0)","v":0},{"$f":"IFERROR(VLOOKUP(B265,INDIRECT(\"'\"&$T$1&\"'!\"&\"$C$2:$G$200\"),4,FALSE),\"\")","v":""},{"$f":"IFERROR(VLOOKUP(B265,INDIRECT(\"'\"&$T$1&\"'!\"&\"$C$2:$G$200\"),5,FALSE),0)","v":0},{"$f":"8-COUNTIF(F265:U265,\"\")","v":1},{"$f":"E265/IF(V265>4,5,V265)","v":63.479823313618347}]
[264,"Anne-Marie Harris","Mynydd Du","F40",{"$f":"SUM(LARGE((S266,G266,I266,K266,M266,O266,Q266,U266),{1,2,3,4,5}))","v":63.34697589813554},{"$f":"IFERROR(VLOOKUP(B266,INDIRECT(\"'\"&$F$1&\"'!\"&\"$C$2:$G$200\"),4,FALSE),\"\")","v":""},{"$f":"IFERROR(VLOOKUP(B266,INDIRECT(\"'\"&$F$1&\"'!\"&\"$C$2:$G$200\"),5,FALSE),0)","v":0},{"$f":"IFERROR(VLOOKUP(B266,INDIRECT(\"'\"&$H$1&\"'!\"&\"$C$2:$G$200\"),4,FALSE),\"\")","v":""},{"$f":"IFERROR(VLOOKUP(B266,INDIRECT(\"'\"&$H$1&\"'!\"&\"$C$2:$G$200\"),5,FALSE),0)","v":0},{"$f":"IFERROR(VLOOKUP(B266,INDIRECT(\"'\"&$J$1&\"'!\"&\"$C$2:$G$200\"),4,FALSE),\"\")","v":""},{"$f":"IFERROR(VLOOKUP(B266,INDIRECT(\"'\"&$J$1&\"'!\"&\"$C$2:$G$200\"),5,FALSE),0)","v":0},{"$f":"IFERROR(VLOOKUP(B266,INDIRECT(\"'\"&$L$1&\"'!\"&\"$C$2:$G$200\"),4,FALSE),\"\")","v":""},{"$f":"IFERROR(VLOOKUP(B266,INDIRECT(\"'\"&$L$1&\"'!\"&\"$C$2:$G$200\"),5,FALSE),0)","v":0},{"$f":"IFERROR(VLOOKUP(B266,INDIRECT(\"'\"&$N$1&\"'!\"&\"$C$2:$G$200\"),4,FALSE),\"\")","v":""},{"$f":"IFERROR(VLOOKUP(B266,INDIRECT(\"'\"&$N$1&\"'!\"&\"$C$2:$G$200\"),5,FALSE),0)","v":0},{"$f":"IFERROR(VLOOKUP(B266,INDIRECT(\"'\"&$P$1&\"'!\"&\"$C$2:$G$200\"),4,FALSE),\"\")","v":""},{"$f":"IFERROR(VLOOKUP(B266,INDIRECT(\"'\"&$P$1&\"'!\"&\"$C$2:$G$200\"),5,FALSE),0)","v":0},{"$f":"IFERROR(VLOOKUP(B266,INDIRECT(\"'\"&$R$1&\"'!\"&\"$C$2:$G$200\"),4,FALSE),\"\")","v":2.7824074074074074E-2},{"$f":"IFERROR(VLOOKUP(B266,INDIRECT(\"'\"&$R$1&\"'!\"&\"$C$2:$G$200\"),5,FALSE),0)","v":63.34697589813554},null,{"$f":"IFERROR(VLOOKUP(B266,INDIRECT(\"'\"&$T$1&\"'!\"&\"$C$2:$G$200\"),5,FALSE),0)","v":0},{"$f":"8-COUNTIF(F266:U266,\"\")","v":1},{"$f":"E266/IF(V266>4,5,V266)","v":63.34697589813554}]
[265,"Katie Jones","Croft Ambrey","SF",{"$f":"SUM(LARGE((S267,G267,I267,K267,M267,O267,Q267,U267),{1,2,3,4,5}))","v":63.005911778080993},{"$f":"IFERROR(VLOOKUP(B267,INDIRECT(\"'\"&$F$1&\"'!\"&\"$C$2:$G$200\"),4,FALSE),\"\")","v":""},{"$f":"IFERROR(VLOOKUP(B267,INDIRECT(\"'\"&$F$1&\"'!\"&\"$C$2:$G$200\"),5,FALSE),0)","v":0},{"$f":"IFERROR(VLOOKUP(B267,INDIRECT(\"'\"&$H$1&\"'!\"&\"$C$2:$G$200\"),4,FALSE),\"\")","v":""},{"$f":"IFERROR(VLOOKUP(B267,INDIRECT(\"'\"&$H$1&\"'!\"&\"$C$2:$G$200\"),5,FALSE),0)","v":0},{"$f":"IFERROR(VLOOKUP(B267,INDIRECT(\"'\"&$J$1&\"'!\"&\"$C$2:$G$200\"),4,FALSE),\"\")","v":""},{"$f":"IFERROR(VLOOKUP(B267,INDIRECT(\"'\"&$J$1&\"'!\"&\"$C$2:$G$200\"),5,FALSE),0)","v":0},{"$f":"IFERROR(VLOOKUP(B267,INDIRECT(\"'\"&$L$1&\"'!\"&\"$C$2:$G$200\"),4,FALSE),\"\")","v":""},{"$f":"IFERROR(VLOOKUP(B267,INDIRECT(\"'\"&$L$1&\"'!\"&\"$C$2:$G$200\"),5,FALSE),0)","v":0},{"$f":"IFERROR(VLOOKUP(B267,INDIRECT(\"'\"&$N$1&\"'!\"&\"$C$2:$G$200\"),4,FALSE),\"\")","v":""},{"$f":"IFERROR(VLOOKUP(B267,INDIRECT(\"'\"&$N$1&\"'!\"&\"$C$2:$G$200\"),5,FALSE),0)","v":0},{"$f":"IFERROR(VLOOKUP(B267,INDIRECT(\"'\"&$P$1&\"'!\"&\"$C$2:$G$200\"),4,FALSE),\"\")","v":""},{"$f":"IFERROR(VLOOKUP(B267,INDIRECT(\"'\"&$P$1&\"'!\"&\"$C$2:$G$200\"),5,FALSE),0)","v":0},{"$f":"IFERROR(VLOOKUP(B267,INDIRECT(\"'\"&$R$1&\"'!\"&\"$C$2:$G$200\"),4,FALSE),\"\")","v":2.7893518518518515E-2},{"$f":"IFERROR(VLOOKUP(B267,INDIRECT(\"'\"&$R$1&\"'!\"&\"$C$2:$G$200\"),5,FALSE),0)","v":63.005911778080993},null,{"$f":"IFERROR(VLOOKUP(B267,INDIRECT(\"'\"&$T$1&\"'!\"&\"$C$2:$G$200\"),5,FALSE),0)","v":0},{"$f":"8-COUNTIF(F267:U267,\"\")","v":1},{"$f":"E267/IF(V267>4,5,V267)","v":63.005911778080993}]
[266,"Gemma Hewitt","Forest Of Dean AC","SF",{"$f":"SUM(LARGE((S268,G268,I268,K268,M268,O268,Q268,U268),{1,2,3,4,5}))","v":62.646151526679915},{"$f":"IFERROR(VLOOKUP(B268,INDIRECT(\"'\"&$F$1&\"'!\"&\"$C$2:$G$200\"),4,FALSE),\"\")","v":""},{"$f":"IFERROR(VLOOKUP(B268,INDIRECT(\"'\"&$F$1&\"'!\"&\"$C$2:$G$200\"),5,FALSE),0)","v":0},{"$f":"IFERROR(VLOOKUP(B268,INDIRECT(\"'\"&$H$1&\"'!\"&\"$C$2:$G$200\"),4,FALSE),\"\")","v":5.9027777777777783E-2},{"$f":"IFERROR(VLOOKUP(B268,INDIRECT(\"'\"&$H$1&\"'!\"&\"$C$2:$G$200\"),5,FALSE),0)","v":9.088867260612421},{"$f":"IFERROR(VLOOKUP(B268,INDIRECT(\"'\"&$J$1&\"'!\"&\"$C$2:$G$200\"),4,FALSE),\"\")","v":""},{"$f":"IFERROR(VLOOKUP(B268,INDIRECT(\"'\"&$J$1&\"'!\"&\"$C$2:$G$200\"),5,FALSE),0)","v":0},{"$f":"IFERROR(VLOOKUP(B268,INDIRECT(\"'\"&$L$1&\"'!\"&\"$C$2:$G$200\"),4,FALSE),\"\")","v":3.366898148148148E-2},{"$f":"IFERROR(VLOOKUP(B268,INDIRECT(\"'\"&$L$1&\"'!\"&\"$C$2:$G$200\"),5,FALSE),0)","v":20.121197130843459},{"$f":"IFERROR(VLOOKUP(B268,INDIRECT(\"'\"&$N$1&\"'!\"&\"$C$2:$G$200\"),4,FALSE),\"\")","v":3.7523148148148146E-2},{"$f":"IFERROR(VLOOKUP(B268,INDIRECT(\"'\"&$N$1&\"'!\"&\"$C$2:$G$200\"),5,FALSE),0)","v":33.436087135224035},{"$f":"IFERROR(VLOOKUP(B268,INDIRECT(\"'\"&$P$1&\"'!\"&\"$C$2:$G$200\"),4,FALSE),\"\")","v":""},{"$f":"IFERROR(VLOOKUP(B268,INDIRECT(\"'\"&$P$1&\"'!\"&\"$C$2:$G$200\"),5,FALSE),0)","v":0},{"$f":"IFERROR(VLOOKUP(B268,INDIRECT(\"'\"&$R$1&\"'!\"&\"$C$2:$G$200\"),4,FALSE),\"\")","v":""},{"$f":"IFERROR(VLOOKUP(B268,INDIRECT(\"'\"&$R$1&\"'!\"&\"$C$2:$G$200\"),5,FALSE),0)","v":0},{"$f":"IFERROR(VLOOKUP(B268,INDIRECT(\"'\"&$T$1&\"'!\"&\"$C$2:$G$200\"),4,FALSE),\"\")","v":""},{"$f":"IFERROR(VLOOKUP(B268,INDIRECT(\"'\"&$T$1&\"'!\"&\"$C$2:$G$200\"),5,FALSE),0)","v":0},{"$f":"8-COUNTIF(F268:U268,\"\")","v":3},{"$f":"E268/IF(V268>4,5,V268)","v":20.882050508893304}]
[267,"Aderyn Carter","Hay Hotfooters","FU23",{"$f":"SUM(LARGE((S269,G269,I269,K269,M269,O269,Q269,U269),{1,2,3,4,5}))","v":62.096407457935456},{"$f":"IFERROR(VLOOKUP(B269,INDIRECT(\"'\"&$F$1&\"'!\"&\"$C$2:$G$200\"),4,FALSE),\"\")","v":""},{"$f":"IFERROR(VLOOKUP(B269,INDIRECT(\"'\"&$F$1&\"'!\"&\"$C$2:$G$200\"),5,FALSE),0)","v":0},{"$f":"IFERROR(VLOOKUP(B269,INDIRECT(\"'\"&$H$1&\"'!\"&\"$C$2:$G$200\"),4,FALSE),\"\")","v":""},{"$f":"IFERROR(VLOOKUP(B269,INDIRECT(\"'\"&$H$1&\"'!\"&\"$C$2:$G$200\"),5,FALSE),0)","v":0},{"$f":"IFERROR(VLOOKUP(B269,INDIRECT(\"'\"&$J$1&\"'!\"&\"$C$2:$G$200\"),4,FALSE),\"\")","v":""},{"$f":"IFERROR(VLOOKUP(B269,INDIRECT(\"'\"&$J$1&\"'!\"&\"$C$2:$G$200\"),5,FALSE),0)","v":0},{"$f":"IFERROR(VLOOKUP(B269,INDIRECT(\"'\"&$L$1&\"'!\"&\"$C$2:$G$200\"),4,FALSE),\"\")","v":""},{"$f":"IFERROR(VLOOKUP(B269,INDIRECT(\"'\"&$L$1&\"'!\"&\"$C$2:$G$200\"),5,FALSE),0)","v":0},{"$f":"IFERROR(VLOOKUP(B269,INDIRECT(\"'\"&$N$1&\"'!\"&\"$C$2:$G$200\"),4,FALSE),\"\")","v":""},{"$f":"IFERROR(VLOOKUP(B269,INDIRECT(\"'\"&$N$1&\"'!\"&\"$C$2:$G$200\"),5,FALSE),0)","v":0},{"$f":"IFERROR(VLOOKUP(B269,INDIRECT(\"'\"&$P$1&\"'!\"&\"$C$2:$G$200\"),4,FALSE),\"\")","v":""},{"$f":"IFERROR(VLOOKUP(B269,INDIRECT(\"'\"&$P$1&\"'!\"&\"$C$2:$G$200\"),5,FALSE),0)","v":0},{"$f":"IFERROR(VLOOKUP(B269,INDIRECT(\"'\"&$R$1&\"'!\"&\"$C$2:$G$200\"),4,FALSE),\"\")","v":2.8078703703703703E-2},{"$f":"IFERROR(VLOOKUP(B269,INDIRECT(\"'\"&$R$1&\"'!\"&\"$C$2:$G$200\"),5,FALSE),0)","v":62.096407457935456},{"$f":"IFERROR(VLOOKUP(B269,INDIRECT(\"'\"&$T$1&\"'!\"&\"$C$2:$G$200\"),4,FALSE),\"\")","v":""},{"$f":"IFERROR(VLOOKUP(B269,INDIRECT(\"'\"&$T$1&\"'!\"&\"$C$2:$G$200\"),5,FALSE),0)","v":0},{"$f":"8-COUNTIF(F269:U269,\"\")","v":1},{"$f":"E269/IF(V269>4,5,V269)","v":62.096407457935456}]
[268,"Sally Wilder","San Domenico","SF",{"$f":"SUM(LARGE((S270,G270,I270,K270,M270,O270,Q270,U270),{1,2,3,4,5}))","v":62.019914651493636},{"$f":"IFERROR(VLOOKUP(B270,INDIRECT(\"'\"&$F$1&\"'!\"&\"$C$2:$G$200\"),4,FALSE),\"\")","v":""},{"$f":"IFERROR(VLOOKUP(B270,INDIRECT(\"'\"&$F$1&\"'!\"&\"$C$2:$G$200\"),5,FALSE),0)","v":0},{"$f":"IFERROR(VLOOKUP(B270,INDIRECT(\"'\"&$H$1&\"'!\"&\"$C$2:$G$200\"),4,FALSE),\"\")","v":4.2662037037037033E-2},{"$f":"IFERROR(VLOOKUP(B270,INDIRECT(\"'\"&$H$1&\"'!\"&\"$C$2:$G$200\"),5,FALSE),0)","v":62.019914651493636},{"$f":"IFERROR(VLOOKUP(B270,INDIRECT(\"'\"&$J$1&\"'!\"&\"$C$2:$G$200\"),4,FALSE),\"\")","v":""},{"$f":"IFERROR(VLOOKUP(B270,INDIRECT(\"'\"&$J$1&\"'!\"&\"$C$2:$G$200\"),5,FALSE),0)","v":0},{"$f":"IFERROR(VLOOKUP(B270,INDIRECT(\"'\"&$L$1&\"'!\"&\"$C$2:$G$200\"),4,FALSE),\"\")","v":""},{"$f":"IFERROR(VLOOKUP(B270,INDIRECT(\"'\"&$L$1&\"'!\"&\"$C$2:$G$200\"),5,FALSE),0)","v":0},{"$f":"IFERROR(VLOOKUP(B270,INDIRECT(\"'\"&$N$1&\"'!\"&\"$C$2:$G$200\"),4,FALSE),\"\")","v":""},{"$f":"IFERROR(VLOOKUP(B270,INDIRECT(\"'\"&$N$1&\"'!\"&\"$C$2:$G$200\"),5,FALSE),0)","v":0},{"$f":"IFERROR(VLOOKUP(B270,INDIRECT(\"'\"&$P$1&\"'!\"&\"$C$2:$G$200\"),4,FALSE),\"\")","v":""},{"$f":"IFERROR(VLOOKUP(B270,INDIRECT(\"'\"&$P$1&\"'!\"&\"$C$2:$G$200\"),5,FALSE),0)","v":0},{"$f":"IFERROR(VLOOKUP(B270,INDIRECT(\"'\"&$R$1&\"'!\"&\"$C$2:$G$200\"),4,FALSE),\"\")","v":""},{"$f":"IFERROR(VLOOKUP(B270,INDIRECT(\"'\"&$R$1&\"'!\"&\"$C$2:$G$200\"),5,FALSE),0)","v":0},{"$f":"IFERROR(VLOOKUP(B270,INDIRECT(\"'\"&$T$1&\"'!\"&\"$C$2:$G$200\"),4,FALSE),\"\")","v":""},{"$f":"IFERROR(VLOOKUP(B270,INDIRECT(\"'\"&$T$1&\"'!\"&\"$C$2:$G$200\"),5,FALSE),0)","v":0},{"$f":"8-COUNTIF(F270:U270,\"\")","v":1},{"$f":"E270/IF(V270>4,5,V270)","v":62.019914651493636}]
[269,"Richard Martin","Pontypridd Roadents","SM",{"$f":"SUM(LARGE((S271,G271,I271,K271,M271,O271,Q271,U271),{1,2,3,4,5}))","v":61.695347355003193},{"$f":"IFERROR(VLOOKUP(B271,INDIRECT(\"'\"&$F$1&\"'!\"&\"$C$2:$G$200\"),4,FALSE),\"\")","v":""},{"$f":"IFERROR(VLOOKUP(B271,INDIRECT(\"'\"&$F$1&\"'!\"&\"$C$2:$G$200\"),5,FALSE),0)","v":0},{"$f":"IFERROR(VLOOKUP(B271,INDIRECT(\"'\"&$H$1&\"'!\"&\"$C$2:$G$200\"),4,FALSE),\"\")","v":""},{"$f":"IFERROR(VLOOKUP(B271,INDIRECT(\"'\"&$H$1&\"'!\"&\"$C$2:$G$200\"),5,FALSE),0)","v":0},{"$f":"IFERROR(VLOOKUP(B271,INDIRECT(\"'\"&$J$1&\"'!\"&\"$C$2:$G$200\"),4,FALSE),\"\")","v":""},{"$f":"IFERROR(VLOOKUP(B271,INDIRECT(\"'\"&$J$1&\"'!\"&\"$C$2:$G$200\"),5,FALSE),0)","v":0},{"$f":"IFERROR(VLOOKUP(B271,INDIRECT(\"'\"&$L$1&\"'!\"&\"$C$2:$G$200\"),4,FALSE),\"\")","v":""},{"$f":"IFERROR(VLOOKUP(B271,INDIRECT(\"'\"&$L$1&\"'!\"&\"$C$2:$G$200\"),5,FALSE),0)","v":0},{"$f":"IFERROR(VLOOKUP(B271,INDIRECT(\"'\"&$N$1&\"'!\"&\"$C$2:$G$200\"),4,FALSE),\"\")","v":""},{"$f":"IFERROR(VLOOKUP(B271,INDIRECT(\"'\"&$N$1&\"'!\"&\"$C$2:$G$200\"),5,FALSE),0)","v":0},{"$f":"IFERROR(VLOOKUP(B271,INDIRECT(\"'\"&$P$1&\"'!\"&\"$C$2:$G$200\"),4,FALSE),\"\")","v":3.0138888888888885E-2},{"$f":"IFERROR(VLOOKUP(B271,INDIRECT(\"'\"&$P$1&\"'!\"&\"$C$2:$G$200\"),5,FALSE),0)","v":61.695347355003193},{"$f":"IFERROR(VLOOKUP(B271,INDIRECT(\"'\"&$R$1&\"'!\"&\"$C$2:$G$200\"),4,FALSE),\"\")","v":""},{"$f":"IFERROR(VLOOKUP(B271,INDIRECT(\"'\"&$R$1&\"'!\"&\"$C$2:$G$200\"),5,FALSE),0)","v":0},{"$f":"IFERROR(VLOOKUP(B271,INDIRECT(\"'\"&$T$1&\"'!\"&\"$C$2:$G$200\"),4,FALSE),\"\")","v":""},{"$f":"IFERROR(VLOOKUP(B271,INDIRECT(\"'\"&$T$1&\"'!\"&\"$C$2:$G$200\"),5,FALSE),0)","v":0},{"$f":"8-COUNTIF(F271:U271,\"\")","v":1},{"$f":"E271/IF(V271>4,5,V271)","v":61.695347355003193}]
[270,"Ken Beak","Ryde Harriers","M50",{"$f":"SUM(LARGE((S272,G272,I272,K272,M272,O272,Q272,U272),{1,2,3,4,5}))","v":61.420977764468091},{"$f":"IFERROR(VLOOKUP(B272,INDIRECT(\"'\"&$F$1&\"'!\"&\"$C$2:$G$200\"),4,FALSE),\"\")","v":""},{"$f":"IFERROR(VLOOKUP(B272,INDIRECT(\"'\"&$F$1&\"'!\"&\"$C$2:$G$200\"),5,FALSE),0)","v":0},{"$f":"IFERROR(VLOOKUP(B272,INDIRECT(\"'\"&$H$1&\"'!\"&\"$C$2:$G$200\"),4,FALSE),\"\")","v":4.2847222222222224E-2},{"$f":"IFERROR(VLOOKUP(B272,INDIRECT(\"'\"&$H$1&\"'!\"&\"$C$2:$G$200\"),5,FALSE),0)","v":61.420977764468091},{"$f":"IFERROR(VLOOKUP(B272,INDIRECT(\"'\"&$J$1&\"'!\"&\"$C$2:$G$200\"),4,FALSE),\"\")","v":""},{"$f":"IFERROR(VLOOKUP(B272,INDIRECT(\"'\"&$J$1&\"'!\"&\"$C$2:$G$200\"),5,FALSE),0)","v":0},{"$f":"IFERROR(VLOOKUP(B272,INDIRECT(\"'\"&$L$1&\"'!\"&\"$C$2:$G$200\"),4,FALSE),\"\")","v":""},{"$f":"IFERROR(VLOOKUP(B272,INDIRECT(\"'\"&$L$1&\"'!\"&\"$C$2:$G$200\"),5,FALSE),0)","v":0},{"$f":"IFERROR(VLOOKUP(B272,INDIRECT(\"'\"&$N$1&\"'!\"&\"$C$2:$G$200\"),4,FALSE),\"\")","v":""},{"$f":"IFERROR(VLOOKUP(B272,INDIRECT(\"'\"&$N$1&\"'!\"&\"$C$2:$G$200\"),5,FALSE),0)","v":0},{"$f":"IFERROR(VLOOKUP(B272,INDIRECT(\"'\"&$P$1&\"'!\"&\"$C$2:$G$200\"),4,FALSE),\"\")","v":""},{"$f":"IFERROR(VLOOKUP(B272,INDIRECT(\"'\"&$P$1&\"'!\"&\"$C$2:$G$200\"),5,FALSE),0)","v":0},{"$f":"IFERROR(VLOOKUP(B272,INDIRECT(\"'\"&$R$1&\"'!\"&\"$C$2:$G$200\"),4,FALSE),\"\")","v":""},{"$f":"IFERROR(VLOOKUP(B272,INDIRECT(\"'\"&$R$1&\"'!\"&\"$C$2:$G$200\"),5,FALSE),0)","v":0},{"$f":"IFERROR(VLOOKUP(B272,INDIRECT(\"'\"&$T$1&\"'!\"&\"$C$2:$G$200\"),4,FALSE),\"\")","v":""},{"$f":"IFERROR(VLOOKUP(B272,INDIRECT(\"'\"&$T$1&\"'!\"&\"$C$2:$G$200\"),5,FALSE),0)","v":0},{"$f":"8-COUNTIF(F272:U272,\"\")","v":1},{"$f":"E272/IF(V272>4,5,V272)","v":61.420977764468091}]
[271,"Lowri Woodier","Mynydd Du","SF",{"$f":"SUM(LARGE((S273,G273,I273,K273,M273,O273,Q273,U273),{1,2,3,4,5}))","v":61.026228673287484},{"$f":"IFERROR(VLOOKUP(B273,INDIRECT(\"'\"&$F$1&\"'!\"&\"$C$2:$G$200\"),4,FALSE),\"\")","v":""},{"$f":"IFERROR(VLOOKUP(B273,INDIRECT(\"'\"&$F$1&\"'!\"&\"$C$2:$G$200\"),5,FALSE),0)","v":0},{"$f":"IFERROR(VLOOKUP(B273,INDIRECT(\"'\"&$H$1&\"'!\"&\"$C$2:$G$200\"),4,FALSE),\"\")","v":""},{"$f":"IFERROR(VLOOKUP(B273,INDIRECT(\"'\"&$H$1&\"'!\"&\"$C$2:$G$200\"),5,FALSE),0)","v":0},{"$f":"IFERROR(VLOOKUP(B273,INDIRECT(\"'\"&$J$1&\"'!\"&\"$C$2:$G$200\"),4,FALSE),\"\")","v":""},{"$f":"IFERROR(VLOOKUP(B273,INDIRECT(\"'\"&$J$1&\"'!\"&\"$C$2:$G$200\"),5,FALSE),0)","v":0},{"$f":"IFERROR(VLOOKUP(B273,INDIRECT(\"'\"&$L$1&\"'!\"&\"$C$2:$G$200\"),4,FALSE),\"\")","v":""},{"$f":"IFERROR(VLOOKUP(B273,INDIRECT(\"'\"&$L$1&\"'!\"&\"$C$2:$G$200\"),5,FALSE),0)","v":0},{"$f":"IFERROR(VLOOKUP(B273,INDIRECT(\"'\"&$N$1&\"'!\"&\"$C$2:$G$200\"),4,FALSE),\"\")","v":""},{"$f":"IFERROR(VLOOKUP(B273,INDIRECT(\"'\"&$N$1&\"'!\"&\"$C$2:$G$200\"),5,FALSE),0)","v":0},{"$f":"IFERROR(VLOOKUP(B273,INDIRECT(\"'\"&$P$1&\"'!\"&\"$C$2:$G$200\"),4,FALSE),\"\")","v":""},{"$f":"IFERROR(VLOOKUP(B273,INDIRECT(\"'\"&$P$1&\"'!\"&\"$C$2:$G$200\"),5,FALSE),0)","v":0},{"$f":"IFERROR(VLOOKUP(B273,INDIRECT(\"'\"&$R$1&\"'!\"&\"$C$2:$G$200\"),4,FALSE),\"\")","v":""},{"$f":"IFERROR(VLOOKUP(B273,INDIRECT(\"'\"&$R$1&\"'!\"&\"$C$2:$G$200\"),5,FALSE),0)","v":0},{"$f":"IFERROR(VLOOKUP(B273,INDIRECT(\"'\"&$T$1&\"'!\"&\"$C$2:$G$200\"),4,FALSE),\"\")","v":5.0532407407407408E-2},{"$f":"IFERROR(VLOOKUP(B273,INDIRECT(\"'\"&$T$1&\"'!\"&\"$C$2:$G$200\"),5,FALSE),0)","v":61.026228673287484},{"$f":"8-COUNTIF(F273:U273,\"\")","v":1},{"$f":"E273/IF(V273>4,5,V273)","v":61.026228673287484}]
[272,"Ben Steele","Cobra RC","SM",{"$f":"SUM(LARGE((S274,G274,I274,K274,M274,O274,Q274,U274),{1,2,3,4,5}))","v":60.803412274000479},{"$f":"IFERROR(VLOOKUP(B274,INDIRECT(\"'\"&$F$1&\"'!\"&\"$C$2:$G$200\"),4,FALSE),\"\")","v":""},{"$f":"IFERROR(VLOOKUP(B274,INDIRECT(\"'\"&$F$1&\"'!\"&\"$C$2:$G$200\"),5,FALSE),0)","v":0},{"$f":"IFERROR(VLOOKUP(B274,INDIRECT(\"'\"&$H$1&\"'!\"&\"$C$2:$G$200\"),4,FALSE),\"\")","v":""},{"$f":"IFERROR(VLOOKUP(B274,INDIRECT(\"'\"&$H$1&\"'!\"&\"$C$2:$G$200\"),5,FALSE),0)","v":0},{"$f":"IFERROR(VLOOKUP(B274,INDIRECT(\"'\"&$J$1&\"'!\"&\"$C$2:$G$200\"),4,FALSE),\"\")","v":""},{"$f":"IFERROR(VLOOKUP(B274,INDIRECT(\"'\"&$J$1&\"'!\"&\"$C$2:$G$200\"),5,FALSE),0)","v":0},{"$f":"IFERROR(VLOOKUP(B274,INDIRECT(\"'\"&$L$1&\"'!\"&\"$C$2:$G$200\"),4,FALSE),\"\")","v":""},{"$f":"IFERROR(VLOOKUP(B274,INDIRECT(\"'\"&$L$1&\"'!\"&\"$C$2:$G$200\"),5,FALSE),0)","v":0},{"$f":"IFERROR(VLOOKUP(B274,INDIRECT(\"'\"&$N$1&\"'!\"&\"$C$2:$G$200\"),4,FALSE),\"\")","v":""},{"$f":"IFERROR(VLOOKUP(B274,INDIRECT(\"'\"&$N$1&\"'!\"&\"$C$2:$G$200\"),5,FALSE),0)","v":0},{"$f":"IFERROR(VLOOKUP(B274,INDIRECT(\"'\"&$P$1&\"'!\"&\"$C$2:$G$200\"),4,FALSE),\"\")","v":""},{"$f":"IFERROR(VLOOKUP(B274,INDIRECT(\"'\"&$P$1&\"'!\"&\"$C$2:$G$200\"),5,FALSE),0)","v":0},{"$f":"IFERROR(VLOOKUP(B274,INDIRECT(\"'\"&$R$1&\"'!\"&\"$C$2:$G$200\"),4,FALSE),\"\")","v":""},{"$f":"IFERROR(VLOOKUP(B274,INDIRECT(\"'\"&$R$1&\"'!\"&\"$C$2:$G$200\"),5,FALSE),0)","v":0},{"$f":"IFERROR(VLOOKUP(B274,INDIRECT(\"'\"&$T$1&\"'!\"&\"$C$2:$G$200\"),4,FALSE),\"\")","v":5.061342592592593E-2},{"$f":"IFERROR(VLOOKUP(B274,INDIRECT(\"'\"&$T$1&\"'!\"&\"$C$2:$G$200\"),5,FALSE),0)","v":60.803412274000479},{"$f":"8-COUNTIF(F274:U274,\"\")","v":1},{"$f":"E274/IF(V274>4,5,V274)","v":60.803412274000479}]
[273,"Owen Spacie","Unaffiliated","SM",{"$f":"SUM(LARGE((S275,G275,I275,K275,M275,O275,Q275,U275),{1,2,3,4,5}))","v":60.73932441045249},{"$f":"IFERROR(VLOOKUP(B275,INDIRECT(\"'\"&$F$1&\"'!\"&\"$C$2:$G$200\"),4,FALSE),\"\")","v":""},{"$f":"IFERROR(VLOOKUP(B275,INDIRECT(\"'\"&$F$1&\"'!\"&\"$C$2:$G$200\"),5,FALSE),0)","v":0},{"$f":"IFERROR(VLOOKUP(B275,INDIRECT(\"'\"&$H$1&\"'!\"&\"$C$2:$G$200\"),4,FALSE),\"\")","v":""},{"$f":"IFERROR(VLOOKUP(B275,INDIRECT(\"'\"&$H$1&\"'!\"&\"$C$2:$G$200\"),5,FALSE),0)","v":0},{"$f":"IFERROR(VLOOKUP(B275,INDIRECT(\"'\"&$J$1&\"'!\"&\"$C$2:$G$200\"),4,FALSE),\"\")","v":""},{"$f":"IFERROR(VLOOKUP(B275,INDIRECT(\"'\"&$J$1&\"'!\"&\"$C$2:$G$200\"),5,FALSE),0)","v":0},{"$f":"IFERROR(VLOOKUP(B275,INDIRECT(\"'\"&$L$1&\"'!\"&\"$C$2:$G$200\"),4,FALSE),\"\")","v":""},{"$f":"IFERROR(VLOOKUP(B275,INDIRECT(\"'\"&$L$1&\"'!\"&\"$C$2:$G$200\"),5,FALSE),0)","v":0},{"$f":"IFERROR(VLOOKUP(B275,INDIRECT(\"'\"&$N$1&\"'!\"&\"$C$2:$G$200\"),4,FALSE),\"\")","v":""},{"$f":"IFERROR(VLOOKUP(B275,INDIRECT(\"'\"&$N$1&\"'!\"&\"$C$2:$G$200\"),5,FALSE),0)","v":0},{"$f":"IFERROR(VLOOKUP(B275,INDIRECT(\"'\"&$P$1&\"'!\"&\"$C$2:$G$200\"),4,FALSE),\"\")","v":3.0347222222222223E-2},{"$f":"IFERROR(VLOOKUP(B275,INDIRECT(\"'\"&$P$1&\"'!\"&\"$C$2:$G$200\"),5,FALSE),0)","v":60.73932441045249},{"$f":"IFERROR(VLOOKUP(B275,INDIRECT(\"'\"&$R$1&\"'!\"&\"$C$2:$G$200\"),4,FALSE),\"\")","v":""},{"$f":"IFERROR(VLOOKUP(B275,INDIRECT(\"'\"&$R$1&\"'!\"&\"$C$2:$G$200\"),5,FALSE),0)","v":0},{"$f":"IFERROR(VLOOKUP(B275,INDIRECT(\"'\"&$T$1&\"'!\"&\"$C$2:$G$200\"),4,FALSE),\"\")","v":""},{"$f":"IFERROR(VLOOKUP(B275,INDIRECT(\"'\"&$T$1&\"'!\"&\"$C$2:$G$200\"),5,FALSE),0)","v":0},{"$f":"8-COUNTIF(F275:U275,\"\")","v":1},{"$f":"E275/IF(V275>4,5,V275)","v":60.73932441045249}]
[274,"Alice Bedwell","MDC","F50",{"$f":"SUM(LARGE((S276,G276,I276,K276,M276,O276,Q276,U276),{1,2,3,4,5}))","v":60.644257703081216},{"$f":"IFERROR(VLOOKUP(B276,INDIRECT(\"'\"&$F$1&\"'!\"&\"$C$2:$G$200\"),4,FALSE),\"\")","v":""},{"$f":"IFERROR(VLOOKUP(B276,INDIRECT(\"'\"&$F$1&\"'!\"&\"$C$2:$G$200\"),5,FALSE),0)","v":0},{"$f":"IFERROR(VLOOKUP(B276,INDIRECT(\"'\"&$H$1&\"'!\"&\"$C$2:$G$200\"),4,FALSE),\"\")","v":""},{"$f":"IFERROR(VLOOKUP(B276,INDIRECT(\"'\"&$H$1&\"'!\"&\"$C$2:$G$200\"),5,FALSE),0)","v":0},{"$f":"IFERROR(VLOOKUP(B276,INDIRECT(\"'\"&$J$1&\"'!\"&\"$C$2:$G$200\"),4,FALSE),\"\")","v":""},{"$f":"IFERROR(VLOOKUP(B276,INDIRECT(\"'\"&$J$1&\"'!\"&\"$C$2:$G$200\"),5,FALSE),0)","v":0},{"$f":"IFERROR(VLOOKUP(B276,INDIRECT(\"'\"&$L$1&\"'!\"&\"$C$2:$G$200\"),4,FALSE),\"\")","v":""},{"$f":"IFERROR(VLOOKUP(B276,INDIRECT(\"'\"&$L$1&\"'!\"&\"$C$2:$G$200\"),5,FALSE),0)","v":0},{"$f":"IFERROR(VLOOKUP(B276,INDIRECT(\"'\"&$N$1&\"'!\"&\"$C$2:$G$200\"),4,FALSE),\"\")","v":""},{"$f":"IFERROR(VLOOKUP(B276,INDIRECT(\"'\"&$N$1&\"'!\"&\"$C$2:$G$200\"),5,FALSE),0)","v":0},{"$f":"IFERROR(VLOOKUP(B276,INDIRECT(\"'\"&$P$1&\"'!\"&\"$C$2:$G$200\"),4,FALSE),\"\")","v":""},{"$f":"IFERROR(VLOOKUP(B276,INDIRECT(\"'\"&$P$1&\"'!\"&\"$C$2:$G$200\"),5,FALSE),0)","v":0},{"$f":"IFERROR(VLOOKUP(B276,INDIRECT(\"'\"&$R$1&\"'!\"&\"$C$2:$G$200\"),4,FALSE),\"\")","v":""},{"$f":"IFERROR(VLOOKUP(B276,INDIRECT(\"'\"&$R$1&\"'!\"&\"$C$2:$G$200\"),5,FALSE),0)","v":0},{"$f":"IFERROR(VLOOKUP(B276,INDIRECT(\"'\"&$T$1&\"'!\"&\"$C$2:$G$200\"),4,FALSE),\"\")","v":5.0671296296296298E-2},{"$f":"IFERROR(VLOOKUP(B276,INDIRECT(\"'\"&$T$1&\"'!\"&\"$C$2:$G$200\"),5,FALSE),0)","v":60.644257703081216},{"$f":"8-COUNTIF(F276:U276,\"\")","v":1},{"$f":"E276/IF(V276>4,5,V276)","v":60.644257703081216}]
[275,"Tony Keech","Human Energy AC","M60",{"$f":"SUM(LARGE((S277,G277,I277,K277,M277,O277,Q277,U277),{1,2,3,4,5}))","v":60.511713933415564},{"$f":"IFERROR(VLOOKUP(B277,INDIRECT(\"'\"&$F$1&\"'!\"&\"$C$2:$G$200\"),4,FALSE),\"\")","v":""},{"$f":"IFERROR(VLOOKUP(B277,INDIRECT(\"'\"&$F$1&\"'!\"&\"$C$2:$G$200\"),5,FALSE),0)","v":0},{"$f":"IFERROR(VLOOKUP(B277,INDIRECT(\"'\"&$H$1&\"'!\"&\"$C$2:$G$200\"),4,FALSE),\"\")","v":""},{"$f":"IFERROR(VLOOKUP(B277,INDIRECT(\"'\"&$H$1&\"'!\"&\"$C$2:$G$200\"),5,FALSE),0)","v":0},{"$f":"IFERROR(VLOOKUP(B277,INDIRECT(\"'\"&$J$1&\"'!\"&\"$C$2:$G$200\"),4,FALSE),\"\")","v":""},{"$f":"IFERROR(VLOOKUP(B277,INDIRECT(\"'\"&$J$1&\"'!\"&\"$C$2:$G$200\"),5,FALSE),0)","v":0},{"$f":"IFERROR(VLOOKUP(B277,INDIRECT(\"'\"&$L$1&\"'!\"&\"$C$2:$G$200\"),4,FALSE),\"\")","v":""},{"$f":"IFERROR(VLOOKUP(B277,INDIRECT(\"'\"&$L$1&\"'!\"&\"$C$2:$G$200\"),5,FALSE),0)","v":0},{"$f":"IFERROR(VLOOKUP(B277,INDIRECT(\"'\"&$N$1&\"'!\"&\"$C$2:$G$200\"),4,FALSE),\"\")","v":3.142361111111111E-2},{"$f":"IFERROR(VLOOKUP(B277,INDIRECT(\"'\"&$N$1&\"'!\"&\"$C$2:$G$200\"),5,FALSE),0)","v":60.511713933415564},{"$f":"IFERROR(VLOOKUP(B277,INDIRECT(\"'\"&$P$1&\"'!\"&\"$C$2:$G$200\"),4,FALSE),\"\")","v":""},{"$f":"IFERROR(VLOOKUP(B277,INDIRECT(\"'\"&$P$1&\"'!\"&\"$C$2:$G$200\"),5,FALSE),0)","v":0},{"$f":"IFERROR(VLOOKUP(B277,INDIRECT(\"'\"&$R$1&\"'!\"&\"$C$2:$G$200\"),4,FALSE),\"\")","v":""},{"$f":"IFERROR(VLOOKUP(B277,INDIRECT(\"'\"&$R$1&\"'!\"&\"$C$2:$G$200\"),5,FALSE),0)","v":0},{"$f":"IFERROR(VLOOKUP(B277,INDIRECT(\"'\"&$T$1&\"'!\"&\"$C$2:$G$200\"),4,FALSE),\"\")","v":""},{"$f":"IFERROR(VLOOKUP(B277,INDIRECT(\"'\"&$T$1&\"'!\"&\"$C$2:$G$200\"),5,FALSE),0)","v":0},{"$f":"8-COUNTIF(F277:U277,\"\")","v":1},{"$f":"E277/IF(V277>4,5,V277)","v":60.511713933415564}]
[276,"Ellen Stevenson","Eryri","FU23",{"$f":"SUM(LARGE((S278,G278,I278,K278,M278,O278,Q278,U278),{1,2,3,4,5}))","v":60.254829428688872},{"$f":"IFERROR(VLOOKUP(B278,INDIRECT(\"'\"&$F$1&\"'!\"&\"$C$2:$G$200\"),4,FALSE),\"\")","v":""},{"$f":"IFERROR(VLOOKUP(B278,INDIRECT(\"'\"&$F$1&\"'!\"&\"$C$2:$G$200\"),5,FALSE),0)","v":0},{"$f":"IFERROR(VLOOKUP(B278,INDIRECT(\"'\"&$H$1&\"'!\"&\"$C$2:$G$200\"),4,FALSE),\"\")","v":""},{"$f":"IFERROR(VLOOKUP(B278,INDIRECT(\"'\"&$H$1&\"'!\"&\"$C$2:$G$200\"),5,FALSE),0)","v":0},{"$f":"IFERROR(VLOOKUP(B278,INDIRECT(\"'\"&$J$1&\"'!\"&\"$C$2:$G$200\"),4,FALSE),\"\")","v":""},{"$f":"IFERROR(VLOOKUP(B278,INDIRECT(\"'\"&$J$1&\"'!\"&\"$C$2:$G$200\"),5,FALSE),0)","v":0},{"$f":"IFERROR(VLOOKUP(B278,INDIRECT(\"'\"&$L$1&\"'!\"&\"$C$2:$G$200\"),4,FALSE),\"\")","v":""},{"$f":"IFERROR(VLOOKUP(B278,INDIRECT(\"'\"&$L$1&\"'!\"&\"$C$2:$G$200\"),5,FALSE),0)","v":0},{"$f":"IFERROR(VLOOKUP(B278,INDIRECT(\"'\"&$N$1&\"'!\"&\"$C$2:$G$200\"),4,FALSE),\"\")","v":3.1481481481481485E-2},{"$f":"IFERROR(VLOOKUP(B278,INDIRECT(\"'\"&$N$1&\"'!\"&\"$C$2:$G$200\"),5,FALSE),0)","v":60.254829428688872},{"$f":"IFERROR(VLOOKUP(B278,INDIRECT(\"'\"&$P$1&\"'!\"&\"$C$2:$G$200\"),4,FALSE),\"\")","v":""},{"$f":"IFERROR(VLOOKUP(B278,INDIRECT(\"'\"&$P$1&\"'!\"&\"$C$2:$G$200\"),5,FALSE),0)","v":0},{"$f":"IFERROR(VLOOKUP(B278,INDIRECT(\"'\"&$R$1&\"'!\"&\"$C$2:$G$200\"),4,FALSE),\"\")","v":""},{"$f":"IFERROR(VLOOKUP(B278,INDIRECT(\"'\"&$R$1&\"'!\"&\"$C$2:$G$200\"),5,FALSE),0)","v":0},{"$f":"IFERROR(VLOOKUP(B278,INDIRECT(\"'\"&$T$1&\"'!\"&\"$C$2:$G$200\"),4,FALSE),\"\")","v":""},{"$f":"IFERROR(VLOOKUP(B278,INDIRECT(\"'\"&$T$1&\"'!\"&\"$C$2:$G$200\"),5,FALSE),0)","v":0},{"$f":"8-COUNTIF(F278:U278,\"\")","v":1},{"$f":"E278/IF(V278>4,5,V278)","v":60.254829428688872}]
[277,"Kate Lakeland","Preston Harriers","SF",{"$f":"SUM(LARGE((S279,G279,I279,K279,M279,O279,Q279,U279),{1,2,3,4,5}))","v":60.220554797635309},{"$f":"IFERROR(VLOOKUP(B279,INDIRECT(\"'\"&$F$1&\"'!\"&\"$C$2:$G$200\"),4,FALSE),\"\")","v":""},{"$f":"IFERROR(VLOOKUP(B279,INDIRECT(\"'\"&$F$1&\"'!\"&\"$C$2:$G$200\"),5,FALSE),0)","v":0},{"$f":"IFERROR(VLOOKUP(B279,INDIRECT(\"'\"&$H$1&\"'!\"&\"$C$2:$G$200\"),4,FALSE),\"\")","v":""},{"$f":"IFERROR(VLOOKUP(B279,INDIRECT(\"'\"&$H$1&\"'!\"&\"$C$2:$G$200\"),5,FALSE),0)","v":0},{"$f":"IFERROR(VLOOKUP(B279,INDIRECT(\"'\"&$J$1&\"'!\"&\"$C$2:$G$200\"),4,FALSE),\"\")","v":""},{"$f":"IFERROR(VLOOKUP(B279,INDIRECT(\"'\"&$J$1&\"'!\"&\"$C$2:$G$200\"),5,FALSE),0)","v":0},{"$f":"IFERROR(VLOOKUP(B279,INDIRECT(\"'\"&$L$1&\"'!\"&\"$C$2:$G$200\"),4,FALSE),\"\")","v":""},{"$f":"IFERROR(VLOOKUP(B279,INDIRECT(\"'\"&$L$1&\"'!\"&\"$C$2:$G$200\"),5,FALSE),0)","v":0},{"$f":"IFERROR(VLOOKUP(B279,INDIRECT(\"'\"&$N$1&\"'!\"&\"$C$2:$G$200\"),4,FALSE),\"\")","v":""},{"$f":"IFERROR(VLOOKUP(B279,INDIRECT(\"'\"&$N$1&\"'!\"&\"$C$2:$G$200\"),5,FALSE),0)","v":0},{"$f":"IFERROR(VLOOKUP(B279,INDIRECT(\"'\"&$P$1&\"'!\"&\"$C$2:$G$200\"),4,FALSE),\"\")","v":""},{"$f":"IFERROR(VLOOKUP(B279,INDIRECT(\"'\"&$P$1&\"'!\"&\"$C$2:$G$200\"),5,FALSE),0)","v":0},{"$f":"IFERROR(VLOOKUP(B279,INDIRECT(\"'\"&$R$1&\"'!\"&\"$C$2:$G$200\"),4,FALSE),\"\")","v":2.8460648148148148E-2},{"$f":"IFERROR(VLOOKUP(B279,INDIRECT(\"'\"&$R$1&\"'!\"&\"$C$2:$G$200\"),5,FALSE),0)","v":60.220554797635309},{"$f":"IFERROR(VLOOKUP(B279,INDIRECT(\"'\"&$T$1&\"'!\"&\"$C$2:$G$200\"),4,FALSE),\"\")","v":""},{"$f":"IFERROR(VLOOKUP(B279,INDIRECT(\"'\"&$T$1&\"'!\"&\"$C$2:$G$200\"),5,FALSE),0)","v":0},{"$f":"8-COUNTIF(F279:U279,\"\")","v":1},{"$f":"E279/IF(V279>4,5,V279)","v":60.220554797635309}]
[278,"Marcia Gouveia","San Domenico","SF",{"$f":"SUM(LARGE((S280,G280,I280,K280,M280,O280,Q280,U280),{1,2,3,4,5}))","v":59.974727531195704},{"$f":"IFERROR(VLOOKUP(B280,INDIRECT(\"'\"&$F$1&\"'!\"&\"$C$2:$G$200\"),4,FALSE),\"\")","v":2.0520833333333332E-2},{"$f":"IFERROR(VLOOKUP(B280,INDIRECT(\"'\"&$F$1&\"'!\"&\"$C$2:$G$200\"),5,FALSE),0)","v":59.974727531195704},{"$f":"IFERROR(VLOOKUP(B280,INDIRECT(\"'\"&$H$1&\"'!\"&\"$C$2:$G$200\"),4,FALSE),\"\")","v":""},{"$f":"IFERROR(VLOOKUP(B280,INDIRECT(\"'\"&$H$1&\"'!\"&\"$C$2:$G$200\"),5,FALSE),0)","v":0},{"$f":"IFERROR(VLOOKUP(B280,INDIRECT(\"'\"&$J$1&\"'!\"&\"$C$2:$G$200\"),4,FALSE),\"\")","v":""},{"$f":"IFERROR(VLOOKUP(B280,INDIRECT(\"'\"&$J$1&\"'!\"&\"$C$2:$G$200\"),5,FALSE),0)","v":0},{"$f":"IFERROR(VLOOKUP(B280,INDIRECT(\"'\"&$L$1&\"'!\"&\"$C$2:$G$200\"),4,FALSE),\"\")","v":""},{"$f":"IFERROR(VLOOKUP(B280,INDIRECT(\"'\"&$L$1&\"'!\"&\"$C$2:$G$200\"),5,FALSE),0)","v":0},{"$f":"IFERROR(VLOOKUP(B280,INDIRECT(\"'\"&$N$1&\"'!\"&\"$C$2:$G$200\"),4,FALSE),\"\")","v":""},{"$f":"IFERROR(VLOOKUP(B280,INDIRECT(\"'\"&$N$1&\"'!\"&\"$C$2:$G$200\"),5,FALSE),0)","v":0},{"$f":"IFERROR(VLOOKUP(B280,INDIRECT(\"'\"&$P$1&\"'!\"&\"$C$2:$G$200\"),4,FALSE),\"\")","v":""},{"$f":"IFERROR(VLOOKUP(B280,INDIRECT(\"'\"&$P$1&\"'!\"&\"$C$2:$G$200\"),5,FALSE),0)","v":0},{"$f":"IFERROR(VLOOKUP(B280,INDIRECT(\"'\"&$R$1&\"'!\"&\"$C$2:$G$200\"),4,FALSE),\"\")","v":""},{"$f":"IFERROR(VLOOKUP(B280,INDIRECT(\"'\"&$R$1&\"'!\"&\"$C$2:$G$200\"),5,FALSE),0)","v":0},{"$f":"IFERROR(VLOOKUP(B280,INDIRECT(\"'\"&$T$1&\"'!\"&\"$C$2:$G$200\"),4,FALSE),\"\")","v":""},{"$f":"IFERROR(VLOOKUP(B280,INDIRECT(\"'\"&$T$1&\"'!\"&\"$C$2:$G$200\"),5,FALSE),0)","v":0},{"$f":"8-COUNTIF(F280:U280,\"\")","v":1},{"$f":"E280/IF(V280>4,5,V280)","v":59.974727531195704}]
[279,"Andrew Smith","Pont-y-Pwl and District","SM",{"$f":"SUM(LARGE((S281,G281,I281,K281,M281,O281,Q281,U281),{1,2,3,4,5}))","v":59.752992105933281},{"$f":"IFERROR(VLOOKUP(B281,INDIRECT(\"'\"&$F$1&\"'!\"&\"$C$2:$G$200\"),4,FALSE),\"\")","v":""},{"$f":"IFERROR(VLOOKUP(B281,INDIRECT(\"'\"&$F$1&\"'!\"&\"$C$2:$G$200\"),5,FALSE),0)","v":0},{"$f":"IFERROR(VLOOKUP(B281,INDIRECT(\"'\"&$H$1&\"'!\"&\"$C$2:$G$200\"),4,FALSE),\"\")","v":""},{"$f":"IFERROR(VLOOKUP(B281,INDIRECT(\"'\"&$H$1&\"'!\"&\"$C$2:$G$200\"),5,FALSE),0)","v":0},{"$f":"IFERROR(VLOOKUP(B281,INDIRECT(\"'\"&$J$1&\"'!\"&\"$C$2:$G$200\"),4,FALSE),\"\")","v":""},{"$f":"IFERROR(VLOOKUP(B281,INDIRECT(\"'\"&$J$1&\"'!\"&\"$C$2:$G$200\"),5,FALSE),0)","v":0},{"$f":"IFERROR(VLOOKUP(B281,INDIRECT(\"'\"&$L$1&\"'!\"&\"$C$2:$G$200\"),4,FALSE),\"\")","v":""},{"$f":"IFERROR(VLOOKUP(B281,INDIRECT(\"'\"&$L$1&\"'!\"&\"$C$2:$G$200\"),5,FALSE),0)","v":0},{"$f":"IFERROR(VLOOKUP(B281,INDIRECT(\"'\"&$N$1&\"'!\"&\"$C$2:$G$200\"),4,FALSE),\"\")","v":""},{"$f":"IFERROR(VLOOKUP(B281,INDIRECT(\"'\"&$N$1&\"'!\"&\"$C$2:$G$200\"),5,FALSE),0)","v":0},{"$f":"IFERROR(VLOOKUP(B281,INDIRECT(\"'\"&$P$1&\"'!\"&\"$C$2:$G$200\"),4,FALSE),\"\")","v":""},{"$f":"IFERROR(VLOOKUP(B281,INDIRECT(\"'\"&$P$1&\"'!\"&\"$C$2:$G$200\"),5,FALSE),0)","v":0},{"$f":"IFERROR(VLOOKUP(B281,INDIRECT(\"'\"&$R$1&\"'!\"&\"$C$2:$G$200\"),4,FALSE),\"\")","v":""},{"$f":"IFERROR(VLOOKUP(B281,INDIRECT(\"'\"&$R$1&\"'!\"&\"$C$2:$G$200\"),5,FALSE),0)","v":0},{"$f":"IFERROR(VLOOKUP(B281,INDIRECT(\"'\"&$T$1&\"'!\"&\"$C$2:$G$200\"),4,FALSE),\"\")","v":5.0995370370370365E-2},{"$f":"IFERROR(VLOOKUP(B281,INDIRECT(\"'\"&$T$1&\"'!\"&\"$C$2:$G$200\"),5,FALSE),0)","v":59.752992105933281},{"$f":"8-COUNTIF(F281:U281,\"\")","v":1},{"$f":"E281/IF(V281>4,5,V281)","v":59.752992105933281}]
[280,"Eleanor Lacey","San Domenico","SF",{"$f":"SUM(LARGE((S282,G282,I282,K282,M282,O282,Q282,U282),{1,2,3,4,5}))","v":59.562006620830132},{"$f":"IFERROR(VLOOKUP(B282,INDIRECT(\"'\"&$F$1&\"'!\"&\"$C$2:$G$200\"),4,FALSE),\"\")","v":""},{"$f":"IFERROR(VLOOKUP(B282,INDIRECT(\"'\"&$F$1&\"'!\"&\"$C$2:$G$200\"),5,FALSE),0)","v":0},{"$f":"IFERROR(VLOOKUP(B282,INDIRECT(\"'\"&$H$1&\"'!\"&\"$C$2:$G$200\"),4,FALSE),\"\")","v":""},{"$f":"IFERROR(VLOOKUP(B282,INDIRECT(\"'\"&$H$1&\"'!\"&\"$C$2:$G$200\"),5,FALSE),0)","v":0},{"$f":"IFERROR(VLOOKUP(B282,INDIRECT(\"'\"&$J$1&\"'!\"&\"$C$2:$G$200\"),4,FALSE),\"\")","v":""},{"$f":"IFERROR(VLOOKUP(B282,INDIRECT(\"'\"&$J$1&\"'!\"&\"$C$2:$G$200\"),5,FALSE),0)","v":0},{"$f":"IFERROR(VLOOKUP(B282,INDIRECT(\"'\"&$L$1&\"'!\"&\"$C$2:$G$200\"),4,FALSE),\"\")","v":""},{"$f":"IFERROR(VLOOKUP(B282,INDIRECT(\"'\"&$L$1&\"'!\"&\"$C$2:$G$200\"),5,FALSE),0)","v":0},{"$f":"IFERROR(VLOOKUP(B282,INDIRECT(\"'\"&$N$1&\"'!\"&\"$C$2:$G$200\"),4,FALSE),\"\")","v":""},{"$f":"IFERROR(VLOOKUP(B282,INDIRECT(\"'\"&$N$1&\"'!\"&\"$C$2:$G$200\"),5,FALSE),0)","v":0},{"$f":"IFERROR(VLOOKUP(B282,INDIRECT(\"'\"&$P$1&\"'!\"&\"$C$2:$G$200\"),4,FALSE),\"\")","v":""},{"$f":"IFERROR(VLOOKUP(B282,INDIRECT(\"'\"&$P$1&\"'!\"&\"$C$2:$G$200\"),5,FALSE),0)","v":0},{"$f":"IFERROR(VLOOKUP(B282,INDIRECT(\"'\"&$R$1&\"'!\"&\"$C$2:$G$200\"),4,FALSE),\"\")","v":""},{"$f":"IFERROR(VLOOKUP(B282,INDIRECT(\"'\"&$R$1&\"'!\"&\"$C$2:$G$200\"),5,FALSE),0)","v":0},{"$f":"IFERROR(VLOOKUP(B282,INDIRECT(\"'\"&$T$1&\"'!\"&\"$C$2:$G$200\"),4,FALSE),\"\")","v":5.1064814814814813E-2},{"$f":"IFERROR(VLOOKUP(B282,INDIRECT(\"'\"&$T$1&\"'!\"&\"$C$2:$G$200\"),5,FALSE),0)","v":59.562006620830132},{"$f":"8-COUNTIF(F282:U282,\"\")","v":1},{"$f":"E282/IF(V282>4,5,V282)","v":59.562006620830132}]
[281,"Julian Hart","Cobra RC","M40",{"$f":"SUM(LARGE((S283,G283,I283,K283,M283,O283,Q283,U283),{1,2,3,4,5}))","v":59.498344792462412},{"$f":"IFERROR(VLOOKUP(B283,INDIRECT(\"'\"&$F$1&\"'!\"&\"$C$2:$G$200\"),4,FALSE),\"\")","v":""},{"$f":"IFERROR(VLOOKUP(B283,INDIRECT(\"'\"&$F$1&\"'!\"&\"$C$2:$G$200\"),5,FALSE),0)","v":0},{"$f":"IFERROR(VLOOKUP(B283,INDIRECT(\"'\"&$H$1&\"'!\"&\"$C$2:$G$200\"),4,FALSE),\"\")","v":""},{"$f":"IFERROR(VLOOKUP(B283,INDIRECT(\"'\"&$H$1&\"'!\"&\"$C$2:$G$200\"),5,FALSE),0)","v":0},{"$f":"IFERROR(VLOOKUP(B283,INDIRECT(\"'\"&$J$1&\"'!\"&\"$C$2:$G$200\"),4,FALSE),\"\")","v":""},{"$f":"IFERROR(VLOOKUP(B283,INDIRECT(\"'\"&$J$1&\"'!\"&\"$C$2:$G$200\"),5,FALSE),0)","v":0},{"$f":"IFERROR(VLOOKUP(B283,INDIRECT(\"'\"&$L$1&\"'!\"&\"$C$2:$G$200\"),4,FALSE),\"\")","v":""},{"$f":"IFERROR(VLOOKUP(B283,INDIRECT(\"'\"&$L$1&\"'!\"&\"$C$2:$G$200\"),5,FALSE),0)","v":0},{"$f":"IFERROR(VLOOKUP(B283,INDIRECT(\"'\"&$N$1&\"'!\"&\"$C$2:$G$200\"),4,FALSE),\"\")","v":""},{"$f":"IFERROR(VLOOKUP(B283,INDIRECT(\"'\"&$N$1&\"'!\"&\"$C$2:$G$200\"),5,FALSE),0)","v":0},{"$f":"IFERROR(VLOOKUP(B283,INDIRECT(\"'\"&$P$1&\"'!\"&\"$C$2:$G$200\"),4,FALSE),\"\")","v":""},{"$f":"IFERROR(VLOOKUP(B283,INDIRECT(\"'\"&$P$1&\"'!\"&\"$C$2:$G$200\"),5,FALSE),0)","v":0},{"$f":"IFERROR(VLOOKUP(B283,INDIRECT(\"'\"&$R$1&\"'!\"&\"$C$2:$G$200\"),4,FALSE),\"\")","v":""},{"$f":"IFERROR(VLOOKUP(B283,INDIRECT(\"'\"&$R$1&\"'!\"&\"$C$2:$G$200\"),5,FALSE),0)","v":0},{"$f":"IFERROR(VLOOKUP(B283,INDIRECT(\"'\"&$T$1&\"'!\"&\"$C$2:$G$200\"),4,FALSE),\"\")","v":5.1087962962962967E-2},{"$f":"IFERROR(VLOOKUP(B283,INDIRECT(\"'\"&$T$1&\"'!\"&\"$C$2:$G$200\"),5,FALSE),0)","v":59.498344792462412},{"$f":"8-COUNTIF(F283:U283,\"\")","v":1},{"$f":"E283/IF(V283>4,5,V283)","v":59.498344792462412}]
[282,"Mike Ridd","Lliswerry Runners","SM",{"$f":"SUM(LARGE((S284,G284,I284,K284,M284,O284,Q284,U284),{1,2,3,4,5}))","v":59.474432881635096},{"$f":"IFERROR(VLOOKUP(B284,INDIRECT(\"'\"&$F$1&\"'!\"&\"$C$2:$G$200\"),4,FALSE),\"\")","v":""},{"$f":"IFERROR(VLOOKUP(B284,INDIRECT(\"'\"&$F$1&\"'!\"&\"$C$2:$G$200\"),5,FALSE),0)","v":0},{"$f":"IFERROR(VLOOKUP(B284,INDIRECT(\"'\"&$H$1&\"'!\"&\"$C$2:$G$200\"),4,FALSE),\"\")","v":4.3449074074074077E-2},{"$f":"IFERROR(VLOOKUP(B284,INDIRECT(\"'\"&$H$1&\"'!\"&\"$C$2:$G$200\"),5,FALSE),0)","v":59.474432881635096},{"$f":"IFERROR(VLOOKUP(B284,INDIRECT(\"'\"&$J$1&\"'!\"&\"$C$2:$G$200\"),4,FALSE),\"\")","v":""},{"$f":"IFERROR(VLOOKUP(B284,INDIRECT(\"'\"&$J$1&\"'!\"&\"$C$2:$G$200\"),5,FALSE),0)","v":0},{"$f":"IFERROR(VLOOKUP(B284,INDIRECT(\"'\"&$L$1&\"'!\"&\"$C$2:$G$200\"),4,FALSE),\"\")","v":""},{"$f":"IFERROR(VLOOKUP(B284,INDIRECT(\"'\"&$L$1&\"'!\"&\"$C$2:$G$200\"),5,FALSE),0)","v":0},{"$f":"IFERROR(VLOOKUP(B284,INDIRECT(\"'\"&$N$1&\"'!\"&\"$C$2:$G$200\"),4,FALSE),\"\")","v":""},{"$f":"IFERROR(VLOOKUP(B284,INDIRECT(\"'\"&$N$1&\"'!\"&\"$C$2:$G$200\"),5,FALSE),0)","v":0},{"$f":"IFERROR(VLOOKUP(B284,INDIRECT(\"'\"&$P$1&\"'!\"&\"$C$2:$G$200\"),4,FALSE),\"\")","v":""},{"$f":"IFERROR(VLOOKUP(B284,INDIRECT(\"'\"&$P$1&\"'!\"&\"$C$2:$G$200\"),5,FALSE),0)","v":0},{"$f":"IFERROR(VLOOKUP(B284,INDIRECT(\"'\"&$R$1&\"'!\"&\"$C$2:$G$200\"),4,FALSE),\"\")","v":""},{"$f":"IFERROR(VLOOKUP(B284,INDIRECT(\"'\"&$R$1&\"'!\"&\"$C$2:$G$200\"),5,FALSE),0)","v":0},{"$f":"IFERROR(VLOOKUP(B284,INDIRECT(\"'\"&$T$1&\"'!\"&\"$C$2:$G$200\"),4,FALSE),\"\")","v":""},{"$f":"IFERROR(VLOOKUP(B284,INDIRECT(\"'\"&$T$1&\"'!\"&\"$C$2:$G$200\"),5,FALSE),0)","v":0},{"$f":"8-COUNTIF(F284:U284,\"\")","v":1},{"$f":"E284/IF(V284>4,5,V284)","v":59.474432881635096}]
[283,"Rhys Pritchard","Mynydd Du","SM",{"$f":"SUM(LARGE((S285,G285,I285,K285,M285,O285,Q285,U285),{1,2,3,4,5}))","v":59.434682964094733},{"$f":"IFERROR(VLOOKUP(B285,INDIRECT(\"'\"&$F$1&\"'!\"&\"$C$2:$G$200\"),4,FALSE),\"\")","v":""},{"$f":"IFERROR(VLOOKUP(B285,INDIRECT(\"'\"&$F$1&\"'!\"&\"$C$2:$G$200\"),5,FALSE),0)","v":0},{"$f":"IFERROR(VLOOKUP(B285,INDIRECT(\"'\"&$H$1&\"'!\"&\"$C$2:$G$200\"),4,FALSE),\"\")","v":""},{"$f":"IFERROR(VLOOKUP(B285,INDIRECT(\"'\"&$H$1&\"'!\"&\"$C$2:$G$200\"),5,FALSE),0)","v":0},{"$f":"IFERROR(VLOOKUP(B285,INDIRECT(\"'\"&$J$1&\"'!\"&\"$C$2:$G$200\"),4,FALSE),\"\")","v":""},{"$f":"IFERROR(VLOOKUP(B285,INDIRECT(\"'\"&$J$1&\"'!\"&\"$C$2:$G$200\"),5,FALSE),0)","v":0},{"$f":"IFERROR(VLOOKUP(B285,INDIRECT(\"'\"&$L$1&\"'!\"&\"$C$2:$G$200\"),4,FALSE),\"\")","v":""},{"$f":"IFERROR(VLOOKUP(B285,INDIRECT(\"'\"&$L$1&\"'!\"&\"$C$2:$G$200\"),5,FALSE),0)","v":0},{"$f":"IFERROR(VLOOKUP(B285,INDIRECT(\"'\"&$N$1&\"'!\"&\"$C$2:$G$200\"),4,FALSE),\"\")","v":""},{"$f":"IFERROR(VLOOKUP(B285,INDIRECT(\"'\"&$N$1&\"'!\"&\"$C$2:$G$200\"),5,FALSE),0)","v":0},{"$f":"IFERROR(VLOOKUP(B285,INDIRECT(\"'\"&$P$1&\"'!\"&\"$C$2:$G$200\"),4,FALSE),\"\")","v":""},{"$f":"IFERROR(VLOOKUP(B285,INDIRECT(\"'\"&$P$1&\"'!\"&\"$C$2:$G$200\"),5,FALSE),0)","v":0},{"$f":"IFERROR(VLOOKUP(B285,INDIRECT(\"'\"&$R$1&\"'!\"&\"$C$2:$G$200\"),4,FALSE),\"\")","v":""},{"$f":"IFERROR(VLOOKUP(B285,INDIRECT(\"'\"&$R$1&\"'!\"&\"$C$2:$G$200\"),5,FALSE),0)","v":0},{"$f":"IFERROR(VLOOKUP(B285,INDIRECT(\"'\"&$T$1&\"'!\"&\"$C$2:$G$200\"),4,FALSE),\"\")","v":5.1111111111111107E-2},{"$f":"IFERROR(VLOOKUP(B285,INDIRECT(\"'\"&$T$1&\"'!\"&\"$C$2:$G$200\"),5,FALSE),0)","v":59.434682964094733},{"$f":"8-COUNTIF(F285:U285,\"\")","v":1},{"$f":"E285/IF(V285>4,5,V285)","v":59.434682964094733}]
[284,"Andy Mason","Unaffiliated","M40",{"$f":"SUM(LARGE((S286,G286,I286,K286,M286,O286,Q286,U286),{1,2,3,4,5}))","v":59.371021135727005},{"$f":"IFERROR(VLOOKUP(B286,INDIRECT(\"'\"&$F$1&\"'!\"&\"$C$2:$G$200\"),4,FALSE),\"\")","v":""},{"$f":"IFERROR(VLOOKUP(B286,INDIRECT(\"'\"&$F$1&\"'!\"&\"$C$2:$G$200\"),5,FALSE),0)","v":0},{"$f":"IFERROR(VLOOKUP(B286,INDIRECT(\"'\"&$H$1&\"'!\"&\"$C$2:$G$200\"),4,FALSE),\"\")","v":""},{"$f":"IFERROR(VLOOKUP(B286,INDIRECT(\"'\"&$H$1&\"'!\"&\"$C$2:$G$200\"),5,FALSE),0)","v":0},{"$f":"IFERROR(VLOOKUP(B286,INDIRECT(\"'\"&$J$1&\"'!\"&\"$C$2:$G$200\"),4,FALSE),\"\")","v":""},{"$f":"IFERROR(VLOOKUP(B286,INDIRECT(\"'\"&$J$1&\"'!\"&\"$C$2:$G$200\"),5,FALSE),0)","v":0},{"$f":"IFERROR(VLOOKUP(B286,INDIRECT(\"'\"&$L$1&\"'!\"&\"$C$2:$G$200\"),4,FALSE),\"\")","v":""},{"$f":"IFERROR(VLOOKUP(B286,INDIRECT(\"'\"&$L$1&\"'!\"&\"$C$2:$G$200\"),5,FALSE),0)","v":0},{"$f":"IFERROR(VLOOKUP(B286,INDIRECT(\"'\"&$N$1&\"'!\"&\"$C$2:$G$200\"),4,FALSE),\"\")","v":""},{"$f":"IFERROR(VLOOKUP(B286,INDIRECT(\"'\"&$N$1&\"'!\"&\"$C$2:$G$200\"),5,FALSE),0)","v":0},{"$f":"IFERROR(VLOOKUP(B286,INDIRECT(\"'\"&$P$1&\"'!\"&\"$C$2:$G$200\"),4,FALSE),\"\")","v":""},{"$f":"IFERROR(VLOOKUP(B286,INDIRECT(\"'\"&$P$1&\"'!\"&\"$C$2:$G$200\"),5,FALSE),0)","v":0},{"$f":"IFERROR(VLOOKUP(B286,INDIRECT(\"'\"&$R$1&\"'!\"&\"$C$2:$G$200\"),4,FALSE),\"\")","v":""},{"$f":"IFERROR(VLOOKUP(B286,INDIRECT(\"'\"&$R$1&\"'!\"&\"$C$2:$G$200\"),5,FALSE),0)","v":0},null,{"$f":"IFERROR(VLOOKUP(B286,INDIRECT(\"'\"&$T$1&\"'!\"&\"$C$2:$G$200\"),5,FALSE),0)","v":59.371021135727005},{"$f":"8-COUNTIF(F286:U286,\"\")","v":0},{"$f":"E286/IF(V286>4,5,V286)","v":{"$error":"#DIV/0!"}}]
[285,"Anthony Scott","Unaffiliated","MU23",{"$f":"SUM(LARGE((S287,G287,I287,K287,M287,O287,Q287,U287),{1,2,3,4,5}))","v":58.685766257389773},{"$f":"IFERROR(VLOOKUP(B287,INDIRECT(\"'\"&$F$1&\"'!\"&\"$C$2:$G$200\"),4,FALSE),\"\")","v":""},{"$f":"IFERROR(VLOOKUP(B287,INDIRECT(\"'\"&$F$1&\"'!\"&\"$C$2:$G$200\"),5,FALSE),0)","v":0},{"$f":"IFERROR(VLOOKUP(B287,INDIRECT(\"'\"&$H$1&\"'!\"&\"$C$2:$G$200\"),4,FALSE),\"\")","v":""},{"$f":"IFERROR(VLOOKUP(B287,INDIRECT(\"'\"&$H$1&\"'!\"&\"$C$2:$G$200\"),5,FALSE),0)","v":0},{"$f":"IFERROR(VLOOKUP(B287,INDIRECT(\"'\"&$J$1&\"'!\"&\"$C$2:$G$200\"),4,FALSE),\"\")","v":""},{"$f":"IFERROR(VLOOKUP(B287,INDIRECT(\"'\"&$J$1&\"'!\"&\"$C$2:$G$200\"),5,FALSE),0)","v":0},{"$f":"IFERROR(VLOOKUP(B287,INDIRECT(\"'\"&$L$1&\"'!\"&\"$C$2:$G$200\"),4,FALSE),\"\")","v":""},{"$f":"IFERROR(VLOOKUP(B287,INDIRECT(\"'\"&$L$1&\"'!\"&\"$C$2:$G$200\"),5,FALSE),0)","v":0},{"$f":"IFERROR(VLOOKUP(B287,INDIRECT(\"'\"&$N$1&\"'!\"&\"$C$2:$G$200\"),4,FALSE),\"\")","v":""},{"$f":"IFERROR(VLOOKUP(B287,INDIRECT(\"'\"&$N$1&\"'!\"&\"$C$2:$G$200\"),5,FALSE),0)","v":0},{"$f":"IFERROR(VLOOKUP(B287,INDIRECT(\"'\"&$P$1&\"'!\"&\"$C$2:$G$200\"),4,FALSE),\"\")","v":""},{"$f":"IFERROR(VLOOKUP(B287,INDIRECT(\"'\"&$P$1&\"'!\"&\"$C$2:$G$200\"),5,FALSE),0)","v":0},{"$f":"IFERROR(VLOOKUP(B287,INDIRECT(\"'\"&$R$1&\"'!\"&\"$C$2:$G$200\"),4,FALSE),\"\")","v":2.8773148148148145E-2},{"$f":"IFERROR(VLOOKUP(B287,INDIRECT(\"'\"&$R$1&\"'!\"&\"$C$2:$G$200\"),5,FALSE),0)","v":58.685766257389773},{"$f":"IFERROR(VLOOKUP(B287,INDIRECT(\"'\"&$T$1&\"'!\"&\"$C$2:$G$200\"),4,FALSE),\"\")","v":""},{"$f":"IFERROR(VLOOKUP(B287,INDIRECT(\"'\"&$T$1&\"'!\"&\"$C$2:$G$200\"),5,FALSE),0)","v":0},{"$f":"8-COUNTIF(F287:U287,\"\")","v":1},{"$f":"E287/IF(V287>4,5,V287)","v":58.685766257389773}]
[286,"Richard Wall","Hereford Couriers","M50",{"$f":"SUM(LARGE((S288,G288,I288,K288,M288,O288,Q288,U288),{1,2,3,4,5}))","v":58.572078217371562},{"$f":"IFERROR(VLOOKUP(B288,INDIRECT(\"'\"&$F$1&\"'!\"&\"$C$2:$G$200\"),4,FALSE),\"\")","v":""},{"$f":"IFERROR(VLOOKUP(B288,INDIRECT(\"'\"&$F$1&\"'!\"&\"$C$2:$G$200\"),5,FALSE),0)","v":0},{"$f":"IFERROR(VLOOKUP(B288,INDIRECT(\"'\"&$H$1&\"'!\"&\"$C$2:$G$200\"),4,FALSE),\"\")","v":""},{"$f":"IFERROR(VLOOKUP(B288,INDIRECT(\"'\"&$H$1&\"'!\"&\"$C$2:$G$200\"),5,FALSE),0)","v":0},{"$f":"IFERROR(VLOOKUP(B288,INDIRECT(\"'\"&$J$1&\"'!\"&\"$C$2:$G$200\"),4,FALSE),\"\")","v":""},{"$f":"IFERROR(VLOOKUP(B288,INDIRECT(\"'\"&$J$1&\"'!\"&\"$C$2:$G$200\"),5,FALSE),0)","v":0},{"$f":"IFERROR(VLOOKUP(B288,INDIRECT(\"'\"&$L$1&\"'!\"&\"$C$2:$G$200\"),4,FALSE),\"\")","v":""},{"$f":"IFERROR(VLOOKUP(B288,INDIRECT(\"'\"&$L$1&\"'!\"&\"$C$2:$G$200\"),5,FALSE),0)","v":0},{"$f":"IFERROR(VLOOKUP(B288,INDIRECT(\"'\"&$N$1&\"'!\"&\"$C$2:$G$200\"),4,FALSE),\"\")","v":""},{"$f":"IFERROR(VLOOKUP(B288,INDIRECT(\"'\"&$N$1&\"'!\"&\"$C$2:$G$200\"),5,FALSE),0)","v":0},{"$f":"IFERROR(VLOOKUP(B288,INDIRECT(\"'\"&$P$1&\"'!\"&\"$C$2:$G$200\"),4,FALSE),\"\")","v":""},{"$f":"IFERROR(VLOOKUP(B288,INDIRECT(\"'\"&$P$1&\"'!\"&\"$C$2:$G$200\"),5,FALSE),0)","v":0},{"$f":"IFERROR(VLOOKUP(B288,INDIRECT(\"'\"&$R$1&\"'!\"&\"$C$2:$G$200\"),4,FALSE),\"\")","v":2.8796296296296296E-2},{"$f":"IFERROR(VLOOKUP(B288,INDIRECT(\"'\"&$R$1&\"'!\"&\"$C$2:$G$200\"),5,FALSE),0)","v":58.572078217371562},{"$f":"IFERROR(VLOOKUP(B288,INDIRECT(\"'\"&$T$1&\"'!\"&\"$C$2:$G$200\"),4,FALSE),\"\")","v":""},{"$f":"IFERROR(VLOOKUP(B288,INDIRECT(\"'\"&$T$1&\"'!\"&\"$C$2:$G$200\"),5,FALSE),0)","v":0},{"$f":"8-COUNTIF(F288:U288,\"\")","v":1},{"$f":"E288/IF(V288>4,5,V288)","v":58.572078217371562}]
[287,"Chris Munton","Forest Of Dean AC","SM",{"$f":"SUM(LARGE((S289,G289,I289,K289,M289,O289,Q289,U289),{1,2,3,4,5}))","v":58.296154663267451},{"$f":"IFERROR(VLOOKUP(B289,INDIRECT(\"'\"&$F$1&\"'!\"&\"$C$2:$G$200\"),4,FALSE),\"\")","v":""},{"$f":"IFERROR(VLOOKUP(B289,INDIRECT(\"'\"&$F$1&\"'!\"&\"$C$2:$G$200\"),5,FALSE),0)","v":0},{"$f":"IFERROR(VLOOKUP(B289,INDIRECT(\"'\"&$H$1&\"'!\"&\"$C$2:$G$200\"),4,FALSE),\"\")","v":""},{"$f":"IFERROR(VLOOKUP(B289,INDIRECT(\"'\"&$H$1&\"'!\"&\"$C$2:$G$200\"),5,FALSE),0)","v":0},{"$f":"IFERROR(VLOOKUP(B289,INDIRECT(\"'\"&$J$1&\"'!\"&\"$C$2:$G$200\"),4,FALSE),\"\")","v":""},{"$f":"IFERROR(VLOOKUP(B289,INDIRECT(\"'\"&$J$1&\"'!\"&\"$C$2:$G$200\"),5,FALSE),0)","v":0},{"$f":"IFERROR(VLOOKUP(B289,INDIRECT(\"'\"&$L$1&\"'!\"&\"$C$2:$G$200\"),4,FALSE),\"\")","v":""},{"$f":"IFERROR(VLOOKUP(B289,INDIRECT(\"'\"&$L$1&\"'!\"&\"$C$2:$G$200\"),5,FALSE),0)","v":0},{"$f":"IFERROR(VLOOKUP(B289,INDIRECT(\"'\"&$N$1&\"'!\"&\"$C$2:$G$200\"),4,FALSE),\"\")","v":""},{"$f":"IFERROR(VLOOKUP(B289,INDIRECT(\"'\"&$N$1&\"'!\"&\"$C$2:$G$200\"),5,FALSE),0)","v":0},{"$f":"IFERROR(VLOOKUP(B289,INDIRECT(\"'\"&$P$1&\"'!\"&\"$C$2:$G$200\"),4,FALSE),\"\")","v":3.0879629629629632E-2},{"$f":"IFERROR(VLOOKUP(B289,INDIRECT(\"'\"&$P$1&\"'!\"&\"$C$2:$G$200\"),5,FALSE),0)","v":58.296154663267451},{"$f":"IFERROR(VLOOKUP(B289,INDIRECT(\"'\"&$R$1&\"'!\"&\"$C$2:$G$200\"),4,FALSE),\"\")","v":""},{"$f":"IFERROR(VLOOKUP(B289,INDIRECT(\"'\"&$R$1&\"'!\"&\"$C$2:$G$200\"),5,FALSE),0)","v":0},{"$f":"IFERROR(VLOOKUP(B289,INDIRECT(\"'\"&$T$1&\"'!\"&\"$C$2:$G$200\"),4,FALSE),\"\")","v":""},{"$f":"IFERROR(VLOOKUP(B289,INDIRECT(\"'\"&$T$1&\"'!\"&\"$C$2:$G$200\"),5,FALSE),0)","v":0},{"$f":"8-COUNTIF(F289:U289,\"\")","v":1},{"$f":"E289/IF(V289>4,5,V289)","v":58.296154663267451}]
[288,"Kevin Barnes","Hereford Couriers","M50",{"$f":"SUM(LARGE((S290,G290,I290,K290,M290,O290,Q290,U290),{1,2,3,4,5}))","v":57.715055775997627},{"$f":"IFERROR(VLOOKUP(B290,INDIRECT(\"'\"&$F$1&\"'!\"&\"$C$2:$G$200\"),4,FALSE),\"\")","v":""},{"$f":"IFERROR(VLOOKUP(B290,INDIRECT(\"'\"&$F$1&\"'!\"&\"$C$2:$G$200\"),5,FALSE),0)","v":0},{"$f":"IFERROR(VLOOKUP(B290,INDIRECT(\"'\"&$H$1&\"'!\"&\"$C$2:$G$200\"),4,FALSE),\"\")","v":4.3993055555555556E-2},{"$f":"IFERROR(VLOOKUP(B290,INDIRECT(\"'\"&$H$1&\"'!\"&\"$C$2:$G$200\"),5,FALSE),0)","v":57.715055775997627},{"$f":"IFERROR(VLOOKUP(B290,INDIRECT(\"'\"&$J$1&\"'!\"&\"$C$2:$G$200\"),4,FALSE),\"\")","v":""},{"$f":"IFERROR(VLOOKUP(B290,INDIRECT(\"'\"&$J$1&\"'!\"&\"$C$2:$G$200\"),5,FALSE),0)","v":0},{"$f":"IFERROR(VLOOKUP(B290,INDIRECT(\"'\"&$L$1&\"'!\"&\"$C$2:$G$200\"),4,FALSE),\"\")","v":""},{"$f":"IFERROR(VLOOKUP(B290,INDIRECT(\"'\"&$L$1&\"'!\"&\"$C$2:$G$200\"),5,FALSE),0)","v":0},{"$f":"IFERROR(VLOOKUP(B290,INDIRECT(\"'\"&$N$1&\"'!\"&\"$C$2:$G$200\"),4,FALSE),\"\")","v":""},{"$f":"IFERROR(VLOOKUP(B290,INDIRECT(\"'\"&$N$1&\"'!\"&\"$C$2:$G$200\"),5,FALSE),0)","v":0},{"$f":"IFERROR(VLOOKUP(B290,INDIRECT(\"'\"&$P$1&\"'!\"&\"$C$2:$G$200\"),4,FALSE),\"\")","v":""},{"$f":"IFERROR(VLOOKUP(B290,INDIRECT(\"'\"&$P$1&\"'!\"&\"$C$2:$G$200\"),5,FALSE),0)","v":0},{"$f":"IFERROR(VLOOKUP(B290,INDIRECT(\"'\"&$R$1&\"'!\"&\"$C$2:$G$200\"),4,FALSE),\"\")","v":""},{"$f":"IFERROR(VLOOKUP(B290,INDIRECT(\"'\"&$R$1&\"'!\"&\"$C$2:$G$200\"),5,FALSE),0)","v":0},{"$f":"IFERROR(VLOOKUP(B290,INDIRECT(\"'\"&$T$1&\"'!\"&\"$C$2:$G$200\"),4,FALSE),\"\")","v":""},{"$f":"IFERROR(VLOOKUP(B290,INDIRECT(\"'\"&$T$1&\"'!\"&\"$C$2:$G$200\"),5,FALSE),0)","v":0},{"$f":"8-COUNTIF(F290:U290,\"\")","v":1},{"$f":"E290/IF(V290>4,5,V290)","v":57.715055775997627}]
[289,"Gwyn Lloyd","Pontypridd Roadents","M60",{"$f":"SUM(LARGE((S291,G291,I291,K291,M291,O291,Q291,U291),{1,2,3,4,5}))","v":57.340131718716812},{"$f":"IFERROR(VLOOKUP(B291,INDIRECT(\"'\"&$F$1&\"'!\"&\"$C$2:$G$200\"),4,FALSE),\"\")","v":""},{"$f":"IFERROR(VLOOKUP(B291,INDIRECT(\"'\"&$F$1&\"'!\"&\"$C$2:$G$200\"),5,FALSE),0)","v":0},{"$f":"IFERROR(VLOOKUP(B291,INDIRECT(\"'\"&$H$1&\"'!\"&\"$C$2:$G$200\"),4,FALSE),\"\")","v":""},{"$f":"IFERROR(VLOOKUP(B291,INDIRECT(\"'\"&$H$1&\"'!\"&\"$C$2:$G$200\"),5,FALSE),0)","v":0},{"$f":"IFERROR(VLOOKUP(B291,INDIRECT(\"'\"&$J$1&\"'!\"&\"$C$2:$G$200\"),4,FALSE),\"\")","v":""},{"$f":"IFERROR(VLOOKUP(B291,INDIRECT(\"'\"&$J$1&\"'!\"&\"$C$2:$G$200\"),5,FALSE),0)","v":0},{"$f":"IFERROR(VLOOKUP(B291,INDIRECT(\"'\"&$L$1&\"'!\"&\"$C$2:$G$200\"),4,FALSE),\"\")","v":""},{"$f":"IFERROR(VLOOKUP(B291,INDIRECT(\"'\"&$L$1&\"'!\"&\"$C$2:$G$200\"),5,FALSE),0)","v":0},{"$f":"IFERROR(VLOOKUP(B291,INDIRECT(\"'\"&$N$1&\"'!\"&\"$C$2:$G$200\"),4,FALSE),\"\")","v":""},{"$f":"IFERROR(VLOOKUP(B291,INDIRECT(\"'\"&$N$1&\"'!\"&\"$C$2:$G$200\"),5,FALSE),0)","v":0},{"$f":"IFERROR(VLOOKUP(B291,INDIRECT(\"'\"&$P$1&\"'!\"&\"$C$2:$G$200\"),4,FALSE),\"\")","v":3.108796296296296E-2},{"$f":"IFERROR(VLOOKUP(B291,INDIRECT(\"'\"&$P$1&\"'!\"&\"$C$2:$G$200\"),5,FALSE),0)","v":57.340131718716812},{"$f":"IFERROR(VLOOKUP(B291,INDIRECT(\"'\"&$R$1&\"'!\"&\"$C$2:$G$200\"),4,FALSE),\"\")","v":""},{"$f":"IFERROR(VLOOKUP(B291,INDIRECT(\"'\"&$R$1&\"'!\"&\"$C$2:$G$200\"),5,FALSE),0)","v":0},{"$f":"IFERROR(VLOOKUP(B291,INDIRECT(\"'\"&$T$1&\"'!\"&\"$C$2:$G$200\"),4,FALSE),\"\")","v":""},{"$f":"IFERROR(VLOOKUP(B291,INDIRECT(\"'\"&$T$1&\"'!\"&\"$C$2:$G$200\"),5,FALSE),0)","v":0},{"$f":"8-COUNTIF(F291:U291,\"\")","v":1},{"$f":"E291/IF(V291>4,5,V291)","v":57.340131718716812}]
[290,"Justin Wickham","Croft Ambrey","M40",{"$f":"SUM(LARGE((S292,G292,I292,K292,M292,O292,Q292,U292),{1,2,3,4,5}))","v":56.404881335629263},{"$f":"IFERROR(VLOOKUP(B292,INDIRECT(\"'\"&$F$1&\"'!\"&\"$C$2:$G$200\"),4,FALSE),\"\")","v":""},{"$f":"IFERROR(VLOOKUP(B292,INDIRECT(\"'\"&$F$1&\"'!\"&\"$C$2:$G$200\"),5,FALSE),0)","v":0},{"$f":"IFERROR(VLOOKUP(B292,INDIRECT(\"'\"&$H$1&\"'!\"&\"$C$2:$G$200\"),4,FALSE),\"\")","v":4.4398148148148152E-2},{"$f":"IFERROR(VLOOKUP(B292,INDIRECT(\"'\"&$H$1&\"'!\"&\"$C$2:$G$200\"),5,FALSE),0)","v":56.404881335629263},{"$f":"IFERROR(VLOOKUP(B292,INDIRECT(\"'\"&$J$1&\"'!\"&\"$C$2:$G$200\"),4,FALSE),\"\")","v":""},{"$f":"IFERROR(VLOOKUP(B292,INDIRECT(\"'\"&$J$1&\"'!\"&\"$C$2:$G$200\"),5,FALSE),0)","v":0},{"$f":"IFERROR(VLOOKUP(B292,INDIRECT(\"'\"&$L$1&\"'!\"&\"$C$2:$G$200\"),4,FALSE),\"\")","v":""},{"$f":"IFERROR(VLOOKUP(B292,INDIRECT(\"'\"&$L$1&\"'!\"&\"$C$2:$G$200\"),5,FALSE),0)","v":0},{"$f":"IFERROR(VLOOKUP(B292,INDIRECT(\"'\"&$N$1&\"'!\"&\"$C$2:$G$200\"),4,FALSE),\"\")","v":""},{"$f":"IFERROR(VLOOKUP(B292,INDIRECT(\"'\"&$N$1&\"'!\"&\"$C$2:$G$200\"),5,FALSE),0)","v":0},{"$f":"IFERROR(VLOOKUP(B292,INDIRECT(\"'\"&$P$1&\"'!\"&\"$C$2:$G$200\"),4,FALSE),\"\")","v":""},{"$f":"IFERROR(VLOOKUP(B292,INDIRECT(\"'\"&$P$1&\"'!\"&\"$C$2:$G$200\"),5,FALSE),0)","v":0},{"$f":"IFERROR(VLOOKUP(B292,INDIRECT(\"'\"&$R$1&\"'!\"&\"$C$2:$G$200\"),4,FALSE),\"\")","v":""},{"$f":"IFERROR(VLOOKUP(B292,INDIRECT(\"'\"&$R$1&\"'!\"&\"$C$2:$G$200\"),5,FALSE),0)","v":0},{"$f":"IFERROR(VLOOKUP(B292,INDIRECT(\"'\"&$T$1&\"'!\"&\"$C$2:$G$200\"),4,FALSE),\"\")","v":""},{"$f":"IFERROR(VLOOKUP(B292,INDIRECT(\"'\"&$T$1&\"'!\"&\"$C$2:$G$200\"),5,FALSE),0)","v":0},{"$f":"8-COUNTIF(F292:U292,\"\")","v":1},{"$f":"E292/IF(V292>4,5,V292)","v":56.404881335629263}]
[291,"David Place","Unaffiliated","M50",{"$f":"SUM(LARGE((S293,G293,I293,K293,M293,O293,Q293,U293),{1,2,3,4,5}))","v":55.959209687699143},{"$f":"IFERROR(VLOOKUP(B293,INDIRECT(\"'\"&$F$1&\"'!\"&\"$C$2:$G$200\"),4,FALSE),\"\")","v":""},{"$f":"IFERROR(VLOOKUP(B293,INDIRECT(\"'\"&$F$1&\"'!\"&\"$C$2:$G$200\"),5,FALSE),0)","v":0},{"$f":"IFERROR(VLOOKUP(B293,INDIRECT(\"'\"&$H$1&\"'!\"&\"$C$2:$G$200\"),4,FALSE),\"\")","v":""},{"$f":"IFERROR(VLOOKUP(B293,INDIRECT(\"'\"&$H$1&\"'!\"&\"$C$2:$G$200\"),5,FALSE),0)","v":0},{"$f":"IFERROR(VLOOKUP(B293,INDIRECT(\"'\"&$J$1&\"'!\"&\"$C$2:$G$200\"),4,FALSE),\"\")","v":""},{"$f":"IFERROR(VLOOKUP(B293,INDIRECT(\"'\"&$J$1&\"'!\"&\"$C$2:$G$200\"),5,FALSE),0)","v":0},{"$f":"IFERROR(VLOOKUP(B293,INDIRECT(\"'\"&$L$1&\"'!\"&\"$C$2:$G$200\"),4,FALSE),\"\")","v":""},{"$f":"IFERROR(VLOOKUP(B293,INDIRECT(\"'\"&$L$1&\"'!\"&\"$C$2:$G$200\"),5,FALSE),0)","v":0},{"$f":"IFERROR(VLOOKUP(B293,INDIRECT(\"'\"&$N$1&\"'!\"&\"$C$2:$G$200\"),4,FALSE),\"\")","v":""},{"$f":"IFERROR(VLOOKUP(B293,INDIRECT(\"'\"&$N$1&\"'!\"&\"$C$2:$G$200\"),5,FALSE),0)","v":0},{"$f":"IFERROR(VLOOKUP(B293,INDIRECT(\"'\"&$P$1&\"'!\"&\"$C$2:$G$200\"),4,FALSE),\"\")","v":3.138888888888889E-2},{"$f":"IFERROR(VLOOKUP(B293,INDIRECT(\"'\"&$P$1&\"'!\"&\"$C$2:$G$200\"),5,FALSE),0)","v":55.959209687699143},{"$f":"IFERROR(VLOOKUP(B293,INDIRECT(\"'\"&$R$1&\"'!\"&\"$C$2:$G$200\"),4,FALSE),\"\")","v":""},{"$f":"IFERROR(VLOOKUP(B293,INDIRECT(\"'\"&$R$1&\"'!\"&\"$C$2:$G$200\"),5,FALSE),0)","v":0},{"$f":"IFERROR(VLOOKUP(B293,INDIRECT(\"'\"&$T$1&\"'!\"&\"$C$2:$G$200\"),4,FALSE),\"\")","v":""},{"$f":"IFERROR(VLOOKUP(B293,INDIRECT(\"'\"&$T$1&\"'!\"&\"$C$2:$G$200\"),5,FALSE),0)","v":0},{"$f":"8-COUNTIF(F293:U293,\"\")","v":1},{"$f":"E293/IF(V293>4,5,V293)","v":55.959209687699143}]
[292,"Nigel Clarke","Hereford Couriers","M40",{"$f":"SUM(LARGE((S294,G294,I294,K294,M294,O294,Q294,U294),{1,2,3,4,5}))","v":55.104592996816763},{"$f":"IFERROR(VLOOKUP(B294,INDIRECT(\"'\"&$F$1&\"'!\"&\"$C$2:$G$200\"),4,FALSE),\"\")","v":""},{"$f":"IFERROR(VLOOKUP(B294,INDIRECT(\"'\"&$F$1&\"'!\"&\"$C$2:$G$200\"),5,FALSE),0)","v":0},{"$f":"IFERROR(VLOOKUP(B294,INDIRECT(\"'\"&$H$1&\"'!\"&\"$C$2:$G$200\"),4,FALSE),\"\")","v":""},{"$f":"IFERROR(VLOOKUP(B294,INDIRECT(\"'\"&$H$1&\"'!\"&\"$C$2:$G$200\"),5,FALSE),0)","v":0},{"$f":"IFERROR(VLOOKUP(B294,INDIRECT(\"'\"&$J$1&\"'!\"&\"$C$2:$G$200\"),4,FALSE),\"\")","v":""},{"$f":"IFERROR(VLOOKUP(B294,INDIRECT(\"'\"&$J$1&\"'!\"&\"$C$2:$G$200\"),5,FALSE),0)","v":0},{"$f":"IFERROR(VLOOKUP(B294,INDIRECT(\"'\"&$L$1&\"'!\"&\"$C$2:$G$200\"),4,FALSE),\"\")","v":""},{"$f":"IFERROR(VLOOKUP(B294,INDIRECT(\"'\"&$L$1&\"'!\"&\"$C$2:$G$200\"),5,FALSE),0)","v":0},{"$f":"IFERROR(VLOOKUP(B294,INDIRECT(\"'\"&$N$1&\"'!\"&\"$C$2:$G$200\"),4,FALSE),\"\")","v":""},{"$f":"IFERROR(VLOOKUP(B294,INDIRECT(\"'\"&$N$1&\"'!\"&\"$C$2:$G$200\"),5,FALSE),0)","v":0},{"$f":"IFERROR(VLOOKUP(B294,INDIRECT(\"'\"&$P$1&\"'!\"&\"$C$2:$G$200\"),4,FALSE),\"\")","v":""},{"$f":"IFERROR(VLOOKUP(B294,INDIRECT(\"'\"&$P$1&\"'!\"&\"$C$2:$G$200\"),5,FALSE),0)","v":0},{"$f":"IFERROR(VLOOKUP(B294,INDIRECT(\"'\"&$R$1&\"'!\"&\"$C$2:$G$200\"),4,FALSE),\"\")","v":2.9502314814814815E-2},{"$f":"IFERROR(VLOOKUP(B294,INDIRECT(\"'\"&$R$1&\"'!\"&\"$C$2:$G$200\"),5,FALSE),0)","v":55.104592996816763},{"$f":"IFERROR(VLOOKUP(B294,INDIRECT(\"'\"&$T$1&\"'!\"&\"$C$2:$G$200\"),4,FALSE),\"\")","v":""},{"$f":"IFERROR(VLOOKUP(B294,INDIRECT(\"'\"&$T$1&\"'!\"&\"$C$2:$G$200\"),5,FALSE),0)","v":0},{"$f":"8-COUNTIF(F294:U294,\"\")","v":1},{"$f":"E294/IF(V294>4,5,V294)","v":55.104592996816763}]
[293,"Steve Bedford","Wye Valley Runners","M60",{"$f":"SUM(LARGE((S295,G295,I295,K295,M295,O295,Q295,U295),{1,2,3,4,5}))","v":55.014385532264718},{"$f":"IFERROR(VLOOKUP(B295,INDIRECT(\"'\"&$F$1&\"'!\"&\"$C$2:$G$200\"),4,FALSE),\"\")","v":""},{"$f":"IFERROR(VLOOKUP(B295,INDIRECT(\"'\"&$F$1&\"'!\"&\"$C$2:$G$200\"),5,FALSE),0)","v":0},{"$f":"IFERROR(VLOOKUP(B295,INDIRECT(\"'\"&$H$1&\"'!\"&\"$C$2:$G$200\"),4,FALSE),\"\")","v":""},{"$f":"IFERROR(VLOOKUP(B295,INDIRECT(\"'\"&$H$1&\"'!\"&\"$C$2:$G$200\"),5,FALSE),0)","v":0},{"$f":"IFERROR(VLOOKUP(B295,INDIRECT(\"'\"&$J$1&\"'!\"&\"$C$2:$G$200\"),4,FALSE),\"\")","v":""},{"$f":"IFERROR(VLOOKUP(B295,INDIRECT(\"'\"&$J$1&\"'!\"&\"$C$2:$G$200\"),5,FALSE),0)","v":0},{"$f":"IFERROR(VLOOKUP(B295,INDIRECT(\"'\"&$L$1&\"'!\"&\"$C$2:$G$200\"),4,FALSE),\"\")","v":""},{"$f":"IFERROR(VLOOKUP(B295,INDIRECT(\"'\"&$L$1&\"'!\"&\"$C$2:$G$200\"),5,FALSE),0)","v":0},{"$f":"IFERROR(VLOOKUP(B295,INDIRECT(\"'\"&$N$1&\"'!\"&\"$C$2:$G$200\"),4,FALSE),\"\")","v":3.2662037037037038E-2},{"$f":"IFERROR(VLOOKUP(B295,INDIRECT(\"'\"&$N$1&\"'!\"&\"$C$2:$G$200\"),5,FALSE),0)","v":55.014385532264718},{"$f":"IFERROR(VLOOKUP(B295,INDIRECT(\"'\"&$P$1&\"'!\"&\"$C$2:$G$200\"),4,FALSE),\"\")","v":""},{"$f":"IFERROR(VLOOKUP(B295,INDIRECT(\"'\"&$P$1&\"'!\"&\"$C$2:$G$200\"),5,FALSE),0)","v":0},{"$f":"IFERROR(VLOOKUP(B295,INDIRECT(\"'\"&$R$1&\"'!\"&\"$C$2:$G$200\"),4,FALSE),\"\")","v":""},{"$f":"IFERROR(VLOOKUP(B295,INDIRECT(\"'\"&$R$1&\"'!\"&\"$C$2:$G$200\"),5,FALSE),0)","v":0},{"$f":"IFERROR(VLOOKUP(B295,INDIRECT(\"'\"&$T$1&\"'!\"&\"$C$2:$G$200\"),4,FALSE),\"\")","v":""},{"$f":"IFERROR(VLOOKUP(B295,INDIRECT(\"'\"&$T$1&\"'!\"&\"$C$2:$G$200\"),5,FALSE),0)","v":0},{"$f":"8-COUNTIF(F295:U295,\"\")","v":1},{"$f":"E295/IF(V295>4,5,V295)","v":55.014385532264718}]
[294,"Liz Pudney","Newbury","F40",{"$f":"SUM(LARGE((S296,G296,I296,K296,M296,O296,Q296,U296),{1,2,3,4,5}))","v":54.982406228943638},{"$f":"IFERROR(VLOOKUP(B296,INDIRECT(\"'\"&$F$1&\"'!\"&\"$C$2:$G$200\"),4,FALSE),\"\")","v":""},{"$f":"IFERROR(VLOOKUP(B296,INDIRECT(\"'\"&$F$1&\"'!\"&\"$C$2:$G$200\"),5,FALSE),0)","v":0},{"$f":"IFERROR(VLOOKUP(B296,INDIRECT(\"'\"&$H$1&\"'!\"&\"$C$2:$G$200\"),4,FALSE),\"\")","v":4.4837962962962961E-2},{"$f":"IFERROR(VLOOKUP(B296,INDIRECT(\"'\"&$H$1&\"'!\"&\"$C$2:$G$200\"),5,FALSE),0)","v":54.982406228943638},{"$f":"IFERROR(VLOOKUP(B296,INDIRECT(\"'\"&$J$1&\"'!\"&\"$C$2:$G$200\"),4,FALSE),\"\")","v":""},{"$f":"IFERROR(VLOOKUP(B296,INDIRECT(\"'\"&$J$1&\"'!\"&\"$C$2:$G$200\"),5,FALSE),0)","v":0},{"$f":"IFERROR(VLOOKUP(B296,INDIRECT(\"'\"&$L$1&\"'!\"&\"$C$2:$G$200\"),4,FALSE),\"\")","v":""},{"$f":"IFERROR(VLOOKUP(B296,INDIRECT(\"'\"&$L$1&\"'!\"&\"$C$2:$G$200\"),5,FALSE),0)","v":0},{"$f":"IFERROR(VLOOKUP(B296,INDIRECT(\"'\"&$N$1&\"'!\"&\"$C$2:$G$200\"),4,FALSE),\"\")","v":""},{"$f":"IFERROR(VLOOKUP(B296,INDIRECT(\"'\"&$N$1&\"'!\"&\"$C$2:$G$200\"),5,FALSE),0)","v":0},{"$f":"IFERROR(VLOOKUP(B296,INDIRECT(\"'\"&$P$1&\"'!\"&\"$C$2:$G$200\"),4,FALSE),\"\")","v":""},{"$f":"IFERROR(VLOOKUP(B296,INDIRECT(\"'\"&$P$1&\"'!\"&\"$C$2:$G$200\"),5,FALSE),0)","v":0},{"$f":"IFERROR(VLOOKUP(B296,INDIRECT(\"'\"&$R$1&\"'!\"&\"$C$2:$G$200\"),4,FALSE),\"\")","v":""},{"$f":"IFERROR(VLOOKUP(B296,INDIRECT(\"'\"&$R$1&\"'!\"&\"$C$2:$G$200\"),5,FALSE),0)","v":0},{"$f":"IFERROR(VLOOKUP(B296,INDIRECT(\"'\"&$T$1&\"'!\"&\"$C$2:$G$200\"),4,FALSE),\"\")","v":""},{"$f":"IFERROR(VLOOKUP(B296,INDIRECT(\"'\"&$T$1&\"'!\"&\"$C$2:$G$200\"),5,FALSE),0)","v":0},{"$f":"8-COUNTIF(F296:U296,\"\")","v":1},{"$f":"E296/IF(V296>4,5,V296)","v":54.982406228943638}]
[295,"Lynn Cro","Forest Of Dean AC","F40",{"$f":"SUM(LARGE((S297,G297,I297,K297,M297,O297,Q297,U297),{1,2,3,4,5}))","v":54.944972673504552},{"$f":"IFERROR(VLOOKUP(B297,INDIRECT(\"'\"&$F$1&\"'!\"&\"$C$2:$G$200\"),4,FALSE),\"\")","v":""},{"$f":"IFERROR(VLOOKUP(B297,INDIRECT(\"'\"&$F$1&\"'!\"&\"$C$2:$G$200\"),5,FALSE),0)","v":0},{"$f":"IFERROR(VLOOKUP(B297,INDIRECT(\"'\"&$H$1&\"'!\"&\"$C$2:$G$200\"),4,FALSE),\"\")","v":4.4849537037037035E-2},{"$f":"IFERROR(VLOOKUP(B297,INDIRECT(\"'\"&$H$1&\"'!\"&\"$C$2:$G$200\"),5,FALSE),0)","v":54.944972673504552},{"$f":"IFERROR(VLOOKUP(B297,INDIRECT(\"'\"&$J$1&\"'!\"&\"$C$2:$G$200\"),4,FALSE),\"\")","v":""},{"$f":"IFERROR(VLOOKUP(B297,INDIRECT(\"'\"&$J$1&\"'!\"&\"$C$2:$G$200\"),5,FALSE),0)","v":0},{"$f":"IFERROR(VLOOKUP(B297,INDIRECT(\"'\"&$L$1&\"'!\"&\"$C$2:$G$200\"),4,FALSE),\"\")","v":""},{"$f":"IFERROR(VLOOKUP(B297,INDIRECT(\"'\"&$L$1&\"'!\"&\"$C$2:$G$200\"),5,FALSE),0)","v":0},{"$f":"IFERROR(VLOOKUP(B297,INDIRECT(\"'\"&$N$1&\"'!\"&\"$C$2:$G$200\"),4,FALSE),\"\")","v":""},{"$f":"IFERROR(VLOOKUP(B297,INDIRECT(\"'\"&$N$1&\"'!\"&\"$C$2:$G$200\"),5,FALSE),0)","v":0},{"$f":"IFERROR(VLOOKUP(B297,INDIRECT(\"'\"&$P$1&\"'!\"&\"$C$2:$G$200\"),4,FALSE),\"\")","v":""},{"$f":"IFERROR(VLOOKUP(B297,INDIRECT(\"'\"&$P$1&\"'!\"&\"$C$2:$G$200\"),5,FALSE),0)","v":0},{"$f":"IFERROR(VLOOKUP(B297,INDIRECT(\"'\"&$R$1&\"'!\"&\"$C$2:$G$200\"),4,FALSE),\"\")","v":""},{"$f":"IFERROR(VLOOKUP(B297,INDIRECT(\"'\"&$R$1&\"'!\"&\"$C$2:$G$200\"),5,FALSE),0)","v":0},{"$f":"IFERROR(VLOOKUP(B297,INDIRECT(\"'\"&$T$1&\"'!\"&\"$C$2:$G$200\"),4,FALSE),\"\")","v":""},{"$f":"IFERROR(VLOOKUP(B297,INDIRECT(\"'\"&$T$1&\"'!\"&\"$C$2:$G$200\"),5,FALSE),0)","v":0},{"$f":"8-COUNTIF(F297:U297,\"\")","v":1},{"$f":"E297/IF(V297>4,5,V297)","v":54.944972673504552}]
[296,"Mark Scrivens","Monross Trailblazers","M40",{"$f":"SUM(LARGE((S298,G298,I298,K298,M298,O298,Q298,U298),{1,2,3,4,5}))","v":54.872619342072724},{"$f":"IFERROR(VLOOKUP(B298,INDIRECT(\"'\"&$F$1&\"'!\"&\"$C$2:$G$200\"),4,FALSE),\"\")","v":""},{"$f":"IFERROR(VLOOKUP(B298,INDIRECT(\"'\"&$F$1&\"'!\"&\"$C$2:$G$200\"),5,FALSE),0)","v":0},{"$f":"IFERROR(VLOOKUP(B298,INDIRECT(\"'\"&$H$1&\"'!\"&\"$C$2:$G$200\"),4,FALSE),\"\")","v":""},{"$f":"IFERROR(VLOOKUP(B298,INDIRECT(\"'\"&$H$1&\"'!\"&\"$C$2:$G$200\"),5,FALSE),0)","v":0},{"$f":"IFERROR(VLOOKUP(B298,INDIRECT(\"'\"&$J$1&\"'!\"&\"$C$2:$G$200\"),4,FALSE),\"\")","v":""},{"$f":"IFERROR(VLOOKUP(B298,INDIRECT(\"'\"&$J$1&\"'!\"&\"$C$2:$G$200\"),5,FALSE),0)","v":0},{"$f":"IFERROR(VLOOKUP(B298,INDIRECT(\"'\"&$L$1&\"'!\"&\"$C$2:$G$200\"),4,FALSE),\"\")","v":2.7164351851851853E-2},{"$f":"IFERROR(VLOOKUP(B298,INDIRECT(\"'\"&$L$1&\"'!\"&\"$C$2:$G$200\"),5,FALSE),0)","v":54.872619342072724},{"$f":"IFERROR(VLOOKUP(B298,INDIRECT(\"'\"&$N$1&\"'!\"&\"$C$2:$G$200\"),4,FALSE),\"\")","v":""},{"$f":"IFERROR(VLOOKUP(B298,INDIRECT(\"'\"&$N$1&\"'!\"&\"$C$2:$G$200\"),5,FALSE),0)","v":0},{"$f":"IFERROR(VLOOKUP(B298,INDIRECT(\"'\"&$P$1&\"'!\"&\"$C$2:$G$200\"),4,FALSE),\"\")","v":""},{"$f":"IFERROR(VLOOKUP(B298,INDIRECT(\"'\"&$P$1&\"'!\"&\"$C$2:$G$200\"),5,FALSE),0)","v":0},{"$f":"IFERROR(VLOOKUP(B298,INDIRECT(\"'\"&$R$1&\"'!\"&\"$C$2:$G$200\"),4,FALSE),\"\")","v":""},{"$f":"IFERROR(VLOOKUP(B298,INDIRECT(\"'\"&$R$1&\"'!\"&\"$C$2:$G$200\"),5,FALSE),0)","v":0},{"$f":"IFERROR(VLOOKUP(B298,INDIRECT(\"'\"&$T$1&\"'!\"&\"$C$2:$G$200\"),4,FALSE),\"\")","v":""},{"$f":"IFERROR(VLOOKUP(B298,INDIRECT(\"'\"&$T$1&\"'!\"&\"$C$2:$G$200\"),5,FALSE),0)","v":0},{"$f":"8-COUNTIF(F298:U298,\"\")","v":1},{"$f":"E298/IF(V298>4,5,V298)","v":54.872619342072724}]
[297,"Vanessa Lawson","Chepstow Harriers","F40",{"$f":"SUM(LARGE((S299,G299,I299,K299,M299,O299,Q299,U299),{1,2,3,4,5}))","v":54.860254829428712},{"$f":"IFERROR(VLOOKUP(B299,INDIRECT(\"'\"&$F$1&\"'!\"&\"$C$2:$G$200\"),4,FALSE),\"\")","v":""},{"$f":"IFERROR(VLOOKUP(B299,INDIRECT(\"'\"&$F$1&\"'!\"&\"$C$2:$G$200\"),5,FALSE),0)","v":0},{"$f":"IFERROR(VLOOKUP(B299,INDIRECT(\"'\"&$H$1&\"'!\"&\"$C$2:$G$200\"),4,FALSE),\"\")","v":""},{"$f":"IFERROR(VLOOKUP(B299,INDIRECT(\"'\"&$H$1&\"'!\"&\"$C$2:$G$200\"),5,FALSE),0)","v":0},{"$f":"IFERROR(VLOOKUP(B299,INDIRECT(\"'\"&$J$1&\"'!\"&\"$C$2:$G$200\"),4,FALSE),\"\")","v":""},{"$f":"IFERROR(VLOOKUP(B299,INDIRECT(\"'\"&$J$1&\"'!\"&\"$C$2:$G$200\"),5,FALSE),0)","v":0},{"$f":"IFERROR(VLOOKUP(B299,INDIRECT(\"'\"&$L$1&\"'!\"&\"$C$2:$G$200\"),4,FALSE),\"\")","v":""},{"$f":"IFERROR(VLOOKUP(B299,INDIRECT(\"'\"&$L$1&\"'!\"&\"$C$2:$G$200\"),5,FALSE),0)","v":0},{"$f":"IFERROR(VLOOKUP(B299,INDIRECT(\"'\"&$N$1&\"'!\"&\"$C$2:$G$200\"),4,FALSE),\"\")","v":3.2696759259259259E-2},{"$f":"IFERROR(VLOOKUP(B299,INDIRECT(\"'\"&$N$1&\"'!\"&\"$C$2:$G$200\"),5,FALSE),0)","v":54.860254829428712},{"$f":"IFERROR(VLOOKUP(B299,INDIRECT(\"'\"&$P$1&\"'!\"&\"$C$2:$G$200\"),4,FALSE),\"\")","v":""},{"$f":"IFERROR(VLOOKUP(B299,INDIRECT(\"'\"&$P$1&\"'!\"&\"$C$2:$G$200\"),5,FALSE),0)","v":0},{"$f":"IFERROR(VLOOKUP(B299,INDIRECT(\"'\"&$R$1&\"'!\"&\"$C$2:$G$200\"),4,FALSE),\"\")","v":""},{"$f":"IFERROR(VLOOKUP(B299,INDIRECT(\"'\"&$R$1&\"'!\"&\"$C$2:$G$200\"),5,FALSE),0)","v":0},{"$f":"IFERROR(VLOOKUP(B299,INDIRECT(\"'\"&$T$1&\"'!\"&\"$C$2:$G$200\"),4,FALSE),\"\")","v":""},{"$f":"IFERROR(VLOOKUP(B299,INDIRECT(\"'\"&$T$1&\"'!\"&\"$C$2:$G$200\"),5,FALSE),0)","v":0},{"$f":"8-COUNTIF(F299:U299,\"\")","v":1},{"$f":"E299/IF(V299>4,5,V299)","v":54.860254829428712}]
[298,"Ben Watkins","Mynydd Du","SM",{"$f":"SUM(LARGE((S300,G300,I300,K300,M300,O300,Q300,U300),{1,2,3,4,5}))","v":54.596384008148704},{"$f":"IFERROR(VLOOKUP(B300,INDIRECT(\"'\"&$F$1&\"'!\"&\"$C$2:$G$200\"),4,FALSE),\"\")","v":""},{"$f":"IFERROR(VLOOKUP(B300,INDIRECT(\"'\"&$F$1&\"'!\"&\"$C$2:$G$200\"),5,FALSE),0)","v":0},{"$f":"IFERROR(VLOOKUP(B300,INDIRECT(\"'\"&$H$1&\"'!\"&\"$C$2:$G$200\"),4,FALSE),\"\")","v":""},{"$f":"IFERROR(VLOOKUP(B300,INDIRECT(\"'\"&$H$1&\"'!\"&\"$C$2:$G$200\"),5,FALSE),0)","v":0},{"$f":"IFERROR(VLOOKUP(B300,INDIRECT(\"'\"&$J$1&\"'!\"&\"$C$2:$G$200\"),4,FALSE),\"\")","v":""},{"$f":"IFERROR(VLOOKUP(B300,INDIRECT(\"'\"&$J$1&\"'!\"&\"$C$2:$G$200\"),5,FALSE),0)","v":0},{"$f":"IFERROR(VLOOKUP(B300,INDIRECT(\"'\"&$L$1&\"'!\"&\"$C$2:$G$200\"),4,FALSE),\"\")","v":""},{"$f":"IFERROR(VLOOKUP(B300,INDIRECT(\"'\"&$L$1&\"'!\"&\"$C$2:$G$200\"),5,FALSE),0)","v":0},{"$f":"IFERROR(VLOOKUP(B300,INDIRECT(\"'\"&$N$1&\"'!\"&\"$C$2:$G$200\"),4,FALSE),\"\")","v":""},{"$f":"IFERROR(VLOOKUP(B300,INDIRECT(\"'\"&$N$1&\"'!\"&\"$C$2:$G$200\"),5,FALSE),0)","v":0},{"$f":"IFERROR(VLOOKUP(B300,INDIRECT(\"'\"&$P$1&\"'!\"&\"$C$2:$G$200\"),4,FALSE),\"\")","v":""},{"$f":"IFERROR(VLOOKUP(B300,INDIRECT(\"'\"&$P$1&\"'!\"&\"$C$2:$G$200\"),5,FALSE),0)","v":0},{"$f":"IFERROR(VLOOKUP(B300,INDIRECT(\"'\"&$R$1&\"'!\"&\"$C$2:$G$200\"),4,FALSE),\"\")","v":""},{"$f":"IFERROR(VLOOKUP(B300,INDIRECT(\"'\"&$R$1&\"'!\"&\"$C$2:$G$200\"),5,FALSE),0)","v":0},{"$f":"IFERROR(VLOOKUP(B300,INDIRECT(\"'\"&$T$1&\"'!\"&\"$C$2:$G$200\"),4,FALSE),\"\")","v":5.2870370370370373E-2},{"$f":"IFERROR(VLOOKUP(B300,INDIRECT(\"'\"&$T$1&\"'!\"&\"$C$2:$G$200\"),5,FALSE),0)","v":54.596384008148704},{"$f":"8-COUNTIF(F300:U300,\"\")","v":1},{"$f":"E300/IF(V300>4,5,V300)","v":54.596384008148704}]
[299,"Justin Trout","Wye Valley Runners","M50",{"$f":"SUM(LARGE((S301,G301,I301,K301,M301,O301,Q301,U301),{1,2,3,4,5}))","v":54.383469341918115},{"$f":"IFERROR(VLOOKUP(B301,INDIRECT(\"'\"&$F$1&\"'!\"&\"$C$2:$G$200\"),4,FALSE),\"\")","v":""},{"$f":"IFERROR(VLOOKUP(B301,INDIRECT(\"'\"&$F$1&\"'!\"&\"$C$2:$G$200\"),5,FALSE),0)","v":0},{"$f":"IFERROR(VLOOKUP(B301,INDIRECT(\"'\"&$H$1&\"'!\"&\"$C$2:$G$200\"),4,FALSE),\"\")","v":4.5023148148148145E-2},{"$f":"IFERROR(VLOOKUP(B301,INDIRECT(\"'\"&$H$1&\"'!\"&\"$C$2:$G$200\"),5,FALSE),0)","v":54.383469341918115},{"$f":"IFERROR(VLOOKUP(B301,INDIRECT(\"'\"&$J$1&\"'!\"&\"$C$2:$G$200\"),4,FALSE),\"\")","v":""},{"$f":"IFERROR(VLOOKUP(B301,INDIRECT(\"'\"&$J$1&\"'!\"&\"$C$2:$G$200\"),5,FALSE),0)","v":0},{"$f":"IFERROR(VLOOKUP(B301,INDIRECT(\"'\"&$L$1&\"'!\"&\"$C$2:$G$200\"),4,FALSE),\"\")","v":""},{"$f":"IFERROR(VLOOKUP(B301,INDIRECT(\"'\"&$L$1&\"'!\"&\"$C$2:$G$200\"),5,FALSE),0)","v":0},{"$f":"IFERROR(VLOOKUP(B301,INDIRECT(\"'\"&$N$1&\"'!\"&\"$C$2:$G$200\"),4,FALSE),\"\")","v":""},{"$f":"IFERROR(VLOOKUP(B301,INDIRECT(\"'\"&$N$1&\"'!\"&\"$C$2:$G$200\"),5,FALSE),0)","v":0},{"$f":"IFERROR(VLOOKUP(B301,INDIRECT(\"'\"&$P$1&\"'!\"&\"$C$2:$G$200\"),4,FALSE),\"\")","v":""},{"$f":"IFERROR(VLOOKUP(B301,INDIRECT(\"'\"&$P$1&\"'!\"&\"$C$2:$G$200\"),5,FALSE),0)","v":0},{"$f":"IFERROR(VLOOKUP(B301,INDIRECT(\"'\"&$R$1&\"'!\"&\"$C$2:$G$200\"),4,FALSE),\"\")","v":""},{"$f":"IFERROR(VLOOKUP(B301,INDIRECT(\"'\"&$R$1&\"'!\"&\"$C$2:$G$200\"),5,FALSE),0)","v":0},{"$f":"IFERROR(VLOOKUP(B301,INDIRECT(\"'\"&$T$1&\"'!\"&\"$C$2:$G$200\"),4,FALSE),\"\")","v":""},{"$f":"IFERROR(VLOOKUP(B301,INDIRECT(\"'\"&$T$1&\"'!\"&\"$C$2:$G$200\"),5,FALSE),0)","v":0},{"$f":"8-COUNTIF(F301:U301,\"\")","v":1},{"$f":"E301/IF(V301>4,5,V301)","v":54.383469341918115}]
[300,"Xavier Laurent","Oxo Cross Country","M40",{"$f":"SUM(LARGE((S302,G302,I302,K302,M302,O302,Q302,U302),{1,2,3,4,5}))","v":54.038224414303372},{"$f":"IFERROR(VLOOKUP(B302,INDIRECT(\"'\"&$F$1&\"'!\"&\"$C$2:$G$200\"),4,FALSE),\"\")","v":""},{"$f":"IFERROR(VLOOKUP(B302,INDIRECT(\"'\"&$F$1&\"'!\"&\"$C$2:$G$200\"),5,FALSE),0)","v":0},{"$f":"IFERROR(VLOOKUP(B302,INDIRECT(\"'\"&$H$1&\"'!\"&\"$C$2:$G$200\"),4,FALSE),\"\")","v":""},{"$f":"IFERROR(VLOOKUP(B302,INDIRECT(\"'\"&$H$1&\"'!\"&\"$C$2:$G$200\"),5,FALSE),0)","v":0},{"$f":"IFERROR(VLOOKUP(B302,INDIRECT(\"'\"&$J$1&\"'!\"&\"$C$2:$G$200\"),4,FALSE),\"\")","v":""},{"$f":"IFERROR(VLOOKUP(B302,INDIRECT(\"'\"&$J$1&\"'!\"&\"$C$2:$G$200\"),5,FALSE),0)","v":0},{"$f":"IFERROR(VLOOKUP(B302,INDIRECT(\"'\"&$L$1&\"'!\"&\"$C$2:$G$200\"),4,FALSE),\"\")","v":""},{"$f":"IFERROR(VLOOKUP(B302,INDIRECT(\"'\"&$L$1&\"'!\"&\"$C$2:$G$200\"),5,FALSE),0)","v":0},{"$f":"IFERROR(VLOOKUP(B302,INDIRECT(\"'\"&$N$1&\"'!\"&\"$C$2:$G$200\"),4,FALSE),\"\")","v":3.2881944444444443E-2},{"$f":"IFERROR(VLOOKUP(B302,INDIRECT(\"'\"&$N$1&\"'!\"&\"$C$2:$G$200\"),5,FALSE),0)","v":54.038224414303372},{"$f":"IFERROR(VLOOKUP(B302,INDIRECT(\"'\"&$P$1&\"'!\"&\"$C$2:$G$200\"),4,FALSE),\"\")","v":""},{"$f":"IFERROR(VLOOKUP(B302,INDIRECT(\"'\"&$P$1&\"'!\"&\"$C$2:$G$200\"),5,FALSE),0)","v":0},{"$f":"IFERROR(VLOOKUP(B302,INDIRECT(\"'\"&$R$1&\"'!\"&\"$C$2:$G$200\"),4,FALSE),\"\")","v":""},{"$f":"IFERROR(VLOOKUP(B302,INDIRECT(\"'\"&$R$1&\"'!\"&\"$C$2:$G$200\"),5,FALSE),0)","v":0},null,{"$f":"IFERROR(VLOOKUP(B302,INDIRECT(\"'\"&$T$1&\"'!\"&\"$C$2:$G$200\"),5,FALSE),0)","v":0},{"$f":"8-COUNTIF(F302:U302,\"\")","v":1},{"$f":"E302/IF(V302>4,5,V302)","v":54.038224414303372}]
[301,"Norman Jones","MDC","M50 ",{"$f":"SUM(LARGE((S303,G303,I303,K303,M303,O303,Q303,U303),{1,2,3,4,5}))","v":53.735586795135035},{"$f":"IFERROR(VLOOKUP(B303,INDIRECT(\"'\"&$F$1&\"'!\"&\"$C$2:$G$200\"),4,FALSE),\"\")","v":2.1435185185185186E-2},{"$f":"IFERROR(VLOOKUP(B303,INDIRECT(\"'\"&$F$1&\"'!\"&\"$C$2:$G$200\"),5,FALSE),0)","v":53.735586795135035},{"$f":"IFERROR(VLOOKUP(B303,INDIRECT(\"'\"&$H$1&\"'!\"&\"$C$2:$G$200\"),4,FALSE),\"\")","v":""},{"$f":"IFERROR(VLOOKUP(B303,INDIRECT(\"'\"&$H$1&\"'!\"&\"$C$2:$G$200\"),5,FALSE),0)","v":0},{"$f":"IFERROR(VLOOKUP(B303,INDIRECT(\"'\"&$J$1&\"'!\"&\"$C$2:$G$200\"),4,FALSE),\"\")","v":""},{"$f":"IFERROR(VLOOKUP(B303,INDIRECT(\"'\"&$J$1&\"'!\"&\"$C$2:$G$200\"),5,FALSE),0)","v":0},{"$f":"IFERROR(VLOOKUP(B303,INDIRECT(\"'\"&$L$1&\"'!\"&\"$C$2:$G$200\"),4,FALSE),\"\")","v":""},{"$f":"IFERROR(VLOOKUP(B303,INDIRECT(\"'\"&$L$1&\"'!\"&\"$C$2:$G$200\"),5,FALSE),0)","v":0},{"$f":"IFERROR(VLOOKUP(B303,INDIRECT(\"'\"&$N$1&\"'!\"&\"$C$2:$G$200\"),4,FALSE),\"\")","v":""},{"$f":"IFERROR(VLOOKUP(B303,INDIRECT(\"'\"&$N$1&\"'!\"&\"$C$2:$G$200\"),5,FALSE),0)","v":0},{"$f":"IFERROR(VLOOKUP(B303,INDIRECT(\"'\"&$P$1&\"'!\"&\"$C$2:$G$200\"),4,FALSE),\"\")","v":""},{"$f":"IFERROR(VLOOKUP(B303,INDIRECT(\"'\"&$P$1&\"'!\"&\"$C$2:$G$200\"),5,FALSE),0)","v":0},{"$f":"IFERROR(VLOOKUP(B303,INDIRECT(\"'\"&$R$1&\"'!\"&\"$C$2:$G$200\"),4,FALSE),\"\")","v":""},{"$f":"IFERROR(VLOOKUP(B303,INDIRECT(\"'\"&$R$1&\"'!\"&\"$C$2:$G$200\"),5,FALSE),0)","v":0},{"$f":"IFERROR(VLOOKUP(B303,INDIRECT(\"'\"&$T$1&\"'!\"&\"$C$2:$G$200\"),4,FALSE),\"\")","v":""},{"$f":"IFERROR(VLOOKUP(B303,INDIRECT(\"'\"&$T$1&\"'!\"&\"$C$2:$G$200\"),5,FALSE),0)","v":0},{"$f":"8-COUNTIF(F303:U303,\"\")","v":1},{"$f":"E303/IF(V303>4,5,V303)","v":53.735586795135035}]
[302,"Alastair Wilcox Hirst","Unaffiliated","SM",{"$f":"SUM(LARGE((S304,G304,I304,K304,M304,O304,Q304,U304),{1,2,3,4,5}))","v":53.51413292589762},{"$f":"IFERROR(VLOOKUP(B304,INDIRECT(\"'\"&$F$1&\"'!\"&\"$C$2:$G$200\"),4,FALSE),\"\")","v":""},{"$f":"IFERROR(VLOOKUP(B304,INDIRECT(\"'\"&$F$1&\"'!\"&\"$C$2:$G$200\"),5,FALSE),0)","v":0},{"$f":"IFERROR(VLOOKUP(B304,INDIRECT(\"'\"&$H$1&\"'!\"&\"$C$2:$G$200\"),4,FALSE),\"\")","v":""},{"$f":"IFERROR(VLOOKUP(B304,INDIRECT(\"'\"&$H$1&\"'!\"&\"$C$2:$G$200\"),5,FALSE),0)","v":0},{"$f":"IFERROR(VLOOKUP(B304,INDIRECT(\"'\"&$J$1&\"'!\"&\"$C$2:$G$200\"),4,FALSE),\"\")","v":""},{"$f":"IFERROR(VLOOKUP(B304,INDIRECT(\"'\"&$J$1&\"'!\"&\"$C$2:$G$200\"),5,FALSE),0)","v":0},{"$f":"IFERROR(VLOOKUP(B304,INDIRECT(\"'\"&$L$1&\"'!\"&\"$C$2:$G$200\"),4,FALSE),\"\")","v":""},{"$f":"IFERROR(VLOOKUP(B304,INDIRECT(\"'\"&$L$1&\"'!\"&\"$C$2:$G$200\"),5,FALSE),0)","v":0},{"$f":"IFERROR(VLOOKUP(B304,INDIRECT(\"'\"&$N$1&\"'!\"&\"$C$2:$G$200\"),4,FALSE),\"\")","v":""},{"$f":"IFERROR(VLOOKUP(B304,INDIRECT(\"'\"&$N$1&\"'!\"&\"$C$2:$G$200\"),5,FALSE),0)","v":0},{"$f":"IFERROR(VLOOKUP(B304,INDIRECT(\"'\"&$P$1&\"'!\"&\"$C$2:$G$200\"),4,FALSE),\"\")","v":""},{"$f":"IFERROR(VLOOKUP(B304,INDIRECT(\"'\"&$P$1&\"'!\"&\"$C$2:$G$200\"),5,FALSE),0)","v":0},{"$f":"IFERROR(VLOOKUP(B304,INDIRECT(\"'\"&$R$1&\"'!\"&\"$C$2:$G$200\"),4,FALSE),\"\")","v":""},{"$f":"IFERROR(VLOOKUP(B304,INDIRECT(\"'\"&$R$1&\"'!\"&\"$C$2:$G$200\"),5,FALSE),0)","v":0},{"$f":"IFERROR(VLOOKUP(B304,INDIRECT(\"'\"&$T$1&\"'!\"&\"$C$2:$G$200\"),4,FALSE),\"\")","v":5.3263888888888888E-2},{"$f":"IFERROR(VLOOKUP(B304,INDIRECT(\"'\"&$T$1&\"'!\"&\"$C$2:$G$200\"),5,FALSE),0)","v":53.51413292589762},{"$f":"8-COUNTIF(F304:U304,\"\")","v":1},{"$f":"E304/IF(V304>4,5,V304)","v":53.51413292589762}]
[303,"Joc Dodd","Chepstow Harriers","F60",{"$f":"SUM(LARGE((S305,G305,I305,K305,M305,O305,Q305,U305),{1,2,3,4,5}))","v":53.254118615349476},{"$f":"IFERROR(VLOOKUP(B305,INDIRECT(\"'\"&$F$1&\"'!\"&\"$C$2:$G$200\"),4,FALSE),\"\")","v":""},{"$f":"IFERROR(VLOOKUP(B305,INDIRECT(\"'\"&$F$1&\"'!\"&\"$C$2:$G$200\"),5,FALSE),0)","v":0},{"$f":"IFERROR(VLOOKUP(B305,INDIRECT(\"'\"&$H$1&\"'!\"&\"$C$2:$G$200\"),4,FALSE),\"\")","v":""},{"$f":"IFERROR(VLOOKUP(B305,INDIRECT(\"'\"&$H$1&\"'!\"&\"$C$2:$G$200\"),5,FALSE),0)","v":0},{"$f":"IFERROR(VLOOKUP(B305,INDIRECT(\"'\"&$J$1&\"'!\"&\"$C$2:$G$200\"),4,FALSE),\"\")","v":""},{"$f":"IFERROR(VLOOKUP(B305,INDIRECT(\"'\"&$J$1&\"'!\"&\"$C$2:$G$200\"),5,FALSE),0)","v":0},{"$f":"IFERROR(VLOOKUP(B305,INDIRECT(\"'\"&$L$1&\"'!\"&\"$C$2:$G$200\"),4,FALSE),\"\")","v":3.2696759259259259E-2},{"$f":"IFERROR(VLOOKUP(B305,INDIRECT(\"'\"&$L$1&\"'!\"&\"$C$2:$G$200\"),5,FALSE),0)","v":25.315359881276311},{"$f":"IFERROR(VLOOKUP(B305,INDIRECT(\"'\"&$N$1&\"'!\"&\"$C$2:$G$200\"),4,FALSE),\"\")","v":3.876157407407408E-2},{"$f":"IFERROR(VLOOKUP(B305,INDIRECT(\"'\"&$N$1&\"'!\"&\"$C$2:$G$200\"),5,FALSE),0)","v":27.938758734073165},{"$f":"IFERROR(VLOOKUP(B305,INDIRECT(\"'\"&$P$1&\"'!\"&\"$C$2:$G$200\"),4,FALSE),\"\")","v":""},{"$f":"IFERROR(VLOOKUP(B305,INDIRECT(\"'\"&$P$1&\"'!\"&\"$C$2:$G$200\"),5,FALSE),0)","v":0},{"$f":"IFERROR(VLOOKUP(B305,INDIRECT(\"'\"&$R$1&\"'!\"&\"$C$2:$G$200\"),4,FALSE),\"\")","v":""},{"$f":"IFERROR(VLOOKUP(B305,INDIRECT(\"'\"&$R$1&\"'!\"&\"$C$2:$G$200\"),5,FALSE),0)","v":0},{"$f":"IFERROR(VLOOKUP(B305,INDIRECT(\"'\"&$T$1&\"'!\"&\"$C$2:$G$200\"),4,FALSE),\"\")","v":""},{"$f":"IFERROR(VLOOKUP(B305,INDIRECT(\"'\"&$T$1&\"'!\"&\"$C$2:$G$200\"),5,FALSE),0)","v":0},{"$f":"8-COUNTIF(F305:U305,\"\")","v":2},{"$f":"E305/IF(V305>4,5,V305)","v":26.627059307674738}]
[304,"Ellie Salisbury","Eryri","F50",{"$f":"SUM(LARGE((S306,G306,I306,K306,M306,O306,Q306,U306),{1,2,3,4,5}))","v":52.708384862725687},{"$f":"IFERROR(VLOOKUP(B306,INDIRECT(\"'\"&$F$1&\"'!\"&\"$C$2:$G$200\"),4,FALSE),\"\")","v":""},{"$f":"IFERROR(VLOOKUP(B306,INDIRECT(\"'\"&$F$1&\"'!\"&\"$C$2:$G$200\"),5,FALSE),0)","v":0},{"$f":"IFERROR(VLOOKUP(B306,INDIRECT(\"'\"&$H$1&\"'!\"&\"$C$2:$G$200\"),4,FALSE),\"\")","v":""},{"$f":"IFERROR(VLOOKUP(B306,INDIRECT(\"'\"&$H$1&\"'!\"&\"$C$2:$G$200\"),5,FALSE),0)","v":0},{"$f":"IFERROR(VLOOKUP(B306,INDIRECT(\"'\"&$J$1&\"'!\"&\"$C$2:$G$200\"),4,FALSE),\"\")","v":""},{"$f":"IFERROR(VLOOKUP(B306,INDIRECT(\"'\"&$J$1&\"'!\"&\"$C$2:$G$200\"),5,FALSE),0)","v":0},{"$f":"IFERROR(VLOOKUP(B306,INDIRECT(\"'\"&$L$1&\"'!\"&\"$C$2:$G$200\"),4,FALSE),\"\")","v":2.7569444444444448E-2},{"$f":"IFERROR(VLOOKUP(B306,INDIRECT(\"'\"&$L$1&\"'!\"&\"$C$2:$G$200\"),5,FALSE),0)","v":52.708384862725687},{"$f":"IFERROR(VLOOKUP(B306,INDIRECT(\"'\"&$N$1&\"'!\"&\"$C$2:$G$200\"),4,FALSE),\"\")","v":""},{"$f":"IFERROR(VLOOKUP(B306,INDIRECT(\"'\"&$N$1&\"'!\"&\"$C$2:$G$200\"),5,FALSE),0)","v":0},{"$f":"IFERROR(VLOOKUP(B306,INDIRECT(\"'\"&$P$1&\"'!\"&\"$C$2:$G$200\"),4,FALSE),\"\")","v":""},{"$f":"IFERROR(VLOOKUP(B306,INDIRECT(\"'\"&$P$1&\"'!\"&\"$C$2:$G$200\"),5,FALSE),0)","v":0},{"$f":"IFERROR(VLOOKUP(B306,INDIRECT(\"'\"&$R$1&\"'!\"&\"$C$2:$G$200\"),4,FALSE),\"\")","v":""},{"$f":"IFERROR(VLOOKUP(B306,INDIRECT(\"'\"&$R$1&\"'!\"&\"$C$2:$G$200\"),5,FALSE),0)","v":0},null,{"$f":"IFERROR(VLOOKUP(B306,INDIRECT(\"'\"&$T$1&\"'!\"&\"$C$2:$G$200\"),5,FALSE),0)","v":0},{"$f":"8-COUNTIF(F306:U306,\"\")","v":1},{"$f":"E306/IF(V306>4,5,V306)","v":52.708384862725687}]
[305,"Sarah Moody","Caerphilly Runners","F40",{"$f":"SUM(LARGE((S307,G307,I307,K307,M307,O307,Q307,U307),{1,2,3,4,5}))","v":52.666241767580189},{"$f":"IFERROR(VLOOKUP(B307,INDIRECT(\"'\"&$F$1&\"'!\"&\"$C$2:$G$200\"),4,FALSE),\"\")","v":""},{"$f":"IFERROR(VLOOKUP(B307,INDIRECT(\"'\"&$F$1&\"'!\"&\"$C$2:$G$200\"),5,FALSE),0)","v":0},{"$f":"IFERROR(VLOOKUP(B307,INDIRECT(\"'\"&$H$1&\"'!\"&\"$C$2:$G$200\"),4,FALSE),\"\")","v":""},{"$f":"IFERROR(VLOOKUP(B307,INDIRECT(\"'\"&$H$1&\"'!\"&\"$C$2:$G$200\"),5,FALSE),0)","v":0},{"$f":"IFERROR(VLOOKUP(B307,INDIRECT(\"'\"&$J$1&\"'!\"&\"$C$2:$G$200\"),4,FALSE),\"\")","v":""},{"$f":"IFERROR(VLOOKUP(B307,INDIRECT(\"'\"&$J$1&\"'!\"&\"$C$2:$G$200\"),5,FALSE),0)","v":0},{"$f":"IFERROR(VLOOKUP(B307,INDIRECT(\"'\"&$L$1&\"'!\"&\"$C$2:$G$200\"),4,FALSE),\"\")","v":""},{"$f":"IFERROR(VLOOKUP(B307,INDIRECT(\"'\"&$L$1&\"'!\"&\"$C$2:$G$200\"),5,FALSE),0)","v":0},{"$f":"IFERROR(VLOOKUP(B307,INDIRECT(\"'\"&$N$1&\"'!\"&\"$C$2:$G$200\"),4,FALSE),\"\")","v":""},{"$f":"IFERROR(VLOOKUP(B307,INDIRECT(\"'\"&$N$1&\"'!\"&\"$C$2:$G$200\"),5,FALSE),0)","v":0},{"$f":"IFERROR(VLOOKUP(B307,INDIRECT(\"'\"&$P$1&\"'!\"&\"$C$2:$G$200\"),4,FALSE),\"\")","v":3.2106481481481479E-2},{"$f":"IFERROR(VLOOKUP(B307,INDIRECT(\"'\"&$P$1&\"'!\"&\"$C$2:$G$200\"),5,FALSE),0)","v":52.666241767580189},{"$f":"IFERROR(VLOOKUP(B307,INDIRECT(\"'\"&$R$1&\"'!\"&\"$C$2:$G$200\"),4,FALSE),\"\")","v":""},{"$f":"IFERROR(VLOOKUP(B307,INDIRECT(\"'\"&$R$1&\"'!\"&\"$C$2:$G$200\"),5,FALSE),0)","v":0},null,{"$f":"IFERROR(VLOOKUP(B307,INDIRECT(\"'\"&$T$1&\"'!\"&\"$C$2:$G$200\"),5,FALSE),0)","v":0},{"$f":"8-COUNTIF(F307:U307,\"\")","v":1},{"$f":"E307/IF(V307>4,5,V307)","v":52.666241767580189}]
[306,"Gareth Morgan","Unaffiliated","M40",{"$f":"SUM(LARGE((S308,G308,I308,K308,M308,O308,Q308,U308),{1,2,3,4,5}))","v":51.23220735075418},{"$f":"IFERROR(VLOOKUP(B308,INDIRECT(\"'\"&$F$1&\"'!\"&\"$C$2:$G$200\"),4,FALSE),\"\")","v":""},{"$f":"IFERROR(VLOOKUP(B308,INDIRECT(\"'\"&$F$1&\"'!\"&\"$C$2:$G$200\"),5,FALSE),0)","v":0},{"$f":"IFERROR(VLOOKUP(B308,INDIRECT(\"'\"&$H$1&\"'!\"&\"$C$2:$G$200\"),4,FALSE),\"\")","v":""},{"$f":"IFERROR(VLOOKUP(B308,INDIRECT(\"'\"&$H$1&\"'!\"&\"$C$2:$G$200\"),5,FALSE),0)","v":0},{"$f":"IFERROR(VLOOKUP(B308,INDIRECT(\"'\"&$J$1&\"'!\"&\"$C$2:$G$200\"),4,FALSE),\"\")","v":""},{"$f":"IFERROR(VLOOKUP(B308,INDIRECT(\"'\"&$J$1&\"'!\"&\"$C$2:$G$200\"),5,FALSE),0)","v":0},{"$f":"IFERROR(VLOOKUP(B308,INDIRECT(\"'\"&$L$1&\"'!\"&\"$C$2:$G$200\"),4,FALSE),\"\")","v":""},{"$f":"IFERROR(VLOOKUP(B308,INDIRECT(\"'\"&$L$1&\"'!\"&\"$C$2:$G$200\"),5,FALSE),0)","v":0},{"$f":"IFERROR(VLOOKUP(B308,INDIRECT(\"'\"&$N$1&\"'!\"&\"$C$2:$G$200\"),4,FALSE),\"\")","v":""},{"$f":"IFERROR(VLOOKUP(B308,INDIRECT(\"'\"&$N$1&\"'!\"&\"$C$2:$G$200\"),5,FALSE),0)","v":0},{"$f":"IFERROR(VLOOKUP(B308,INDIRECT(\"'\"&$P$1&\"'!\"&\"$C$2:$G$200\"),4,FALSE),\"\")","v":3.2418981481481479E-2},{"$f":"IFERROR(VLOOKUP(B308,INDIRECT(\"'\"&$P$1&\"'!\"&\"$C$2:$G$200\"),5,FALSE),0)","v":51.23220735075418},{"$f":"IFERROR(VLOOKUP(B308,INDIRECT(\"'\"&$R$1&\"'!\"&\"$C$2:$G$200\"),4,FALSE),\"\")","v":""},{"$f":"IFERROR(VLOOKUP(B308,INDIRECT(\"'\"&$R$1&\"'!\"&\"$C$2:$G$200\"),5,FALSE),0)","v":0},{"$f":"IFERROR(VLOOKUP(B308,INDIRECT(\"'\"&$T$1&\"'!\"&\"$C$2:$G$200\"),4,FALSE),\"\")","v":""},{"$f":"IFERROR(VLOOKUP(B308,INDIRECT(\"'\"&$T$1&\"'!\"&\"$C$2:$G$200\"),5,FALSE),0)","v":0},{"$f":"8-COUNTIF(F308:U308,\"\")","v":1},{"$f":"E308/IF(V308>4,5,V308)","v":51.23220735075418}]
[307,"Richard Newhouse","Chepstow Harriers","M40",{"$f":"SUM(LARGE((S309,G309,I309,K309,M309,O309,Q309,U309),{1,2,3,4,5}))","v":50.902148686082228},{"$f":"IFERROR(VLOOKUP(B309,INDIRECT(\"'\"&$F$1&\"'!\"&\"$C$2:$G$200\"),4,FALSE),\"\")","v":""},{"$f":"IFERROR(VLOOKUP(B309,INDIRECT(\"'\"&$F$1&\"'!\"&\"$C$2:$G$200\"),5,FALSE),0)","v":0},{"$f":"IFERROR(VLOOKUP(B309,INDIRECT(\"'\"&$H$1&\"'!\"&\"$C$2:$G$200\"),4,FALSE),\"\")","v":4.6099537037037036E-2},{"$f":"IFERROR(VLOOKUP(B309,INDIRECT(\"'\"&$H$1&\"'!\"&\"$C$2:$G$200\"),5,FALSE),0)","v":50.902148686082228},{"$f":"IFERROR(VLOOKUP(B309,INDIRECT(\"'\"&$J$1&\"'!\"&\"$C$2:$G$200\"),4,FALSE),\"\")","v":""},{"$f":"IFERROR(VLOOKUP(B309,INDIRECT(\"'\"&$J$1&\"'!\"&\"$C$2:$G$200\"),5,FALSE),0)","v":0},{"$f":"IFERROR(VLOOKUP(B309,INDIRECT(\"'\"&$L$1&\"'!\"&\"$C$2:$G$200\"),4,FALSE),\"\")","v":""},{"$f":"IFERROR(VLOOKUP(B309,INDIRECT(\"'\"&$L$1&\"'!\"&\"$C$2:$G$200\"),5,FALSE),0)","v":0},{"$f":"IFERROR(VLOOKUP(B309,INDIRECT(\"'\"&$N$1&\"'!\"&\"$C$2:$G$200\"),4,FALSE),\"\")","v":""},{"$f":"IFERROR(VLOOKUP(B309,INDIRECT(\"'\"&$N$1&\"'!\"&\"$C$2:$G$200\"),5,FALSE),0)","v":0},{"$f":"IFERROR(VLOOKUP(B309,INDIRECT(\"'\"&$P$1&\"'!\"&\"$C$2:$G$200\"),4,FALSE),\"\")","v":""},{"$f":"IFERROR(VLOOKUP(B309,INDIRECT(\"'\"&$P$1&\"'!\"&\"$C$2:$G$200\"),5,FALSE),0)","v":0},{"$f":"IFERROR(VLOOKUP(B309,INDIRECT(\"'\"&$R$1&\"'!\"&\"$C$2:$G$200\"),4,FALSE),\"\")","v":""},{"$f":"IFERROR(VLOOKUP(B309,INDIRECT(\"'\"&$R$1&\"'!\"&\"$C$2:$G$200\"),5,FALSE),0)","v":0},{"$f":"IFERROR(VLOOKUP(B309,INDIRECT(\"'\"&$T$1&\"'!\"&\"$C$2:$G$200\"),4,FALSE),\"\")","v":""},{"$f":"IFERROR(VLOOKUP(B309,INDIRECT(\"'\"&$T$1&\"'!\"&\"$C$2:$G$200\"),5,FALSE),0)","v":0},{"$f":"8-COUNTIF(F309:U309,\"\")","v":1},{"$f":"E309/IF(V309>4,5,V309)","v":50.902148686082228}]
[308,"John Nash","Chepstow Harriers","M50",{"$f":"SUM(LARGE((S310,G310,I310,K310,M310,O310,Q310,U310),{1,2,3,4,5}))","v":50.852856555692583},{"$f":"IFERROR(VLOOKUP(B310,INDIRECT(\"'\"&$F$1&\"'!\"&\"$C$2:$G$200\"),4,FALSE),\"\")","v":""},{"$f":"IFERROR(VLOOKUP(B310,INDIRECT(\"'\"&$F$1&\"'!\"&\"$C$2:$G$200\"),5,FALSE),0)","v":0},{"$f":"IFERROR(VLOOKUP(B310,INDIRECT(\"'\"&$H$1&\"'!\"&\"$C$2:$G$200\"),4,FALSE),\"\")","v":""},{"$f":"IFERROR(VLOOKUP(B310,INDIRECT(\"'\"&$H$1&\"'!\"&\"$C$2:$G$200\"),5,FALSE),0)","v":0},{"$f":"IFERROR(VLOOKUP(B310,INDIRECT(\"'\"&$J$1&\"'!\"&\"$C$2:$G$200\"),4,FALSE),\"\")","v":""},{"$f":"IFERROR(VLOOKUP(B310,INDIRECT(\"'\"&$J$1&\"'!\"&\"$C$2:$G$200\"),5,FALSE),0)","v":0},{"$f":"IFERROR(VLOOKUP(B310,INDIRECT(\"'\"&$L$1&\"'!\"&\"$C$2:$G$200\"),4,FALSE),\"\")","v":""},{"$f":"IFERROR(VLOOKUP(B310,INDIRECT(\"'\"&$L$1&\"'!\"&\"$C$2:$G$200\"),5,FALSE),0)","v":0},{"$f":"IFERROR(VLOOKUP(B310,INDIRECT(\"'\"&$N$1&\"'!\"&\"$C$2:$G$200\"),4,FALSE),\"\")","v":3.3599537037037039E-2},{"$f":"IFERROR(VLOOKUP(B310,INDIRECT(\"'\"&$N$1&\"'!\"&\"$C$2:$G$200\"),5,FALSE),0)","v":50.852856555692583},{"$f":"IFERROR(VLOOKUP(B310,INDIRECT(\"'\"&$P$1&\"'!\"&\"$C$2:$G$200\"),4,FALSE),\"\")","v":""},{"$f":"IFERROR(VLOOKUP(B310,INDIRECT(\"'\"&$P$1&\"'!\"&\"$C$2:$G$200\"),5,FALSE),0)","v":0},{"$f":"IFERROR(VLOOKUP(B310,INDIRECT(\"'\"&$R$1&\"'!\"&\"$C$2:$G$200\"),4,FALSE),\"\")","v":""},{"$f":"IFERROR(VLOOKUP(B310,INDIRECT(\"'\"&$R$1&\"'!\"&\"$C$2:$G$200\"),5,FALSE),0)","v":0},{"$f":"IFERROR(VLOOKUP(B310,INDIRECT(\"'\"&$T$1&\"'!\"&\"$C$2:$G$200\"),4,FALSE),\"\")","v":""},{"$f":"IFERROR(VLOOKUP(B310,INDIRECT(\"'\"&$T$1&\"'!\"&\"$C$2:$G$200\"),5,FALSE),0)","v":0},{"$f":"8-COUNTIF(F310:U310,\"\")","v":1},{"$f":"E310/IF(V310>4,5,V310)","v":50.852856555692583}]
[309,"Dale Lewis","Unaffiliated","SM",{"$f":"SUM(LARGE((S311,G311,I311,K311,M311,O311,Q311,U311),{1,2,3,4,5}))","v":50.169959634586768},{"$f":"IFERROR(VLOOKUP(B311,INDIRECT(\"'\"&$F$1&\"'!\"&\"$C$2:$G$200\"),4,FALSE),\"\")","v":""},{"$f":"IFERROR(VLOOKUP(B311,INDIRECT(\"'\"&$F$1&\"'!\"&\"$C$2:$G$200\"),5,FALSE),0)","v":0},{"$f":"IFERROR(VLOOKUP(B311,INDIRECT(\"'\"&$H$1&\"'!\"&\"$C$2:$G$200\"),4,FALSE),\"\")","v":""},{"$f":"IFERROR(VLOOKUP(B311,INDIRECT(\"'\"&$H$1&\"'!\"&\"$C$2:$G$200\"),5,FALSE),0)","v":0},{"$f":"IFERROR(VLOOKUP(B311,INDIRECT(\"'\"&$J$1&\"'!\"&\"$C$2:$G$200\"),4,FALSE),\"\")","v":""},{"$f":"IFERROR(VLOOKUP(B311,INDIRECT(\"'\"&$J$1&\"'!\"&\"$C$2:$G$200\"),5,FALSE),0)","v":0},{"$f":"IFERROR(VLOOKUP(B311,INDIRECT(\"'\"&$L$1&\"'!\"&\"$C$2:$G$200\"),4,FALSE),\"\")","v":""},{"$f":"IFERROR(VLOOKUP(B311,INDIRECT(\"'\"&$L$1&\"'!\"&\"$C$2:$G$200\"),5,FALSE),0)","v":0},{"$f":"IFERROR(VLOOKUP(B311,INDIRECT(\"'\"&$N$1&\"'!\"&\"$C$2:$G$200\"),4,FALSE),\"\")","v":""},{"$f":"IFERROR(VLOOKUP(B311,INDIRECT(\"'\"&$N$1&\"'!\"&\"$C$2:$G$200\"),5,FALSE),0)","v":0},{"$f":"IFERROR(VLOOKUP(B311,INDIRECT(\"'\"&$P$1&\"'!\"&\"$C$2:$G$200\"),4,FALSE),\"\")","v":3.2650462962962964E-2},{"$f":"IFERROR(VLOOKUP(B311,INDIRECT(\"'\"&$P$1&\"'!\"&\"$C$2:$G$200\"),5,FALSE),0)","v":50.169959634586768},{"$f":"IFERROR(VLOOKUP(B311,INDIRECT(\"'\"&$R$1&\"'!\"&\"$C$2:$G$200\"),4,FALSE),\"\")","v":""},{"$f":"IFERROR(VLOOKUP(B311,INDIRECT(\"'\"&$R$1&\"'!\"&\"$C$2:$G$200\"),5,FALSE),0)","v":0},{"$f":"IFERROR(VLOOKUP(B311,INDIRECT(\"'\"&$T$1&\"'!\"&\"$C$2:$G$200\"),4,FALSE),\"\")","v":""},{"$f":"IFERROR(VLOOKUP(B311,INDIRECT(\"'\"&$T$1&\"'!\"&\"$C$2:$G$200\"),5,FALSE),0)","v":0},{"$f":"8-COUNTIF(F311:U311,\"\")","v":1},{"$f":"E311/IF(V311>4,5,V311)","v":50.169959634586768}]
[310,"Mitchell Readwin","West Wales","SM",{"$f":"SUM(LARGE((S312,G312,I312,K312,M312,O312,Q312,U312),{1,2,3,4,5}))","v":50.108225108225099},{"$f":"IFERROR(VLOOKUP(B312,INDIRECT(\"'\"&$F$1&\"'!\"&\"$C$2:$G$200\"),4,FALSE),\"\")","v":""},{"$f":"IFERROR(VLOOKUP(B312,INDIRECT(\"'\"&$F$1&\"'!\"&\"$C$2:$G$200\"),5,FALSE),0)","v":0},{"$f":"IFERROR(VLOOKUP(B312,INDIRECT(\"'\"&$H$1&\"'!\"&\"$C$2:$G$200\"),4,FALSE),\"\")","v":""},{"$f":"IFERROR(VLOOKUP(B312,INDIRECT(\"'\"&$H$1&\"'!\"&\"$C$2:$G$200\"),5,FALSE),0)","v":0},{"$f":"IFERROR(VLOOKUP(B312,INDIRECT(\"'\"&$J$1&\"'!\"&\"$C$2:$G$200\"),4,FALSE),\"\")","v":""},{"$f":"IFERROR(VLOOKUP(B312,INDIRECT(\"'\"&$J$1&\"'!\"&\"$C$2:$G$200\"),5,FALSE),0)","v":0},{"$f":"IFERROR(VLOOKUP(B312,INDIRECT(\"'\"&$L$1&\"'!\"&\"$C$2:$G$200\"),4,FALSE),\"\")","v":""},{"$f":"IFERROR(VLOOKUP(B312,INDIRECT(\"'\"&$L$1&\"'!\"&\"$C$2:$G$200\"),5,FALSE),0)","v":0},{"$f":"IFERROR(VLOOKUP(B312,INDIRECT(\"'\"&$N$1&\"'!\"&\"$C$2:$G$200\"),4,FALSE),\"\")","v":""},{"$f":"IFERROR(VLOOKUP(B312,INDIRECT(\"'\"&$N$1&\"'!\"&\"$C$2:$G$200\"),5,FALSE),0)","v":0},{"$f":"IFERROR(VLOOKUP(B312,INDIRECT(\"'\"&$P$1&\"'!\"&\"$C$2:$G$200\"),4,FALSE),\"\")","v":""},{"$f":"IFERROR(VLOOKUP(B312,INDIRECT(\"'\"&$P$1&\"'!\"&\"$C$2:$G$200\"),5,FALSE),0)","v":0},{"$f":"IFERROR(VLOOKUP(B312,INDIRECT(\"'\"&$R$1&\"'!\"&\"$C$2:$G$200\"),4,FALSE),\"\")","v":""},{"$f":"IFERROR(VLOOKUP(B312,INDIRECT(\"'\"&$R$1&\"'!\"&\"$C$2:$G$200\"),5,FALSE),0)","v":0},{"$f":"IFERROR(VLOOKUP(B312,INDIRECT(\"'\"&$T$1&\"'!\"&\"$C$2:$G$200\"),4,FALSE),\"\")","v":5.4502314814814816E-2},{"$f":"IFERROR(VLOOKUP(B312,INDIRECT(\"'\"&$T$1&\"'!\"&\"$C$2:$G$200\"),5,FALSE),0)","v":50.108225108225099},{"$f":"8-COUNTIF(F312:U312,\"\")","v":1},{"$f":"E312/IF(V312>4,5,V312)","v":50.108225108225099}]
[311,"Rhodri Hanmer","Unaffiliated","M40",{"$f":"SUM(LARGE((S313,G313,I313,K313,M313,O313,Q313,U313),{1,2,3,4,5}))","v":50.003743355543939},{"$f":"IFERROR(VLOOKUP(B313,INDIRECT(\"'\"&$F$1&\"'!\"&\"$C$2:$G$200\"),4,FALSE),\"\")","v":""},{"$f":"IFERROR(VLOOKUP(B313,INDIRECT(\"'\"&$F$1&\"'!\"&\"$C$2:$G$200\"),5,FALSE),0)","v":0},{"$f":"IFERROR(VLOOKUP(B313,INDIRECT(\"'\"&$H$1&\"'!\"&\"$C$2:$G$200\"),4,FALSE),\"\")","v":4.6377314814814809E-2},{"$f":"IFERROR(VLOOKUP(B313,INDIRECT(\"'\"&$H$1&\"'!\"&\"$C$2:$G$200\"),5,FALSE),0)","v":50.003743355543939},{"$f":"IFERROR(VLOOKUP(B313,INDIRECT(\"'\"&$J$1&\"'!\"&\"$C$2:$G$200\"),4,FALSE),\"\")","v":""},{"$f":"IFERROR(VLOOKUP(B313,INDIRECT(\"'\"&$J$1&\"'!\"&\"$C$2:$G$200\"),5,FALSE),0)","v":0},{"$f":"IFERROR(VLOOKUP(B313,INDIRECT(\"'\"&$L$1&\"'!\"&\"$C$2:$G$200\"),4,FALSE),\"\")","v":""},{"$f":"IFERROR(VLOOKUP(B313,INDIRECT(\"'\"&$L$1&\"'!\"&\"$C$2:$G$200\"),5,FALSE),0)","v":0},{"$f":"IFERROR(VLOOKUP(B313,INDIRECT(\"'\"&$N$1&\"'!\"&\"$C$2:$G$200\"),4,FALSE),\"\")","v":""},{"$f":"IFERROR(VLOOKUP(B313,INDIRECT(\"'\"&$N$1&\"'!\"&\"$C$2:$G$200\"),5,FALSE),0)","v":0},{"$f":"IFERROR(VLOOKUP(B313,INDIRECT(\"'\"&$P$1&\"'!\"&\"$C$2:$G$200\"),4,FALSE),\"\")","v":""},{"$f":"IFERROR(VLOOKUP(B313,INDIRECT(\"'\"&$P$1&\"'!\"&\"$C$2:$G$200\"),5,FALSE),0)","v":0},{"$f":"IFERROR(VLOOKUP(B313,INDIRECT(\"'\"&$R$1&\"'!\"&\"$C$2:$G$200\"),4,FALSE),\"\")","v":""},{"$f":"IFERROR(VLOOKUP(B313,INDIRECT(\"'\"&$R$1&\"'!\"&\"$C$2:$G$200\"),5,FALSE),0)","v":0},{"$f":"IFERROR(VLOOKUP(B313,INDIRECT(\"'\"&$T$1&\"'!\"&\"$C$2:$G$200\"),4,FALSE),\"\")","v":""},{"$f":"IFERROR(VLOOKUP(B313,INDIRECT(\"'\"&$T$1&\"'!\"&\"$C$2:$G$200\"),5,FALSE),0)","v":0},{"$f":"8-COUNTIF(F313:U313,\"\")","v":1},{"$f":"E313/IF(V313>4,5,V313)","v":50.003743355543939}]
[312,"Simon Downs","East End RR","M40",{"$f":"SUM(LARGE((S314,G314,I314,K314,M314,O314,Q314,U314),{1,2,3,4,5}))","v":49.89144268922665},{"$f":"IFERROR(VLOOKUP(B314,INDIRECT(\"'\"&$F$1&\"'!\"&\"$C$2:$G$200\"),4,FALSE),\"\")","v":""},{"$f":"IFERROR(VLOOKUP(B314,INDIRECT(\"'\"&$F$1&\"'!\"&\"$C$2:$G$200\"),5,FALSE),0)","v":0},{"$f":"IFERROR(VLOOKUP(B314,INDIRECT(\"'\"&$H$1&\"'!\"&\"$C$2:$G$200\"),4,FALSE),\"\")","v":4.6412037037037036E-2},{"$f":"IFERROR(VLOOKUP(B314,INDIRECT(\"'\"&$H$1&\"'!\"&\"$C$2:$G$200\"),5,FALSE),0)","v":49.89144268922665},{"$f":"IFERROR(VLOOKUP(B314,INDIRECT(\"'\"&$J$1&\"'!\"&\"$C$2:$G$200\"),4,FALSE),\"\")","v":""},{"$f":"IFERROR(VLOOKUP(B314,INDIRECT(\"'\"&$J$1&\"'!\"&\"$C$2:$G$200\"),5,FALSE),0)","v":0},{"$f":"IFERROR(VLOOKUP(B314,INDIRECT(\"'\"&$L$1&\"'!\"&\"$C$2:$G$200\"),4,FALSE),\"\")","v":""},{"$f":"IFERROR(VLOOKUP(B314,INDIRECT(\"'\"&$L$1&\"'!\"&\"$C$2:$G$200\"),5,FALSE),0)","v":0},{"$f":"IFERROR(VLOOKUP(B314,INDIRECT(\"'\"&$N$1&\"'!\"&\"$C$2:$G$200\"),4,FALSE),\"\")","v":""},{"$f":"IFERROR(VLOOKUP(B314,INDIRECT(\"'\"&$N$1&\"'!\"&\"$C$2:$G$200\"),5,FALSE),0)","v":0},{"$f":"IFERROR(VLOOKUP(B314,INDIRECT(\"'\"&$P$1&\"'!\"&\"$C$2:$G$200\"),4,FALSE),\"\")","v":""},{"$f":"IFERROR(VLOOKUP(B314,INDIRECT(\"'\"&$P$1&\"'!\"&\"$C$2:$G$200\"),5,FALSE),0)","v":0},{"$f":"IFERROR(VLOOKUP(B314,INDIRECT(\"'\"&$R$1&\"'!\"&\"$C$2:$G$200\"),4,FALSE),\"\")","v":""},{"$f":"IFERROR(VLOOKUP(B314,INDIRECT(\"'\"&$R$1&\"'!\"&\"$C$2:$G$200\"),5,FALSE),0)","v":0},{"$f":"IFERROR(VLOOKUP(B314,INDIRECT(\"'\"&$T$1&\"'!\"&\"$C$2:$G$200\"),4,FALSE),\"\")","v":""},{"$f":"IFERROR(VLOOKUP(B314,INDIRECT(\"'\"&$T$1&\"'!\"&\"$C$2:$G$200\"),5,FALSE),0)","v":0},{"$f":"8-COUNTIF(F314:U314,\"\")","v":1},{"$f":"E314/IF(V314>4,5,V314)","v":49.89144268922665}]
[313,"Andrew Leal","Ryde Harriers","M50",{"$f":"SUM(LARGE((S315,G315,I315,K315,M315,O315,Q315,U315),{1,2,3,4,5}))","v":49.442240023957517},{"$f":"IFERROR(VLOOKUP(B315,INDIRECT(\"'\"&$F$1&\"'!\"&\"$C$2:$G$200\"),4,FALSE),\"\")","v":""},{"$f":"IFERROR(VLOOKUP(B315,INDIRECT(\"'\"&$F$1&\"'!\"&\"$C$2:$G$200\"),5,FALSE),0)","v":0},{"$f":"IFERROR(VLOOKUP(B315,INDIRECT(\"'\"&$H$1&\"'!\"&\"$C$2:$G$200\"),4,FALSE),\"\")","v":4.6550925925925919E-2},{"$f":"IFERROR(VLOOKUP(B315,INDIRECT(\"'\"&$H$1&\"'!\"&\"$C$2:$G$200\"),5,FALSE),0)","v":49.442240023957517},{"$f":"IFERROR(VLOOKUP(B315,INDIRECT(\"'\"&$J$1&\"'!\"&\"$C$2:$G$200\"),4,FALSE),\"\")","v":""},{"$f":"IFERROR(VLOOKUP(B315,INDIRECT(\"'\"&$J$1&\"'!\"&\"$C$2:$G$200\"),5,FALSE),0)","v":0},{"$f":"IFERROR(VLOOKUP(B315,INDIRECT(\"'\"&$L$1&\"'!\"&\"$C$2:$G$200\"),4,FALSE),\"\")","v":""},{"$f":"IFERROR(VLOOKUP(B315,INDIRECT(\"'\"&$L$1&\"'!\"&\"$C$2:$G$200\"),5,FALSE),0)","v":0},{"$f":"IFERROR(VLOOKUP(B315,INDIRECT(\"'\"&$N$1&\"'!\"&\"$C$2:$G$200\"),4,FALSE),\"\")","v":""},{"$f":"IFERROR(VLOOKUP(B315,INDIRECT(\"'\"&$N$1&\"'!\"&\"$C$2:$G$200\"),5,FALSE),0)","v":0},{"$f":"IFERROR(VLOOKUP(B315,INDIRECT(\"'\"&$P$1&\"'!\"&\"$C$2:$G$200\"),4,FALSE),\"\")","v":""},{"$f":"IFERROR(VLOOKUP(B315,INDIRECT(\"'\"&$P$1&\"'!\"&\"$C$2:$G$200\"),5,FALSE),0)","v":0},{"$f":"IFERROR(VLOOKUP(B315,INDIRECT(\"'\"&$R$1&\"'!\"&\"$C$2:$G$200\"),4,FALSE),\"\")","v":""},{"$f":"IFERROR(VLOOKUP(B315,INDIRECT(\"'\"&$R$1&\"'!\"&\"$C$2:$G$200\"),5,FALSE),0)","v":0},{"$f":"IFERROR(VLOOKUP(B315,INDIRECT(\"'\"&$T$1&\"'!\"&\"$C$2:$G$200\"),4,FALSE),\"\")","v":""},{"$f":"IFERROR(VLOOKUP(B315,INDIRECT(\"'\"&$T$1&\"'!\"&\"$C$2:$G$200\"),5,FALSE),0)","v":0},{"$f":"8-COUNTIF(F315:U315,\"\")","v":1},{"$f":"E315/IF(V315>4,5,V315)","v":49.442240023957517}]
[314,"Colin Cottell","Reading Roadrunners","M50",{"$f":"SUM(LARGE((S316,G316,I316,K316,M316,O316,Q316,U316),{1,2,3,4,5}))","v":49.376114081996406},{"$f":"IFERROR(VLOOKUP(B316,INDIRECT(\"'\"&$F$1&\"'!\"&\"$C$2:$G$200\"),4,FALSE),\"\")","v":""},{"$f":"IFERROR(VLOOKUP(B316,INDIRECT(\"'\"&$F$1&\"'!\"&\"$C$2:$G$200\"),5,FALSE),0)","v":0},{"$f":"IFERROR(VLOOKUP(B316,INDIRECT(\"'\"&$H$1&\"'!\"&\"$C$2:$G$200\"),4,FALSE),\"\")","v":""},{"$f":"IFERROR(VLOOKUP(B316,INDIRECT(\"'\"&$H$1&\"'!\"&\"$C$2:$G$200\"),5,FALSE),0)","v":0},{"$f":"IFERROR(VLOOKUP(B316,INDIRECT(\"'\"&$J$1&\"'!\"&\"$C$2:$G$200\"),4,FALSE),\"\")","v":""},{"$f":"IFERROR(VLOOKUP(B316,INDIRECT(\"'\"&$J$1&\"'!\"&\"$C$2:$G$200\"),5,FALSE),0)","v":0},{"$f":"IFERROR(VLOOKUP(B316,INDIRECT(\"'\"&$L$1&\"'!\"&\"$C$2:$G$200\"),4,FALSE),\"\")","v":""},{"$f":"IFERROR(VLOOKUP(B316,INDIRECT(\"'\"&$L$1&\"'!\"&\"$C$2:$G$200\"),5,FALSE),0)","v":0},{"$f":"IFERROR(VLOOKUP(B316,INDIRECT(\"'\"&$N$1&\"'!\"&\"$C$2:$G$200\"),4,FALSE),\"\")","v":""},{"$f":"IFERROR(VLOOKUP(B316,INDIRECT(\"'\"&$N$1&\"'!\"&\"$C$2:$G$200\"),5,FALSE),0)","v":0},{"$f":"IFERROR(VLOOKUP(B316,INDIRECT(\"'\"&$P$1&\"'!\"&\"$C$2:$G$200\"),4,FALSE),\"\")","v":""},{"$f":"IFERROR(VLOOKUP(B316,INDIRECT(\"'\"&$P$1&\"'!\"&\"$C$2:$G$200\"),5,FALSE),0)","v":0},{"$f":"IFERROR(VLOOKUP(B316,INDIRECT(\"'\"&$R$1&\"'!\"&\"$C$2:$G$200\"),4,FALSE),\"\")","v":""},{"$f":"IFERROR(VLOOKUP(B316,INDIRECT(\"'\"&$R$1&\"'!\"&\"$C$2:$G$200\"),5,FALSE),0)","v":0},null,{"$f":"IFERROR(VLOOKUP(B316,INDIRECT(\"'\"&$T$1&\"'!\"&\"$C$2:$G$200\"),5,FALSE),0)","v":49.376114081996406},{"$f":"8-COUNTIF(F316:U316,\"\")","v":0},{"$f":"E316/IF(V316>4,5,V316)","v":{"$error":"#DIV/0!"}}]
[315,"Rob Beves","Chepstow Harriers","M50",{"$f":"SUM(LARGE((S317,G317,I317,K317,M317,O317,Q317,U317),{1,2,3,4,5}))","v":48.284011508425849},{"$f":"IFERROR(VLOOKUP(B317,INDIRECT(\"'\"&$F$1&\"'!\"&\"$C$2:$G$200\"),4,FALSE),\"\")","v":""},{"$f":"IFERROR(VLOOKUP(B317,INDIRECT(\"'\"&$F$1&\"'!\"&\"$C$2:$G$200\"),5,FALSE),0)","v":0},{"$f":"IFERROR(VLOOKUP(B317,INDIRECT(\"'\"&$H$1&\"'!\"&\"$C$2:$G$200\"),4,FALSE),\"\")","v":""},{"$f":"IFERROR(VLOOKUP(B317,INDIRECT(\"'\"&$H$1&\"'!\"&\"$C$2:$G$200\"),5,FALSE),0)","v":0},{"$f":"IFERROR(VLOOKUP(B317,INDIRECT(\"'\"&$J$1&\"'!\"&\"$C$2:$G$200\"),4,FALSE),\"\")","v":""},{"$f":"IFERROR(VLOOKUP(B317,INDIRECT(\"'\"&$J$1&\"'!\"&\"$C$2:$G$200\"),5,FALSE),0)","v":0},{"$f":"IFERROR(VLOOKUP(B317,INDIRECT(\"'\"&$L$1&\"'!\"&\"$C$2:$G$200\"),4,FALSE),\"\")","v":""},{"$f":"IFERROR(VLOOKUP(B317,INDIRECT(\"'\"&$L$1&\"'!\"&\"$C$2:$G$200\"),5,FALSE),0)","v":0},{"$f":"IFERROR(VLOOKUP(B317,INDIRECT(\"'\"&$N$1&\"'!\"&\"$C$2:$G$200\"),4,FALSE),\"\")","v":3.4178240740740738E-2},{"$f":"IFERROR(VLOOKUP(B317,INDIRECT(\"'\"&$N$1&\"'!\"&\"$C$2:$G$200\"),5,FALSE),0)","v":48.284011508425849},{"$f":"IFERROR(VLOOKUP(B317,INDIRECT(\"'\"&$P$1&\"'!\"&\"$C$2:$G$200\"),4,FALSE),\"\")","v":""},{"$f":"IFERROR(VLOOKUP(B317,INDIRECT(\"'\"&$P$1&\"'!\"&\"$C$2:$G$200\"),5,FALSE),0)","v":0},{"$f":"IFERROR(VLOOKUP(B317,INDIRECT(\"'\"&$R$1&\"'!\"&\"$C$2:$G$200\"),4,FALSE),\"\")","v":""},{"$f":"IFERROR(VLOOKUP(B317,INDIRECT(\"'\"&$R$1&\"'!\"&\"$C$2:$G$200\"),5,FALSE),0)","v":0},{"$f":"IFERROR(VLOOKUP(B317,INDIRECT(\"'\"&$T$1&\"'!\"&\"$C$2:$G$200\"),4,FALSE),\"\")","v":""},{"$f":"IFERROR(VLOOKUP(B317,INDIRECT(\"'\"&$T$1&\"'!\"&\"$C$2:$G$200\"),5,FALSE),0)","v":0},{"$f":"8-COUNTIF(F317:U317,\"\")","v":1},{"$f":"E317/IF(V317>4,5,V317)","v":48.284011508425849}]
[316,"Anna Covey","UBOC","FU23",{"$f":"SUM(LARGE((S318,G318,I318,K318,M318,O318,Q318,U318),{1,2,3,4,5}))","v":47.872996300863171},{"$f":"IFERROR(VLOOKUP(B318,INDIRECT(\"'\"&$F$1&\"'!\"&\"$C$2:$G$200\"),4,FALSE),\"\")","v":""},{"$f":"IFERROR(VLOOKUP(B318,INDIRECT(\"'\"&$F$1&\"'!\"&\"$C$2:$G$200\"),5,FALSE),0)","v":0},{"$f":"IFERROR(VLOOKUP(B318,INDIRECT(\"'\"&$H$1&\"'!\"&\"$C$2:$G$200\"),4,FALSE),\"\")","v":""},{"$f":"IFERROR(VLOOKUP(B318,INDIRECT(\"'\"&$H$1&\"'!\"&\"$C$2:$G$200\"),5,FALSE),0)","v":0},{"$f":"IFERROR(VLOOKUP(B318,INDIRECT(\"'\"&$J$1&\"'!\"&\"$C$2:$G$200\"),4,FALSE),\"\")","v":""},{"$f":"IFERROR(VLOOKUP(B318,INDIRECT(\"'\"&$J$1&\"'!\"&\"$C$2:$G$200\"),5,FALSE),0)","v":0},{"$f":"IFERROR(VLOOKUP(B318,INDIRECT(\"'\"&$L$1&\"'!\"&\"$C$2:$G$200\"),4,FALSE),\"\")","v":""},{"$f":"IFERROR(VLOOKUP(B318,INDIRECT(\"'\"&$L$1&\"'!\"&\"$C$2:$G$200\"),5,FALSE),0)","v":0},{"$f":"IFERROR(VLOOKUP(B318,INDIRECT(\"'\"&$N$1&\"'!\"&\"$C$2:$G$200\"),4,FALSE),\"\")","v":3.4270833333333334E-2},{"$f":"IFERROR(VLOOKUP(B318,INDIRECT(\"'\"&$N$1&\"'!\"&\"$C$2:$G$200\"),5,FALSE),0)","v":47.872996300863171},{"$f":"IFERROR(VLOOKUP(B318,INDIRECT(\"'\"&$P$1&\"'!\"&\"$C$2:$G$200\"),4,FALSE),\"\")","v":""},{"$f":"IFERROR(VLOOKUP(B318,INDIRECT(\"'\"&$P$1&\"'!\"&\"$C$2:$G$200\"),5,FALSE),0)","v":0},{"$f":"IFERROR(VLOOKUP(B318,INDIRECT(\"'\"&$R$1&\"'!\"&\"$C$2:$G$200\"),4,FALSE),\"\")","v":""},{"$f":"IFERROR(VLOOKUP(B318,INDIRECT(\"'\"&$R$1&\"'!\"&\"$C$2:$G$200\"),5,FALSE),0)","v":0},{"$f":"IFERROR(VLOOKUP(B318,INDIRECT(\"'\"&$T$1&\"'!\"&\"$C$2:$G$200\"),4,FALSE),\"\")","v":""},{"$f":"IFERROR(VLOOKUP(B318,INDIRECT(\"'\"&$T$1&\"'!\"&\"$C$2:$G$200\"),5,FALSE),0)","v":0},{"$f":"8-COUNTIF(F318:U318,\"\")","v":1},{"$f":"E318/IF(V318>4,5,V318)","v":47.872996300863171}]
[317,"Dave Farrow","Mercia","M50",{"$f":"SUM(LARGE((S319,G319,I319,K319,M319,O319,Q319,U319),{1,2,3,4,5}))","v":47.45826158568542},{"$f":"IFERROR(VLOOKUP(B319,INDIRECT(\"'\"&$F$1&\"'!\"&\"$C$2:$G$200\"),4,FALSE),\"\")","v":""},{"$f":"IFERROR(VLOOKUP(B319,INDIRECT(\"'\"&$F$1&\"'!\"&\"$C$2:$G$200\"),5,FALSE),0)","v":0},{"$f":"IFERROR(VLOOKUP(B319,INDIRECT(\"'\"&$H$1&\"'!\"&\"$C$2:$G$200\"),4,FALSE),\"\")","v":4.7164351851851853E-2},{"$f":"IFERROR(VLOOKUP(B319,INDIRECT(\"'\"&$H$1&\"'!\"&\"$C$2:$G$200\"),5,FALSE),0)","v":47.45826158568542},{"$f":"IFERROR(VLOOKUP(B319,INDIRECT(\"'\"&$J$1&\"'!\"&\"$C$2:$G$200\"),4,FALSE),\"\")","v":""},{"$f":"IFERROR(VLOOKUP(B319,INDIRECT(\"'\"&$J$1&\"'!\"&\"$C$2:$G$200\"),5,FALSE),0)","v":0},{"$f":"IFERROR(VLOOKUP(B319,INDIRECT(\"'\"&$L$1&\"'!\"&\"$C$2:$G$200\"),4,FALSE),\"\")","v":""},{"$f":"IFERROR(VLOOKUP(B319,INDIRECT(\"'\"&$L$1&\"'!\"&\"$C$2:$G$200\"),5,FALSE),0)","v":0},{"$f":"IFERROR(VLOOKUP(B319,INDIRECT(\"'\"&$N$1&\"'!\"&\"$C$2:$G$200\"),4,FALSE),\"\")","v":""},{"$f":"IFERROR(VLOOKUP(B319,INDIRECT(\"'\"&$N$1&\"'!\"&\"$C$2:$G$200\"),5,FALSE),0)","v":0},{"$f":"IFERROR(VLOOKUP(B319,INDIRECT(\"'\"&$P$1&\"'!\"&\"$C$2:$G$200\"),4,FALSE),\"\")","v":""},{"$f":"IFERROR(VLOOKUP(B319,INDIRECT(\"'\"&$P$1&\"'!\"&\"$C$2:$G$200\"),5,FALSE),0)","v":0},{"$f":"IFERROR(VLOOKUP(B319,INDIRECT(\"'\"&$R$1&\"'!\"&\"$C$2:$G$200\"),4,FALSE),\"\")","v":""},{"$f":"IFERROR(VLOOKUP(B319,INDIRECT(\"'\"&$R$1&\"'!\"&\"$C$2:$G$200\"),5,FALSE),0)","v":0},{"$f":"IFERROR(VLOOKUP(B319,INDIRECT(\"'\"&$T$1&\"'!\"&\"$C$2:$G$200\"),4,FALSE),\"\")","v":""},{"$f":"IFERROR(VLOOKUP(B319,INDIRECT(\"'\"&$T$1&\"'!\"&\"$C$2:$G$200\"),5,FALSE),0)","v":0},{"$f":"8-COUNTIF(F319:U319,\"\")","v":1},{"$f":"E319/IF(V319>4,5,V319)","v":47.45826158568542}]
[318,"Hywel James","Unaffiliated","SM",{"$f":"SUM(LARGE((S320,G320,I320,K320,M320,O320,Q320,U320),{1,2,3,4,5}))","v":47.275273745861959},{"$f":"IFERROR(VLOOKUP(B320,INDIRECT(\"'\"&$F$1&\"'!\"&\"$C$2:$G$200\"),4,FALSE),\"\")","v":""},{"$f":"IFERROR(VLOOKUP(B320,INDIRECT(\"'\"&$F$1&\"'!\"&\"$C$2:$G$200\"),5,FALSE),0)","v":0},{"$f":"IFERROR(VLOOKUP(B320,INDIRECT(\"'\"&$H$1&\"'!\"&\"$C$2:$G$200\"),4,FALSE),\"\")","v":""},{"$f":"IFERROR(VLOOKUP(B320,INDIRECT(\"'\"&$H$1&\"'!\"&\"$C$2:$G$200\"),5,FALSE),0)","v":0},{"$f":"IFERROR(VLOOKUP(B320,INDIRECT(\"'\"&$J$1&\"'!\"&\"$C$2:$G$200\"),4,FALSE),\"\")","v":""},{"$f":"IFERROR(VLOOKUP(B320,INDIRECT(\"'\"&$J$1&\"'!\"&\"$C$2:$G$200\"),5,FALSE),0)","v":0},{"$f":"IFERROR(VLOOKUP(B320,INDIRECT(\"'\"&$L$1&\"'!\"&\"$C$2:$G$200\"),4,FALSE),\"\")","v":""},{"$f":"IFERROR(VLOOKUP(B320,INDIRECT(\"'\"&$L$1&\"'!\"&\"$C$2:$G$200\"),5,FALSE),0)","v":0},{"$f":"IFERROR(VLOOKUP(B320,INDIRECT(\"'\"&$N$1&\"'!\"&\"$C$2:$G$200\"),4,FALSE),\"\")","v":""},{"$f":"IFERROR(VLOOKUP(B320,INDIRECT(\"'\"&$N$1&\"'!\"&\"$C$2:$G$200\"),5,FALSE),0)","v":0},{"$f":"IFERROR(VLOOKUP(B320,INDIRECT(\"'\"&$P$1&\"'!\"&\"$C$2:$G$200\"),4,FALSE),\"\")","v":""},{"$f":"IFERROR(VLOOKUP(B320,INDIRECT(\"'\"&$P$1&\"'!\"&\"$C$2:$G$200\"),5,FALSE),0)","v":0},{"$f":"IFERROR(VLOOKUP(B320,INDIRECT(\"'\"&$R$1&\"'!\"&\"$C$2:$G$200\"),4,FALSE),\"\")","v":""},{"$f":"IFERROR(VLOOKUP(B320,INDIRECT(\"'\"&$R$1&\"'!\"&\"$C$2:$G$200\"),5,FALSE),0)","v":0},{"$f":"IFERROR(VLOOKUP(B320,INDIRECT(\"'\"&$T$1&\"'!\"&\"$C$2:$G$200\"),4,FALSE),\"\")","v":5.5532407407407412E-2},{"$f":"IFERROR(VLOOKUP(B320,INDIRECT(\"'\"&$T$1&\"'!\"&\"$C$2:$G$200\"),5,FALSE),0)","v":47.275273745861959},{"$f":"8-COUNTIF(F320:U320,\"\")","v":1},{"$f":"E320/IF(V320>4,5,V320)","v":47.275273745861959}]
[319,"Ben Innes","Unaffiliated","M40",{"$f":"SUM(LARGE((S321,G321,I321,K321,M321,O321,Q321,U321),{1,2,3,4,5}))","v":47.233660253050843},{"$f":"IFERROR(VLOOKUP(B321,INDIRECT(\"'\"&$F$1&\"'!\"&\"$C$2:$G$200\"),4,FALSE),\"\")","v":""},{"$f":"IFERROR(VLOOKUP(B321,INDIRECT(\"'\"&$F$1&\"'!\"&\"$C$2:$G$200\"),5,FALSE),0)","v":0},{"$f":"IFERROR(VLOOKUP(B321,INDIRECT(\"'\"&$H$1&\"'!\"&\"$C$2:$G$200\"),4,FALSE),\"\")","v":4.7233796296296295E-2},{"$f":"IFERROR(VLOOKUP(B321,INDIRECT(\"'\"&$H$1&\"'!\"&\"$C$2:$G$200\"),5,FALSE),0)","v":47.233660253050843},{"$f":"IFERROR(VLOOKUP(B321,INDIRECT(\"'\"&$J$1&\"'!\"&\"$C$2:$G$200\"),4,FALSE),\"\")","v":""},{"$f":"IFERROR(VLOOKUP(B321,INDIRECT(\"'\"&$J$1&\"'!\"&\"$C$2:$G$200\"),5,FALSE),0)","v":0},{"$f":"IFERROR(VLOOKUP(B321,INDIRECT(\"'\"&$L$1&\"'!\"&\"$C$2:$G$200\"),4,FALSE),\"\")","v":""},{"$f":"IFERROR(VLOOKUP(B321,INDIRECT(\"'\"&$L$1&\"'!\"&\"$C$2:$G$200\"),5,FALSE),0)","v":0},{"$f":"IFERROR(VLOOKUP(B321,INDIRECT(\"'\"&$N$1&\"'!\"&\"$C$2:$G$200\"),4,FALSE),\"\")","v":""},{"$f":"IFERROR(VLOOKUP(B321,INDIRECT(\"'\"&$N$1&\"'!\"&\"$C$2:$G$200\"),5,FALSE),0)","v":0},{"$f":"IFERROR(VLOOKUP(B321,INDIRECT(\"'\"&$P$1&\"'!\"&\"$C$2:$G$200\"),4,FALSE),\"\")","v":""},{"$f":"IFERROR(VLOOKUP(B321,INDIRECT(\"'\"&$P$1&\"'!\"&\"$C$2:$G$200\"),5,FALSE),0)","v":0},{"$f":"IFERROR(VLOOKUP(B321,INDIRECT(\"'\"&$R$1&\"'!\"&\"$C$2:$G$200\"),4,FALSE),\"\")","v":""},{"$f":"IFERROR(VLOOKUP(B321,INDIRECT(\"'\"&$R$1&\"'!\"&\"$C$2:$G$200\"),5,FALSE),0)","v":0},{"$f":"IFERROR(VLOOKUP(B321,INDIRECT(\"'\"&$T$1&\"'!\"&\"$C$2:$G$200\"),4,FALSE),\"\")","v":""},{"$f":"IFERROR(VLOOKUP(B321,INDIRECT(\"'\"&$T$1&\"'!\"&\"$C$2:$G$200\"),5,FALSE),0)","v":0},{"$f":"8-COUNTIF(F321:U321,\"\")","v":1},{"$f":"E321/IF(V321>4,5,V321)","v":47.233660253050843}]
[320,"Tim Buckley","Chepstow Harriers","M50",{"$f":"SUM(LARGE((S322,G322,I322,K322,M322,O322,Q322,U322),{1,2,3,4,5}))","v":46.074804767776456},{"$f":"IFERROR(VLOOKUP(B322,INDIRECT(\"'\"&$F$1&\"'!\"&\"$C$2:$G$200\"),4,FALSE),\"\")","v":""},{"$f":"IFERROR(VLOOKUP(B322,INDIRECT(\"'\"&$F$1&\"'!\"&\"$C$2:$G$200\"),5,FALSE),0)","v":0},{"$f":"IFERROR(VLOOKUP(B322,INDIRECT(\"'\"&$H$1&\"'!\"&\"$C$2:$G$200\"),4,FALSE),\"\")","v":""},{"$f":"IFERROR(VLOOKUP(B322,INDIRECT(\"'\"&$H$1&\"'!\"&\"$C$2:$G$200\"),5,FALSE),0)","v":0},{"$f":"IFERROR(VLOOKUP(B322,INDIRECT(\"'\"&$J$1&\"'!\"&\"$C$2:$G$200\"),4,FALSE),\"\")","v":""},{"$f":"IFERROR(VLOOKUP(B322,INDIRECT(\"'\"&$J$1&\"'!\"&\"$C$2:$G$200\"),5,FALSE),0)","v":0},{"$f":"IFERROR(VLOOKUP(B322,INDIRECT(\"'\"&$L$1&\"'!\"&\"$C$2:$G$200\"),4,FALSE),\"\")","v":""},{"$f":"IFERROR(VLOOKUP(B322,INDIRECT(\"'\"&$L$1&\"'!\"&\"$C$2:$G$200\"),5,FALSE),0)","v":0},{"$f":"IFERROR(VLOOKUP(B322,INDIRECT(\"'\"&$N$1&\"'!\"&\"$C$2:$G$200\"),4,FALSE),\"\")","v":3.4675925925925923E-2},{"$f":"IFERROR(VLOOKUP(B322,INDIRECT(\"'\"&$N$1&\"'!\"&\"$C$2:$G$200\"),5,FALSE),0)","v":46.074804767776456},{"$f":"IFERROR(VLOOKUP(B322,INDIRECT(\"'\"&$P$1&\"'!\"&\"$C$2:$G$200\"),4,FALSE),\"\")","v":""},{"$f":"IFERROR(VLOOKUP(B322,INDIRECT(\"'\"&$P$1&\"'!\"&\"$C$2:$G$200\"),5,FALSE),0)","v":0},{"$f":"IFERROR(VLOOKUP(B322,INDIRECT(\"'\"&$R$1&\"'!\"&\"$C$2:$G$200\"),4,FALSE),\"\")","v":""},{"$f":"IFERROR(VLOOKUP(B322,INDIRECT(\"'\"&$R$1&\"'!\"&\"$C$2:$G$200\"),5,FALSE),0)","v":0},{"$f":"IFERROR(VLOOKUP(B322,INDIRECT(\"'\"&$T$1&\"'!\"&\"$C$2:$G$200\"),4,FALSE),\"\")","v":""},{"$f":"IFERROR(VLOOKUP(B322,INDIRECT(\"'\"&$T$1&\"'!\"&\"$C$2:$G$200\"),5,FALSE),0)","v":0},{"$f":"8-COUNTIF(F322:U322,\"\")","v":1},{"$f":"E322/IF(V322>4,5,V322)","v":46.074804767776456}]
[321,"Lubica Ford","Pont-y-Pwl and District","SF",{"$f":"SUM(LARGE((S323,G323,I323,K323,M323,O323,Q323,U323),{1,2,3,4,5}))","v":45.811051693404622},{"$f":"IFERROR(VLOOKUP(B323,INDIRECT(\"'\"&$F$1&\"'!\"&\"$C$2:$G$200\"),4,FALSE),\"\")","v":""},{"$f":"IFERROR(VLOOKUP(B323,INDIRECT(\"'\"&$F$1&\"'!\"&\"$C$2:$G$200\"),5,FALSE),0)","v":0},{"$f":"IFERROR(VLOOKUP(B323,INDIRECT(\"'\"&$H$1&\"'!\"&\"$C$2:$G$200\"),4,FALSE),\"\")","v":""},{"$f":"IFERROR(VLOOKUP(B323,INDIRECT(\"'\"&$H$1&\"'!\"&\"$C$2:$G$200\"),5,FALSE),0)","v":0},{"$f":"IFERROR(VLOOKUP(B323,INDIRECT(\"'\"&$J$1&\"'!\"&\"$C$2:$G$200\"),4,FALSE),\"\")","v":""},{"$f":"IFERROR(VLOOKUP(B323,INDIRECT(\"'\"&$J$1&\"'!\"&\"$C$2:$G$200\"),5,FALSE),0)","v":0},{"$f":"IFERROR(VLOOKUP(B323,INDIRECT(\"'\"&$L$1&\"'!\"&\"$C$2:$G$200\"),4,FALSE),\"\")","v":""},{"$f":"IFERROR(VLOOKUP(B323,INDIRECT(\"'\"&$L$1&\"'!\"&\"$C$2:$G$200\"),5,FALSE),0)","v":0},{"$f":"IFERROR(VLOOKUP(B323,INDIRECT(\"'\"&$N$1&\"'!\"&\"$C$2:$G$200\"),4,FALSE),\"\")","v":""},{"$f":"IFERROR(VLOOKUP(B323,INDIRECT(\"'\"&$N$1&\"'!\"&\"$C$2:$G$200\"),5,FALSE),0)","v":0},{"$f":"IFERROR(VLOOKUP(B323,INDIRECT(\"'\"&$P$1&\"'!\"&\"$C$2:$G$200\"),4,FALSE),\"\")","v":""},{"$f":"IFERROR(VLOOKUP(B323,INDIRECT(\"'\"&$P$1&\"'!\"&\"$C$2:$G$200\"),5,FALSE),0)","v":0},{"$f":"IFERROR(VLOOKUP(B323,INDIRECT(\"'\"&$R$1&\"'!\"&\"$C$2:$G$200\"),4,FALSE),\"\")","v":""},{"$f":"IFERROR(VLOOKUP(B323,INDIRECT(\"'\"&$R$1&\"'!\"&\"$C$2:$G$200\"),5,FALSE),0)","v":0},{"$f":"IFERROR(VLOOKUP(B323,INDIRECT(\"'\"&$T$1&\"'!\"&\"$C$2:$G$200\"),4,FALSE),\"\")","v":5.6064814814814817E-2},{"$f":"IFERROR(VLOOKUP(B323,INDIRECT(\"'\"&$T$1&\"'!\"&\"$C$2:$G$200\"),5,FALSE),0)","v":45.811051693404622},{"$f":"8-COUNTIF(F323:U323,\"\")","v":1},{"$f":"E323/IF(V323>4,5,V323)","v":45.811051693404622}]
[322,"Tim Watkins","Forest Of Dean AC","SM",{"$f":"SUM(LARGE((S324,G324,I324,K324,M324,O324,Q324,U324),{1,2,3,4,5}))","v":45.561035758323065},{"$f":"IFERROR(VLOOKUP(B324,INDIRECT(\"'\"&$F$1&\"'!\"&\"$C$2:$G$200\"),4,FALSE),\"\")","v":""},{"$f":"IFERROR(VLOOKUP(B324,INDIRECT(\"'\"&$F$1&\"'!\"&\"$C$2:$G$200\"),5,FALSE),0)","v":0},{"$f":"IFERROR(VLOOKUP(B324,INDIRECT(\"'\"&$H$1&\"'!\"&\"$C$2:$G$200\"),4,FALSE),\"\")","v":""},{"$f":"IFERROR(VLOOKUP(B324,INDIRECT(\"'\"&$H$1&\"'!\"&\"$C$2:$G$200\"),5,FALSE),0)","v":0},{"$f":"IFERROR(VLOOKUP(B324,INDIRECT(\"'\"&$J$1&\"'!\"&\"$C$2:$G$200\"),4,FALSE),\"\")","v":""},{"$f":"IFERROR(VLOOKUP(B324,INDIRECT(\"'\"&$J$1&\"'!\"&\"$C$2:$G$200\"),5,FALSE),0)","v":0},{"$f":"IFERROR(VLOOKUP(B324,INDIRECT(\"'\"&$L$1&\"'!\"&\"$C$2:$G$200\"),4,FALSE),\"\")","v":""},{"$f":"IFERROR(VLOOKUP(B324,INDIRECT(\"'\"&$L$1&\"'!\"&\"$C$2:$G$200\"),5,FALSE),0)","v":0},{"$f":"IFERROR(VLOOKUP(B324,INDIRECT(\"'\"&$N$1&\"'!\"&\"$C$2:$G$200\"),4,FALSE),\"\")","v":3.4791666666666672E-2},{"$f":"IFERROR(VLOOKUP(B324,INDIRECT(\"'\"&$N$1&\"'!\"&\"$C$2:$G$200\"),5,FALSE),0)","v":45.561035758323065},{"$f":"IFERROR(VLOOKUP(B324,INDIRECT(\"'\"&$P$1&\"'!\"&\"$C$2:$G$200\"),4,FALSE),\"\")","v":""},{"$f":"IFERROR(VLOOKUP(B324,INDIRECT(\"'\"&$P$1&\"'!\"&\"$C$2:$G$200\"),5,FALSE),0)","v":0},{"$f":"IFERROR(VLOOKUP(B324,INDIRECT(\"'\"&$R$1&\"'!\"&\"$C$2:$G$200\"),4,FALSE),\"\")","v":""},{"$f":"IFERROR(VLOOKUP(B324,INDIRECT(\"'\"&$R$1&\"'!\"&\"$C$2:$G$200\"),5,FALSE),0)","v":0},{"$f":"IFERROR(VLOOKUP(B324,INDIRECT(\"'\"&$T$1&\"'!\"&\"$C$2:$G$200\"),4,FALSE),\"\")","v":""},{"$f":"IFERROR(VLOOKUP(B324,INDIRECT(\"'\"&$T$1&\"'!\"&\"$C$2:$G$200\"),5,FALSE),0)","v":0},{"$f":"8-COUNTIF(F324:U324,\"\")","v":1},{"$f":"E324/IF(V324>4,5,V324)","v":45.561035758323065}]
[323,"Carl Brancher","Mynydd Du","M60",{"$f":"SUM(LARGE((S325,G325,I325,K325,M325,O325,Q325,U325),{1,2,3,4,5}))","v":44.84175914508841},{"$f":"IFERROR(VLOOKUP(B325,INDIRECT(\"'\"&$F$1&\"'!\"&\"$C$2:$G$200\"),4,FALSE),\"\")","v":""},{"$f":"IFERROR(VLOOKUP(B325,INDIRECT(\"'\"&$F$1&\"'!\"&\"$C$2:$G$200\"),5,FALSE),0)","v":0},{"$f":"IFERROR(VLOOKUP(B325,INDIRECT(\"'\"&$H$1&\"'!\"&\"$C$2:$G$200\"),4,FALSE),\"\")","v":""},{"$f":"IFERROR(VLOOKUP(B325,INDIRECT(\"'\"&$H$1&\"'!\"&\"$C$2:$G$200\"),5,FALSE),0)","v":0},{"$f":"IFERROR(VLOOKUP(B325,INDIRECT(\"'\"&$J$1&\"'!\"&\"$C$2:$G$200\"),4,FALSE),\"\")","v":""},{"$f":"IFERROR(VLOOKUP(B325,INDIRECT(\"'\"&$J$1&\"'!\"&\"$C$2:$G$200\"),5,FALSE),0)","v":0},{"$f":"IFERROR(VLOOKUP(B325,INDIRECT(\"'\"&$L$1&\"'!\"&\"$C$2:$G$200\"),4,FALSE),\"\")","v":""},{"$f":"IFERROR(VLOOKUP(B325,INDIRECT(\"'\"&$L$1&\"'!\"&\"$C$2:$G$200\"),5,FALSE),0)","v":0},{"$f":"IFERROR(VLOOKUP(B325,INDIRECT(\"'\"&$N$1&\"'!\"&\"$C$2:$G$200\"),4,FALSE),\"\")","v":3.4953703703703702E-2},{"$f":"IFERROR(VLOOKUP(B325,INDIRECT(\"'\"&$N$1&\"'!\"&\"$C$2:$G$200\"),5,FALSE),0)","v":44.84175914508841},{"$f":"IFERROR(VLOOKUP(B325,INDIRECT(\"'\"&$P$1&\"'!\"&\"$C$2:$G$200\"),4,FALSE),\"\")","v":""},{"$f":"IFERROR(VLOOKUP(B325,INDIRECT(\"'\"&$P$1&\"'!\"&\"$C$2:$G$200\"),5,FALSE),0)","v":0},{"$f":"IFERROR(VLOOKUP(B325,INDIRECT(\"'\"&$R$1&\"'!\"&\"$C$2:$G$200\"),4,FALSE),\"\")","v":""},{"$f":"IFERROR(VLOOKUP(B325,INDIRECT(\"'\"&$R$1&\"'!\"&\"$C$2:$G$200\"),5,FALSE),0)","v":0},{"$f":"IFERROR(VLOOKUP(B325,INDIRECT(\"'\"&$T$1&\"'!\"&\"$C$2:$G$200\"),4,FALSE),\"\")","v":""},{"$f":"IFERROR(VLOOKUP(B325,INDIRECT(\"'\"&$T$1&\"'!\"&\"$C$2:$G$200\"),5,FALSE),0)","v":0},{"$f":"8-COUNTIF(F325:U325,\"\")","v":1},{"$f":"E325/IF(V325>4,5,V325)","v":44.84175914508841}]
[324,"Tim Johnson","Chesterton Trail Runners","M40",{"$f":"SUM(LARGE((S326,G326,I326,K326,M326,O326,Q326,U326),{1,2,3,4,5}))","v":44.760631525337402},{"$f":"IFERROR(VLOOKUP(B326,INDIRECT(\"'\"&$F$1&\"'!\"&\"$C$2:$G$200\"),4,FALSE),\"\")","v":""},{"$f":"IFERROR(VLOOKUP(B326,INDIRECT(\"'\"&$F$1&\"'!\"&\"$C$2:$G$200\"),5,FALSE),0)","v":0},{"$f":"IFERROR(VLOOKUP(B326,INDIRECT(\"'\"&$H$1&\"'!\"&\"$C$2:$G$200\"),4,FALSE),\"\")","v":""},{"$f":"IFERROR(VLOOKUP(B326,INDIRECT(\"'\"&$H$1&\"'!\"&\"$C$2:$G$200\"),5,FALSE),0)","v":0},{"$f":"IFERROR(VLOOKUP(B326,INDIRECT(\"'\"&$J$1&\"'!\"&\"$C$2:$G$200\"),4,FALSE),\"\")","v":""},{"$f":"IFERROR(VLOOKUP(B326,INDIRECT(\"'\"&$J$1&\"'!\"&\"$C$2:$G$200\"),5,FALSE),0)","v":0},{"$f":"IFERROR(VLOOKUP(B326,INDIRECT(\"'\"&$L$1&\"'!\"&\"$C$2:$G$200\"),4,FALSE),\"\")","v":""},{"$f":"IFERROR(VLOOKUP(B326,INDIRECT(\"'\"&$L$1&\"'!\"&\"$C$2:$G$200\"),5,FALSE),0)","v":0},{"$f":"IFERROR(VLOOKUP(B326,INDIRECT(\"'\"&$N$1&\"'!\"&\"$C$2:$G$200\"),4,FALSE),\"\")","v":""},{"$f":"IFERROR(VLOOKUP(B326,INDIRECT(\"'\"&$N$1&\"'!\"&\"$C$2:$G$200\"),5,FALSE),0)","v":0},{"$f":"IFERROR(VLOOKUP(B326,INDIRECT(\"'\"&$P$1&\"'!\"&\"$C$2:$G$200\"),4,FALSE),\"\")","v":""},{"$f":"IFERROR(VLOOKUP(B326,INDIRECT(\"'\"&$P$1&\"'!\"&\"$C$2:$G$200\"),5,FALSE),0)","v":0},{"$f":"IFERROR(VLOOKUP(B326,INDIRECT(\"'\"&$R$1&\"'!\"&\"$C$2:$G$200\"),4,FALSE),\"\")","v":""},{"$f":"IFERROR(VLOOKUP(B326,INDIRECT(\"'\"&$R$1&\"'!\"&\"$C$2:$G$200\"),5,FALSE),0)","v":0},{"$f":"IFERROR(VLOOKUP(B326,INDIRECT(\"'\"&$T$1&\"'!\"&\"$C$2:$G$200\"),4,FALSE),\"\")","v":5.6446759259259259E-2},{"$f":"IFERROR(VLOOKUP(B326,INDIRECT(\"'\"&$T$1&\"'!\"&\"$C$2:$G$200\"),5,FALSE),0)","v":44.760631525337402},{"$f":"8-COUNTIF(F326:U326,\"\")","v":1},{"$f":"E326/IF(V326>4,5,V326)","v":44.760631525337402}]
[325,"Liselette Adams","Forest Of Dean AC","F40",{"$f":"SUM(LARGE((S327,G327,I327,K327,M327,O327,Q327,U327),{1,2,3,4,5}))","v":44.726458081244182},{"$f":"IFERROR(VLOOKUP(B327,INDIRECT(\"'\"&$F$1&\"'!\"&\"$C$2:$G$200\"),4,FALSE),\"\")","v":""},{"$f":"IFERROR(VLOOKUP(B327,INDIRECT(\"'\"&$F$1&\"'!\"&\"$C$2:$G$200\"),5,FALSE),0)","v":0},{"$f":"IFERROR(VLOOKUP(B327,INDIRECT(\"'\"&$H$1&\"'!\"&\"$C$2:$G$200\"),4,FALSE),\"\")","v":5.8842592592592592E-2},{"$f":"IFERROR(VLOOKUP(B327,INDIRECT(\"'\"&$H$1&\"'!\"&\"$C$2:$G$200\"),5,FALSE),0)","v":9.6878041476379693},{"$f":"IFERROR(VLOOKUP(B327,INDIRECT(\"'\"&$J$1&\"'!\"&\"$C$2:$G$200\"),4,FALSE),\"\")","v":""},{"$f":"IFERROR(VLOOKUP(B327,INDIRECT(\"'\"&$J$1&\"'!\"&\"$C$2:$G$200\"),5,FALSE),0)","v":0},{"$f":"IFERROR(VLOOKUP(B327,INDIRECT(\"'\"&$L$1&\"'!\"&\"$C$2:$G$200\"),4,FALSE),\"\")","v":""},{"$f":"IFERROR(VLOOKUP(B327,INDIRECT(\"'\"&$L$1&\"'!\"&\"$C$2:$G$200\"),5,FALSE),0)","v":0},{"$f":"IFERROR(VLOOKUP(B327,INDIRECT(\"'\"&$N$1&\"'!\"&\"$C$2:$G$200\"),4,FALSE),\"\")","v":""},{"$f":"IFERROR(VLOOKUP(B327,INDIRECT(\"'\"&$N$1&\"'!\"&\"$C$2:$G$200\"),5,FALSE),0)","v":0},{"$f":"IFERROR(VLOOKUP(B327,INDIRECT(\"'\"&$P$1&\"'!\"&\"$C$2:$G$200\"),4,FALSE),\"\")","v":""},{"$f":"IFERROR(VLOOKUP(B327,INDIRECT(\"'\"&$P$1&\"'!\"&\"$C$2:$G$200\"),5,FALSE),0)","v":0},{"$f":"IFERROR(VLOOKUP(B327,INDIRECT(\"'\"&$R$1&\"'!\"&\"$C$2:$G$200\"),4,FALSE),\"\")","v":3.3587962962962965E-2},{"$f":"IFERROR(VLOOKUP(B327,INDIRECT(\"'\"&$R$1&\"'!\"&\"$C$2:$G$200\"),5,FALSE),0)","v":35.038653933606213},{"$f":"IFERROR(VLOOKUP(B327,INDIRECT(\"'\"&$T$1&\"'!\"&\"$C$2:$G$200\"),4,FALSE),\"\")","v":""},{"$f":"IFERROR(VLOOKUP(B327,INDIRECT(\"'\"&$T$1&\"'!\"&\"$C$2:$G$200\"),5,FALSE),0)","v":0},{"$f":"8-COUNTIF(F327:U327,\"\")","v":2},{"$f":"E327/IF(V327>4,5,V327)","v":22.363229040622091}]
[326,"Maria Richards","Mynydd Du","F40",{"$f":"SUM(LARGE((S328,G328,I328,K328,M328,O328,Q328,U328),{1,2,3,4,5}))","v":44.019728729963028},{"$f":"IFERROR(VLOOKUP(B328,INDIRECT(\"'\"&$F$1&\"'!\"&\"$C$2:$G$200\"),4,FALSE),\"\")","v":""},{"$f":"IFERROR(VLOOKUP(B328,INDIRECT(\"'\"&$F$1&\"'!\"&\"$C$2:$G$200\"),5,FALSE),0)","v":0},{"$f":"IFERROR(VLOOKUP(B328,INDIRECT(\"'\"&$H$1&\"'!\"&\"$C$2:$G$200\"),4,FALSE),\"\")","v":""},{"$f":"IFERROR(VLOOKUP(B328,INDIRECT(\"'\"&$H$1&\"'!\"&\"$C$2:$G$200\"),5,FALSE),0)","v":0},{"$f":"IFERROR(VLOOKUP(B328,INDIRECT(\"'\"&$J$1&\"'!\"&\"$C$2:$G$200\"),4,FALSE),\"\")","v":""},{"$f":"IFERROR(VLOOKUP(B328,INDIRECT(\"'\"&$J$1&\"'!\"&\"$C$2:$G$200\"),5,FALSE),0)","v":0},{"$f":"IFERROR(VLOOKUP(B328,INDIRECT(\"'\"&$L$1&\"'!\"&\"$C$2:$G$200\"),4,FALSE),\"\")","v":""},{"$f":"IFERROR(VLOOKUP(B328,INDIRECT(\"'\"&$L$1&\"'!\"&\"$C$2:$G$200\"),5,FALSE),0)","v":0},{"$f":"IFERROR(VLOOKUP(B328,INDIRECT(\"'\"&$N$1&\"'!\"&\"$C$2:$G$200\"),4,FALSE),\"\")","v":3.5138888888888893E-2},{"$f":"IFERROR(VLOOKUP(B328,INDIRECT(\"'\"&$N$1&\"'!\"&\"$C$2:$G$200\"),5,FALSE),0)","v":44.019728729963028},{"$f":"IFERROR(VLOOKUP(B328,INDIRECT(\"'\"&$P$1&\"'!\"&\"$C$2:$G$200\"),4,FALSE),\"\")","v":""},{"$f":"IFERROR(VLOOKUP(B328,INDIRECT(\"'\"&$P$1&\"'!\"&\"$C$2:$G$200\"),5,FALSE),0)","v":0},{"$f":"IFERROR(VLOOKUP(B328,INDIRECT(\"'\"&$R$1&\"'!\"&\"$C$2:$G$200\"),4,FALSE),\"\")","v":""},{"$f":"IFERROR(VLOOKUP(B328,INDIRECT(\"'\"&$R$1&\"'!\"&\"$C$2:$G$200\"),5,FALSE),0)","v":0},{"$f":"IFERROR(VLOOKUP(B328,INDIRECT(\"'\"&$T$1&\"'!\"&\"$C$2:$G$200\"),4,FALSE),\"\")","v":""},{"$f":"IFERROR(VLOOKUP(B328,INDIRECT(\"'\"&$T$1&\"'!\"&\"$C$2:$G$200\"),5,FALSE),0)","v":0},{"$f":"8-COUNTIF(F328:U328,\"\")","v":1},{"$f":"E328/IF(V328>4,5,V328)","v":44.019728729963028}]
[327,"Wyn Davies","Mynydd Du","M50",{"$f":"SUM(LARGE((S329,G329,I329,K329,M329,O329,Q329,U329),{1,2,3,4,5}))","v":43.602605375458594},{"$f":"IFERROR(VLOOKUP(B329,INDIRECT(\"'\"&$F$1&\"'!\"&\"$C$2:$G$200\"),4,FALSE),\"\")","v":""},{"$f":"IFERROR(VLOOKUP(B329,INDIRECT(\"'\"&$F$1&\"'!\"&\"$C$2:$G$200\"),5,FALSE),0)","v":0},{"$f":"IFERROR(VLOOKUP(B329,INDIRECT(\"'\"&$H$1&\"'!\"&\"$C$2:$G$200\"),4,FALSE),\"\")","v":4.8356481481481479E-2},{"$f":"IFERROR(VLOOKUP(B329,INDIRECT(\"'\"&$H$1&\"'!\"&\"$C$2:$G$200\"),5,FALSE),0)","v":43.602605375458594},{"$f":"IFERROR(VLOOKUP(B329,INDIRECT(\"'\"&$J$1&\"'!\"&\"$C$2:$G$200\"),4,FALSE),\"\")","v":""},{"$f":"IFERROR(VLOOKUP(B329,INDIRECT(\"'\"&$J$1&\"'!\"&\"$C$2:$G$200\"),5,FALSE),0)","v":0},{"$f":"IFERROR(VLOOKUP(B329,INDIRECT(\"'\"&$L$1&\"'!\"&\"$C$2:$G$200\"),4,FALSE),\"\")","v":""},{"$f":"IFERROR(VLOOKUP(B329,INDIRECT(\"'\"&$L$1&\"'!\"&\"$C$2:$G$200\"),5,FALSE),0)","v":0},{"$f":"IFERROR(VLOOKUP(B329,INDIRECT(\"'\"&$N$1&\"'!\"&\"$C$2:$G$200\"),4,FALSE),\"\")","v":""},{"$f":"IFERROR(VLOOKUP(B329,INDIRECT(\"'\"&$N$1&\"'!\"&\"$C$2:$G$200\"),5,FALSE),0)","v":0},{"$f":"IFERROR(VLOOKUP(B329,INDIRECT(\"'\"&$P$1&\"'!\"&\"$C$2:$G$200\"),4,FALSE),\"\")","v":""},{"$f":"IFERROR(VLOOKUP(B329,INDIRECT(\"'\"&$P$1&\"'!\"&\"$C$2:$G$200\"),5,FALSE),0)","v":0},{"$f":"IFERROR(VLOOKUP(B329,INDIRECT(\"'\"&$R$1&\"'!\"&\"$C$2:$G$200\"),4,FALSE),\"\")","v":""},{"$f":"IFERROR(VLOOKUP(B329,INDIRECT(\"'\"&$R$1&\"'!\"&\"$C$2:$G$200\"),5,FALSE),0)","v":0},null,{"$f":"IFERROR(VLOOKUP(B329,INDIRECT(\"'\"&$T$1&\"'!\"&\"$C$2:$G$200\"),5,FALSE),0)","v":0},{"$f":"8-COUNTIF(F329:U329,\"\")","v":1},{"$f":"E329/IF(V329>4,5,V329)","v":43.602605375458594}]
[328,"Islia Sandilands","Unaffiliated","F40",{"$f":"SUM(LARGE((S330,G330,I330,K330,M330,O330,Q330,U330),{1,2,3,4,5}))","v":43.403205918619037},{"$f":"IFERROR(VLOOKUP(B330,INDIRECT(\"'\"&$F$1&\"'!\"&\"$C$2:$G$200\"),4,FALSE),\"\")","v":""},{"$f":"IFERROR(VLOOKUP(B330,INDIRECT(\"'\"&$F$1&\"'!\"&\"$C$2:$G$200\"),5,FALSE),0)","v":0},{"$f":"IFERROR(VLOOKUP(B330,INDIRECT(\"'\"&$H$1&\"'!\"&\"$C$2:$G$200\"),4,FALSE),\"\")","v":""},{"$f":"IFERROR(VLOOKUP(B330,INDIRECT(\"'\"&$H$1&\"'!\"&\"$C$2:$G$200\"),5,FALSE),0)","v":0},{"$f":"IFERROR(VLOOKUP(B330,INDIRECT(\"'\"&$J$1&\"'!\"&\"$C$2:$G$200\"),4,FALSE),\"\")","v":""},{"$f":"IFERROR(VLOOKUP(B330,INDIRECT(\"'\"&$J$1&\"'!\"&\"$C$2:$G$200\"),5,FALSE),0)","v":0},{"$f":"IFERROR(VLOOKUP(B330,INDIRECT(\"'\"&$L$1&\"'!\"&\"$C$2:$G$200\"),4,FALSE),\"\")","v":""},{"$f":"IFERROR(VLOOKUP(B330,INDIRECT(\"'\"&$L$1&\"'!\"&\"$C$2:$G$200\"),5,FALSE),0)","v":0},{"$f":"IFERROR(VLOOKUP(B330,INDIRECT(\"'\"&$N$1&\"'!\"&\"$C$2:$G$200\"),4,FALSE),\"\")","v":3.5277777777777776E-2},{"$f":"IFERROR(VLOOKUP(B330,INDIRECT(\"'\"&$N$1&\"'!\"&\"$C$2:$G$200\"),5,FALSE),0)","v":43.403205918619037},{"$f":"IFERROR(VLOOKUP(B330,INDIRECT(\"'\"&$P$1&\"'!\"&\"$C$2:$G$200\"),4,FALSE),\"\")","v":""},{"$f":"IFERROR(VLOOKUP(B330,INDIRECT(\"'\"&$P$1&\"'!\"&\"$C$2:$G$200\"),5,FALSE),0)","v":0},{"$f":"IFERROR(VLOOKUP(B330,INDIRECT(\"'\"&$R$1&\"'!\"&\"$C$2:$G$200\"),4,FALSE),\"\")","v":""},{"$f":"IFERROR(VLOOKUP(B330,INDIRECT(\"'\"&$R$1&\"'!\"&\"$C$2:$G$200\"),5,FALSE),0)","v":0},{"$f":"IFERROR(VLOOKUP(B330,INDIRECT(\"'\"&$T$1&\"'!\"&\"$C$2:$G$200\"),4,FALSE),\"\")","v":""},{"$f":"IFERROR(VLOOKUP(B330,INDIRECT(\"'\"&$T$1&\"'!\"&\"$C$2:$G$200\"),5,FALSE),0)","v":0},{"$f":"8-COUNTIF(F330:U330,\"\")","v":1},{"$f":"E330/IF(V330>4,5,V330)","v":43.403205918619037}]
[329,"Jack Loveday","Unaffiliated","SM",{"$f":"SUM(LARGE((S331,G331,I331,K331,M331,O331,Q331,U331),{1,2,3,4,5}))","v":42.723453017570634},{"$f":"IFERROR(VLOOKUP(B331,INDIRECT(\"'\"&$F$1&\"'!\"&\"$C$2:$G$200\"),4,FALSE),\"\")","v":""},{"$f":"IFERROR(VLOOKUP(B331,INDIRECT(\"'\"&$F$1&\"'!\"&\"$C$2:$G$200\"),5,FALSE),0)","v":0},{"$f":"IFERROR(VLOOKUP(B331,INDIRECT(\"'\"&$H$1&\"'!\"&\"$C$2:$G$200\"),4,FALSE),\"\")","v":""},{"$f":"IFERROR(VLOOKUP(B331,INDIRECT(\"'\"&$H$1&\"'!\"&\"$C$2:$G$200\"),5,FALSE),0)","v":0},{"$f":"IFERROR(VLOOKUP(B331,INDIRECT(\"'\"&$J$1&\"'!\"&\"$C$2:$G$200\"),4,FALSE),\"\")","v":""},{"$f":"IFERROR(VLOOKUP(B331,INDIRECT(\"'\"&$J$1&\"'!\"&\"$C$2:$G$200\"),5,FALSE),0)","v":0},{"$f":"IFERROR(VLOOKUP(B331,INDIRECT(\"'\"&$L$1&\"'!\"&\"$C$2:$G$200\"),4,FALSE),\"\")","v":""},{"$f":"IFERROR(VLOOKUP(B331,INDIRECT(\"'\"&$L$1&\"'!\"&\"$C$2:$G$200\"),5,FALSE),0)","v":0},{"$f":"IFERROR(VLOOKUP(B331,INDIRECT(\"'\"&$N$1&\"'!\"&\"$C$2:$G$200\"),4,FALSE),\"\")","v":""},{"$f":"IFERROR(VLOOKUP(B331,INDIRECT(\"'\"&$N$1&\"'!\"&\"$C$2:$G$200\"),5,FALSE),0)","v":0},{"$f":"IFERROR(VLOOKUP(B331,INDIRECT(\"'\"&$P$1&\"'!\"&\"$C$2:$G$200\"),4,FALSE),\"\")","v":""},{"$f":"IFERROR(VLOOKUP(B331,INDIRECT(\"'\"&$P$1&\"'!\"&\"$C$2:$G$200\"),5,FALSE),0)","v":0},{"$f":"IFERROR(VLOOKUP(B331,INDIRECT(\"'\"&$R$1&\"'!\"&\"$C$2:$G$200\"),4,FALSE),\"\")","v":""},{"$f":"IFERROR(VLOOKUP(B331,INDIRECT(\"'\"&$R$1&\"'!\"&\"$C$2:$G$200\"),5,FALSE),0)","v":0},{"$f":"IFERROR(VLOOKUP(B331,INDIRECT(\"'\"&$T$1&\"'!\"&\"$C$2:$G$200\"),4,FALSE),\"\")","v":5.7187500000000002E-2},{"$f":"IFERROR(VLOOKUP(B331,INDIRECT(\"'\"&$T$1&\"'!\"&\"$C$2:$G$200\"),5,FALSE),0)","v":42.723453017570634},{"$f":"8-COUNTIF(F331:U331,\"\")","v":1},{"$f":"E331/IF(V331>4,5,V331)","v":42.723453017570634}]
[330,"Paul Johnson","Ogmore Phoenix Runners","M50",{"$f":"SUM(LARGE((S332,G332,I332,K332,M332,O332,Q332,U332),{1,2,3,4,5}))","v":42.203101763331176},{"$f":"IFERROR(VLOOKUP(B332,INDIRECT(\"'\"&$F$1&\"'!\"&\"$C$2:$G$200\"),4,FALSE),\"\")","v":""},{"$f":"IFERROR(VLOOKUP(B332,INDIRECT(\"'\"&$F$1&\"'!\"&\"$C$2:$G$200\"),5,FALSE),0)","v":0},{"$f":"IFERROR(VLOOKUP(B332,INDIRECT(\"'\"&$H$1&\"'!\"&\"$C$2:$G$200\"),4,FALSE),\"\")","v":""},{"$f":"IFERROR(VLOOKUP(B332,INDIRECT(\"'\"&$H$1&\"'!\"&\"$C$2:$G$200\"),5,FALSE),0)","v":0},{"$f":"IFERROR(VLOOKUP(B332,INDIRECT(\"'\"&$J$1&\"'!\"&\"$C$2:$G$200\"),4,FALSE),\"\")","v":""},{"$f":"IFERROR(VLOOKUP(B332,INDIRECT(\"'\"&$J$1&\"'!\"&\"$C$2:$G$200\"),5,FALSE),0)","v":0},{"$f":"IFERROR(VLOOKUP(B332,INDIRECT(\"'\"&$L$1&\"'!\"&\"$C$2:$G$200\"),4,FALSE),\"\")","v":""},{"$f":"IFERROR(VLOOKUP(B332,INDIRECT(\"'\"&$L$1&\"'!\"&\"$C$2:$G$200\"),5,FALSE),0)","v":0},{"$f":"IFERROR(VLOOKUP(B332,INDIRECT(\"'\"&$N$1&\"'!\"&\"$C$2:$G$200\"),4,FALSE),\"\")","v":""},{"$f":"IFERROR(VLOOKUP(B332,INDIRECT(\"'\"&$N$1&\"'!\"&\"$C$2:$G$200\"),5,FALSE),0)","v":0},{"$f":"IFERROR(VLOOKUP(B332,INDIRECT(\"'\"&$P$1&\"'!\"&\"$C$2:$G$200\"),4,FALSE),\"\")","v":3.4386574074074076E-2},{"$f":"IFERROR(VLOOKUP(B332,INDIRECT(\"'\"&$P$1&\"'!\"&\"$C$2:$G$200\"),5,FALSE),0)","v":42.203101763331176},{"$f":"IFERROR(VLOOKUP(B332,INDIRECT(\"'\"&$R$1&\"'!\"&\"$C$2:$G$200\"),4,FALSE),\"\")","v":""},{"$f":"IFERROR(VLOOKUP(B332,INDIRECT(\"'\"&$R$1&\"'!\"&\"$C$2:$G$200\"),5,FALSE),0)","v":0},{"$f":"IFERROR(VLOOKUP(B332,INDIRECT(\"'\"&$T$1&\"'!\"&\"$C$2:$G$200\"),4,FALSE),\"\")","v":""},{"$f":"IFERROR(VLOOKUP(B332,INDIRECT(\"'\"&$T$1&\"'!\"&\"$C$2:$G$200\"),5,FALSE),0)","v":0},{"$f":"8-COUNTIF(F332:U332,\"\")","v":1},{"$f":"E332/IF(V332>4,5,V332)","v":42.203101763331176}]
[331,"Rachel Hipkiss","Chepstow Harriers","SF",{"$f":"SUM(LARGE((S333,G333,I333,K333,M333,O333,Q333,U333),{1,2,3,4,5}))","v":42.067406494040306},{"$f":"IFERROR(VLOOKUP(B333,INDIRECT(\"'\"&$F$1&\"'!\"&\"$C$2:$G$200\"),4,FALSE),\"\")","v":""},{"$f":"IFERROR(VLOOKUP(B333,INDIRECT(\"'\"&$F$1&\"'!\"&\"$C$2:$G$200\"),5,FALSE),0)","v":0},{"$f":"IFERROR(VLOOKUP(B333,INDIRECT(\"'\"&$H$1&\"'!\"&\"$C$2:$G$200\"),4,FALSE),\"\")","v":""},{"$f":"IFERROR(VLOOKUP(B333,INDIRECT(\"'\"&$H$1&\"'!\"&\"$C$2:$G$200\"),5,FALSE),0)","v":0},{"$f":"IFERROR(VLOOKUP(B333,INDIRECT(\"'\"&$J$1&\"'!\"&\"$C$2:$G$200\"),4,FALSE),\"\")","v":""},{"$f":"IFERROR(VLOOKUP(B333,INDIRECT(\"'\"&$J$1&\"'!\"&\"$C$2:$G$200\"),5,FALSE),0)","v":0},{"$f":"IFERROR(VLOOKUP(B333,INDIRECT(\"'\"&$L$1&\"'!\"&\"$C$2:$G$200\"),4,FALSE),\"\")","v":""},{"$f":"IFERROR(VLOOKUP(B333,INDIRECT(\"'\"&$L$1&\"'!\"&\"$C$2:$G$200\"),5,FALSE),0)","v":0},{"$f":"IFERROR(VLOOKUP(B333,INDIRECT(\"'\"&$N$1&\"'!\"&\"$C$2:$G$200\"),4,FALSE),\"\")","v":3.5578703703703703E-2},{"$f":"IFERROR(VLOOKUP(B333,INDIRECT(\"'\"&$N$1&\"'!\"&\"$C$2:$G$200\"),5,FALSE),0)","v":42.067406494040306},{"$f":"IFERROR(VLOOKUP(B333,INDIRECT(\"'\"&$P$1&\"'!\"&\"$C$2:$G$200\"),4,FALSE),\"\")","v":""},{"$f":"IFERROR(VLOOKUP(B333,INDIRECT(\"'\"&$P$1&\"'!\"&\"$C$2:$G$200\"),5,FALSE),0)","v":0},{"$f":"IFERROR(VLOOKUP(B333,INDIRECT(\"'\"&$R$1&\"'!\"&\"$C$2:$G$200\"),4,FALSE),\"\")","v":""},{"$f":"IFERROR(VLOOKUP(B333,INDIRECT(\"'\"&$R$1&\"'!\"&\"$C$2:$G$200\"),5,FALSE),0)","v":0},{"$f":"IFERROR(VLOOKUP(B333,INDIRECT(\"'\"&$T$1&\"'!\"&\"$C$2:$G$200\"),4,FALSE),\"\")","v":""},{"$f":"IFERROR(VLOOKUP(B333,INDIRECT(\"'\"&$T$1&\"'!\"&\"$C$2:$G$200\"),5,FALSE),0)","v":0},{"$f":"8-COUNTIF(F333:U333,\"\")","v":1},{"$f":"E333/IF(V333>4,5,V333)","v":42.067406494040306}]
[332,"Anne Ward","Mynydd Du","F40",{"$f":"SUM(LARGE((S334,G334,I334,K334,M334,O334,Q334,U334),{1,2,3,4,5}))","v":41.418385536032567},{"$f":"IFERROR(VLOOKUP(B334,INDIRECT(\"'\"&$F$1&\"'!\"&\"$C$2:$G$200\"),4,FALSE),\"\")","v":""},{"$f":"IFERROR(VLOOKUP(B334,INDIRECT(\"'\"&$F$1&\"'!\"&\"$C$2:$G$200\"),5,FALSE),0)","v":0},{"$f":"IFERROR(VLOOKUP(B334,INDIRECT(\"'\"&$H$1&\"'!\"&\"$C$2:$G$200\"),4,FALSE),\"\")","v":""},{"$f":"IFERROR(VLOOKUP(B334,INDIRECT(\"'\"&$H$1&\"'!\"&\"$C$2:$G$200\"),5,FALSE),0)","v":0},{"$f":"IFERROR(VLOOKUP(B334,INDIRECT(\"'\"&$J$1&\"'!\"&\"$C$2:$G$200\"),4,FALSE),\"\")","v":""},{"$f":"IFERROR(VLOOKUP(B334,INDIRECT(\"'\"&$J$1&\"'!\"&\"$C$2:$G$200\"),5,FALSE),0)","v":0},{"$f":"IFERROR(VLOOKUP(B334,INDIRECT(\"'\"&$L$1&\"'!\"&\"$C$2:$G$200\"),4,FALSE),\"\")","v":""},{"$f":"IFERROR(VLOOKUP(B334,INDIRECT(\"'\"&$L$1&\"'!\"&\"$C$2:$G$200\"),5,FALSE),0)","v":0},{"$f":"IFERROR(VLOOKUP(B334,INDIRECT(\"'\"&$N$1&\"'!\"&\"$C$2:$G$200\"),4,FALSE),\"\")","v":""},{"$f":"IFERROR(VLOOKUP(B334,INDIRECT(\"'\"&$N$1&\"'!\"&\"$C$2:$G$200\"),5,FALSE),0)","v":0},{"$f":"IFERROR(VLOOKUP(B334,INDIRECT(\"'\"&$P$1&\"'!\"&\"$C$2:$G$200\"),4,FALSE),\"\")","v":""},{"$f":"IFERROR(VLOOKUP(B334,INDIRECT(\"'\"&$P$1&\"'!\"&\"$C$2:$G$200\"),5,FALSE),0)","v":0},{"$f":"IFERROR(VLOOKUP(B334,INDIRECT(\"'\"&$R$1&\"'!\"&\"$C$2:$G$200\"),4,FALSE),\"\")","v":""},{"$f":"IFERROR(VLOOKUP(B334,INDIRECT(\"'\"&$R$1&\"'!\"&\"$C$2:$G$200\"),5,FALSE),0)","v":0},{"$f":"IFERROR(VLOOKUP(B334,INDIRECT(\"'\"&$T$1&\"'!\"&\"$C$2:$G$200\"),4,FALSE),\"\")","v":5.7662037037037039E-2},{"$f":"IFERROR(VLOOKUP(B334,INDIRECT(\"'\"&$T$1&\"'!\"&\"$C$2:$G$200\"),5,FALSE),0)","v":41.418385536032567},{"$f":"8-COUNTIF(F334:U334,\"\")","v":1},{"$f":"E334/IF(V334>4,5,V334)","v":41.418385536032567}]
[333,"Simon Bowen","Unaffiliated","SM",{"$f":"SUM(LARGE((S335,G335,I335,K335,M335,O335,Q335,U335),{1,2,3,4,5}))","v":41.406415976205622},{"$f":"IFERROR(VLOOKUP(B335,INDIRECT(\"'\"&$F$1&\"'!\"&\"$C$2:$G$200\"),4,FALSE),\"\")","v":""},{"$f":"IFERROR(VLOOKUP(B335,INDIRECT(\"'\"&$F$1&\"'!\"&\"$C$2:$G$200\"),5,FALSE),0)","v":0},{"$f":"IFERROR(VLOOKUP(B335,INDIRECT(\"'\"&$H$1&\"'!\"&\"$C$2:$G$200\"),4,FALSE),\"\")","v":""},{"$f":"IFERROR(VLOOKUP(B335,INDIRECT(\"'\"&$H$1&\"'!\"&\"$C$2:$G$200\"),5,FALSE),0)","v":0},{"$f":"IFERROR(VLOOKUP(B335,INDIRECT(\"'\"&$J$1&\"'!\"&\"$C$2:$G$200\"),4,FALSE),\"\")","v":""},{"$f":"IFERROR(VLOOKUP(B335,INDIRECT(\"'\"&$J$1&\"'!\"&\"$C$2:$G$200\"),5,FALSE),0)","v":0},{"$f":"IFERROR(VLOOKUP(B335,INDIRECT(\"'\"&$L$1&\"'!\"&\"$C$2:$G$200\"),4,FALSE),\"\")","v":""},{"$f":"IFERROR(VLOOKUP(B335,INDIRECT(\"'\"&$L$1&\"'!\"&\"$C$2:$G$200\"),5,FALSE),0)","v":0},{"$f":"IFERROR(VLOOKUP(B335,INDIRECT(\"'\"&$N$1&\"'!\"&\"$C$2:$G$200\"),4,FALSE),\"\")","v":""},{"$f":"IFERROR(VLOOKUP(B335,INDIRECT(\"'\"&$N$1&\"'!\"&\"$C$2:$G$200\"),5,FALSE),0)","v":0},{"$f":"IFERROR(VLOOKUP(B335,INDIRECT(\"'\"&$P$1&\"'!\"&\"$C$2:$G$200\"),4,FALSE),\"\")","v":3.4560185185185187E-2},{"$f":"IFERROR(VLOOKUP(B335,INDIRECT(\"'\"&$P$1&\"'!\"&\"$C$2:$G$200\"),5,FALSE),0)","v":41.406415976205622},{"$f":"IFERROR(VLOOKUP(B335,INDIRECT(\"'\"&$R$1&\"'!\"&\"$C$2:$G$200\"),4,FALSE),\"\")","v":""},{"$f":"IFERROR(VLOOKUP(B335,INDIRECT(\"'\"&$R$1&\"'!\"&\"$C$2:$G$200\"),5,FALSE),0)","v":0},{"$f":"IFERROR(VLOOKUP(B335,INDIRECT(\"'\"&$T$1&\"'!\"&\"$C$2:$G$200\"),4,FALSE),\"\")","v":""},{"$f":"IFERROR(VLOOKUP(B335,INDIRECT(\"'\"&$T$1&\"'!\"&\"$C$2:$G$200\"),5,FALSE),0)","v":0},{"$f":"8-COUNTIF(F335:U335,\"\")","v":1},{"$f":"E335/IF(V335>4,5,V335)","v":41.406415976205622}]
[334,"Sally Evans","Unaffiliated","SF",{"$f":"SUM(LARGE((S336,G336,I336,K336,M336,O336,Q336,U336),{1,2,3,4,5}))","v":41.394025604551921},{"$f":"IFERROR(VLOOKUP(B336,INDIRECT(\"'\"&$F$1&\"'!\"&\"$C$2:$G$200\"),4,FALSE),\"\")","v":""},{"$f":"IFERROR(VLOOKUP(B336,INDIRECT(\"'\"&$F$1&\"'!\"&\"$C$2:$G$200\"),5,FALSE),0)","v":0},{"$f":"IFERROR(VLOOKUP(B336,INDIRECT(\"'\"&$H$1&\"'!\"&\"$C$2:$G$200\"),4,FALSE),\"\")","v":4.9039351851851855E-2},{"$f":"IFERROR(VLOOKUP(B336,INDIRECT(\"'\"&$H$1&\"'!\"&\"$C$2:$G$200\"),5,FALSE),0)","v":41.394025604551921},{"$f":"IFERROR(VLOOKUP(B336,INDIRECT(\"'\"&$J$1&\"'!\"&\"$C$2:$G$200\"),4,FALSE),\"\")","v":""},{"$f":"IFERROR(VLOOKUP(B336,INDIRECT(\"'\"&$J$1&\"'!\"&\"$C$2:$G$200\"),5,FALSE),0)","v":0},{"$f":"IFERROR(VLOOKUP(B336,INDIRECT(\"'\"&$L$1&\"'!\"&\"$C$2:$G$200\"),4,FALSE),\"\")","v":""},{"$f":"IFERROR(VLOOKUP(B336,INDIRECT(\"'\"&$L$1&\"'!\"&\"$C$2:$G$200\"),5,FALSE),0)","v":0},{"$f":"IFERROR(VLOOKUP(B336,INDIRECT(\"'\"&$N$1&\"'!\"&\"$C$2:$G$200\"),4,FALSE),\"\")","v":""},{"$f":"IFERROR(VLOOKUP(B336,INDIRECT(\"'\"&$N$1&\"'!\"&\"$C$2:$G$200\"),5,FALSE),0)","v":0},{"$f":"IFERROR(VLOOKUP(B336,INDIRECT(\"'\"&$P$1&\"'!\"&\"$C$2:$G$200\"),4,FALSE),\"\")","v":""},{"$f":"IFERROR(VLOOKUP(B336,INDIRECT(\"'\"&$P$1&\"'!\"&\"$C$2:$G$200\"),5,FALSE),0)","v":0},{"$f":"IFERROR(VLOOKUP(B336,INDIRECT(\"'\"&$R$1&\"'!\"&\"$C$2:$G$200\"),4,FALSE),\"\")","v":""},{"$f":"IFERROR(VLOOKUP(B336,INDIRECT(\"'\"&$R$1&\"'!\"&\"$C$2:$G$200\"),5,FALSE),0)","v":0},{"$f":"IFERROR(VLOOKUP(B336,INDIRECT(\"'\"&$T$1&\"'!\"&\"$C$2:$G$200\"),4,FALSE),\"\")","v":""},{"$f":"IFERROR(VLOOKUP(B336,INDIRECT(\"'\"&$T$1&\"'!\"&\"$C$2:$G$200\"),5,FALSE),0)","v":0},{"$f":"8-COUNTIF(F336:U336,\"\")","v":1},{"$f":"E336/IF(V336>4,5,V336)","v":41.394025604551921}]
[335,"Stewart Thomson","Mynydd Du","M50",{"$f":"SUM(LARGE((S337,G337,I337,K337,M337,O337,Q337,U337),{1,2,3,4,5}))","v":41.298904530186142},{"$f":"IFERROR(VLOOKUP(B337,INDIRECT(\"'\"&$F$1&\"'!\"&\"$C$2:$G$200\"),4,FALSE),\"\")","v":""},{"$f":"IFERROR(VLOOKUP(B337,INDIRECT(\"'\"&$F$1&\"'!\"&\"$C$2:$G$200\"),5,FALSE),0)","v":0},{"$f":"IFERROR(VLOOKUP(B337,INDIRECT(\"'\"&$H$1&\"'!\"&\"$C$2:$G$200\"),4,FALSE),\"\")","v":""},{"$f":"IFERROR(VLOOKUP(B337,INDIRECT(\"'\"&$H$1&\"'!\"&\"$C$2:$G$200\"),5,FALSE),0)","v":0},{"$f":"IFERROR(VLOOKUP(B337,INDIRECT(\"'\"&$J$1&\"'!\"&\"$C$2:$G$200\"),4,FALSE),\"\")","v":""},{"$f":"IFERROR(VLOOKUP(B337,INDIRECT(\"'\"&$J$1&\"'!\"&\"$C$2:$G$200\"),5,FALSE),0)","v":0},{"$f":"IFERROR(VLOOKUP(B337,INDIRECT(\"'\"&$L$1&\"'!\"&\"$C$2:$G$200\"),4,FALSE),\"\")","v":""},{"$f":"IFERROR(VLOOKUP(B337,INDIRECT(\"'\"&$L$1&\"'!\"&\"$C$2:$G$200\"),5,FALSE),0)","v":0},{"$f":"IFERROR(VLOOKUP(B337,INDIRECT(\"'\"&$N$1&\"'!\"&\"$C$2:$G$200\"),4,FALSE),\"\")","v":""},{"$f":"IFERROR(VLOOKUP(B337,INDIRECT(\"'\"&$N$1&\"'!\"&\"$C$2:$G$200\"),5,FALSE),0)","v":0},{"$f":"IFERROR(VLOOKUP(B337,INDIRECT(\"'\"&$P$1&\"'!\"&\"$C$2:$G$200\"),4,FALSE),\"\")","v":""},{"$f":"IFERROR(VLOOKUP(B337,INDIRECT(\"'\"&$P$1&\"'!\"&\"$C$2:$G$200\"),5,FALSE),0)","v":0},{"$f":"IFERROR(VLOOKUP(B337,INDIRECT(\"'\"&$R$1&\"'!\"&\"$C$2:$G$200\"),4,FALSE),\"\")","v":3.6909722222222226E-2},{"$f":"IFERROR(VLOOKUP(B337,INDIRECT(\"'\"&$R$1&\"'!\"&\"$C$2:$G$200\"),5,FALSE),0)","v":18.724420190995914},{"$f":"IFERROR(VLOOKUP(B337,INDIRECT(\"'\"&$T$1&\"'!\"&\"$C$2:$G$200\"),4,FALSE),\"\")","v":6.4513888888888885E-2},{"$f":"IFERROR(VLOOKUP(B337,INDIRECT(\"'\"&$T$1&\"'!\"&\"$C$2:$G$200\"),5,FALSE),0)","v":22.574484339190228},{"$f":"8-COUNTIF(F337:U337,\"\")","v":2},{"$f":"E337/IF(V337>4,5,V337)","v":20.649452265093071}]
[336,"Chas Ryder","Brycheiniog","M60",{"$f":"SUM(LARGE((S338,G338,I338,K338,M338,O338,Q338,U338),{1,2,3,4,5}))","v":40.822179732313543},{"$f":"IFERROR(VLOOKUP(B338,INDIRECT(\"'\"&$F$1&\"'!\"&\"$C$2:$G$200\"),4,FALSE),\"\")","v":""},{"$f":"IFERROR(VLOOKUP(B338,INDIRECT(\"'\"&$F$1&\"'!\"&\"$C$2:$G$200\"),5,FALSE),0)","v":0},{"$f":"IFERROR(VLOOKUP(B338,INDIRECT(\"'\"&$H$1&\"'!\"&\"$C$2:$G$200\"),4,FALSE),\"\")","v":""},{"$f":"IFERROR(VLOOKUP(B338,INDIRECT(\"'\"&$H$1&\"'!\"&\"$C$2:$G$200\"),5,FALSE),0)","v":0},{"$f":"IFERROR(VLOOKUP(B338,INDIRECT(\"'\"&$J$1&\"'!\"&\"$C$2:$G$200\"),4,FALSE),\"\")","v":""},{"$f":"IFERROR(VLOOKUP(B338,INDIRECT(\"'\"&$J$1&\"'!\"&\"$C$2:$G$200\"),5,FALSE),0)","v":0},{"$f":"IFERROR(VLOOKUP(B338,INDIRECT(\"'\"&$L$1&\"'!\"&\"$C$2:$G$200\"),4,FALSE),\"\")","v":""},{"$f":"IFERROR(VLOOKUP(B338,INDIRECT(\"'\"&$L$1&\"'!\"&\"$C$2:$G$200\"),5,FALSE),0)","v":0},{"$f":"IFERROR(VLOOKUP(B338,INDIRECT(\"'\"&$N$1&\"'!\"&\"$C$2:$G$200\"),4,FALSE),\"\")","v":""},{"$f":"IFERROR(VLOOKUP(B338,INDIRECT(\"'\"&$N$1&\"'!\"&\"$C$2:$G$200\"),5,FALSE),0)","v":0},{"$f":"IFERROR(VLOOKUP(B338,INDIRECT(\"'\"&$P$1&\"'!\"&\"$C$2:$G$200\"),4,FALSE),\"\")","v":3.4687500000000003E-2},{"$f":"IFERROR(VLOOKUP(B338,INDIRECT(\"'\"&$P$1&\"'!\"&\"$C$2:$G$200\"),5,FALSE),0)","v":40.822179732313543},{"$f":"IFERROR(VLOOKUP(B338,INDIRECT(\"'\"&$R$1&\"'!\"&\"$C$2:$G$200\"),4,FALSE),\"\")","v":""},{"$f":"IFERROR(VLOOKUP(B338,INDIRECT(\"'\"&$R$1&\"'!\"&\"$C$2:$G$200\"),5,FALSE),0)","v":0},{"$f":"IFERROR(VLOOKUP(B338,INDIRECT(\"'\"&$T$1&\"'!\"&\"$C$2:$G$200\"),4,FALSE),\"\")","v":""},{"$f":"IFERROR(VLOOKUP(B338,INDIRECT(\"'\"&$T$1&\"'!\"&\"$C$2:$G$200\"),5,FALSE),0)","v":0},{"$f":"8-COUNTIF(F338:U338,\"\")","v":1},{"$f":"E338/IF(V338>4,5,V338)","v":40.822179732313543}]
[337,"Don Hale","Mercia","M60",{"$f":"SUM(LARGE((S339,G339,I339,K339,M339,O339,Q339,U339),{1,2,3,4,5}))","v":40.666211914506611},{"$f":"IFERROR(VLOOKUP(B339,INDIRECT(\"'\"&$F$1&\"'!\"&\"$C$2:$G$200\"),4,FALSE),\"\")","v":""},{"$f":"IFERROR(VLOOKUP(B339,INDIRECT(\"'\"&$F$1&\"'!\"&\"$C$2:$G$200\"),5,FALSE),0)","v":0},{"$f":"IFERROR(VLOOKUP(B339,INDIRECT(\"'\"&$H$1&\"'!\"&\"$C$2:$G$200\"),4,FALSE),\"\")","v":""},{"$f":"IFERROR(VLOOKUP(B339,INDIRECT(\"'\"&$H$1&\"'!\"&\"$C$2:$G$200\"),5,FALSE),0)","v":0},{"$f":"IFERROR(VLOOKUP(B339,INDIRECT(\"'\"&$J$1&\"'!\"&\"$C$2:$G$200\"),4,FALSE),\"\")","v":""},{"$f":"IFERROR(VLOOKUP(B339,INDIRECT(\"'\"&$J$1&\"'!\"&\"$C$2:$G$200\"),5,FALSE),0)","v":0},{"$f":"IFERROR(VLOOKUP(B339,INDIRECT(\"'\"&$L$1&\"'!\"&\"$C$2:$G$200\"),4,FALSE),\"\")","v":""},{"$f":"IFERROR(VLOOKUP(B339,INDIRECT(\"'\"&$L$1&\"'!\"&\"$C$2:$G$200\"),5,FALSE),0)","v":0},{"$f":"IFERROR(VLOOKUP(B339,INDIRECT(\"'\"&$N$1&\"'!\"&\"$C$2:$G$200\"),4,FALSE),\"\")","v":""},{"$f":"IFERROR(VLOOKUP(B339,INDIRECT(\"'\"&$N$1&\"'!\"&\"$C$2:$G$200\"),5,FALSE),0)","v":0},{"$f":"IFERROR(VLOOKUP(B339,INDIRECT(\"'\"&$P$1&\"'!\"&\"$C$2:$G$200\"),4,FALSE),\"\")","v":""},{"$f":"IFERROR(VLOOKUP(B339,INDIRECT(\"'\"&$P$1&\"'!\"&\"$C$2:$G$200\"),5,FALSE),0)","v":0},{"$f":"IFERROR(VLOOKUP(B339,INDIRECT(\"'\"&$R$1&\"'!\"&\"$C$2:$G$200\"),4,FALSE),\"\")","v":3.2442129629629633E-2},{"$f":"IFERROR(VLOOKUP(B339,INDIRECT(\"'\"&$R$1&\"'!\"&\"$C$2:$G$200\"),5,FALSE),0)","v":40.666211914506611},{"$f":"IFERROR(VLOOKUP(B339,INDIRECT(\"'\"&$T$1&\"'!\"&\"$C$2:$G$200\"),4,FALSE),\"\")","v":""},{"$f":"IFERROR(VLOOKUP(B339,INDIRECT(\"'\"&$T$1&\"'!\"&\"$C$2:$G$200\"),5,FALSE),0)","v":0},{"$f":"8-COUNTIF(F339:U339,\"\")","v":1},{"$f":"E339/IF(V339>4,5,V339)","v":40.666211914506611}]
[338,"Sharon Woods","Mynydd Du","F50",{"$f":"SUM(LARGE((S340,G340,I340,K340,M340,O340,Q340,U340),{1,2,3,4,5}))","v":40.654443595620052},{"$f":"IFERROR(VLOOKUP(B340,INDIRECT(\"'\"&$F$1&\"'!\"&\"$C$2:$G$200\"),4,FALSE),\"\")","v":""},{"$f":"IFERROR(VLOOKUP(B340,INDIRECT(\"'\"&$F$1&\"'!\"&\"$C$2:$G$200\"),5,FALSE),0)","v":0},{"$f":"IFERROR(VLOOKUP(B340,INDIRECT(\"'\"&$H$1&\"'!\"&\"$C$2:$G$200\"),4,FALSE),\"\")","v":""},{"$f":"IFERROR(VLOOKUP(B340,INDIRECT(\"'\"&$H$1&\"'!\"&\"$C$2:$G$200\"),5,FALSE),0)","v":0},{"$f":"IFERROR(VLOOKUP(B340,INDIRECT(\"'\"&$J$1&\"'!\"&\"$C$2:$G$200\"),4,FALSE),\"\")","v":""},{"$f":"IFERROR(VLOOKUP(B340,INDIRECT(\"'\"&$J$1&\"'!\"&\"$C$2:$G$200\"),5,FALSE),0)","v":0},{"$f":"IFERROR(VLOOKUP(B340,INDIRECT(\"'\"&$L$1&\"'!\"&\"$C$2:$G$200\"),4,FALSE),\"\")","v":""},{"$f":"IFERROR(VLOOKUP(B340,INDIRECT(\"'\"&$L$1&\"'!\"&\"$C$2:$G$200\"),5,FALSE),0)","v":0},{"$f":"IFERROR(VLOOKUP(B340,INDIRECT(\"'\"&$N$1&\"'!\"&\"$C$2:$G$200\"),4,FALSE),\"\")","v":""},{"$f":"IFERROR(VLOOKUP(B340,INDIRECT(\"'\"&$N$1&\"'!\"&\"$C$2:$G$200\"),5,FALSE),0)","v":0},{"$f":"IFERROR(VLOOKUP(B340,INDIRECT(\"'\"&$P$1&\"'!\"&\"$C$2:$G$200\"),4,FALSE),\"\")","v":""},{"$f":"IFERROR(VLOOKUP(B340,INDIRECT(\"'\"&$P$1&\"'!\"&\"$C$2:$G$200\"),5,FALSE),0)","v":0},{"$f":"IFERROR(VLOOKUP(B340,INDIRECT(\"'\"&$R$1&\"'!\"&\"$C$2:$G$200\"),4,FALSE),\"\")","v":""},{"$f":"IFERROR(VLOOKUP(B340,INDIRECT(\"'\"&$R$1&\"'!\"&\"$C$2:$G$200\"),5,FALSE),0)","v":0},{"$f":"IFERROR(VLOOKUP(B340,INDIRECT(\"'\"&$T$1&\"'!\"&\"$C$2:$G$200\"),4,FALSE),\"\")","v":5.7939814814814812E-2},{"$f":"IFERROR(VLOOKUP(B340,INDIRECT(\"'\"&$T$1&\"'!\"&\"$C$2:$G$200\"),5,FALSE),0)","v":40.654443595620052},{"$f":"8-COUNTIF(F340:U340,\"\")","v":1},{"$f":"E340/IF(V340>4,5,V340)","v":40.654443595620052}]
[339,"Wendy Sharpe-Nash","Chepstow Harriers","F50",{"$f":"SUM(LARGE((S341,G341,I341,K341,M341,O341,Q341,U341),{1,2,3,4,5}))","v":40.166461159062905},{"$f":"IFERROR(VLOOKUP(B341,INDIRECT(\"'\"&$F$1&\"'!\"&\"$C$2:$G$200\"),4,FALSE),\"\")","v":""},{"$f":"IFERROR(VLOOKUP(B341,INDIRECT(\"'\"&$F$1&\"'!\"&\"$C$2:$G$200\"),5,FALSE),0)","v":0},{"$f":"IFERROR(VLOOKUP(B341,INDIRECT(\"'\"&$H$1&\"'!\"&\"$C$2:$G$200\"),4,FALSE),\"\")","v":""},{"$f":"IFERROR(VLOOKUP(B341,INDIRECT(\"'\"&$H$1&\"'!\"&\"$C$2:$G$200\"),5,FALSE),0)","v":0},{"$f":"IFERROR(VLOOKUP(B341,INDIRECT(\"'\"&$J$1&\"'!\"&\"$C$2:$G$200\"),4,FALSE),\"\")","v":""},{"$f":"IFERROR(VLOOKUP(B341,INDIRECT(\"'\"&$J$1&\"'!\"&\"$C$2:$G$200\"),5,FALSE),0)","v":0},{"$f":"IFERROR(VLOOKUP(B341,INDIRECT(\"'\"&$L$1&\"'!\"&\"$C$2:$G$200\"),4,FALSE),\"\")","v":""},{"$f":"IFERROR(VLOOKUP(B341,INDIRECT(\"'\"&$L$1&\"'!\"&\"$C$2:$G$200\"),5,FALSE),0)","v":0},{"$f":"IFERROR(VLOOKUP(B341,INDIRECT(\"'\"&$N$1&\"'!\"&\"$C$2:$G$200\"),4,FALSE),\"\")","v":3.6006944444444446E-2},{"$f":"IFERROR(VLOOKUP(B341,INDIRECT(\"'\"&$N$1&\"'!\"&\"$C$2:$G$200\"),5,FALSE),0)","v":40.166461159062905},{"$f":"IFERROR(VLOOKUP(B341,INDIRECT(\"'\"&$P$1&\"'!\"&\"$C$2:$G$200\"),4,FALSE),\"\")","v":""},{"$f":"IFERROR(VLOOKUP(B341,INDIRECT(\"'\"&$P$1&\"'!\"&\"$C$2:$G$200\"),5,FALSE),0)","v":0},{"$f":"IFERROR(VLOOKUP(B341,INDIRECT(\"'\"&$R$1&\"'!\"&\"$C$2:$G$200\"),4,FALSE),\"\")","v":""},{"$f":"IFERROR(VLOOKUP(B341,INDIRECT(\"'\"&$R$1&\"'!\"&\"$C$2:$G$200\"),5,FALSE),0)","v":0},{"$f":"IFERROR(VLOOKUP(B341,INDIRECT(\"'\"&$T$1&\"'!\"&\"$C$2:$G$200\"),4,FALSE),\"\")","v":""},{"$f":"IFERROR(VLOOKUP(B341,INDIRECT(\"'\"&$T$1&\"'!\"&\"$C$2:$G$200\"),5,FALSE),0)","v":0},{"$f":"8-COUNTIF(F341:U341,\"\")","v":1},{"$f":"E341/IF(V341>4,5,V341)","v":40.166461159062905}]
[340,"Aimee Ferguson","South Wales ","SF",{"$f":"SUM(LARGE((S342,G342,I342,K342,M342,O342,Q342,U342),{1,2,3,4,5}))","v":39.731347084288224},{"$f":"IFERROR(VLOOKUP(B342,INDIRECT(\"'\"&$F$1&\"'!\"&\"$C$2:$G$200\"),4,FALSE),\"\")","v":""},{"$f":"IFERROR(VLOOKUP(B342,INDIRECT(\"'\"&$F$1&\"'!\"&\"$C$2:$G$200\"),5,FALSE),0)","v":0},{"$f":"IFERROR(VLOOKUP(B342,INDIRECT(\"'\"&$H$1&\"'!\"&\"$C$2:$G$200\"),4,FALSE),\"\")","v":""},{"$f":"IFERROR(VLOOKUP(B342,INDIRECT(\"'\"&$H$1&\"'!\"&\"$C$2:$G$200\"),5,FALSE),0)","v":0},{"$f":"IFERROR(VLOOKUP(B342,INDIRECT(\"'\"&$J$1&\"'!\"&\"$C$2:$G$200\"),4,FALSE),\"\")","v":""},{"$f":"IFERROR(VLOOKUP(B342,INDIRECT(\"'\"&$J$1&\"'!\"&\"$C$2:$G$200\"),5,FALSE),0)","v":0},{"$f":"IFERROR(VLOOKUP(B342,INDIRECT(\"'\"&$L$1&\"'!\"&\"$C$2:$G$200\"),4,FALSE),\"\")","v":""},{"$f":"IFERROR(VLOOKUP(B342,INDIRECT(\"'\"&$L$1&\"'!\"&\"$C$2:$G$200\"),5,FALSE),0)","v":0},{"$f":"IFERROR(VLOOKUP(B342,INDIRECT(\"'\"&$N$1&\"'!\"&\"$C$2:$G$200\"),4,FALSE),\"\")","v":""},{"$f":"IFERROR(VLOOKUP(B342,INDIRECT(\"'\"&$N$1&\"'!\"&\"$C$2:$G$200\"),5,FALSE),0)","v":0},{"$f":"IFERROR(VLOOKUP(B342,INDIRECT(\"'\"&$P$1&\"'!\"&\"$C$2:$G$200\"),4,FALSE),\"\")","v":""},{"$f":"IFERROR(VLOOKUP(B342,INDIRECT(\"'\"&$P$1&\"'!\"&\"$C$2:$G$200\"),5,FALSE),0)","v":0},{"$f":"IFERROR(VLOOKUP(B342,INDIRECT(\"'\"&$R$1&\"'!\"&\"$C$2:$G$200\"),4,FALSE),\"\")","v":""},{"$f":"IFERROR(VLOOKUP(B342,INDIRECT(\"'\"&$R$1&\"'!\"&\"$C$2:$G$200\"),5,FALSE),0)","v":0},{"$f":"IFERROR(VLOOKUP(B342,INDIRECT(\"'\"&$T$1&\"'!\"&\"$C$2:$G$200\"),4,FALSE),\"\")","v":5.8275462962962966E-2},{"$f":"IFERROR(VLOOKUP(B342,INDIRECT(\"'\"&$T$1&\"'!\"&\"$C$2:$G$200\"),5,FALSE),0)","v":39.731347084288224},{"$f":"8-COUNTIF(F342:U342,\"\")","v":1},{"$f":"E342/IF(V342>4,5,V342)","v":39.731347084288224}]
[341,"Valerie Hamilton","Forest Of Dean AC","F50",{"$f":"SUM(LARGE((S343,G343,I343,K343,M343,O343,Q343,U343),{1,2,3,4,5}))","v":39.634648498914451},{"$f":"IFERROR(VLOOKUP(B343,INDIRECT(\"'\"&$F$1&\"'!\"&\"$C$2:$G$200\"),4,FALSE),\"\")","v":""},{"$f":"IFERROR(VLOOKUP(B343,INDIRECT(\"'\"&$F$1&\"'!\"&\"$C$2:$G$200\"),5,FALSE),0)","v":0},{"$f":"IFERROR(VLOOKUP(B343,INDIRECT(\"'\"&$H$1&\"'!\"&\"$C$2:$G$200\"),4,FALSE),\"\")","v":4.9583333333333333E-2},{"$f":"IFERROR(VLOOKUP(B343,INDIRECT(\"'\"&$H$1&\"'!\"&\"$C$2:$G$200\"),5,FALSE),0)","v":39.634648498914451},{"$f":"IFERROR(VLOOKUP(B343,INDIRECT(\"'\"&$J$1&\"'!\"&\"$C$2:$G$200\"),4,FALSE),\"\")","v":""},{"$f":"IFERROR(VLOOKUP(B343,INDIRECT(\"'\"&$J$1&\"'!\"&\"$C$2:$G$200\"),5,FALSE),0)","v":0},{"$f":"IFERROR(VLOOKUP(B343,INDIRECT(\"'\"&$L$1&\"'!\"&\"$C$2:$G$200\"),4,FALSE),\"\")","v":""},{"$f":"IFERROR(VLOOKUP(B343,INDIRECT(\"'\"&$L$1&\"'!\"&\"$C$2:$G$200\"),5,FALSE),0)","v":0},{"$f":"IFERROR(VLOOKUP(B343,INDIRECT(\"'\"&$N$1&\"'!\"&\"$C$2:$G$200\"),4,FALSE),\"\")","v":""},{"$f":"IFERROR(VLOOKUP(B343,INDIRECT(\"'\"&$N$1&\"'!\"&\"$C$2:$G$200\"),5,FALSE),0)","v":0},{"$f":"IFERROR(VLOOKUP(B343,INDIRECT(\"'\"&$P$1&\"'!\"&\"$C$2:$G$200\"),4,FALSE),\"\")","v":""},{"$f":"IFERROR(VLOOKUP(B343,INDIRECT(\"'\"&$P$1&\"'!\"&\"$C$2:$G$200\"),5,FALSE),0)","v":0},{"$f":"IFERROR(VLOOKUP(B343,INDIRECT(\"'\"&$R$1&\"'!\"&\"$C$2:$G$200\"),4,FALSE),\"\")","v":""},{"$f":"IFERROR(VLOOKUP(B343,INDIRECT(\"'\"&$R$1&\"'!\"&\"$C$2:$G$200\"),5,FALSE),0)","v":0},{"$f":"IFERROR(VLOOKUP(B343,INDIRECT(\"'\"&$T$1&\"'!\"&\"$C$2:$G$200\"),4,FALSE),\"\")","v":""},{"$f":"IFERROR(VLOOKUP(B343,INDIRECT(\"'\"&$T$1&\"'!\"&\"$C$2:$G$200\"),5,FALSE),0)","v":0},{"$f":"8-COUNTIF(F343:U343,\"\")","v":1},{"$f":"E343/IF(V343>4,5,V343)","v":39.634648498914451}]
[342,"Alyn Tomkinson","Unaffiliated","M40",{"$f":"SUM(LARGE((S344,G344,I344,K344,M344,O344,Q344,U344),{1,2,3,4,5}))","v":37.63543658381132},{"$f":"IFERROR(VLOOKUP(B344,INDIRECT(\"'\"&$F$1&\"'!\"&\"$C$2:$G$200\"),4,FALSE),\"\")","v":""},{"$f":"IFERROR(VLOOKUP(B344,INDIRECT(\"'\"&$F$1&\"'!\"&\"$C$2:$G$200\"),5,FALSE),0)","v":0},{"$f":"IFERROR(VLOOKUP(B344,INDIRECT(\"'\"&$H$1&\"'!\"&\"$C$2:$G$200\"),4,FALSE),\"\")","v":""},{"$f":"IFERROR(VLOOKUP(B344,INDIRECT(\"'\"&$H$1&\"'!\"&\"$C$2:$G$200\"),5,FALSE),0)","v":0},{"$f":"IFERROR(VLOOKUP(B344,INDIRECT(\"'\"&$J$1&\"'!\"&\"$C$2:$G$200\"),4,FALSE),\"\")","v":""},{"$f":"IFERROR(VLOOKUP(B344,INDIRECT(\"'\"&$J$1&\"'!\"&\"$C$2:$G$200\"),5,FALSE),0)","v":0},{"$f":"IFERROR(VLOOKUP(B344,INDIRECT(\"'\"&$L$1&\"'!\"&\"$C$2:$G$200\"),4,FALSE),\"\")","v":""},{"$f":"IFERROR(VLOOKUP(B344,INDIRECT(\"'\"&$L$1&\"'!\"&\"$C$2:$G$200\"),5,FALSE),0)","v":0},{"$f":"IFERROR(VLOOKUP(B344,INDIRECT(\"'\"&$N$1&\"'!\"&\"$C$2:$G$200\"),4,FALSE),\"\")","v":""},{"$f":"IFERROR(VLOOKUP(B344,INDIRECT(\"'\"&$N$1&\"'!\"&\"$C$2:$G$200\"),5,FALSE),0)","v":0},{"$f":"IFERROR(VLOOKUP(B344,INDIRECT(\"'\"&$P$1&\"'!\"&\"$C$2:$G$200\"),4,FALSE),\"\")","v":3.5381944444444445E-2},{"$f":"IFERROR(VLOOKUP(B344,INDIRECT(\"'\"&$P$1&\"'!\"&\"$C$2:$G$200\"),5,FALSE),0)","v":37.63543658381132},{"$f":"IFERROR(VLOOKUP(B344,INDIRECT(\"'\"&$R$1&\"'!\"&\"$C$2:$G$200\"),4,FALSE),\"\")","v":""},{"$f":"IFERROR(VLOOKUP(B344,INDIRECT(\"'\"&$R$1&\"'!\"&\"$C$2:$G$200\"),5,FALSE),0)","v":0},{"$f":"IFERROR(VLOOKUP(B344,INDIRECT(\"'\"&$T$1&\"'!\"&\"$C$2:$G$200\"),4,FALSE),\"\")","v":""},{"$f":"IFERROR(VLOOKUP(B344,INDIRECT(\"'\"&$T$1&\"'!\"&\"$C$2:$G$200\"),5,FALSE),0)","v":0},{"$f":"8-COUNTIF(F344:U344,\"\")","v":1},{"$f":"E344/IF(V344>4,5,V344)","v":37.63543658381132}]
[343,"Gareth Ponsford","Cainscross Vets","SM",{"$f":"SUM(LARGE((S345,G345,I345,K345,M345,O345,Q345,U345),{1,2,3,4,5}))","v":37.216704863763674},{"$f":"IFERROR(VLOOKUP(B345,INDIRECT(\"'\"&$F$1&\"'!\"&\"$C$2:$G$200\"),4,FALSE),\"\")","v":""},{"$f":"IFERROR(VLOOKUP(B345,INDIRECT(\"'\"&$F$1&\"'!\"&\"$C$2:$G$200\"),5,FALSE),0)","v":0},{"$f":"IFERROR(VLOOKUP(B345,INDIRECT(\"'\"&$H$1&\"'!\"&\"$C$2:$G$200\"),4,FALSE),\"\")","v":""},{"$f":"IFERROR(VLOOKUP(B345,INDIRECT(\"'\"&$H$1&\"'!\"&\"$C$2:$G$200\"),5,FALSE),0)","v":0},{"$f":"IFERROR(VLOOKUP(B345,INDIRECT(\"'\"&$J$1&\"'!\"&\"$C$2:$G$200\"),4,FALSE),\"\")","v":""},{"$f":"IFERROR(VLOOKUP(B345,INDIRECT(\"'\"&$J$1&\"'!\"&\"$C$2:$G$200\"),5,FALSE),0)","v":0},{"$f":"IFERROR(VLOOKUP(B345,INDIRECT(\"'\"&$L$1&\"'!\"&\"$C$2:$G$200\"),4,FALSE),\"\")","v":""},{"$f":"IFERROR(VLOOKUP(B345,INDIRECT(\"'\"&$L$1&\"'!\"&\"$C$2:$G$200\"),5,FALSE),0)","v":0},{"$f":"IFERROR(VLOOKUP(B345,INDIRECT(\"'\"&$N$1&\"'!\"&\"$C$2:$G$200\"),4,FALSE),\"\")","v":""},{"$f":"IFERROR(VLOOKUP(B345,INDIRECT(\"'\"&$N$1&\"'!\"&\"$C$2:$G$200\"),5,FALSE),0)","v":0},{"$f":"IFERROR(VLOOKUP(B345,INDIRECT(\"'\"&$P$1&\"'!\"&\"$C$2:$G$200\"),4,FALSE),\"\")","v":""},{"$f":"IFERROR(VLOOKUP(B345,INDIRECT(\"'\"&$P$1&\"'!\"&\"$C$2:$G$200\"),5,FALSE),0)","v":0},{"$f":"IFERROR(VLOOKUP(B345,INDIRECT(\"'\"&$R$1&\"'!\"&\"$C$2:$G$200\"),4,FALSE),\"\")","v":""},{"$f":"IFERROR(VLOOKUP(B345,INDIRECT(\"'\"&$R$1&\"'!\"&\"$C$2:$G$200\"),5,FALSE),0)","v":0},{"$f":"IFERROR(VLOOKUP(B345,INDIRECT(\"'\"&$T$1&\"'!\"&\"$C$2:$G$200\"),4,FALSE),\"\")","v":5.9189814814814813E-2},{"$f":"IFERROR(VLOOKUP(B345,INDIRECT(\"'\"&$T$1&\"'!\"&\"$C$2:$G$200\"),5,FALSE),0)","v":37.216704863763674},{"$f":"8-COUNTIF(F345:U345,\"\")","v":1},{"$f":"E345/IF(V345>4,5,V345)","v":37.216704863763674}]
[344,"David Sabbagh","Unaffiliated","SM",{"$f":"SUM(LARGE((S346,G346,I346,K346,M346,O346,Q346,U346),{1,2,3,4,5}))","v":36.675579322638143},{"$f":"IFERROR(VLOOKUP(B346,INDIRECT(\"'\"&$F$1&\"'!\"&\"$C$2:$G$200\"),4,FALSE),\"\")","v":""},{"$f":"IFERROR(VLOOKUP(B346,INDIRECT(\"'\"&$F$1&\"'!\"&\"$C$2:$G$200\"),5,FALSE),0)","v":0},{"$f":"IFERROR(VLOOKUP(B346,INDIRECT(\"'\"&$H$1&\"'!\"&\"$C$2:$G$200\"),4,FALSE),\"\")","v":""},{"$f":"IFERROR(VLOOKUP(B346,INDIRECT(\"'\"&$H$1&\"'!\"&\"$C$2:$G$200\"),5,FALSE),0)","v":0},{"$f":"IFERROR(VLOOKUP(B346,INDIRECT(\"'\"&$J$1&\"'!\"&\"$C$2:$G$200\"),4,FALSE),\"\")","v":""},{"$f":"IFERROR(VLOOKUP(B346,INDIRECT(\"'\"&$J$1&\"'!\"&\"$C$2:$G$200\"),5,FALSE),0)","v":0},{"$f":"IFERROR(VLOOKUP(B346,INDIRECT(\"'\"&$L$1&\"'!\"&\"$C$2:$G$200\"),4,FALSE),\"\")","v":""},{"$f":"IFERROR(VLOOKUP(B346,INDIRECT(\"'\"&$L$1&\"'!\"&\"$C$2:$G$200\"),5,FALSE),0)","v":0},{"$f":"IFERROR(VLOOKUP(B346,INDIRECT(\"'\"&$N$1&\"'!\"&\"$C$2:$G$200\"),4,FALSE),\"\")","v":""},{"$f":"IFERROR(VLOOKUP(B346,INDIRECT(\"'\"&$N$1&\"'!\"&\"$C$2:$G$200\"),5,FALSE),0)","v":0},{"$f":"IFERROR(VLOOKUP(B346,INDIRECT(\"'\"&$P$1&\"'!\"&\"$C$2:$G$200\"),4,FALSE),\"\")","v":""},{"$f":"IFERROR(VLOOKUP(B346,INDIRECT(\"'\"&$P$1&\"'!\"&\"$C$2:$G$200\"),5,FALSE),0)","v":0},{"$f":"IFERROR(VLOOKUP(B346,INDIRECT(\"'\"&$R$1&\"'!\"&\"$C$2:$G$200\"),4,FALSE),\"\")","v":""},{"$f":"IFERROR(VLOOKUP(B346,INDIRECT(\"'\"&$R$1&\"'!\"&\"$C$2:$G$200\"),5,FALSE),0)","v":0},null,{"$f":"IFERROR(VLOOKUP(B346,INDIRECT(\"'\"&$T$1&\"'!\"&\"$C$2:$G$200\"),5,FALSE),0)","v":36.675579322638143},{"$f":"8-COUNTIF(F346:U346,\"\")","v":0},{"$f":"E346/IF(V346>4,5,V346)","v":{"$error":"#DIV/0!"}}]
[345,"Philip Gilby","Unaffiliated","M50",{"$f":"SUM(LARGE((S347,G347,I347,K347,M347,O347,Q347,U347),{1,2,3,4,5}))","v":36.415947390053475},{"$f":"IFERROR(VLOOKUP(B347,INDIRECT(\"'\"&$F$1&\"'!\"&\"$C$2:$G$200\"),4,FALSE),\"\")","v":""},{"$f":"IFERROR(VLOOKUP(B347,INDIRECT(\"'\"&$F$1&\"'!\"&\"$C$2:$G$200\"),5,FALSE),0)","v":0},{"$f":"IFERROR(VLOOKUP(B347,INDIRECT(\"'\"&$H$1&\"'!\"&\"$C$2:$G$200\"),4,FALSE),\"\")","v":""},{"$f":"IFERROR(VLOOKUP(B347,INDIRECT(\"'\"&$H$1&\"'!\"&\"$C$2:$G$200\"),5,FALSE),0)","v":0},{"$f":"IFERROR(VLOOKUP(B347,INDIRECT(\"'\"&$J$1&\"'!\"&\"$C$2:$G$200\"),4,FALSE),\"\")","v":""},{"$f":"IFERROR(VLOOKUP(B347,INDIRECT(\"'\"&$J$1&\"'!\"&\"$C$2:$G$200\"),5,FALSE),0)","v":0},{"$f":"IFERROR(VLOOKUP(B347,INDIRECT(\"'\"&$L$1&\"'!\"&\"$C$2:$G$200\"),4,FALSE),\"\")","v":""},{"$f":"IFERROR(VLOOKUP(B347,INDIRECT(\"'\"&$L$1&\"'!\"&\"$C$2:$G$200\"),5,FALSE),0)","v":0},{"$f":"IFERROR(VLOOKUP(B347,INDIRECT(\"'\"&$N$1&\"'!\"&\"$C$2:$G$200\"),4,FALSE),\"\")","v":3.6851851851851851E-2},{"$f":"IFERROR(VLOOKUP(B347,INDIRECT(\"'\"&$N$1&\"'!\"&\"$C$2:$G$200\"),5,FALSE),0)","v":36.415947390053475},{"$f":"IFERROR(VLOOKUP(B347,INDIRECT(\"'\"&$P$1&\"'!\"&\"$C$2:$G$200\"),4,FALSE),\"\")","v":""},{"$f":"IFERROR(VLOOKUP(B347,INDIRECT(\"'\"&$P$1&\"'!\"&\"$C$2:$G$200\"),5,FALSE),0)","v":0},{"$f":"IFERROR(VLOOKUP(B347,INDIRECT(\"'\"&$R$1&\"'!\"&\"$C$2:$G$200\"),4,FALSE),\"\")","v":""},{"$f":"IFERROR(VLOOKUP(B347,INDIRECT(\"'\"&$R$1&\"'!\"&\"$C$2:$G$200\"),5,FALSE),0)","v":0},{"$f":"IFERROR(VLOOKUP(B347,INDIRECT(\"'\"&$T$1&\"'!\"&\"$C$2:$G$200\"),4,FALSE),\"\")","v":""},{"$f":"IFERROR(VLOOKUP(B347,INDIRECT(\"'\"&$T$1&\"'!\"&\"$C$2:$G$200\"),5,FALSE),0)","v":0},{"$f":"8-COUNTIF(F347:U347,\"\")","v":1},{"$f":"E347/IF(V347>4,5,V347)","v":36.415947390053475}]
[346,"Janet Richards","Mynydd Du","F50",{"$f":"SUM(LARGE((S348,G348,I348,K348,M348,O348,Q348,U348),{1,2,3,4,5}))","v":36.061846293769896},{"$f":"IFERROR(VLOOKUP(B348,INDIRECT(\"'\"&$F$1&\"'!\"&\"$C$2:$G$200\"),4,FALSE),\"\")","v":""},{"$f":"IFERROR(VLOOKUP(B348,INDIRECT(\"'\"&$F$1&\"'!\"&\"$C$2:$G$200\"),5,FALSE),0)","v":0},{"$f":"IFERROR(VLOOKUP(B348,INDIRECT(\"'\"&$H$1&\"'!\"&\"$C$2:$G$200\"),4,FALSE),\"\")","v":""},{"$f":"IFERROR(VLOOKUP(B348,INDIRECT(\"'\"&$H$1&\"'!\"&\"$C$2:$G$200\"),5,FALSE),0)","v":0},{"$f":"IFERROR(VLOOKUP(B348,INDIRECT(\"'\"&$J$1&\"'!\"&\"$C$2:$G$200\"),4,FALSE),\"\")","v":""},{"$f":"IFERROR(VLOOKUP(B348,INDIRECT(\"'\"&$J$1&\"'!\"&\"$C$2:$G$200\"),5,FALSE),0)","v":0},{"$f":"IFERROR(VLOOKUP(B348,INDIRECT(\"'\"&$L$1&\"'!\"&\"$C$2:$G$200\"),4,FALSE),\"\")","v":""},{"$f":"IFERROR(VLOOKUP(B348,INDIRECT(\"'\"&$L$1&\"'!\"&\"$C$2:$G$200\"),5,FALSE),0)","v":0},{"$f":"IFERROR(VLOOKUP(B348,INDIRECT(\"'\"&$N$1&\"'!\"&\"$C$2:$G$200\"),4,FALSE),\"\")","v":""},{"$f":"IFERROR(VLOOKUP(B348,INDIRECT(\"'\"&$N$1&\"'!\"&\"$C$2:$G$200\"),5,FALSE),0)","v":0},{"$f":"IFERROR(VLOOKUP(B348,INDIRECT(\"'\"&$P$1&\"'!\"&\"$C$2:$G$200\"),4,FALSE),\"\")","v":""},{"$f":"IFERROR(VLOOKUP(B348,INDIRECT(\"'\"&$P$1&\"'!\"&\"$C$2:$G$200\"),5,FALSE),0)","v":0},{"$f":"IFERROR(VLOOKUP(B348,INDIRECT(\"'\"&$R$1&\"'!\"&\"$C$2:$G$200\"),4,FALSE),\"\")","v":3.3379629629629634E-2},{"$f":"IFERROR(VLOOKUP(B348,INDIRECT(\"'\"&$R$1&\"'!\"&\"$C$2:$G$200\"),5,FALSE),0)","v":36.061846293769896},{"$f":"IFERROR(VLOOKUP(B348,INDIRECT(\"'\"&$T$1&\"'!\"&\"$C$2:$G$200\"),4,FALSE),\"\")","v":""},{"$f":"IFERROR(VLOOKUP(B348,INDIRECT(\"'\"&$T$1&\"'!\"&\"$C$2:$G$200\"),5,FALSE),0)","v":0},{"$f":"8-COUNTIF(F348:U348,\"\")","v":1},{"$f":"E348/IF(V348>4,5,V348)","v":36.061846293769896}]
[347,"Fraser Stephens","SWOC","M",{"$f":"SUM(LARGE((S349,G349,I349,K349,M349,O349,Q349,U349),{1,2,3,4,5}))","v":35.561497326203195},{"$f":"IFERROR(VLOOKUP(B349,INDIRECT(\"'\"&$F$1&\"'!\"&\"$C$2:$G$200\"),4,FALSE),\"\")","v":""},{"$f":"IFERROR(VLOOKUP(B349,INDIRECT(\"'\"&$F$1&\"'!\"&\"$C$2:$G$200\"),5,FALSE),0)","v":0},{"$f":"IFERROR(VLOOKUP(B349,INDIRECT(\"'\"&$H$1&\"'!\"&\"$C$2:$G$200\"),4,FALSE),\"\")","v":""},{"$f":"IFERROR(VLOOKUP(B349,INDIRECT(\"'\"&$H$1&\"'!\"&\"$C$2:$G$200\"),5,FALSE),0)","v":0},{"$f":"IFERROR(VLOOKUP(B349,INDIRECT(\"'\"&$J$1&\"'!\"&\"$C$2:$G$200\"),4,FALSE),\"\")","v":""},{"$f":"IFERROR(VLOOKUP(B349,INDIRECT(\"'\"&$J$1&\"'!\"&\"$C$2:$G$200\"),5,FALSE),0)","v":0},{"$f":"IFERROR(VLOOKUP(B349,INDIRECT(\"'\"&$L$1&\"'!\"&\"$C$2:$G$200\"),4,FALSE),\"\")","v":""},{"$f":"IFERROR(VLOOKUP(B349,INDIRECT(\"'\"&$L$1&\"'!\"&\"$C$2:$G$200\"),5,FALSE),0)","v":0},{"$f":"IFERROR(VLOOKUP(B349,INDIRECT(\"'\"&$N$1&\"'!\"&\"$C$2:$G$200\"),4,FALSE),\"\")","v":""},{"$f":"IFERROR(VLOOKUP(B349,INDIRECT(\"'\"&$N$1&\"'!\"&\"$C$2:$G$200\"),5,FALSE),0)","v":0},{"$f":"IFERROR(VLOOKUP(B349,INDIRECT(\"'\"&$P$1&\"'!\"&\"$C$2:$G$200\"),4,FALSE),\"\")","v":""},{"$f":"IFERROR(VLOOKUP(B349,INDIRECT(\"'\"&$P$1&\"'!\"&\"$C$2:$G$200\"),5,FALSE),0)","v":0},{"$f":"IFERROR(VLOOKUP(B349,INDIRECT(\"'\"&$R$1&\"'!\"&\"$C$2:$G$200\"),4,FALSE),\"\")","v":""},{"$f":"IFERROR(VLOOKUP(B349,INDIRECT(\"'\"&$R$1&\"'!\"&\"$C$2:$G$200\"),5,FALSE),0)","v":0},{"$f":"IFERROR(VLOOKUP(B349,INDIRECT(\"'\"&$T$1&\"'!\"&\"$C$2:$G$200\"),4,FALSE),\"\")","v":5.9791666666666667E-2},{"$f":"IFERROR(VLOOKUP(B349,INDIRECT(\"'\"&$T$1&\"'!\"&\"$C$2:$G$200\"),5,FALSE),0)","v":35.561497326203195},{"$f":"8-COUNTIF(F349:U349,\"\")","v":1},{"$f":"E349/IF(V349>4,5,V349)","v":35.561497326203195}]
[348,"Martin Adams","Forest Of Dean AC","SM",{"$f":"SUM(LARGE((S350,G350,I350,K350,M350,O350,Q350,U350),{1,2,3,4,5}))","v":35.152341973624381},{"$f":"IFERROR(VLOOKUP(B350,INDIRECT(\"'\"&$F$1&\"'!\"&\"$C$2:$G$200\"),4,FALSE),\"\")","v":""},{"$f":"IFERROR(VLOOKUP(B350,INDIRECT(\"'\"&$F$1&\"'!\"&\"$C$2:$G$200\"),5,FALSE),0)","v":0},{"$f":"IFERROR(VLOOKUP(B350,INDIRECT(\"'\"&$H$1&\"'!\"&\"$C$2:$G$200\"),4,FALSE),\"\")","v":""},{"$f":"IFERROR(VLOOKUP(B350,INDIRECT(\"'\"&$H$1&\"'!\"&\"$C$2:$G$200\"),5,FALSE),0)","v":0},{"$f":"IFERROR(VLOOKUP(B350,INDIRECT(\"'\"&$J$1&\"'!\"&\"$C$2:$G$200\"),4,FALSE),\"\")","v":""},{"$f":"IFERROR(VLOOKUP(B350,INDIRECT(\"'\"&$J$1&\"'!\"&\"$C$2:$G$200\"),5,FALSE),0)","v":0},{"$f":"IFERROR(VLOOKUP(B350,INDIRECT(\"'\"&$L$1&\"'!\"&\"$C$2:$G$200\"),4,FALSE),\"\")","v":""},{"$f":"IFERROR(VLOOKUP(B350,INDIRECT(\"'\"&$L$1&\"'!\"&\"$C$2:$G$200\"),5,FALSE),0)","v":0},{"$f":"IFERROR(VLOOKUP(B350,INDIRECT(\"'\"&$N$1&\"'!\"&\"$C$2:$G$200\"),4,FALSE),\"\")","v":""},{"$f":"IFERROR(VLOOKUP(B350,INDIRECT(\"'\"&$N$1&\"'!\"&\"$C$2:$G$200\"),5,FALSE),0)","v":0},{"$f":"IFERROR(VLOOKUP(B350,INDIRECT(\"'\"&$P$1&\"'!\"&\"$C$2:$G$200\"),4,FALSE),\"\")","v":""},{"$f":"IFERROR(VLOOKUP(B350,INDIRECT(\"'\"&$P$1&\"'!\"&\"$C$2:$G$200\"),5,FALSE),0)","v":0},{"$f":"IFERROR(VLOOKUP(B350,INDIRECT(\"'\"&$R$1&\"'!\"&\"$C$2:$G$200\"),4,FALSE),\"\")","v":3.3564814814814818E-2},{"$f":"IFERROR(VLOOKUP(B350,INDIRECT(\"'\"&$R$1&\"'!\"&\"$C$2:$G$200\"),5,FALSE),0)","v":35.152341973624381},{"$f":"IFERROR(VLOOKUP(B350,INDIRECT(\"'\"&$T$1&\"'!\"&\"$C$2:$G$200\"),4,FALSE),\"\")","v":""},{"$f":"IFERROR(VLOOKUP(B350,INDIRECT(\"'\"&$T$1&\"'!\"&\"$C$2:$G$200\"),5,FALSE),0)","v":0},{"$f":"8-COUNTIF(F350:U350,\"\")","v":1},{"$f":"E350/IF(V350>4,5,V350)","v":35.152341973624381}]
[349,"Rosie Eldridge","Ryde Harriers","SF",{"$f":"SUM(LARGE((S351,G351,I351,K351,M351,O351,Q351,U351),{1,2,3,4,5}))","v":34.768286291831998},{"$f":"IFERROR(VLOOKUP(B351,INDIRECT(\"'\"&$F$1&\"'!\"&\"$C$2:$G$200\"),4,FALSE),\"\")","v":""},{"$f":"IFERROR(VLOOKUP(B351,INDIRECT(\"'\"&$F$1&\"'!\"&\"$C$2:$G$200\"),5,FALSE),0)","v":0},{"$f":"IFERROR(VLOOKUP(B351,INDIRECT(\"'\"&$H$1&\"'!\"&\"$C$2:$G$200\"),4,FALSE),\"\")","v":5.1087962962962967E-2},{"$f":"IFERROR(VLOOKUP(B351,INDIRECT(\"'\"&$H$1&\"'!\"&\"$C$2:$G$200\"),5,FALSE),0)","v":34.768286291831998},{"$f":"IFERROR(VLOOKUP(B351,INDIRECT(\"'\"&$J$1&\"'!\"&\"$C$2:$G$200\"),4,FALSE),\"\")","v":""},{"$f":"IFERROR(VLOOKUP(B351,INDIRECT(\"'\"&$J$1&\"'!\"&\"$C$2:$G$200\"),5,FALSE),0)","v":0},{"$f":"IFERROR(VLOOKUP(B351,INDIRECT(\"'\"&$L$1&\"'!\"&\"$C$2:$G$200\"),4,FALSE),\"\")","v":""},{"$f":"IFERROR(VLOOKUP(B351,INDIRECT(\"'\"&$L$1&\"'!\"&\"$C$2:$G$200\"),5,FALSE),0)","v":0},{"$f":"IFERROR(VLOOKUP(B351,INDIRECT(\"'\"&$N$1&\"'!\"&\"$C$2:$G$200\"),4,FALSE),\"\")","v":""},{"$f":"IFERROR(VLOOKUP(B351,INDIRECT(\"'\"&$N$1&\"'!\"&\"$C$2:$G$200\"),5,FALSE),0)","v":0},{"$f":"IFERROR(VLOOKUP(B351,INDIRECT(\"'\"&$P$1&\"'!\"&\"$C$2:$G$200\"),4,FALSE),\"\")","v":""},{"$f":"IFERROR(VLOOKUP(B351,INDIRECT(\"'\"&$P$1&\"'!\"&\"$C$2:$G$200\"),5,FALSE),0)","v":0},{"$f":"IFERROR(VLOOKUP(B351,INDIRECT(\"'\"&$R$1&\"'!\"&\"$C$2:$G$200\"),4,FALSE),\"\")","v":""},{"$f":"IFERROR(VLOOKUP(B351,INDIRECT(\"'\"&$R$1&\"'!\"&\"$C$2:$G$200\"),5,FALSE),0)","v":0},{"$f":"IFERROR(VLOOKUP(B351,INDIRECT(\"'\"&$T$1&\"'!\"&\"$C$2:$G$200\"),4,FALSE),\"\")","v":""},{"$f":"IFERROR(VLOOKUP(B351,INDIRECT(\"'\"&$T$1&\"'!\"&\"$C$2:$G$200\"),5,FALSE),0)","v":0},{"$f":"8-COUNTIF(F351:U351,\"\")","v":1},{"$f":"E351/IF(V351>4,5,V351)","v":34.768286291831998}]
[350,"Andrew Keehn","Ryde Harriers","SM",{"$f":"SUM(LARGE((S352,G352,I352,K352,M352,O352,Q352,U352),{1,2,3,4,5}))","v":34.0570487384892},{"$f":"IFERROR(VLOOKUP(B352,INDIRECT(\"'\"&$F$1&\"'!\"&\"$C$2:$G$200\"),4,FALSE),\"\")","v":""},{"$f":"IFERROR(VLOOKUP(B352,INDIRECT(\"'\"&$F$1&\"'!\"&\"$C$2:$G$200\"),5,FALSE),0)","v":0},{"$f":"IFERROR(VLOOKUP(B352,INDIRECT(\"'\"&$H$1&\"'!\"&\"$C$2:$G$200\"),4,FALSE),\"\")","v":5.1307870370370372E-2},{"$f":"IFERROR(VLOOKUP(B352,INDIRECT(\"'\"&$H$1&\"'!\"&\"$C$2:$G$200\"),5,FALSE),0)","v":34.0570487384892},{"$f":"IFERROR(VLOOKUP(B352,INDIRECT(\"'\"&$J$1&\"'!\"&\"$C$2:$G$200\"),4,FALSE),\"\")","v":""},{"$f":"IFERROR(VLOOKUP(B352,INDIRECT(\"'\"&$J$1&\"'!\"&\"$C$2:$G$200\"),5,FALSE),0)","v":0},{"$f":"IFERROR(VLOOKUP(B352,INDIRECT(\"'\"&$L$1&\"'!\"&\"$C$2:$G$200\"),4,FALSE),\"\")","v":""},{"$f":"IFERROR(VLOOKUP(B352,INDIRECT(\"'\"&$L$1&\"'!\"&\"$C$2:$G$200\"),5,FALSE),0)","v":0},{"$f":"IFERROR(VLOOKUP(B352,INDIRECT(\"'\"&$N$1&\"'!\"&\"$C$2:$G$200\"),4,FALSE),\"\")","v":""},{"$f":"IFERROR(VLOOKUP(B352,INDIRECT(\"'\"&$N$1&\"'!\"&\"$C$2:$G$200\"),5,FALSE),0)","v":0},{"$f":"IFERROR(VLOOKUP(B352,INDIRECT(\"'\"&$P$1&\"'!\"&\"$C$2:$G$200\"),4,FALSE),\"\")","v":""},{"$f":"IFERROR(VLOOKUP(B352,INDIRECT(\"'\"&$P$1&\"'!\"&\"$C$2:$G$200\"),5,FALSE),0)","v":0},{"$f":"IFERROR(VLOOKUP(B352,INDIRECT(\"'\"&$R$1&\"'!\"&\"$C$2:$G$200\"),4,FALSE),\"\")","v":""},{"$f":"IFERROR(VLOOKUP(B352,INDIRECT(\"'\"&$R$1&\"'!\"&\"$C$2:$G$200\"),5,FALSE),0)","v":0},{"$f":"IFERROR(VLOOKUP(B352,INDIRECT(\"'\"&$T$1&\"'!\"&\"$C$2:$G$200\"),4,FALSE),\"\")","v":""},{"$f":"IFERROR(VLOOKUP(B352,INDIRECT(\"'\"&$T$1&\"'!\"&\"$C$2:$G$200\"),5,FALSE),0)","v":0},{"$f":"8-COUNTIF(F352:U352,\"\")","v":1},{"$f":"E352/IF(V352>4,5,V352)","v":34.0570487384892}]
[351,"Mellanie Sims","Unaffiliated","F40",{"$f":"SUM(LARGE((S353,G353,I353,K353,M353,O353,Q353,U353),{1,2,3,4,5}))","v":32.614056720098695},{"$f":"IFERROR(VLOOKUP(B353,INDIRECT(\"'\"&$F$1&\"'!\"&\"$C$2:$G$200\"),4,FALSE),\"\")","v":""},{"$f":"IFERROR(VLOOKUP(B353,INDIRECT(\"'\"&$F$1&\"'!\"&\"$C$2:$G$200\"),5,FALSE),0)","v":0},{"$f":"IFERROR(VLOOKUP(B353,INDIRECT(\"'\"&$H$1&\"'!\"&\"$C$2:$G$200\"),4,FALSE),\"\")","v":""},{"$f":"IFERROR(VLOOKUP(B353,INDIRECT(\"'\"&$H$1&\"'!\"&\"$C$2:$G$200\"),5,FALSE),0)","v":0},{"$f":"IFERROR(VLOOKUP(B353,INDIRECT(\"'\"&$J$1&\"'!\"&\"$C$2:$G$200\"),4,FALSE),\"\")","v":""},{"$f":"IFERROR(VLOOKUP(B353,INDIRECT(\"'\"&$J$1&\"'!\"&\"$C$2:$G$200\"),5,FALSE),0)","v":0},{"$f":"IFERROR(VLOOKUP(B353,INDIRECT(\"'\"&$L$1&\"'!\"&\"$C$2:$G$200\"),4,FALSE),\"\")","v":""},{"$f":"IFERROR(VLOOKUP(B353,INDIRECT(\"'\"&$L$1&\"'!\"&\"$C$2:$G$200\"),5,FALSE),0)","v":0},{"$f":"IFERROR(VLOOKUP(B353,INDIRECT(\"'\"&$N$1&\"'!\"&\"$C$2:$G$200\"),4,FALSE),\"\")","v":3.770833333333333E-2},{"$f":"IFERROR(VLOOKUP(B353,INDIRECT(\"'\"&$N$1&\"'!\"&\"$C$2:$G$200\"),5,FALSE),0)","v":32.614056720098695},{"$f":"IFERROR(VLOOKUP(B353,INDIRECT(\"'\"&$P$1&\"'!\"&\"$C$2:$G$200\"),4,FALSE),\"\")","v":""},{"$f":"IFERROR(VLOOKUP(B353,INDIRECT(\"'\"&$P$1&\"'!\"&\"$C$2:$G$200\"),5,FALSE),0)","v":0},{"$f":"IFERROR(VLOOKUP(B353,INDIRECT(\"'\"&$R$1&\"'!\"&\"$C$2:$G$200\"),4,FALSE),\"\")","v":""},{"$f":"IFERROR(VLOOKUP(B353,INDIRECT(\"'\"&$R$1&\"'!\"&\"$C$2:$G$200\"),5,FALSE),0)","v":0},{"$f":"IFERROR(VLOOKUP(B353,INDIRECT(\"'\"&$T$1&\"'!\"&\"$C$2:$G$200\"),4,FALSE),\"\")","v":""},{"$f":"IFERROR(VLOOKUP(B353,INDIRECT(\"'\"&$T$1&\"'!\"&\"$C$2:$G$200\"),5,FALSE),0)","v":0},{"$f":"8-COUNTIF(F353:U353,\"\")","v":1},{"$f":"E353/IF(V353>4,5,V353)","v":32.614056720098695}]
[352,"Sam Mills","Cainscross Vets","SM",{"$f":"SUM(LARGE((S354,G354,I354,K354,M354,O354,Q354,U354),{1,2,3,4,5}))","v":32.060096765979097},{"$f":"IFERROR(VLOOKUP(B354,INDIRECT(\"'\"&$F$1&\"'!\"&\"$C$2:$G$200\"),4,FALSE),\"\")","v":""},{"$f":"IFERROR(VLOOKUP(B354,INDIRECT(\"'\"&$F$1&\"'!\"&\"$C$2:$G$200\"),5,FALSE),0)","v":0},{"$f":"IFERROR(VLOOKUP(B354,INDIRECT(\"'\"&$H$1&\"'!\"&\"$C$2:$G$200\"),4,FALSE),\"\")","v":""},{"$f":"IFERROR(VLOOKUP(B354,INDIRECT(\"'\"&$H$1&\"'!\"&\"$C$2:$G$200\"),5,FALSE),0)","v":0},{"$f":"IFERROR(VLOOKUP(B354,INDIRECT(\"'\"&$J$1&\"'!\"&\"$C$2:$G$200\"),4,FALSE),\"\")","v":""},{"$f":"IFERROR(VLOOKUP(B354,INDIRECT(\"'\"&$J$1&\"'!\"&\"$C$2:$G$200\"),5,FALSE),0)","v":0},{"$f":"IFERROR(VLOOKUP(B354,INDIRECT(\"'\"&$L$1&\"'!\"&\"$C$2:$G$200\"),4,FALSE),\"\")","v":""},{"$f":"IFERROR(VLOOKUP(B354,INDIRECT(\"'\"&$L$1&\"'!\"&\"$C$2:$G$200\"),5,FALSE),0)","v":0},{"$f":"IFERROR(VLOOKUP(B354,INDIRECT(\"'\"&$N$1&\"'!\"&\"$C$2:$G$200\"),4,FALSE),\"\")","v":""},{"$f":"IFERROR(VLOOKUP(B354,INDIRECT(\"'\"&$N$1&\"'!\"&\"$C$2:$G$200\"),5,FALSE),0)","v":0},{"$f":"IFERROR(VLOOKUP(B354,INDIRECT(\"'\"&$P$1&\"'!\"&\"$C$2:$G$200\"),4,FALSE),\"\")","v":""},{"$f":"IFERROR(VLOOKUP(B354,INDIRECT(\"'\"&$P$1&\"'!\"&\"$C$2:$G$200\"),5,FALSE),0)","v":0},{"$f":"IFERROR(VLOOKUP(B354,INDIRECT(\"'\"&$R$1&\"'!\"&\"$C$2:$G$200\"),4,FALSE),\"\")","v":""},{"$f":"IFERROR(VLOOKUP(B354,INDIRECT(\"'\"&$R$1&\"'!\"&\"$C$2:$G$200\"),5,FALSE),0)","v":0},{"$f":"IFERROR(VLOOKUP(B354,INDIRECT(\"'\"&$T$1&\"'!\"&\"$C$2:$G$200\"),4,FALSE),\"\")","v":6.1064814814814815E-2},{"$f":"IFERROR(VLOOKUP(B354,INDIRECT(\"'\"&$T$1&\"'!\"&\"$C$2:$G$200\"),5,FALSE),0)","v":32.060096765979097},{"$f":"8-COUNTIF(F354:U354,\"\")","v":1},{"$f":"E354/IF(V354>4,5,V354)","v":32.060096765979097}]
[353,"Anthony Smith","TVH","M50",{"$f":"SUM(LARGE((S355,G355,I355,K355,M355,O355,Q355,U355),{1,2,3,4,5}))","v":31.514324693042319},{"$f":"IFERROR(VLOOKUP(B355,INDIRECT(\"'\"&$F$1&\"'!\"&\"$C$2:$G$200\"),4,FALSE),\"\")","v":""},{"$f":"IFERROR(VLOOKUP(B355,INDIRECT(\"'\"&$F$1&\"'!\"&\"$C$2:$G$200\"),5,FALSE),0)","v":0},{"$f":"IFERROR(VLOOKUP(B355,INDIRECT(\"'\"&$H$1&\"'!\"&\"$C$2:$G$200\"),4,FALSE),\"\")","v":""},{"$f":"IFERROR(VLOOKUP(B355,INDIRECT(\"'\"&$H$1&\"'!\"&\"$C$2:$G$200\"),5,FALSE),0)","v":0},{"$f":"IFERROR(VLOOKUP(B355,INDIRECT(\"'\"&$J$1&\"'!\"&\"$C$2:$G$200\"),4,FALSE),\"\")","v":""},{"$f":"IFERROR(VLOOKUP(B355,INDIRECT(\"'\"&$J$1&\"'!\"&\"$C$2:$G$200\"),5,FALSE),0)","v":0},{"$f":"IFERROR(VLOOKUP(B355,INDIRECT(\"'\"&$L$1&\"'!\"&\"$C$2:$G$200\"),4,FALSE),\"\")","v":""},{"$f":"IFERROR(VLOOKUP(B355,INDIRECT(\"'\"&$L$1&\"'!\"&\"$C$2:$G$200\"),5,FALSE),0)","v":0},{"$f":"IFERROR(VLOOKUP(B355,INDIRECT(\"'\"&$N$1&\"'!\"&\"$C$2:$G$200\"),4,FALSE),\"\")","v":""},{"$f":"IFERROR(VLOOKUP(B355,INDIRECT(\"'\"&$N$1&\"'!\"&\"$C$2:$G$200\"),5,FALSE),0)","v":0},{"$f":"IFERROR(VLOOKUP(B355,INDIRECT(\"'\"&$P$1&\"'!\"&\"$C$2:$G$200\"),4,FALSE),\"\")","v":""},{"$f":"IFERROR(VLOOKUP(B355,INDIRECT(\"'\"&$P$1&\"'!\"&\"$C$2:$G$200\"),5,FALSE),0)","v":0},{"$f":"IFERROR(VLOOKUP(B355,INDIRECT(\"'\"&$R$1&\"'!\"&\"$C$2:$G$200\"),4,FALSE),\"\")","v":3.4305555555555554E-2},{"$f":"IFERROR(VLOOKUP(B355,INDIRECT(\"'\"&$R$1&\"'!\"&\"$C$2:$G$200\"),5,FALSE),0)","v":31.514324693042319},{"$f":"IFERROR(VLOOKUP(B355,INDIRECT(\"'\"&$T$1&\"'!\"&\"$C$2:$G$200\"),4,FALSE),\"\")","v":""},{"$f":"IFERROR(VLOOKUP(B355,INDIRECT(\"'\"&$T$1&\"'!\"&\"$C$2:$G$200\"),5,FALSE),0)","v":0},{"$f":"8-COUNTIF(F355:U355,\"\")","v":1},{"$f":"E355/IF(V355>4,5,V355)","v":31.514324693042319}]
[354,"Glyn Hicks","Roberttown Road Runners","M60",{"$f":"SUM(LARGE((S356,G356,I356,K356,M356,O356,Q356,U356),{1,2,3,4,5}))","v":31.315062672615255},{"$f":"IFERROR(VLOOKUP(B356,INDIRECT(\"'\"&$F$1&\"'!\"&\"$C$2:$G$200\"),4,FALSE),\"\")","v":""},{"$f":"IFERROR(VLOOKUP(B356,INDIRECT(\"'\"&$F$1&\"'!\"&\"$C$2:$G$200\"),5,FALSE),0)","v":0},{"$f":"IFERROR(VLOOKUP(B356,INDIRECT(\"'\"&$H$1&\"'!\"&\"$C$2:$G$200\"),4,FALSE),\"\")","v":""},{"$f":"IFERROR(VLOOKUP(B356,INDIRECT(\"'\"&$H$1&\"'!\"&\"$C$2:$G$200\"),5,FALSE),0)","v":0},{"$f":"IFERROR(VLOOKUP(B356,INDIRECT(\"'\"&$J$1&\"'!\"&\"$C$2:$G$200\"),4,FALSE),\"\")","v":""},{"$f":"IFERROR(VLOOKUP(B356,INDIRECT(\"'\"&$J$1&\"'!\"&\"$C$2:$G$200\"),5,FALSE),0)","v":0},{"$f":"IFERROR(VLOOKUP(B356,INDIRECT(\"'\"&$L$1&\"'!\"&\"$C$2:$G$200\"),4,FALSE),\"\")","v":""},{"$f":"IFERROR(VLOOKUP(B356,INDIRECT(\"'\"&$L$1&\"'!\"&\"$C$2:$G$200\"),5,FALSE),0)","v":0},{"$f":"IFERROR(VLOOKUP(B356,INDIRECT(\"'\"&$N$1&\"'!\"&\"$C$2:$G$200\"),4,FALSE),\"\")","v":""},{"$f":"IFERROR(VLOOKUP(B356,INDIRECT(\"'\"&$N$1&\"'!\"&\"$C$2:$G$200\"),5,FALSE),0)","v":0},{"$f":"IFERROR(VLOOKUP(B356,INDIRECT(\"'\"&$P$1&\"'!\"&\"$C$2:$G$200\"),4,FALSE),\"\")","v":3.6759259259259255E-2},{"$f":"IFERROR(VLOOKUP(B356,INDIRECT(\"'\"&$P$1&\"'!\"&\"$C$2:$G$200\"),5,FALSE),0)","v":31.315062672615255},{"$f":"IFERROR(VLOOKUP(B356,INDIRECT(\"'\"&$R$1&\"'!\"&\"$C$2:$G$200\"),4,FALSE),\"\")","v":""},{"$f":"IFERROR(VLOOKUP(B356,INDIRECT(\"'\"&$R$1&\"'!\"&\"$C$2:$G$200\"),5,FALSE),0)","v":0},{"$f":"IFERROR(VLOOKUP(B356,INDIRECT(\"'\"&$T$1&\"'!\"&\"$C$2:$G$200\"),4,FALSE),\"\")","v":""},{"$f":"IFERROR(VLOOKUP(B356,INDIRECT(\"'\"&$T$1&\"'!\"&\"$C$2:$G$200\"),5,FALSE),0)","v":0},{"$f":"8-COUNTIF(F356:U356,\"\")","v":1},{"$f":"E356/IF(V356>4,5,V356)","v":31.315062672615255}]
[355,"Rachel Jones","Hay Hotfooters","F40",{"$f":"SUM(LARGE((S357,G357,I357,K357,M357,O357,Q357,U357),{1,2,3,4,5}))","v":30.775352432924088},{"$f":"IFERROR(VLOOKUP(B357,INDIRECT(\"'\"&$F$1&\"'!\"&\"$C$2:$G$200\"),4,FALSE),\"\")","v":""},{"$f":"IFERROR(VLOOKUP(B357,INDIRECT(\"'\"&$F$1&\"'!\"&\"$C$2:$G$200\"),5,FALSE),0)","v":0},{"$f":"IFERROR(VLOOKUP(B357,INDIRECT(\"'\"&$H$1&\"'!\"&\"$C$2:$G$200\"),4,FALSE),\"\")","v":""},{"$f":"IFERROR(VLOOKUP(B357,INDIRECT(\"'\"&$H$1&\"'!\"&\"$C$2:$G$200\"),5,FALSE),0)","v":0},{"$f":"IFERROR(VLOOKUP(B357,INDIRECT(\"'\"&$J$1&\"'!\"&\"$C$2:$G$200\"),4,FALSE),\"\")","v":""},{"$f":"IFERROR(VLOOKUP(B357,INDIRECT(\"'\"&$J$1&\"'!\"&\"$C$2:$G$200\"),5,FALSE),0)","v":0},{"$f":"IFERROR(VLOOKUP(B357,INDIRECT(\"'\"&$L$1&\"'!\"&\"$C$2:$G$200\"),4,FALSE),\"\")","v":""},{"$f":"IFERROR(VLOOKUP(B357,INDIRECT(\"'\"&$L$1&\"'!\"&\"$C$2:$G$200\"),5,FALSE),0)","v":0},{"$f":"IFERROR(VLOOKUP(B357,INDIRECT(\"'\"&$N$1&\"'!\"&\"$C$2:$G$200\"),4,FALSE),\"\")","v":""},{"$f":"IFERROR(VLOOKUP(B357,INDIRECT(\"'\"&$N$1&\"'!\"&\"$C$2:$G$200\"),5,FALSE),0)","v":0},{"$f":"IFERROR(VLOOKUP(B357,INDIRECT(\"'\"&$P$1&\"'!\"&\"$C$2:$G$200\"),4,FALSE),\"\")","v":""},{"$f":"IFERROR(VLOOKUP(B357,INDIRECT(\"'\"&$P$1&\"'!\"&\"$C$2:$G$200\"),5,FALSE),0)","v":0},{"$f":"IFERROR(VLOOKUP(B357,INDIRECT(\"'\"&$R$1&\"'!\"&\"$C$2:$G$200\"),4,FALSE),\"\")","v":3.4456018518518518E-2},{"$f":"IFERROR(VLOOKUP(B357,INDIRECT(\"'\"&$R$1&\"'!\"&\"$C$2:$G$200\"),5,FALSE),0)","v":30.775352432924088},null,{"$f":"IFERROR(VLOOKUP(B357,INDIRECT(\"'\"&$T$1&\"'!\"&\"$C$2:$G$200\"),5,FALSE),0)","v":0},{"$f":"8-COUNTIF(F357:U357,\"\")","v":1},{"$f":"E357/IF(V357>4,5,V357)","v":30.775352432924088}]
[356,"Terry Vaughan","Mynydd Du","M40",{"$f":"SUM(LARGE((S358,G358,I358,K358,M358,O358,Q358,U358),{1,2,3,4,5}))","v":30.759361232517346},{"$f":"IFERROR(VLOOKUP(B358,INDIRECT(\"'\"&$F$1&\"'!\"&\"$C$2:$G$200\"),4,FALSE),\"\")","v":""},{"$f":"IFERROR(VLOOKUP(B358,INDIRECT(\"'\"&$F$1&\"'!\"&\"$C$2:$G$200\"),5,FALSE),0)","v":0},{"$f":"IFERROR(VLOOKUP(B358,INDIRECT(\"'\"&$H$1&\"'!\"&\"$C$2:$G$200\"),4,FALSE),\"\")","v":""},{"$f":"IFERROR(VLOOKUP(B358,INDIRECT(\"'\"&$H$1&\"'!\"&\"$C$2:$G$200\"),5,FALSE),0)","v":0},{"$f":"IFERROR(VLOOKUP(B358,INDIRECT(\"'\"&$J$1&\"'!\"&\"$C$2:$G$200\"),4,FALSE),\"\")","v":""},{"$f":"IFERROR(VLOOKUP(B358,INDIRECT(\"'\"&$J$1&\"'!\"&\"$C$2:$G$200\"),5,FALSE),0)","v":0},{"$f":"IFERROR(VLOOKUP(B358,INDIRECT(\"'\"&$L$1&\"'!\"&\"$C$2:$G$200\"),4,FALSE),\"\")","v":""},{"$f":"IFERROR(VLOOKUP(B358,INDIRECT(\"'\"&$L$1&\"'!\"&\"$C$2:$G$200\"),5,FALSE),0)","v":0},{"$f":"IFERROR(VLOOKUP(B358,INDIRECT(\"'\"&$N$1&\"'!\"&\"$C$2:$G$200\"),4,FALSE),\"\")","v":4.6770833333333338E-2},{"$f":"IFERROR(VLOOKUP(B358,INDIRECT(\"'\"&$N$1&\"'!\"&\"$C$2:$G$200\"),5,FALSE),0)","v":1},{"$f":"IFERROR(VLOOKUP(B358,INDIRECT(\"'\"&$P$1&\"'!\"&\"$C$2:$G$200\"),4,FALSE),\"\")","v":4.3171296296296291E-2},{"$f":"IFERROR(VLOOKUP(B358,INDIRECT(\"'\"&$P$1&\"'!\"&\"$C$2:$G$200\"),5,FALSE),0)","v":1.8908009347779808},{"$f":"IFERROR(VLOOKUP(B358,INDIRECT(\"'\"&$R$1&\"'!\"&\"$C$2:$G$200\"),4,FALSE),\"\")","v":3.6805555555555557E-2},{"$f":"IFERROR(VLOOKUP(B358,INDIRECT(\"'\"&$R$1&\"'!\"&\"$C$2:$G$200\"),5,FALSE),0)","v":19.236016371077792},null,{"$f":"IFERROR(VLOOKUP(B358,INDIRECT(\"'\"&$T$1&\"'!\"&\"$C$2:$G$200\"),5,FALSE),0)","v":8.6325439266615724},{"$f":"8-COUNTIF(F358:U358,\"\")","v":3},{"$f":"E358/IF(V358>4,5,V358)","v":10.253120410839115}]
[357,"Michael Tong","Unaffiliated","M50",{"$f":"SUM(LARGE((S359,G359,I359,K359,M359,O359,Q359,U359),{1,2,3,4,5}))","v":28.393881453154847},{"$f":"IFERROR(VLOOKUP(B359,INDIRECT(\"'\"&$F$1&\"'!\"&\"$C$2:$G$200\"),4,FALSE),\"\")","v":""},{"$f":"IFERROR(VLOOKUP(B359,INDIRECT(\"'\"&$F$1&\"'!\"&\"$C$2:$G$200\"),5,FALSE),0)","v":0},{"$f":"IFERROR(VLOOKUP(B359,INDIRECT(\"'\"&$H$1&\"'!\"&\"$C$2:$G$200\"),4,FALSE),\"\")","v":""},{"$f":"IFERROR(VLOOKUP(B359,INDIRECT(\"'\"&$H$1&\"'!\"&\"$C$2:$G$200\"),5,FALSE),0)","v":0},{"$f":"IFERROR(VLOOKUP(B359,INDIRECT(\"'\"&$J$1&\"'!\"&\"$C$2:$G$200\"),4,FALSE),\"\")","v":""},{"$f":"IFERROR(VLOOKUP(B359,INDIRECT(\"'\"&$J$1&\"'!\"&\"$C$2:$G$200\"),5,FALSE),0)","v":0},{"$f":"IFERROR(VLOOKUP(B359,INDIRECT(\"'\"&$L$1&\"'!\"&\"$C$2:$G$200\"),4,FALSE),\"\")","v":""},{"$f":"IFERROR(VLOOKUP(B359,INDIRECT(\"'\"&$L$1&\"'!\"&\"$C$2:$G$200\"),5,FALSE),0)","v":0},{"$f":"IFERROR(VLOOKUP(B359,INDIRECT(\"'\"&$N$1&\"'!\"&\"$C$2:$G$200\"),4,FALSE),\"\")","v":""},{"$f":"IFERROR(VLOOKUP(B359,INDIRECT(\"'\"&$N$1&\"'!\"&\"$C$2:$G$200\"),5,FALSE),0)","v":0},{"$f":"IFERROR(VLOOKUP(B359,INDIRECT(\"'\"&$P$1&\"'!\"&\"$C$2:$G$200\"),4,FALSE),\"\")","v":3.7395833333333336E-2},{"$f":"IFERROR(VLOOKUP(B359,INDIRECT(\"'\"&$P$1&\"'!\"&\"$C$2:$G$200\"),5,FALSE),0)","v":28.393881453154847},{"$f":"IFERROR(VLOOKUP(B359,INDIRECT(\"'\"&$R$1&\"'!\"&\"$C$2:$G$200\"),4,FALSE),\"\")","v":""},{"$f":"IFERROR(VLOOKUP(B359,INDIRECT(\"'\"&$R$1&\"'!\"&\"$C$2:$G$200\"),5,FALSE),0)","v":0},null,{"$f":"IFERROR(VLOOKUP(B359,INDIRECT(\"'\"&$T$1&\"'!\"&\"$C$2:$G$200\"),5,FALSE),0)","v":0},{"$f":"8-COUNTIF(F359:U359,\"\")","v":1},{"$f":"E359/IF(V359>4,5,V359)","v":28.393881453154847}]
[358,"Tony Goddard","Unaffiliated","M50",{"$f":"SUM(LARGE((S360,G360,I360,K360,M360,O360,Q360,U360),{1,2,3,4,5}))","v":28.287656681538142},{"$f":"IFERROR(VLOOKUP(B360,INDIRECT(\"'\"&$F$1&\"'!\"&\"$C$2:$G$200\"),4,FALSE),\"\")","v":""},{"$f":"IFERROR(VLOOKUP(B360,INDIRECT(\"'\"&$F$1&\"'!\"&\"$C$2:$G$200\"),5,FALSE),0)","v":0},{"$f":"IFERROR(VLOOKUP(B360,INDIRECT(\"'\"&$H$1&\"'!\"&\"$C$2:$G$200\"),4,FALSE),\"\")","v":""},{"$f":"IFERROR(VLOOKUP(B360,INDIRECT(\"'\"&$H$1&\"'!\"&\"$C$2:$G$200\"),5,FALSE),0)","v":0},{"$f":"IFERROR(VLOOKUP(B360,INDIRECT(\"'\"&$J$1&\"'!\"&\"$C$2:$G$200\"),4,FALSE),\"\")","v":""},{"$f":"IFERROR(VLOOKUP(B360,INDIRECT(\"'\"&$J$1&\"'!\"&\"$C$2:$G$200\"),5,FALSE),0)","v":0},{"$f":"IFERROR(VLOOKUP(B360,INDIRECT(\"'\"&$L$1&\"'!\"&\"$C$2:$G$200\"),4,FALSE),\"\")","v":""},{"$f":"IFERROR(VLOOKUP(B360,INDIRECT(\"'\"&$L$1&\"'!\"&\"$C$2:$G$200\"),5,FALSE),0)","v":0},{"$f":"IFERROR(VLOOKUP(B360,INDIRECT(\"'\"&$N$1&\"'!\"&\"$C$2:$G$200\"),4,FALSE),\"\")","v":""},{"$f":"IFERROR(VLOOKUP(B360,INDIRECT(\"'\"&$N$1&\"'!\"&\"$C$2:$G$200\"),5,FALSE),0)","v":0},{"$f":"IFERROR(VLOOKUP(B360,INDIRECT(\"'\"&$P$1&\"'!\"&\"$C$2:$G$200\"),4,FALSE),\"\")","v":3.7418981481481477E-2},{"$f":"IFERROR(VLOOKUP(B360,INDIRECT(\"'\"&$P$1&\"'!\"&\"$C$2:$G$200\"),5,FALSE),0)","v":28.287656681538142},{"$f":"IFERROR(VLOOKUP(B360,INDIRECT(\"'\"&$R$1&\"'!\"&\"$C$2:$G$200\"),4,FALSE),\"\")","v":""},{"$f":"IFERROR(VLOOKUP(B360,INDIRECT(\"'\"&$R$1&\"'!\"&\"$C$2:$G$200\"),5,FALSE),0)","v":0},{"$f":"IFERROR(VLOOKUP(B360,INDIRECT(\"'\"&$T$1&\"'!\"&\"$C$2:$G$200\"),4,FALSE),\"\")","v":""},{"$f":"IFERROR(VLOOKUP(B360,INDIRECT(\"'\"&$T$1&\"'!\"&\"$C$2:$G$200\"),5,FALSE),0)","v":0},{"$f":"8-COUNTIF(F360:U360,\"\")","v":1},{"$f":"E360/IF(V360>4,5,V360)","v":28.287656681538142}]
[359,"John Sheldrake","Unaffiliated","SM",{"$f":"SUM(LARGE((S361,G361,I361,K361,M361,O361,Q361,U361),{1,2,3,4,5}))","v":27.199494550623871},{"$f":"IFERROR(VLOOKUP(B361,INDIRECT(\"'\"&$F$1&\"'!\"&\"$C$2:$G$200\"),4,FALSE),\"\")","v":2.5324074074074079E-2},{"$f":"IFERROR(VLOOKUP(B361,INDIRECT(\"'\"&$F$1&\"'!\"&\"$C$2:$G$200\"),5,FALSE),0)","v":27.199494550623871},{"$f":"IFERROR(VLOOKUP(B361,INDIRECT(\"'\"&$H$1&\"'!\"&\"$C$2:$G$200\"),4,FALSE),\"\")","v":""},{"$f":"IFERROR(VLOOKUP(B361,INDIRECT(\"'\"&$H$1&\"'!\"&\"$C$2:$G$200\"),5,FALSE),0)","v":0},{"$f":"IFERROR(VLOOKUP(B361,INDIRECT(\"'\"&$J$1&\"'!\"&\"$C$2:$G$200\"),4,FALSE),\"\")","v":""},{"$f":"IFERROR(VLOOKUP(B361,INDIRECT(\"'\"&$J$1&\"'!\"&\"$C$2:$G$200\"),5,FALSE),0)","v":0},{"$f":"IFERROR(VLOOKUP(B361,INDIRECT(\"'\"&$L$1&\"'!\"&\"$C$2:$G$200\"),4,FALSE),\"\")","v":""},{"$f":"IFERROR(VLOOKUP(B361,INDIRECT(\"'\"&$L$1&\"'!\"&\"$C$2:$G$200\"),5,FALSE),0)","v":0},{"$f":"IFERROR(VLOOKUP(B361,INDIRECT(\"'\"&$N$1&\"'!\"&\"$C$2:$G$200\"),4,FALSE),\"\")","v":""},{"$f":"IFERROR(VLOOKUP(B361,INDIRECT(\"'\"&$N$1&\"'!\"&\"$C$2:$G$200\"),5,FALSE),0)","v":0},{"$f":"IFERROR(VLOOKUP(B361,INDIRECT(\"'\"&$P$1&\"'!\"&\"$C$2:$G$200\"),4,FALSE),\"\")","v":""},{"$f":"IFERROR(VLOOKUP(B361,INDIRECT(\"'\"&$P$1&\"'!\"&\"$C$2:$G$200\"),5,FALSE),0)","v":0},{"$f":"IFERROR(VLOOKUP(B361,INDIRECT(\"'\"&$R$1&\"'!\"&\"$C$2:$G$200\"),4,FALSE),\"\")","v":""},{"$f":"IFERROR(VLOOKUP(B361,INDIRECT(\"'\"&$R$1&\"'!\"&\"$C$2:$G$200\"),5,FALSE),0)","v":0},{"$f":"IFERROR(VLOOKUP(B361,INDIRECT(\"'\"&$T$1&\"'!\"&\"$C$2:$G$200\"),4,FALSE),\"\")","v":""},{"$f":"IFERROR(VLOOKUP(B361,INDIRECT(\"'\"&$T$1&\"'!\"&\"$C$2:$G$200\"),5,FALSE),0)","v":0},{"$f":"8-COUNTIF(F361:U361,\"\")","v":1},{"$f":"E361/IF(V361>4,5,V361)","v":27.199494550623871}]
[360,"Ryan Tomkinson","Ystrad Runners","M40",{"$f":"SUM(LARGE((S362,G362,I362,K362,M362,O362,Q362,U362),{1,2,3,4,5}))","v":26.375610792436753},{"$f":"IFERROR(VLOOKUP(B362,INDIRECT(\"'\"&$F$1&\"'!\"&\"$C$2:$G$200\"),4,FALSE),\"\")","v":""},{"$f":"IFERROR(VLOOKUP(B362,INDIRECT(\"'\"&$F$1&\"'!\"&\"$C$2:$G$200\"),5,FALSE),0)","v":0},{"$f":"IFERROR(VLOOKUP(B362,INDIRECT(\"'\"&$H$1&\"'!\"&\"$C$2:$G$200\"),4,FALSE),\"\")","v":""},{"$f":"IFERROR(VLOOKUP(B362,INDIRECT(\"'\"&$H$1&\"'!\"&\"$C$2:$G$200\"),5,FALSE),0)","v":0},{"$f":"IFERROR(VLOOKUP(B362,INDIRECT(\"'\"&$J$1&\"'!\"&\"$C$2:$G$200\"),4,FALSE),\"\")","v":""},{"$f":"IFERROR(VLOOKUP(B362,INDIRECT(\"'\"&$J$1&\"'!\"&\"$C$2:$G$200\"),5,FALSE),0)","v":0},{"$f":"IFERROR(VLOOKUP(B362,INDIRECT(\"'\"&$L$1&\"'!\"&\"$C$2:$G$200\"),4,FALSE),\"\")","v":""},{"$f":"IFERROR(VLOOKUP(B362,INDIRECT(\"'\"&$L$1&\"'!\"&\"$C$2:$G$200\"),5,FALSE),0)","v":0},{"$f":"IFERROR(VLOOKUP(B362,INDIRECT(\"'\"&$N$1&\"'!\"&\"$C$2:$G$200\"),4,FALSE),\"\")","v":""},{"$f":"IFERROR(VLOOKUP(B362,INDIRECT(\"'\"&$N$1&\"'!\"&\"$C$2:$G$200\"),5,FALSE),0)","v":0},{"$f":"IFERROR(VLOOKUP(B362,INDIRECT(\"'\"&$P$1&\"'!\"&\"$C$2:$G$200\"),4,FALSE),\"\")","v":3.7835648148148153E-2},{"$f":"IFERROR(VLOOKUP(B362,INDIRECT(\"'\"&$P$1&\"'!\"&\"$C$2:$G$200\"),5,FALSE),0)","v":26.375610792436753},{"$f":"IFERROR(VLOOKUP(B362,INDIRECT(\"'\"&$R$1&\"'!\"&\"$C$2:$G$200\"),4,FALSE),\"\")","v":""},{"$f":"IFERROR(VLOOKUP(B362,INDIRECT(\"'\"&$R$1&\"'!\"&\"$C$2:$G$200\"),5,FALSE),0)","v":0},{"$f":"IFERROR(VLOOKUP(B362,INDIRECT(\"'\"&$T$1&\"'!\"&\"$C$2:$G$200\"),4,FALSE),\"\")","v":""},{"$f":"IFERROR(VLOOKUP(B362,INDIRECT(\"'\"&$T$1&\"'!\"&\"$C$2:$G$200\"),5,FALSE),0)","v":0},{"$f":"8-COUNTIF(F362:U362,\"\")","v":1},{"$f":"E362/IF(V362>4,5,V362)","v":26.375610792436753}]
[361,"Caroline Tinsley","Caerphilly Tri-ers","SF",{"$f":"SUM(LARGE((S363,G363,I363,K363,M363,O363,Q363,U363),{1,2,3,4,5}))","v":26.322498406628412},{"$f":"IFERROR(VLOOKUP(B363,INDIRECT(\"'\"&$F$1&\"'!\"&\"$C$2:$G$200\"),4,FALSE),\"\")","v":""},{"$f":"IFERROR(VLOOKUP(B363,INDIRECT(\"'\"&$F$1&\"'!\"&\"$C$2:$G$200\"),5,FALSE),0)","v":0},{"$f":"IFERROR(VLOOKUP(B363,INDIRECT(\"'\"&$H$1&\"'!\"&\"$C$2:$G$200\"),4,FALSE),\"\")","v":""},{"$f":"IFERROR(VLOOKUP(B363,INDIRECT(\"'\"&$H$1&\"'!\"&\"$C$2:$G$200\"),5,FALSE),0)","v":0},{"$f":"IFERROR(VLOOKUP(B363,INDIRECT(\"'\"&$J$1&\"'!\"&\"$C$2:$G$200\"),4,FALSE),\"\")","v":""},{"$f":"IFERROR(VLOOKUP(B363,INDIRECT(\"'\"&$J$1&\"'!\"&\"$C$2:$G$200\"),5,FALSE),0)","v":0},{"$f":"IFERROR(VLOOKUP(B363,INDIRECT(\"'\"&$L$1&\"'!\"&\"$C$2:$G$200\"),4,FALSE),\"\")","v":""},{"$f":"IFERROR(VLOOKUP(B363,INDIRECT(\"'\"&$L$1&\"'!\"&\"$C$2:$G$200\"),5,FALSE),0)","v":0},{"$f":"IFERROR(VLOOKUP(B363,INDIRECT(\"'\"&$N$1&\"'!\"&\"$C$2:$G$200\"),4,FALSE),\"\")","v":""},{"$f":"IFERROR(VLOOKUP(B363,INDIRECT(\"'\"&$N$1&\"'!\"&\"$C$2:$G$200\"),5,FALSE),0)","v":0},{"$f":"IFERROR(VLOOKUP(B363,INDIRECT(\"'\"&$P$1&\"'!\"&\"$C$2:$G$200\"),4,FALSE),\"\")","v":3.784722222222222E-2},{"$f":"IFERROR(VLOOKUP(B363,INDIRECT(\"'\"&$P$1&\"'!\"&\"$C$2:$G$200\"),5,FALSE),0)","v":26.322498406628412},{"$f":"IFERROR(VLOOKUP(B363,INDIRECT(\"'\"&$R$1&\"'!\"&\"$C$2:$G$200\"),4,FALSE),\"\")","v":""},{"$f":"IFERROR(VLOOKUP(B363,INDIRECT(\"'\"&$R$1&\"'!\"&\"$C$2:$G$200\"),5,FALSE),0)","v":0},{"$f":"IFERROR(VLOOKUP(B363,INDIRECT(\"'\"&$T$1&\"'!\"&\"$C$2:$G$200\"),4,FALSE),\"\")","v":""},{"$f":"IFERROR(VLOOKUP(B363,INDIRECT(\"'\"&$T$1&\"'!\"&\"$C$2:$G$200\"),5,FALSE),0)","v":0},{"$f":"8-COUNTIF(F363:U363,\"\")","v":1},{"$f":"E363/IF(V363>4,5,V363)","v":26.322498406628412}]
[362,"Dan Newton","Pont-y-Pwl and District","M40",{"$f":"SUM(LARGE((S364,G364,I364,K364,M364,O364,Q364,U364),{1,2,3,4,5}))","v":24.866310160427773},{"$f":"IFERROR(VLOOKUP(B364,INDIRECT(\"'\"&$F$1&\"'!\"&\"$C$2:$G$200\"),4,FALSE),\"\")","v":""},{"$f":"IFERROR(VLOOKUP(B364,INDIRECT(\"'\"&$F$1&\"'!\"&\"$C$2:$G$200\"),5,FALSE),0)","v":0},{"$f":"IFERROR(VLOOKUP(B364,INDIRECT(\"'\"&$H$1&\"'!\"&\"$C$2:$G$200\"),4,FALSE),\"\")","v":""},{"$f":"IFERROR(VLOOKUP(B364,INDIRECT(\"'\"&$H$1&\"'!\"&\"$C$2:$G$200\"),5,FALSE),0)","v":0},{"$f":"IFERROR(VLOOKUP(B364,INDIRECT(\"'\"&$J$1&\"'!\"&\"$C$2:$G$200\"),4,FALSE),\"\")","v":""},{"$f":"IFERROR(VLOOKUP(B364,INDIRECT(\"'\"&$J$1&\"'!\"&\"$C$2:$G$200\"),5,FALSE),0)","v":0},{"$f":"IFERROR(VLOOKUP(B364,INDIRECT(\"'\"&$L$1&\"'!\"&\"$C$2:$G$200\"),4,FALSE),\"\")","v":""},{"$f":"IFERROR(VLOOKUP(B364,INDIRECT(\"'\"&$L$1&\"'!\"&\"$C$2:$G$200\"),5,FALSE),0)","v":0},{"$f":"IFERROR(VLOOKUP(B364,INDIRECT(\"'\"&$N$1&\"'!\"&\"$C$2:$G$200\"),4,FALSE),\"\")","v":""},{"$f":"IFERROR(VLOOKUP(B364,INDIRECT(\"'\"&$N$1&\"'!\"&\"$C$2:$G$200\"),5,FALSE),0)","v":0},{"$f":"IFERROR(VLOOKUP(B364,INDIRECT(\"'\"&$P$1&\"'!\"&\"$C$2:$G$200\"),4,FALSE),\"\")","v":""},{"$f":"IFERROR(VLOOKUP(B364,INDIRECT(\"'\"&$P$1&\"'!\"&\"$C$2:$G$200\"),5,FALSE),0)","v":0},{"$f":"IFERROR(VLOOKUP(B364,INDIRECT(\"'\"&$R$1&\"'!\"&\"$C$2:$G$200\"),4,FALSE),\"\")","v":""},{"$f":"IFERROR(VLOOKUP(B364,INDIRECT(\"'\"&$R$1&\"'!\"&\"$C$2:$G$200\"),5,FALSE),0)","v":0},{"$f":"IFERROR(VLOOKUP(B364,INDIRECT(\"'\"&$T$1&\"'!\"&\"$C$2:$G$200\"),4,FALSE),\"\")","v":6.368055555555556E-2},{"$f":"IFERROR(VLOOKUP(B364,INDIRECT(\"'\"&$T$1&\"'!\"&\"$C$2:$G$200\"),5,FALSE),0)","v":24.866310160427773},{"$f":"8-COUNTIF(F364:U364,\"\")","v":1},{"$f":"E364/IF(V364>4,5,V364)","v":24.866310160427773}]
[363,"Emma Davies","Caerphilly Runners","SF",{"$f":"SUM(LARGE((S365,G365,I365,K365,M365,O365,Q365,U365),{1,2,3,4,5}))","v":24.038665816868466},{"$f":"IFERROR(VLOOKUP(B365,INDIRECT(\"'\"&$F$1&\"'!\"&\"$C$2:$G$200\"),4,FALSE),\"\")","v":""},{"$f":"IFERROR(VLOOKUP(B365,INDIRECT(\"'\"&$F$1&\"'!\"&\"$C$2:$G$200\"),5,FALSE),0)","v":0},{"$f":"IFERROR(VLOOKUP(B365,INDIRECT(\"'\"&$H$1&\"'!\"&\"$C$2:$G$200\"),4,FALSE),\"\")","v":""},{"$f":"IFERROR(VLOOKUP(B365,INDIRECT(\"'\"&$H$1&\"'!\"&\"$C$2:$G$200\"),5,FALSE),0)","v":0},{"$f":"IFERROR(VLOOKUP(B365,INDIRECT(\"'\"&$J$1&\"'!\"&\"$C$2:$G$200\"),4,FALSE),\"\")","v":""},{"$f":"IFERROR(VLOOKUP(B365,INDIRECT(\"'\"&$J$1&\"'!\"&\"$C$2:$G$200\"),5,FALSE),0)","v":0},{"$f":"IFERROR(VLOOKUP(B365,INDIRECT(\"'\"&$L$1&\"'!\"&\"$C$2:$G$200\"),4,FALSE),\"\")","v":""},{"$f":"IFERROR(VLOOKUP(B365,INDIRECT(\"'\"&$L$1&\"'!\"&\"$C$2:$G$200\"),5,FALSE),0)","v":0},{"$f":"IFERROR(VLOOKUP(B365,INDIRECT(\"'\"&$N$1&\"'!\"&\"$C$2:$G$200\"),4,FALSE),\"\")","v":""},{"$f":"IFERROR(VLOOKUP(B365,INDIRECT(\"'\"&$N$1&\"'!\"&\"$C$2:$G$200\"),5,FALSE),0)","v":0},{"$f":"IFERROR(VLOOKUP(B365,INDIRECT(\"'\"&$P$1&\"'!\"&\"$C$2:$G$200\"),4,FALSE),\"\")","v":3.8344907407407411E-2},{"$f":"IFERROR(VLOOKUP(B365,INDIRECT(\"'\"&$P$1&\"'!\"&\"$C$2:$G$200\"),5,FALSE),0)","v":24.038665816868466},{"$f":"IFERROR(VLOOKUP(B365,INDIRECT(\"'\"&$R$1&\"'!\"&\"$C$2:$G$200\"),4,FALSE),\"\")","v":""},{"$f":"IFERROR(VLOOKUP(B365,INDIRECT(\"'\"&$R$1&\"'!\"&\"$C$2:$G$200\"),5,FALSE),0)","v":0},{"$f":"IFERROR(VLOOKUP(B365,INDIRECT(\"'\"&$T$1&\"'!\"&\"$C$2:$G$200\"),4,FALSE),\"\")","v":""},{"$f":"IFERROR(VLOOKUP(B365,INDIRECT(\"'\"&$T$1&\"'!\"&\"$C$2:$G$200\"),5,FALSE),0)","v":0},{"$f":"8-COUNTIF(F365:U365,\"\")","v":1},{"$f":"E365/IF(V365>4,5,V365)","v":24.038665816868466}]
[364,"Liz Tobin","Run4All","F40",{"$f":"SUM(LARGE((S366,G366,I366,K366,M366,O366,Q366,U366),{1,2,3,4,5}))","v":23.425918993786034},{"$f":"IFERROR(VLOOKUP(B366,INDIRECT(\"'\"&$F$1&\"'!\"&\"$C$2:$G$200\"),4,FALSE),\"\")","v":""},{"$f":"IFERROR(VLOOKUP(B366,INDIRECT(\"'\"&$F$1&\"'!\"&\"$C$2:$G$200\"),5,FALSE),0)","v":0},{"$f":"IFERROR(VLOOKUP(B366,INDIRECT(\"'\"&$H$1&\"'!\"&\"$C$2:$G$200\"),4,FALSE),\"\")","v":5.4594907407407411E-2},{"$f":"IFERROR(VLOOKUP(B366,INDIRECT(\"'\"&$H$1&\"'!\"&\"$C$2:$G$200\"),5,FALSE),0)","v":23.425918993786034},{"$f":"IFERROR(VLOOKUP(B366,INDIRECT(\"'\"&$J$1&\"'!\"&\"$C$2:$G$200\"),4,FALSE),\"\")","v":""},{"$f":"IFERROR(VLOOKUP(B366,INDIRECT(\"'\"&$J$1&\"'!\"&\"$C$2:$G$200\"),5,FALSE),0)","v":0},{"$f":"IFERROR(VLOOKUP(B366,INDIRECT(\"'\"&$L$1&\"'!\"&\"$C$2:$G$200\"),4,FALSE),\"\")","v":""},{"$f":"IFERROR(VLOOKUP(B366,INDIRECT(\"'\"&$L$1&\"'!\"&\"$C$2:$G$200\"),5,FALSE),0)","v":0},{"$f":"IFERROR(VLOOKUP(B366,INDIRECT(\"'\"&$N$1&\"'!\"&\"$C$2:$G$200\"),4,FALSE),\"\")","v":""},{"$f":"IFERROR(VLOOKUP(B366,INDIRECT(\"'\"&$N$1&\"'!\"&\"$C$2:$G$200\"),5,FALSE),0)","v":0},{"$f":"IFERROR(VLOOKUP(B366,INDIRECT(\"'\"&$P$1&\"'!\"&\"$C$2:$G$200\"),4,FALSE),\"\")","v":""},{"$f":"IFERROR(VLOOKUP(B366,INDIRECT(\"'\"&$P$1&\"'!\"&\"$C$2:$G$200\"),5,FALSE),0)","v":0},{"$f":"IFERROR(VLOOKUP(B366,INDIRECT(\"'\"&$R$1&\"'!\"&\"$C$2:$G$200\"),4,FALSE),\"\")","v":""},{"$f":"IFERROR(VLOOKUP(B366,INDIRECT(\"'\"&$R$1&\"'!\"&\"$C$2:$G$200\"),5,FALSE),0)","v":0},{"$f":"IFERROR(VLOOKUP(B366,INDIRECT(\"'\"&$T$1&\"'!\"&\"$C$2:$G$200\"),4,FALSE),\"\")","v":""},{"$f":"IFERROR(VLOOKUP(B366,INDIRECT(\"'\"&$T$1&\"'!\"&\"$C$2:$G$200\"),5,FALSE),0)","v":0},{"$f":"8-COUNTIF(F366:U366,\"\")","v":1},{"$f":"E366/IF(V366>4,5,V366)","v":23.425918993786034}]
[365,"Sophie Quinney","Unaffiliated","F40",{"$f":"SUM(LARGE((S367,G367,I367,K367,M367,O367,Q367,U367),{1,2,3,4,5}))","v":23.201317661151499},{"$f":"IFERROR(VLOOKUP(B367,INDIRECT(\"'\"&$F$1&\"'!\"&\"$C$2:$G$200\"),4,FALSE),\"\")","v":""},{"$f":"IFERROR(VLOOKUP(B367,INDIRECT(\"'\"&$F$1&\"'!\"&\"$C$2:$G$200\"),5,FALSE),0)","v":0},{"$f":"IFERROR(VLOOKUP(B367,INDIRECT(\"'\"&$H$1&\"'!\"&\"$C$2:$G$200\"),4,FALSE),\"\")","v":5.4664351851851846E-2},{"$f":"IFERROR(VLOOKUP(B367,INDIRECT(\"'\"&$H$1&\"'!\"&\"$C$2:$G$200\"),5,FALSE),0)","v":23.201317661151499},{"$f":"IFERROR(VLOOKUP(B367,INDIRECT(\"'\"&$J$1&\"'!\"&\"$C$2:$G$200\"),4,FALSE),\"\")","v":""},{"$f":"IFERROR(VLOOKUP(B367,INDIRECT(\"'\"&$J$1&\"'!\"&\"$C$2:$G$200\"),5,FALSE),0)","v":0},{"$f":"IFERROR(VLOOKUP(B367,INDIRECT(\"'\"&$L$1&\"'!\"&\"$C$2:$G$200\"),4,FALSE),\"\")","v":""},{"$f":"IFERROR(VLOOKUP(B367,INDIRECT(\"'\"&$L$1&\"'!\"&\"$C$2:$G$200\"),5,FALSE),0)","v":0},{"$f":"IFERROR(VLOOKUP(B367,INDIRECT(\"'\"&$N$1&\"'!\"&\"$C$2:$G$200\"),4,FALSE),\"\")","v":""},{"$f":"IFERROR(VLOOKUP(B367,INDIRECT(\"'\"&$N$1&\"'!\"&\"$C$2:$G$200\"),5,FALSE),0)","v":0},{"$f":"IFERROR(VLOOKUP(B367,INDIRECT(\"'\"&$P$1&\"'!\"&\"$C$2:$G$200\"),4,FALSE),\"\")","v":""},{"$f":"IFERROR(VLOOKUP(B367,INDIRECT(\"'\"&$P$1&\"'!\"&\"$C$2:$G$200\"),5,FALSE),0)","v":0},{"$f":"IFERROR(VLOOKUP(B367,INDIRECT(\"'\"&$R$1&\"'!\"&\"$C$2:$G$200\"),4,FALSE),\"\")","v":""},{"$f":"IFERROR(VLOOKUP(B367,INDIRECT(\"'\"&$R$1&\"'!\"&\"$C$2:$G$200\"),5,FALSE),0)","v":0},{"$f":"IFERROR(VLOOKUP(B367,INDIRECT(\"'\"&$T$1&\"'!\"&\"$C$2:$G$200\"),4,FALSE),\"\")","v":""},{"$f":"IFERROR(VLOOKUP(B367,INDIRECT(\"'\"&$T$1&\"'!\"&\"$C$2:$G$200\"),5,FALSE),0)","v":0},{"$f":"8-COUNTIF(F367:U367,\"\")","v":1},{"$f":"E367/IF(V367>4,5,V367)","v":23.201317661151499}]
[366,"Steph Charnaud","Chepstow Harriers","F40",{"$f":"SUM(LARGE((S368,G368,I368,K368,M368,O368,Q368,U368),{1,2,3,4,5}))","v":22.841949047736843},{"$f":"IFERROR(VLOOKUP(B368,INDIRECT(\"'\"&$F$1&\"'!\"&\"$C$2:$G$200\"),4,FALSE),\"\")","v":""},{"$f":"IFERROR(VLOOKUP(B368,INDIRECT(\"'\"&$F$1&\"'!\"&\"$C$2:$G$200\"),5,FALSE),0)","v":0},{"$f":"IFERROR(VLOOKUP(B368,INDIRECT(\"'\"&$H$1&\"'!\"&\"$C$2:$G$200\"),4,FALSE),\"\")","v":""},{"$f":"IFERROR(VLOOKUP(B368,INDIRECT(\"'\"&$H$1&\"'!\"&\"$C$2:$G$200\"),5,FALSE),0)","v":0},{"$f":"IFERROR(VLOOKUP(B368,INDIRECT(\"'\"&$J$1&\"'!\"&\"$C$2:$G$200\"),4,FALSE),\"\")","v":""},{"$f":"IFERROR(VLOOKUP(B368,INDIRECT(\"'\"&$J$1&\"'!\"&\"$C$2:$G$200\"),5,FALSE),0)","v":0},{"$f":"IFERROR(VLOOKUP(B368,INDIRECT(\"'\"&$L$1&\"'!\"&\"$C$2:$G$200\"),4,FALSE),\"\")","v":3.3159722222222222E-2},{"$f":"IFERROR(VLOOKUP(B368,INDIRECT(\"'\"&$L$1&\"'!\"&\"$C$2:$G$200\"),5,FALSE),0)","v":22.841949047736843},{"$f":"IFERROR(VLOOKUP(B368,INDIRECT(\"'\"&$N$1&\"'!\"&\"$C$2:$G$200\"),4,FALSE),\"\")","v":""},{"$f":"IFERROR(VLOOKUP(B368,INDIRECT(\"'\"&$N$1&\"'!\"&\"$C$2:$G$200\"),5,FALSE),0)","v":0},{"$f":"IFERROR(VLOOKUP(B368,INDIRECT(\"'\"&$P$1&\"'!\"&\"$C$2:$G$200\"),4,FALSE),\"\")","v":""},{"$f":"IFERROR(VLOOKUP(B368,INDIRECT(\"'\"&$P$1&\"'!\"&\"$C$2:$G$200\"),5,FALSE),0)","v":0},{"$f":"IFERROR(VLOOKUP(B368,INDIRECT(\"'\"&$R$1&\"'!\"&\"$C$2:$G$200\"),4,FALSE),\"\")","v":""},{"$f":"IFERROR(VLOOKUP(B368,INDIRECT(\"'\"&$R$1&\"'!\"&\"$C$2:$G$200\"),5,FALSE),0)","v":0},null,{"$f":"IFERROR(VLOOKUP(B368,INDIRECT(\"'\"&$T$1&\"'!\"&\"$C$2:$G$200\"),5,FALSE),0)","v":0},{"$f":"8-COUNTIF(F368:U368,\"\")","v":1},{"$f":"E368/IF(V368>4,5,V368)","v":22.841949047736843}]
[367,"Janine Doggett","Southville RC","SF",{"$f":"SUM(LARGE((S369,G369,I369,K369,M369,O369,Q369,U369),{1,2,3,4,5}))","v":21.110262286732851},{"$f":"IFERROR(VLOOKUP(B369,INDIRECT(\"'\"&$F$1&\"'!\"&\"$C$2:$G$200\"),4,FALSE),\"\")","v":""},{"$f":"IFERROR(VLOOKUP(B369,INDIRECT(\"'\"&$F$1&\"'!\"&\"$C$2:$G$200\"),5,FALSE),0)","v":0},{"$f":"IFERROR(VLOOKUP(B369,INDIRECT(\"'\"&$H$1&\"'!\"&\"$C$2:$G$200\"),4,FALSE),\"\")","v":""},{"$f":"IFERROR(VLOOKUP(B369,INDIRECT(\"'\"&$H$1&\"'!\"&\"$C$2:$G$200\"),5,FALSE),0)","v":0},{"$f":"IFERROR(VLOOKUP(B369,INDIRECT(\"'\"&$J$1&\"'!\"&\"$C$2:$G$200\"),4,FALSE),\"\")","v":""},{"$f":"IFERROR(VLOOKUP(B369,INDIRECT(\"'\"&$J$1&\"'!\"&\"$C$2:$G$200\"),5,FALSE),0)","v":0},{"$f":"IFERROR(VLOOKUP(B369,INDIRECT(\"'\"&$L$1&\"'!\"&\"$C$2:$G$200\"),4,FALSE),\"\")","v":""},{"$f":"IFERROR(VLOOKUP(B369,INDIRECT(\"'\"&$L$1&\"'!\"&\"$C$2:$G$200\"),5,FALSE),0)","v":0},{"$f":"IFERROR(VLOOKUP(B369,INDIRECT(\"'\"&$N$1&\"'!\"&\"$C$2:$G$200\"),4,FALSE),\"\")","v":""},{"$f":"IFERROR(VLOOKUP(B369,INDIRECT(\"'\"&$N$1&\"'!\"&\"$C$2:$G$200\"),5,FALSE),0)","v":0},{"$f":"IFERROR(VLOOKUP(B369,INDIRECT(\"'\"&$P$1&\"'!\"&\"$C$2:$G$200\"),4,FALSE),\"\")","v":""},{"$f":"IFERROR(VLOOKUP(B369,INDIRECT(\"'\"&$P$1&\"'!\"&\"$C$2:$G$200\"),5,FALSE),0)","v":0},{"$f":"IFERROR(VLOOKUP(B369,INDIRECT(\"'\"&$R$1&\"'!\"&\"$C$2:$G$200\"),4,FALSE),\"\")","v":""},{"$f":"IFERROR(VLOOKUP(B369,INDIRECT(\"'\"&$R$1&\"'!\"&\"$C$2:$G$200\"),5,FALSE),0)","v":0},{"$f":"IFERROR(VLOOKUP(B369,INDIRECT(\"'\"&$T$1&\"'!\"&\"$C$2:$G$200\"),4,FALSE),\"\")","v":6.5046296296296297E-2},{"$f":"IFERROR(VLOOKUP(B369,INDIRECT(\"'\"&$T$1&\"'!\"&\"$C$2:$G$200\"),5,FALSE),0)","v":21.110262286732851},{"$f":"8-COUNTIF(F369:U369,\"\")","v":1},{"$f":"E369/IF(V369>4,5,V369)","v":21.110262286732851}]
[368,"Emma Davies (Mon)","Spirit of Monmouth","F40",{"$f":"SUM(LARGE((S370,G370,I370,K370,M370,O370,Q370,U370),{1,2,3,4,5}))","v":17.927170868347297},{"$f":"IFERROR(VLOOKUP(B370,INDIRECT(\"'\"&$F$1&\"'!\"&\"$C$2:$G$200\"),4,FALSE),\"\")","v":""},{"$f":"IFERROR(VLOOKUP(B370,INDIRECT(\"'\"&$F$1&\"'!\"&\"$C$2:$G$200\"),5,FALSE),0)","v":0},{"$f":"IFERROR(VLOOKUP(B370,INDIRECT(\"'\"&$H$1&\"'!\"&\"$C$2:$G$200\"),4,FALSE),\"\")","v":""},{"$f":"IFERROR(VLOOKUP(B370,INDIRECT(\"'\"&$H$1&\"'!\"&\"$C$2:$G$200\"),5,FALSE),0)","v":0},{"$f":"IFERROR(VLOOKUP(B370,INDIRECT(\"'\"&$J$1&\"'!\"&\"$C$2:$G$200\"),4,FALSE),\"\")","v":""},{"$f":"IFERROR(VLOOKUP(B370,INDIRECT(\"'\"&$J$1&\"'!\"&\"$C$2:$G$200\"),5,FALSE),0)","v":0},{"$f":"IFERROR(VLOOKUP(B370,INDIRECT(\"'\"&$L$1&\"'!\"&\"$C$2:$G$200\"),4,FALSE),\"\")","v":""},{"$f":"IFERROR(VLOOKUP(B370,INDIRECT(\"'\"&$L$1&\"'!\"&\"$C$2:$G$200\"),5,FALSE),0)","v":0},{"$f":"IFERROR(VLOOKUP(B370,INDIRECT(\"'\"&$N$1&\"'!\"&\"$C$2:$G$200\"),4,FALSE),\"\")","v":""},{"$f":"IFERROR(VLOOKUP(B370,INDIRECT(\"'\"&$N$1&\"'!\"&\"$C$2:$G$200\"),5,FALSE),0)","v":0},{"$f":"IFERROR(VLOOKUP(B370,INDIRECT(\"'\"&$P$1&\"'!\"&\"$C$2:$G$200\"),4,FALSE),\"\")","v":""},{"$f":"IFERROR(VLOOKUP(B370,INDIRECT(\"'\"&$P$1&\"'!\"&\"$C$2:$G$200\"),5,FALSE),0)","v":0},{"$f":"IFERROR(VLOOKUP(B370,INDIRECT(\"'\"&$R$1&\"'!\"&\"$C$2:$G$200\"),4,FALSE),\"\")","v":""},{"$f":"IFERROR(VLOOKUP(B370,INDIRECT(\"'\"&$R$1&\"'!\"&\"$C$2:$G$200\"),5,FALSE),0)","v":0},{"$f":"IFERROR(VLOOKUP(B370,INDIRECT(\"'\"&$T$1&\"'!\"&\"$C$2:$G$200\"),4,FALSE),\"\")","v":6.6203703703703709E-2},{"$f":"IFERROR(VLOOKUP(B370,INDIRECT(\"'\"&$T$1&\"'!\"&\"$C$2:$G$200\"),5,FALSE),0)","v":17.927170868347297},{"$f":"8-COUNTIF(F370:U370,\"\")","v":1},{"$f":"E370/IF(V370>4,5,V370)","v":17.927170868347297}]
[369,"Elizabeth Thomas","Cirencester","SF",{"$f":"SUM(LARGE((S371,G371,I371,K371,M371,O371,Q371,U371),{1,2,3,4,5}))","v":13.86148787505137},{"$f":"IFERROR(VLOOKUP(B371,INDIRECT(\"'\"&$F$1&\"'!\"&\"$C$2:$G$200\"),4,FALSE),\"\")","v":""},{"$f":"IFERROR(VLOOKUP(B371,INDIRECT(\"'\"&$F$1&\"'!\"&\"$C$2:$G$200\"),5,FALSE),0)","v":0},{"$f":"IFERROR(VLOOKUP(B371,INDIRECT(\"'\"&$H$1&\"'!\"&\"$C$2:$G$200\"),4,FALSE),\"\")","v":""},{"$f":"IFERROR(VLOOKUP(B371,INDIRECT(\"'\"&$H$1&\"'!\"&\"$C$2:$G$200\"),5,FALSE),0)","v":0},{"$f":"IFERROR(VLOOKUP(B371,INDIRECT(\"'\"&$J$1&\"'!\"&\"$C$2:$G$200\"),4,FALSE),\"\")","v":""},{"$f":"IFERROR(VLOOKUP(B371,INDIRECT(\"'\"&$J$1&\"'!\"&\"$C$2:$G$200\"),5,FALSE),0)","v":0},{"$f":"IFERROR(VLOOKUP(B371,INDIRECT(\"'\"&$L$1&\"'!\"&\"$C$2:$G$200\"),4,FALSE),\"\")","v":""},{"$f":"IFERROR(VLOOKUP(B371,INDIRECT(\"'\"&$L$1&\"'!\"&\"$C$2:$G$200\"),5,FALSE),0)","v":0},{"$f":"IFERROR(VLOOKUP(B371,INDIRECT(\"'\"&$N$1&\"'!\"&\"$C$2:$G$200\"),4,FALSE),\"\")","v":4.1932870370370377E-2},{"$f":"IFERROR(VLOOKUP(B371,INDIRECT(\"'\"&$N$1&\"'!\"&\"$C$2:$G$200\"),5,FALSE),0)","v":13.86148787505137},{"$f":"IFERROR(VLOOKUP(B371,INDIRECT(\"'\"&$P$1&\"'!\"&\"$C$2:$G$200\"),4,FALSE),\"\")","v":""},{"$f":"IFERROR(VLOOKUP(B371,INDIRECT(\"'\"&$P$1&\"'!\"&\"$C$2:$G$200\"),5,FALSE),0)","v":0},{"$f":"IFERROR(VLOOKUP(B371,INDIRECT(\"'\"&$R$1&\"'!\"&\"$C$2:$G$200\"),4,FALSE),\"\")","v":""},{"$f":"IFERROR(VLOOKUP(B371,INDIRECT(\"'\"&$R$1&\"'!\"&\"$C$2:$G$200\"),5,FALSE),0)","v":0},{"$f":"IFERROR(VLOOKUP(B371,INDIRECT(\"'\"&$T$1&\"'!\"&\"$C$2:$G$200\"),4,FALSE),\"\")","v":""},{"$f":"IFERROR(VLOOKUP(B371,INDIRECT(\"'\"&$T$1&\"'!\"&\"$C$2:$G$200\"),5,FALSE),0)","v":0},{"$f":"8-COUNTIF(F371:U371,\"\")","v":1},{"$f":"E371/IF(V371>4,5,V371)","v":13.86148787505137}]
[370,"Phil Wilson","Unaffiliated","M50",{"$f":"SUM(LARGE((S372,G372,I372,K372,M372,O372,Q372,U372),{1,2,3,4,5}))","v":10.637891520244459},{"$f":"IFERROR(VLOOKUP(B372,INDIRECT(\"'\"&$F$1&\"'!\"&\"$C$2:$G$200\"),4,FALSE),\"\")","v":""},{"$f":"IFERROR(VLOOKUP(B372,INDIRECT(\"'\"&$F$1&\"'!\"&\"$C$2:$G$200\"),5,FALSE),0)","v":0},{"$f":"IFERROR(VLOOKUP(B372,INDIRECT(\"'\"&$H$1&\"'!\"&\"$C$2:$G$200\"),4,FALSE),\"\")","v":""},{"$f":"IFERROR(VLOOKUP(B372,INDIRECT(\"'\"&$H$1&\"'!\"&\"$C$2:$G$200\"),5,FALSE),0)","v":0},{"$f":"IFERROR(VLOOKUP(B372,INDIRECT(\"'\"&$J$1&\"'!\"&\"$C$2:$G$200\"),4,FALSE),\"\")","v":""},{"$f":"IFERROR(VLOOKUP(B372,INDIRECT(\"'\"&$J$1&\"'!\"&\"$C$2:$G$200\"),5,FALSE),0)","v":0},{"$f":"IFERROR(VLOOKUP(B372,INDIRECT(\"'\"&$L$1&\"'!\"&\"$C$2:$G$200\"),4,FALSE),\"\")","v":""},{"$f":"IFERROR(VLOOKUP(B372,INDIRECT(\"'\"&$L$1&\"'!\"&\"$C$2:$G$200\"),5,FALSE),0)","v":0},{"$f":"IFERROR(VLOOKUP(B372,INDIRECT(\"'\"&$N$1&\"'!\"&\"$C$2:$G$200\"),4,FALSE),\"\")","v":""},{"$f":"IFERROR(VLOOKUP(B372,INDIRECT(\"'\"&$N$1&\"'!\"&\"$C$2:$G$200\"),5,FALSE),0)","v":0},{"$f":"IFERROR(VLOOKUP(B372,INDIRECT(\"'\"&$P$1&\"'!\"&\"$C$2:$G$200\"),4,FALSE),\"\")","v":""},{"$f":"IFERROR(VLOOKUP(B372,INDIRECT(\"'\"&$P$1&\"'!\"&\"$C$2:$G$200\"),5,FALSE),0)","v":0},{"$f":"IFERROR(VLOOKUP(B372,INDIRECT(\"'\"&$R$1&\"'!\"&\"$C$2:$G$200\"),4,FALSE),\"\")","v":""},{"$f":"IFERROR(VLOOKUP(B372,INDIRECT(\"'\"&$R$1&\"'!\"&\"$C$2:$G$200\"),5,FALSE),0)","v":0},{"$f":"IFERROR(VLOOKUP(B372,INDIRECT(\"'\"&$T$1&\"'!\"&\"$C$2:$G$200\"),4,FALSE),\"\")","v":6.8854166666666661E-2},{"$f":"IFERROR(VLOOKUP(B372,INDIRECT(\"'\"&$T$1&\"'!\"&\"$C$2:$G$200\"),5,FALSE),0)","v":10.637891520244459},{"$f":"8-COUNTIF(F372:U372,\"\")","v":1},{"$f":"E372/IF(V372>4,5,V372)","v":10.637891520244459}]
[371,"Suzanne Peters","Forest Of Dean AC","F50",{"$f":"SUM(LARGE((S373,G373,I373,K373,M373,O373,Q373,U373),{1,2,3,4,5}))","v":9.5006363704424714},{"$f":"IFERROR(VLOOKUP(B373,INDIRECT(\"'\"&$F$1&\"'!\"&\"$C$2:$G$200\"),4,FALSE),\"\")","v":""},{"$f":"IFERROR(VLOOKUP(B373,INDIRECT(\"'\"&$F$1&\"'!\"&\"$C$2:$G$200\"),5,FALSE),0)","v":0},{"$f":"IFERROR(VLOOKUP(B373,INDIRECT(\"'\"&$H$1&\"'!\"&\"$C$2:$G$200\"),4,FALSE),\"\")","v":5.8900462962962967E-2},{"$f":"IFERROR(VLOOKUP(B373,INDIRECT(\"'\"&$H$1&\"'!\"&\"$C$2:$G$200\"),5,FALSE),0)","v":9.5006363704424714},{"$f":"IFERROR(VLOOKUP(B373,INDIRECT(\"'\"&$J$1&\"'!\"&\"$C$2:$G$200\"),4,FALSE),\"\")","v":""},{"$f":"IFERROR(VLOOKUP(B373,INDIRECT(\"'\"&$J$1&\"'!\"&\"$C$2:$G$200\"),5,FALSE),0)","v":0},{"$f":"IFERROR(VLOOKUP(B373,INDIRECT(\"'\"&$L$1&\"'!\"&\"$C$2:$G$200\"),4,FALSE),\"\")","v":""},{"$f":"IFERROR(VLOOKUP(B373,INDIRECT(\"'\"&$L$1&\"'!\"&\"$C$2:$G$200\"),5,FALSE),0)","v":0},{"$f":"IFERROR(VLOOKUP(B373,INDIRECT(\"'\"&$N$1&\"'!\"&\"$C$2:$G$200\"),4,FALSE),\"\")","v":""},{"$f":"IFERROR(VLOOKUP(B373,INDIRECT(\"'\"&$N$1&\"'!\"&\"$C$2:$G$200\"),5,FALSE),0)","v":0},{"$f":"IFERROR(VLOOKUP(B373,INDIRECT(\"'\"&$P$1&\"'!\"&\"$C$2:$G$200\"),4,FALSE),\"\")","v":""},{"$f":"IFERROR(VLOOKUP(B373,INDIRECT(\"'\"&$P$1&\"'!\"&\"$C$2:$G$200\"),5,FALSE),0)","v":0},{"$f":"IFERROR(VLOOKUP(B373,INDIRECT(\"'\"&$R$1&\"'!\"&\"$C$2:$G$200\"),4,FALSE),\"\")","v":""},{"$f":"IFERROR(VLOOKUP(B373,INDIRECT(\"'\"&$R$1&\"'!\"&\"$C$2:$G$200\"),5,FALSE),0)","v":0},{"$f":"IFERROR(VLOOKUP(B373,INDIRECT(\"'\"&$T$1&\"'!\"&\"$C$2:$G$200\"),4,FALSE),\"\")","v":""},{"$f":"IFERROR(VLOOKUP(B373,INDIRECT(\"'\"&$T$1&\"'!\"&\"$C$2:$G$200\"),5,FALSE),0)","v":0},{"$f":"8-COUNTIF(F373:U373,\"\")","v":1},{"$f":"E373/IF(V373>4,5,V373)","v":9.5006363704424714}]
[372,"Dick Finch","Chepstow Harriers","M70",{"$f":"SUM(LARGE((S374,G374,I374,K374,M374,O374,Q374,U374),{1,2,3,4,5}))","v":7.4393752568845395},{"$f":"IFERROR(VLOOKUP(B374,INDIRECT(\"'\"&$F$1&\"'!\"&\"$C$2:$G$200\"),4,FALSE),\"\")","v":""},{"$f":"IFERROR(VLOOKUP(B374,INDIRECT(\"'\"&$F$1&\"'!\"&\"$C$2:$G$200\"),5,FALSE),0)","v":0},{"$f":"IFERROR(VLOOKUP(B374,INDIRECT(\"'\"&$H$1&\"'!\"&\"$C$2:$G$200\"),4,FALSE),\"\")","v":""},{"$f":"IFERROR(VLOOKUP(B374,INDIRECT(\"'\"&$H$1&\"'!\"&\"$C$2:$G$200\"),5,FALSE),0)","v":0},{"$f":"IFERROR(VLOOKUP(B374,INDIRECT(\"'\"&$J$1&\"'!\"&\"$C$2:$G$200\"),4,FALSE),\"\")","v":""},{"$f":"IFERROR(VLOOKUP(B374,INDIRECT(\"'\"&$J$1&\"'!\"&\"$C$2:$G$200\"),5,FALSE),0)","v":0},{"$f":"IFERROR(VLOOKUP(B374,INDIRECT(\"'\"&$L$1&\"'!\"&\"$C$2:$G$200\"),4,FALSE),\"\")","v":""},{"$f":"IFERROR(VLOOKUP(B374,INDIRECT(\"'\"&$L$1&\"'!\"&\"$C$2:$G$200\"),5,FALSE),0)","v":0},{"$f":"IFERROR(VLOOKUP(B374,INDIRECT(\"'\"&$N$1&\"'!\"&\"$C$2:$G$200\"),4,FALSE),\"\")","v":4.3379629629629629E-2},{"$f":"IFERROR(VLOOKUP(B374,INDIRECT(\"'\"&$N$1&\"'!\"&\"$C$2:$G$200\"),5,FALSE),0)","v":7.4393752568845395},{"$f":"IFERROR(VLOOKUP(B374,INDIRECT(\"'\"&$P$1&\"'!\"&\"$C$2:$G$200\"),4,FALSE),\"\")","v":""},{"$f":"IFERROR(VLOOKUP(B374,INDIRECT(\"'\"&$P$1&\"'!\"&\"$C$2:$G$200\"),5,FALSE),0)","v":0},{"$f":"IFERROR(VLOOKUP(B374,INDIRECT(\"'\"&$R$1&\"'!\"&\"$C$2:$G$200\"),4,FALSE),\"\")","v":""},{"$f":"IFERROR(VLOOKUP(B374,INDIRECT(\"'\"&$R$1&\"'!\"&\"$C$2:$G$200\"),5,FALSE),0)","v":0},{"$f":"IFERROR(VLOOKUP(B374,INDIRECT(\"'\"&$T$1&\"'!\"&\"$C$2:$G$200\"),4,FALSE),\"\")","v":""},{"$f":"IFERROR(VLOOKUP(B374,INDIRECT(\"'\"&$T$1&\"'!\"&\"$C$2:$G$200\"),5,FALSE),0)","v":0},{"$f":"8-COUNTIF(F374:U374,\"\")","v":1},{"$f":"E374/IF(V374>4,5,V374)","v":7.4393752568845395}]
[373,"Lisa Tustin","Unaffiliated","SF",{"$f":"SUM(LARGE((S375,G375,I375,K375,M375,O375,Q375,U375),{1,2,3,4,5}))","v":6.6556861570712167},{"$f":"IFERROR(VLOOKUP(B375,INDIRECT(\"'\"&$F$1&\"'!\"&\"$C$2:$G$200\"),4,FALSE),\"\")","v":""},{"$f":"IFERROR(VLOOKUP(B375,INDIRECT(\"'\"&$F$1&\"'!\"&\"$C$2:$G$200\"),5,FALSE),0)","v":0},{"$f":"IFERROR(VLOOKUP(B375,INDIRECT(\"'\"&$H$1&\"'!\"&\"$C$2:$G$200\"),4,FALSE),\"\")","v":5.9780092592592593E-2},{"$f":"IFERROR(VLOOKUP(B375,INDIRECT(\"'\"&$H$1&\"'!\"&\"$C$2:$G$200\"),5,FALSE),0)","v":6.6556861570712167},{"$f":"IFERROR(VLOOKUP(B375,INDIRECT(\"'\"&$J$1&\"'!\"&\"$C$2:$G$200\"),4,FALSE),\"\")","v":""},{"$f":"IFERROR(VLOOKUP(B375,INDIRECT(\"'\"&$J$1&\"'!\"&\"$C$2:$G$200\"),5,FALSE),0)","v":0},{"$f":"IFERROR(VLOOKUP(B375,INDIRECT(\"'\"&$L$1&\"'!\"&\"$C$2:$G$200\"),4,FALSE),\"\")","v":""},{"$f":"IFERROR(VLOOKUP(B375,INDIRECT(\"'\"&$L$1&\"'!\"&\"$C$2:$G$200\"),5,FALSE),0)","v":0},{"$f":"IFERROR(VLOOKUP(B375,INDIRECT(\"'\"&$N$1&\"'!\"&\"$C$2:$G$200\"),4,FALSE),\"\")","v":""},{"$f":"IFERROR(VLOOKUP(B375,INDIRECT(\"'\"&$N$1&\"'!\"&\"$C$2:$G$200\"),5,FALSE),0)","v":0},{"$f":"IFERROR(VLOOKUP(B375,INDIRECT(\"'\"&$P$1&\"'!\"&\"$C$2:$G$200\"),4,FALSE),\"\")","v":""},{"$f":"IFERROR(VLOOKUP(B375,INDIRECT(\"'\"&$P$1&\"'!\"&\"$C$2:$G$200\"),5,FALSE),0)","v":0},{"$f":"IFERROR(VLOOKUP(B375,INDIRECT(\"'\"&$R$1&\"'!\"&\"$C$2:$G$200\"),4,FALSE),\"\")","v":""},{"$f":"IFERROR(VLOOKUP(B375,INDIRECT(\"'\"&$R$1&\"'!\"&\"$C$2:$G$200\"),5,FALSE),0)","v":0},{"$f":"IFERROR(VLOOKUP(B375,INDIRECT(\"'\"&$T$1&\"'!\"&\"$C$2:$G$200\"),4,FALSE),\"\")","v":""},{"$f":"IFERROR(VLOOKUP(B375,INDIRECT(\"'\"&$T$1&\"'!\"&\"$C$2:$G$200\"),5,FALSE),0)","v":0},{"$f":"8-COUNTIF(F375:U375,\"\")","v":1},{"$f":"E375/IF(V375>4,5,V375)","v":6.6556861570712167}]
[374,"Andrew Knott","Forest Of Dean AC","SM",{"$f":"SUM(LARGE((S376,G376,I376,K376,M376,O376,Q376,U376),{1,2,3,4,5}))","v":5.8466913275791565},{"$f":"IFERROR(VLOOKUP(B376,INDIRECT(\"'\"&$F$1&\"'!\"&\"$C$2:$G$200\"),4,FALSE),\"\")","v":""},{"$f":"IFERROR(VLOOKUP(B376,INDIRECT(\"'\"&$F$1&\"'!\"&\"$C$2:$G$200\"),5,FALSE),0)","v":0},{"$f":"IFERROR(VLOOKUP(B376,INDIRECT(\"'\"&$H$1&\"'!\"&\"$C$2:$G$200\"),4,FALSE),\"\")","v":""},{"$f":"IFERROR(VLOOKUP(B376,INDIRECT(\"'\"&$H$1&\"'!\"&\"$C$2:$G$200\"),5,FALSE),0)","v":0},{"$f":"IFERROR(VLOOKUP(B376,INDIRECT(\"'\"&$J$1&\"'!\"&\"$C$2:$G$200\"),4,FALSE),\"\")","v":""},{"$f":"IFERROR(VLOOKUP(B376,INDIRECT(\"'\"&$J$1&\"'!\"&\"$C$2:$G$200\"),5,FALSE),0)","v":0},{"$f":"IFERROR(VLOOKUP(B376,INDIRECT(\"'\"&$L$1&\"'!\"&\"$C$2:$G$200\"),4,FALSE),\"\")","v":""},{"$f":"IFERROR(VLOOKUP(B376,INDIRECT(\"'\"&$L$1&\"'!\"&\"$C$2:$G$200\"),5,FALSE),0)","v":0},{"$f":"IFERROR(VLOOKUP(B376,INDIRECT(\"'\"&$N$1&\"'!\"&\"$C$2:$G$200\"),4,FALSE),\"\")","v":4.3738425925925924E-2},{"$f":"IFERROR(VLOOKUP(B376,INDIRECT(\"'\"&$N$1&\"'!\"&\"$C$2:$G$200\"),5,FALSE),0)","v":5.8466913275791565},{"$f":"IFERROR(VLOOKUP(B376,INDIRECT(\"'\"&$P$1&\"'!\"&\"$C$2:$G$200\"),4,FALSE),\"\")","v":""},{"$f":"IFERROR(VLOOKUP(B376,INDIRECT(\"'\"&$P$1&\"'!\"&\"$C$2:$G$200\"),5,FALSE),0)","v":0},{"$f":"IFERROR(VLOOKUP(B376,INDIRECT(\"'\"&$R$1&\"'!\"&\"$C$2:$G$200\"),4,FALSE),\"\")","v":""},{"$f":"IFERROR(VLOOKUP(B376,INDIRECT(\"'\"&$R$1&\"'!\"&\"$C$2:$G$200\"),5,FALSE),0)","v":0},{"$f":"IFERROR(VLOOKUP(B376,INDIRECT(\"'\"&$T$1&\"'!\"&\"$C$2:$G$200\"),4,FALSE),\"\")","v":""},{"$f":"IFERROR(VLOOKUP(B376,INDIRECT(\"'\"&$T$1&\"'!\"&\"$C$2:$G$200\"),5,FALSE),0)","v":0},{"$f":"8-COUNTIF(F376:U376,\"\")","v":1},{"$f":"E376/IF(V376>4,5,V376)","v":5.8466913275791565}]
[375,"Rhys Owen Lloyd","Roberttown Road Runners","MU18",{"$f":"SUM(LARGE((S377,G377,I377,K377,M377,O377,Q377,U377),{1,2,3,4,5}))","v":3.6435096664542144},{"$f":"IFERROR(VLOOKUP(B377,INDIRECT(\"'\"&$F$1&\"'!\"&\"$C$2:$G$200\"),4,FALSE),\"\")","v":""},{"$f":"IFERROR(VLOOKUP(B377,INDIRECT(\"'\"&$F$1&\"'!\"&\"$C$2:$G$200\"),5,FALSE),0)","v":0},{"$f":"IFERROR(VLOOKUP(B377,INDIRECT(\"'\"&$H$1&\"'!\"&\"$C$2:$G$200\"),4,FALSE),\"\")","v":""},{"$f":"IFERROR(VLOOKUP(B377,INDIRECT(\"'\"&$H$1&\"'!\"&\"$C$2:$G$200\"),5,FALSE),0)","v":0},{"$f":"IFERROR(VLOOKUP(B377,INDIRECT(\"'\"&$J$1&\"'!\"&\"$C$2:$G$200\"),4,FALSE),\"\")","v":""},{"$f":"IFERROR(VLOOKUP(B377,INDIRECT(\"'\"&$J$1&\"'!\"&\"$C$2:$G$200\"),5,FALSE),0)","v":0},{"$f":"IFERROR(VLOOKUP(B377,INDIRECT(\"'\"&$L$1&\"'!\"&\"$C$2:$G$200\"),4,FALSE),\"\")","v":""},{"$f":"IFERROR(VLOOKUP(B377,INDIRECT(\"'\"&$L$1&\"'!\"&\"$C$2:$G$200\"),5,FALSE),0)","v":0},{"$f":"IFERROR(VLOOKUP(B377,INDIRECT(\"'\"&$N$1&\"'!\"&\"$C$2:$G$200\"),4,FALSE),\"\")","v":""},{"$f":"IFERROR(VLOOKUP(B377,INDIRECT(\"'\"&$N$1&\"'!\"&\"$C$2:$G$200\"),5,FALSE),0)","v":0},{"$f":"IFERROR(VLOOKUP(B377,INDIRECT(\"'\"&$P$1&\"'!\"&\"$C$2:$G$200\"),4,FALSE),\"\")","v":4.2789351851851849E-2},{"$f":"IFERROR(VLOOKUP(B377,INDIRECT(\"'\"&$P$1&\"'!\"&\"$C$2:$G$200\"),5,FALSE),0)","v":3.6435096664542144},{"$f":"IFERROR(VLOOKUP(B377,INDIRECT(\"'\"&$R$1&\"'!\"&\"$C$2:$G$200\"),4,FALSE),\"\")","v":""},{"$f":"IFERROR(VLOOKUP(B377,INDIRECT(\"'\"&$R$1&\"'!\"&\"$C$2:$G$200\"),5,FALSE),0)","v":0},null,{"$f":"IFERROR(VLOOKUP(B377,INDIRECT(\"'\"&$T$1&\"'!\"&\"$C$2:$G$200\"),5,FALSE),0)","v":0},{"$f":"8-COUNTIF(F377:U377,\"\")","v":1},{"$f":"E377/IF(V377>4,5,V377)","v":3.6435096664542144}]
[376,"Clare Grant","Chepstow Harriers","F60",{"$f":"SUM(LARGE((S378,G378,I378,K378,M378,O378,Q378,U378),{1,2,3,4,5}))","v":1},{"$f":"IFERROR(VLOOKUP(B378,INDIRECT(\"'\"&$F$1&\"'!\"&\"$C$2:$G$200\"),4,FALSE),\"\")","v":""},{"$f":"IFERROR(VLOOKUP(B378,INDIRECT(\"'\"&$F$1&\"'!\"&\"$C$2:$G$200\"),5,FALSE),0)","v":0},{"$f":"IFERROR(VLOOKUP(B378,INDIRECT(\"'\"&$H$1&\"'!\"&\"$C$2:$G$200\"),4,FALSE),\"\")","v":""},{"$f":"IFERROR(VLOOKUP(B378,INDIRECT(\"'\"&$H$1&\"'!\"&\"$C$2:$G$200\"),5,FALSE),0)","v":0},{"$f":"IFERROR(VLOOKUP(B378,INDIRECT(\"'\"&$J$1&\"'!\"&\"$C$2:$G$200\"),4,FALSE),\"\")","v":""},{"$f":"IFERROR(VLOOKUP(B378,INDIRECT(\"'\"&$J$1&\"'!\"&\"$C$2:$G$200\"),5,FALSE),0)","v":0},{"$f":"IFERROR(VLOOKUP(B378,INDIRECT(\"'\"&$L$1&\"'!\"&\"$C$2:$G$200\"),4,FALSE),\"\")","v":""},{"$f":"IFERROR(VLOOKUP(B378,INDIRECT(\"'\"&$L$1&\"'!\"&\"$C$2:$G$200\"),5,FALSE),0)","v":0},{"$f":"IFERROR(VLOOKUP(B378,INDIRECT(\"'\"&$N$1&\"'!\"&\"$C$2:$G$200\"),4,FALSE),\"\")","v":5.4780092592592589E-2},{"$f":"IFERROR(VLOOKUP(B378,INDIRECT(\"'\"&$N$1&\"'!\"&\"$C$2:$G$200\"),5,FALSE),0)","v":1},{"$f":"IFERROR(VLOOKUP(B378,INDIRECT(\"'\"&$P$1&\"'!\"&\"$C$2:$G$200\"),4,FALSE),\"\")","v":""},{"$f":"IFERROR(VLOOKUP(B378,INDIRECT(\"'\"&$P$1&\"'!\"&\"$C$2:$G$200\"),5,FALSE),0)","v":0},{"$f":"IFERROR(VLOOKUP(B378,INDIRECT(\"'\"&$R$1&\"'!\"&\"$C$2:$G$200\"),4,FALSE),\"\")","v":""},{"$f":"IFERROR(VLOOKUP(B378,INDIRECT(\"'\"&$R$1&\"'!\"&\"$C$2:$G$200\"),5,FALSE),0)","v":0},{"$f":"IFERROR(VLOOKUP(B378,INDIRECT(\"'\"&$T$1&\"'!\"&\"$C$2:$G$200\"),4,FALSE),\"\")","v":""},{"$f":"IFERROR(VLOOKUP(B378,INDIRECT(\"'\"&$T$1&\"'!\"&\"$C$2:$G$200\"),5,FALSE),0)","v":0},{"$f":"8-COUNTIF(F378:U378,\"\")","v":1},{"$f":"E378/IF(V378>4,5,V378)","v":1}]
[377,"Dave Andrews","Chepstow Harriers","M70",{"$f":"SUM(LARGE((S379,G379,I379,K379,M379,O379,Q379,U379),{1,2,3,4,5}))","v":1},{"$f":"IFERROR(VLOOKUP(B379,INDIRECT(\"'\"&$F$1&\"'!\"&\"$C$2:$G$200\"),4,FALSE),\"\")","v":""},{"$f":"IFERROR(VLOOKUP(B379,INDIRECT(\"'\"&$F$1&\"'!\"&\"$C$2:$G$200\"),5,FALSE),0)","v":0},{"$f":"IFERROR(VLOOKUP(B379,INDIRECT(\"'\"&$H$1&\"'!\"&\"$C$2:$G$200\"),4,FALSE),\"\")","v":""},{"$f":"IFERROR(VLOOKUP(B379,INDIRECT(\"'\"&$H$1&\"'!\"&\"$C$2:$G$200\"),5,FALSE),0)","v":0},{"$f":"IFERROR(VLOOKUP(B379,INDIRECT(\"'\"&$J$1&\"'!\"&\"$C$2:$G$200\"),4,FALSE),\"\")","v":""},{"$f":"IFERROR(VLOOKUP(B379,INDIRECT(\"'\"&$J$1&\"'!\"&\"$C$2:$G$200\"),5,FALSE),0)","v":0},{"$f":"IFERROR(VLOOKUP(B379,INDIRECT(\"'\"&$L$1&\"'!\"&\"$C$2:$G$200\"),4,FALSE),\"\")","v":""},{"$f":"IFERROR(VLOOKUP(B379,INDIRECT(\"'\"&$L$1&\"'!\"&\"$C$2:$G$200\"),5,FALSE),0)","v":0},{"$f":"IFERROR(VLOOKUP(B379,INDIRECT(\"'\"&$N$1&\"'!\"&\"$C$2:$G$200\"),4,FALSE),\"\")","v":4.6064814814814815E-2},{"$f":"IFERROR(VLOOKUP(B379,INDIRECT(\"'\"&$N$1&\"'!\"&\"$C$2:$G$200\"),5,FALSE),0)","v":1},{"$f":"IFERROR(VLOOKUP(B379,INDIRECT(\"'\"&$P$1&\"'!\"&\"$C$2:$G$200\"),4,FALSE),\"\")","v":""},{"$f":"IFERROR(VLOOKUP(B379,INDIRECT(\"'\"&$P$1&\"'!\"&\"$C$2:$G$200\"),5,FALSE),0)","v":0},{"$f":"IFERROR(VLOOKUP(B379,INDIRECT(\"'\"&$R$1&\"'!\"&\"$C$2:$G$200\"),4,FALSE),\"\")","v":""},{"$f":"IFERROR(VLOOKUP(B379,INDIRECT(\"'\"&$R$1&\"'!\"&\"$C$2:$G$200\"),5,FALSE),0)","v":0},{"$f":"IFERROR(VLOOKUP(B379,INDIRECT(\"'\"&$T$1&\"'!\"&\"$C$2:$G$200\"),4,FALSE),\"\")","v":""},{"$f":"IFERROR(VLOOKUP(B379,INDIRECT(\"'\"&$T$1&\"'!\"&\"$C$2:$G$200\"),5,FALSE),0)","v":0},{"$f":"8-COUNTIF(F379:U379,\"\")","v":1},{"$f":"E379/IF(V379>4,5,V379)","v":1}]
[378,"Kate Darlington","Unaffiliated","SF",{"$f":"SUM(LARGE((S380,G380,I380,K380,M380,O380,Q380,U380),{1,2,3,4,5}))","v":1},{"$f":"IFERROR(VLOOKUP(B380,INDIRECT(\"'\"&$F$1&\"'!\"&\"$C$2:$G$200\"),4,FALSE),\"\")","v":""},{"$f":"IFERROR(VLOOKUP(B380,INDIRECT(\"'\"&$F$1&\"'!\"&\"$C$2:$G$200\"),5,FALSE),0)","v":0},{"$f":"IFERROR(VLOOKUP(B380,INDIRECT(\"'\"&$H$1&\"'!\"&\"$C$2:$G$200\"),4,FALSE),\"\")","v":""},{"$f":"IFERROR(VLOOKUP(B380,INDIRECT(\"'\"&$H$1&\"'!\"&\"$C$2:$G$200\"),5,FALSE),0)","v":0},{"$f":"IFERROR(VLOOKUP(B380,INDIRECT(\"'\"&$J$1&\"'!\"&\"$C$2:$G$200\"),4,FALSE),\"\")","v":""},{"$f":"IFERROR(VLOOKUP(B380,INDIRECT(\"'\"&$J$1&\"'!\"&\"$C$2:$G$200\"),5,FALSE),0)","v":0},{"$f":"IFERROR(VLOOKUP(B380,INDIRECT(\"'\"&$L$1&\"'!\"&\"$C$2:$G$200\"),4,FALSE),\"\")","v":""},{"$f":"IFERROR(VLOOKUP(B380,INDIRECT(\"'\"&$L$1&\"'!\"&\"$C$2:$G$200\"),5,FALSE),0)","v":0},{"$f":"IFERROR(VLOOKUP(B380,INDIRECT(\"'\"&$N$1&\"'!\"&\"$C$2:$G$200\"),4,FALSE),\"\")","v":""},{"$f":"IFERROR(VLOOKUP(B380,INDIRECT(\"'\"&$N$1&\"'!\"&\"$C$2:$G$200\"),5,FALSE),0)","v":0},{"$f":"IFERROR(VLOOKUP(B380,INDIRECT(\"'\"&$P$1&\"'!\"&\"$C$2:$G$200\"),4,FALSE),\"\")","v":4.5717592592592587E-2},{"$f":"IFERROR(VLOOKUP(B380,INDIRECT(\"'\"&$P$1&\"'!\"&\"$C$2:$G$200\"),5,FALSE),0)","v":1},{"$f":"IFERROR(VLOOKUP(B380,INDIRECT(\"'\"&$R$1&\"'!\"&\"$C$2:$G$200\"),4,FALSE),\"\")","v":""},{"$f":"IFERROR(VLOOKUP(B380,INDIRECT(\"'\"&$R$1&\"'!\"&\"$C$2:$G$200\"),5,FALSE),0)","v":0},{"$f":"IFERROR(VLOOKUP(B380,INDIRECT(\"'\"&$T$1&\"'!\"&\"$C$2:$G$200\"),4,FALSE),\"\")","v":""},{"$f":"IFERROR(VLOOKUP(B380,INDIRECT(\"'\"&$T$1&\"'!\"&\"$C$2:$G$200\"),5,FALSE),0)","v":0},{"$f":"8-COUNTIF(F380:U380,\"\")","v":1},{"$f":"E380/IF(V380>4,5,V380)","v":1}]
[379,"Les Pugh","WFRA","M70",{"$f":"SUM(LARGE((S381,G381,I381,K381,M381,O381,Q381,U381),{1,2,3,4,5}))","v":1},{"$f":"IFERROR(VLOOKUP(B381,INDIRECT(\"'\"&$F$1&\"'!\"&\"$C$2:$G$200\"),4,FALSE),\"\")","v":""},{"$f":"IFERROR(VLOOKUP(B381,INDIRECT(\"'\"&$F$1&\"'!\"&\"$C$2:$G$200\"),5,FALSE),0)","v":0},{"$f":"IFERROR(VLOOKUP(B381,INDIRECT(\"'\"&$H$1&\"'!\"&\"$C$2:$G$200\"),4,FALSE),\"\")","v":""},{"$f":"IFERROR(VLOOKUP(B381,INDIRECT(\"'\"&$H$1&\"'!\"&\"$C$2:$G$200\"),5,FALSE),0)","v":0},{"$f":"IFERROR(VLOOKUP(B381,INDIRECT(\"'\"&$J$1&\"'!\"&\"$C$2:$G$200\"),4,FALSE),\"\")","v":""},{"$f":"IFERROR(VLOOKUP(B381,INDIRECT(\"'\"&$J$1&\"'!\"&\"$C$2:$G$200\"),5,FALSE),0)","v":0},{"$f":"IFERROR(VLOOKUP(B381,INDIRECT(\"'\"&$L$1&\"'!\"&\"$C$2:$G$200\"),4,FALSE),\"\")","v":4.2187499999999996E-2},{"$f":"IFERROR(VLOOKUP(B381,INDIRECT(\"'\"&$L$1&\"'!\"&\"$C$2:$G$200\"),5,FALSE),0)","v":1},{"$f":"IFERROR(VLOOKUP(B381,INDIRECT(\"'\"&$N$1&\"'!\"&\"$C$2:$G$200\"),4,FALSE),\"\")","v":""},{"$f":"IFERROR(VLOOKUP(B381,INDIRECT(\"'\"&$N$1&\"'!\"&\"$C$2:$G$200\"),5,FALSE),0)","v":0},{"$f":"IFERROR(VLOOKUP(B381,INDIRECT(\"'\"&$P$1&\"'!\"&\"$C$2:$G$200\"),4,FALSE),\"\")","v":""},{"$f":"IFERROR(VLOOKUP(B381,INDIRECT(\"'\"&$P$1&\"'!\"&\"$C$2:$G$200\"),5,FALSE),0)","v":0},{"$f":"IFERROR(VLOOKUP(B381,INDIRECT(\"'\"&$R$1&\"'!\"&\"$C$2:$G$200\"),4,FALSE),\"\")","v":""},{"$f":"IFERROR(VLOOKUP(B381,INDIRECT(\"'\"&$R$1&\"'!\"&\"$C$2:$G$200\"),5,FALSE),0)","v":0},{"$f":"IFERROR(VLOOKUP(B381,INDIRECT(\"'\"&$T$1&\"'!\"&\"$C$2:$G$200\"),4,FALSE),\"\")","v":""},{"$f":"IFERROR(VLOOKUP(B381,INDIRECT(\"'\"&$T$1&\"'!\"&\"$C$2:$G$200\"),5,FALSE),0)","v":0},{"$f":"8-COUNTIF(F381:U381,\"\")","v":1},{"$f":"E381/IF(V381>4,5,V381)","v":1}]
[380,"Louise Phillips","South Wales ","SF",{"$f":"SUM(LARGE((S382,G382,I382,K382,M382,O382,Q382,U382),{1,2,3,4,5}))","v":1},{"$f":"IFERROR(VLOOKUP(B382,INDIRECT(\"'\"&$F$1&\"'!\"&\"$C$2:$G$200\"),4,FALSE),\"\")","v":""},{"$f":"IFERROR(VLOOKUP(B382,INDIRECT(\"'\"&$F$1&\"'!\"&\"$C$2:$G$200\"),5,FALSE),0)","v":0},{"$f":"IFERROR(VLOOKUP(B382,INDIRECT(\"'\"&$H$1&\"'!\"&\"$C$2:$G$200\"),4,FALSE),\"\")","v":""},{"$f":"IFERROR(VLOOKUP(B382,INDIRECT(\"'\"&$H$1&\"'!\"&\"$C$2:$G$200\"),5,FALSE),0)","v":0},{"$f":"IFERROR(VLOOKUP(B382,INDIRECT(\"'\"&$J$1&\"'!\"&\"$C$2:$G$200\"),4,FALSE),\"\")","v":""},{"$f":"IFERROR(VLOOKUP(B382,INDIRECT(\"'\"&$J$1&\"'!\"&\"$C$2:$G$200\"),5,FALSE),0)","v":0},{"$f":"IFERROR(VLOOKUP(B382,INDIRECT(\"'\"&$L$1&\"'!\"&\"$C$2:$G$200\"),4,FALSE),\"\")","v":""},{"$f":"IFERROR(VLOOKUP(B382,INDIRECT(\"'\"&$L$1&\"'!\"&\"$C$2:$G$200\"),5,FALSE),0)","v":0},{"$f":"IFERROR(VLOOKUP(B382,INDIRECT(\"'\"&$N$1&\"'!\"&\"$C$2:$G$200\"),4,FALSE),\"\")","v":""},{"$f":"IFERROR(VLOOKUP(B382,INDIRECT(\"'\"&$N$1&\"'!\"&\"$C$2:$G$200\"),5,FALSE),0)","v":0},{"$f":"IFERROR(VLOOKUP(B382,INDIRECT(\"'\"&$P$1&\"'!\"&\"$C$2:$G$200\"),4,FALSE),\"\")","v":""},{"$f":"IFERROR(VLOOKUP(B382,INDIRECT(\"'\"&$P$1&\"'!\"&\"$C$2:$G$200\"),5,FALSE),0)","v":0},{"$f":"IFERROR(VLOOKUP(B382,INDIRECT(\"'\"&$R$1&\"'!\"&\"$C$2:$G$200\"),4,FALSE),\"\")","v":""},{"$f":"IFERROR(VLOOKUP(B382,INDIRECT(\"'\"&$R$1&\"'!\"&\"$C$2:$G$200\"),5,FALSE),0)","v":0},{"$f":"IFERROR(VLOOKUP(B382,INDIRECT(\"'\"&$T$1&\"'!\"&\"$C$2:$G$200\"),4,FALSE),\"\")","v":7.5347222222222218E-2},{"$f":"IFERROR(VLOOKUP(B382,INDIRECT(\"'\"&$T$1&\"'!\"&\"$C$2:$G$200\"),5,FALSE),0)","v":1},{"$f":"8-COUNTIF(F382:U382,\"\")","v":1},{"$f":"E382/IF(V382>4,5,V382)","v":1}]
[381,"Lynne Buckley","Chepstow Harriers","F50",{"$f":"SUM(LARGE((S383,G383,I383,K383,M383,O383,Q383,U383),{1,2,3,4,5}))","v":1},{"$f":"IFERROR(VLOOKUP(B383,INDIRECT(\"'\"&$F$1&\"'!\"&\"$C$2:$G$200\"),4,FALSE),\"\")","v":""},{"$f":"IFERROR(VLOOKUP(B383,INDIRECT(\"'\"&$F$1&\"'!\"&\"$C$2:$G$200\"),5,FALSE),0)","v":0},{"$f":"IFERROR(VLOOKUP(B383,INDIRECT(\"'\"&$H$1&\"'!\"&\"$C$2:$G$200\"),4,FALSE),\"\")","v":""},{"$f":"IFERROR(VLOOKUP(B383,INDIRECT(\"'\"&$H$1&\"'!\"&\"$C$2:$G$200\"),5,FALSE),0)","v":0},{"$f":"IFERROR(VLOOKUP(B383,INDIRECT(\"'\"&$J$1&\"'!\"&\"$C$2:$G$200\"),4,FALSE),\"\")","v":""},{"$f":"IFERROR(VLOOKUP(B383,INDIRECT(\"'\"&$J$1&\"'!\"&\"$C$2:$G$200\"),5,FALSE),0)","v":0},{"$f":"IFERROR(VLOOKUP(B383,INDIRECT(\"'\"&$L$1&\"'!\"&\"$C$2:$G$200\"),4,FALSE),\"\")","v":""},{"$f":"IFERROR(VLOOKUP(B383,INDIRECT(\"'\"&$L$1&\"'!\"&\"$C$2:$G$200\"),5,FALSE),0)","v":0},{"$f":"IFERROR(VLOOKUP(B383,INDIRECT(\"'\"&$N$1&\"'!\"&\"$C$2:$G$200\"),4,FALSE),\"\")","v":5.7893518518518518E-2},{"$f":"IFERROR(VLOOKUP(B383,INDIRECT(\"'\"&$N$1&\"'!\"&\"$C$2:$G$200\"),5,FALSE),0)","v":1},{"$f":"IFERROR(VLOOKUP(B383,INDIRECT(\"'\"&$P$1&\"'!\"&\"$C$2:$G$200\"),4,FALSE),\"\")","v":""},{"$f":"IFERROR(VLOOKUP(B383,INDIRECT(\"'\"&$P$1&\"'!\"&\"$C$2:$G$200\"),5,FALSE),0)","v":0},{"$f":"IFERROR(VLOOKUP(B383,INDIRECT(\"'\"&$R$1&\"'!\"&\"$C$2:$G$200\"),4,FALSE),\"\")","v":""},{"$f":"IFERROR(VLOOKUP(B383,INDIRECT(\"'\"&$R$1&\"'!\"&\"$C$2:$G$200\"),5,FALSE),0)","v":0},null,{"$f":"IFERROR(VLOOKUP(B383,INDIRECT(\"'\"&$T$1&\"'!\"&\"$C$2:$G$200\"),5,FALSE),0)","v":0},{"$f":"8-COUNTIF(F383:U383,\"\")","v":1},{"$f":"E383/IF(V383>4,5,V383)","v":1}]
[382,"Tom Harrison","Mynydd Du","M80",{"$f":"SUM(LARGE((S384,G384,I384,K384,M384,O384,Q384,U384),{1,2,3,4,5}))","v":1},{"$f":"IFERROR(VLOOKUP(B384,INDIRECT(\"'\"&$F$1&\"'!\"&\"$C$2:$G$200\"),4,FALSE),\"\")","v":""},{"$f":"IFERROR(VLOOKUP(B384,INDIRECT(\"'\"&$F$1&\"'!\"&\"$C$2:$G$200\"),5,FALSE),0)","v":0},{"$f":"IFERROR(VLOOKUP(B384,INDIRECT(\"'\"&$H$1&\"'!\"&\"$C$2:$G$200\"),4,FALSE),\"\")","v":""},{"$f":"IFERROR(VLOOKUP(B384,INDIRECT(\"'\"&$H$1&\"'!\"&\"$C$2:$G$200\"),5,FALSE),0)","v":0},{"$f":"IFERROR(VLOOKUP(B384,INDIRECT(\"'\"&$J$1&\"'!\"&\"$C$2:$G$200\"),4,FALSE),\"\")","v":""},{"$f":"IFERROR(VLOOKUP(B384,INDIRECT(\"'\"&$J$1&\"'!\"&\"$C$2:$G$200\"),5,FALSE),0)","v":0},{"$f":"IFERROR(VLOOKUP(B384,INDIRECT(\"'\"&$L$1&\"'!\"&\"$C$2:$G$200\"),4,FALSE),\"\")","v":""},{"$f":"IFERROR(VLOOKUP(B384,INDIRECT(\"'\"&$L$1&\"'!\"&\"$C$2:$G$200\"),5,FALSE),0)","v":0},{"$f":"IFERROR(VLOOKUP(B384,INDIRECT(\"'\"&$N$1&\"'!\"&\"$C$2:$G$200\"),4,FALSE),\"\")","v":""},{"$f":"IFERROR(VLOOKUP(B384,INDIRECT(\"'\"&$N$1&\"'!\"&\"$C$2:$G$200\"),5,FALSE),0)","v":0},{"$f":"IFERROR(VLOOKUP(B384,INDIRECT(\"'\"&$P$1&\"'!\"&\"$C$2:$G$200\"),4,FALSE),\"\")","v":""},{"$f":"IFERROR(VLOOKUP(B384,INDIRECT(\"'\"&$P$1&\"'!\"&\"$C$2:$G$200\"),5,FALSE),0)","v":0},{"$f":"IFERROR(VLOOKUP(B384,INDIRECT(\"'\"&$R$1&\"'!\"&\"$C$2:$G$200\"),4,FALSE),\"\")","v":""},{"$f":"IFERROR(VLOOKUP(B384,INDIRECT(\"'\"&$R$1&\"'!\"&\"$C$2:$G$200\"),5,FALSE),0)","v":0},{"$f":"IFERROR(VLOOKUP(B384,INDIRECT(\"'\"&$T$1&\"'!\"&\"$C$2:$G$200\"),4,FALSE),\"\")","v":8.1967592592592592E-2},{"$f":"IFERROR(VLOOKUP(B384,INDIRECT(\"'\"&$T$1&\"'!\"&\"$C$2:$G$200\"),5,FALSE),0)","v":1},{"$f":"8-COUNTIF(F384:U384,\"\")","v":1},{"$f":"E384/IF(V384>4,5,V384)","v":1}]
[383,"Robert West","MDC","M70",{"$f":"SUM(LARGE((S385,G385,I385,K385,M385,O385,Q385,U385),{1,2,3,4,5}))","v":0},{"$f":"IFERROR(VLOOKUP(B385,INDIRECT(\"'\"&$F$1&\"'!\"&\"$C$2:$G$200\"),4,FALSE),\"\")","v":""},{"$f":"IFERROR(VLOOKUP(B385,INDIRECT(\"'\"&$F$1&\"'!\"&\"$C$2:$G$200\"),5,FALSE),0)","v":0},{"$f":"IFERROR(VLOOKUP(B385,INDIRECT(\"'\"&$H$1&\"'!\"&\"$C$2:$G$200\"),4,FALSE),\"\")","v":""},{"$f":"IFERROR(VLOOKUP(B385,INDIRECT(\"'\"&$H$1&\"'!\"&\"$C$2:$G$200\"),5,FALSE),0)","v":0},{"$f":"IFERROR(VLOOKUP(B385,INDIRECT(\"'\"&$J$1&\"'!\"&\"$C$2:$G$200\"),4,FALSE),\"\")","v":""},{"$f":"IFERROR(VLOOKUP(B385,INDIRECT(\"'\"&$J$1&\"'!\"&\"$C$2:$G$200\"),5,FALSE),0)","v":0},{"$f":"IFERROR(VLOOKUP(B385,INDIRECT(\"'\"&$L$1&\"'!\"&\"$C$2:$G$200\"),4,FALSE),\"\")","v":""},{"$f":"IFERROR(VLOOKUP(B385,INDIRECT(\"'\"&$L$1&\"'!\"&\"$C$2:$G$200\"),5,FALSE),0)","v":0},{"$f":"IFERROR(VLOOKUP(B385,INDIRECT(\"'\"&$N$1&\"'!\"&\"$C$2:$G$200\"),4,FALSE),\"\")","v":""},{"$f":"IFERROR(VLOOKUP(B385,INDIRECT(\"'\"&$N$1&\"'!\"&\"$C$2:$G$200\"),5,FALSE),0)","v":0},{"$f":"IFERROR(VLOOKUP(B385,INDIRECT(\"'\"&$P$1&\"'!\"&\"$C$2:$G$200\"),4,FALSE),\"\")","v":""},{"$f":"IFERROR(VLOOKUP(B385,INDIRECT(\"'\"&$P$1&\"'!\"&\"$C$2:$G$200\"),5,FALSE),0)","v":0},{"$f":"IFERROR(VLOOKUP(B385,INDIRECT(\"'\"&$R$1&\"'!\"&\"$C$2:$G$200\"),4,FALSE),\"\")","v":""},{"$f":"IFERROR(VLOOKUP(B385,INDIRECT(\"'\"&$R$1&\"'!\"&\"$C$2:$G$200\"),5,FALSE),0)","v":0},null,{"$f":"IFERROR(VLOOKUP(B385,INDIRECT(\"'\"&$T$1&\"'!\"&\"$C$2:$G$200\"),5,FALSE),0)","v":0},{"$f":"8-COUNTIF(F385:U385,\"\")","v":0},{"$f":"E385/IF(V385>4,5,V385)","v":{"$error":"#DIV/0!"}}]
[384]
[385]
[386]
[387]
[388]
[389]
[390]
[391]
[392]
[393]
[394]
[395]
[396]
[397]
[398]
[399]
[400]
[401]
[402]
[403]
[404]
[405]
[406]
[407]
[408]
[409]
[410]
[411]
[412]
[413]
[414]
[415]
[416]
[417]
[418]
[419]
[420]
[421]
[422]
[423]
[424]
[425]
[426]
[427]
[428]
[429]
[430]
[431]
[432]
[433]
[434]
[435]
[436]
[437]
[438]
[439]
[440]
[441]
[442]
[443]
[444]
[445]
[446]
[447]
[448]

{"sheet":"Fan Fawr","index":1,"n_rows":42,"n_cols":8,"rows_kept":42,"cut":false,"hidden":false,"merged":[]}
["Position","Number","Name","Club","Cat","Time","Points",{"$f":"AVERAGE(F2:F6)","v":1.4655092592592591E-2}]
[1,null,"Dan Sandford","Forest Of Dean AC","M40",1.4293981481481482E-2,{"$f":"(2-(F2/FANFAWRTOP5))*100","v":102.46406570841886}]
[2,null,"Matt Grantham","Micky Morris Racing Team","MU23",1.4456018518518519E-2,101.35839519823091]
[3,null,"Alex Lewis","Neath Harriers","SM",1.4502314814814815E-2,101.04248933817721]
[4,null,"Jay Goulding","Taff Ely Triathlon","M40",1.4976851851851852E-2,97.804454272626742]
[5,null,"Daniel Lewis","Wye Valley Runners","M40",1.5046296296296295E-2,97.330595482546187]
[6,null,"Helen Brown","Mynydd Du","F40",1.5057870370370369E-2,97.251619017532761]
[7,null,"Peter Nugent","Wye Valley Runners","SM",1.5300925925925926E-2,95.593113252250816]
[8,null,"Kevin Hagley","SWRR","M50 ",1.5370370370370369E-2,95.119254462170261]
[9,null,"Ian Whistance","Mynydd Du","M40",1.5509259259259257E-2,94.171536882009164]
[10,null,"Julian Boon","Forest Of Dean AC","M40",1.5659722222222224E-2,93.144842836834599]
[11,null,"John Aggleton","MDC","M60",1.5717592592592592E-2,92.749960511767497]
[12,null,"Chris Medcalf","San Domenico","M40",1.5856481481481482E-2,91.802242931606372]
[13,null,"David Mullin","Mercia","M40",1.5902777777777776E-2,91.486337071552668]
[14,null,"James Erskine","Unaffiliated","SM",1.5925925925925927E-2,91.328384141525802]
[15,null,"Jamie Cattle","Taff Ely Triathlon","M40",1.6192129629629629E-2,89.51192544621702]
[16,null,"Matthew Haynes","Builth & District RC","M40",1.6284722222222221E-2,88.880113726109627]
[17,null,"Andy Creber","Chepstow Harriers","M50 ",1.6342592592592593E-2,88.485231401042469]
[18,null,"Niki Morgan","Mynydd Du","F50",1.6481481481481482E-2,87.537513820881358]
[19,null,"Simon Blease","Brycheiniog","M50 ",1.6597222222222222E-2,86.747749170747099]
[20,null,"Steve Epstein","Unaffiliated","M40",1.7488425925925925E-2,80.666561364713303]
[21,null,"Naomi Prosser","Hereford Couriers","SF",1.7499999999999998E-2,80.587584899699877]
[22,null,"Ed Goldsmith","Unaffiliated","SM",1.7534722222222222E-2,80.350655504659613]
[23,null,"Dominic Shields","San Domenico","M50 ",1.7997685185185186E-2,77.191596904122562]
[24,null,"Peter Williams","MDC","M50 ",1.8287037037037036E-2,75.217185278786914]
[25,null,"Andrew Blackmore","MDC","M50 ",1.8599537037037036E-2,73.084820723424414]
[26,null,"Mark Sims","Brecon AC","M60",1.8657407407407407E-2,72.68993839835727]
[27,null,"David Harness","San Domenico","M40",1.877314814814815E-2,71.900173748222997]
[28,null,"Hollie Ryder","Brycheiniog","SF",1.9259259259259261E-2,68.583162217659122]
[29,null,"Llinos Davies","Run 4 All Neath","SF",1.9432870370370371E-2,67.398515242457719]
[30,null,"Adrian Moir","MDC","M50 ",0.02,63.528668456799849]
[31,null,"John Darby","Mynydd Du","M60",2.0081018518518519E-2,62.975833201705875]
[32,null,"Les Williams","Eryri","M70",2.0347222222222221E-2,61.159374506397079]
[33,null,"Paddy Nugent","Wye Valley Runners","M50 ",2.0462962962962964E-2,60.369609856262805]
[34,null,"Marcia Gouveia","San Domenico","SF",2.0520833333333332E-2,59.974727531195704]
[35,null,"John Jaspers","Unaffiliated","M40",2.0787037037037038E-2,58.158268835886886]
[36,null,"Norman Jones","MDC","M50 ",2.1435185185185186E-2,53.735586795135035]
[37,null,"Neil Lewis","Hereford Couriers","M50 ",2.1550925925925928E-2,52.945822145000761]
[38,null,"John Price","Hay Hotfooters","M60",2.2465277777777778E-2,46.706681408940121]
[39,null,"Rob West","MDC","M70",2.3414351851851853E-2,40.230611277839181]
[40,null,"Martyn Peters","Unaffiliated","M60",2.508101851851852E-2,28.858000315905841]
[41,null,"John Sheldrake","Unaffiliated","SM",2.5324074074074079E-2,27.199494550623871]

{"sheet":"Sugar Loaf","index":2,"n_rows":137,"n_cols":8,"rows_kept":137,"cut":false,"hidden":false,"merged":[]}
["Position","Number","Name","Club","Cat","Time","Points",{"$f":"AVERAGE(F2:F6)","v":3.0918981481481485E-2}]
[1,100,"Peter Ryder","Brycheiniog","SM",3.0127314814814815E-2,{"$f":"(2-(F2/SUGARLOAFTOP5))*100","v":102.56045519203414}]
[2,25,"Andrew Tuckey","Bridgend AC","M40",3.0358796296296297E-2,101.81178408325225]
[3,19,"Robert Gordon","Mynydd Du","M40",3.0891203703703702E-2,100.08984053305383]
[4,105,"Thomas Burden","Unaffiliated","SM",3.1134259259259261E-2,99.303735868832831]
[5,112,"Matt Grantham","Micky Morris Racing Team","MU23",3.2083333333333332E-2,96.234184322827005]
[6,82,"Richard Wilder","San Domenico","M40",3.2476851851851847E-2,94.961443437897771]
[7,134,"Mike Erskine","Les Croupiers","SM",3.2835648148148149E-2,93.801003219285775]
[8,5,"Harry Rann","Godshill Massive","MU23",3.30787037037037E-2,93.014898555064775]
[9,39,"Dan Sandford","Forest Of Dean AC","M40",3.3252314814814811E-2,92.453395223478353]
[10,85,"Jonathan Like","Mynydd Du","SM",3.3587962962962965E-2,91.367822115744573]
[11,30,"Leighton Webb","Micky Morris Racing Team","SM",3.3692129629629627E-2,91.0309201167927]
[12,137,"Jonny Woolridge","Unaffiliated","SM",3.4004629629629628E-2,90.020214119937123]
[13,60,"Peter Nugent","Wye Valley Runners","SM",3.4178240740740738E-2,89.4587107883507]
[14,122,"Mike Fawcett","Wye Valley Runners","M50",3.4548611111111113E-2,88.260837014299625]
[15,76,"Chris Chambers","Mynydd Du","M40",3.4826388888888886E-2,87.362431683761343]
[16,56,"Daniel Lewis","Wye Valley Runners","M40",3.4884259259259261E-2,87.175263906565846]
[17,79,"Alex Lewis","Neath Harriers","SM",3.4976851851851849E-2,86.875795463053109]
[18,108,"Rudy Lewis","Unaffiliated","SM",3.4999999999999996E-2,86.800928352174921]
[19,44,"Ian Smith","Forest Of Dean AC","M50",3.5474537037037041E-2,85.266152579171958]
[20,95,"Ian Whistance","Mynydd Du","M40",3.5694444444444445E-2,84.554915025829175]
[21,2,"Leslie Cupis","Ryde Harriers","M50",3.5856481481481482E-2,84.030845249681832]
[22,118,"Peter Flynn","Wye Valley Runners","SM",3.6041666666666666E-2,83.431908362656301]
[23,86,"Chris Medcalf","San Domenico","M40",3.6111111111111115E-2,83.20730703002171]
[24,77,"Guy Bradford","Weston","M40",3.619212962962963E-2,82.945272141948038]
[25,58,"Jeremy Jehan","Wye Valley Runners","SM",3.6307870370370372E-2,82.5709365875571]
[26,24,"Andy Vaudin","Unaffiliated","M50",3.6307870370370372E-2,82.5709365875571]
[27,66,"David Wright","Newbury","M50",3.6527777777777777E-2,81.859699034214287]
[28,62,"John Aggleton","MDC","M60",3.6608796296296299E-2,81.597664146140602]
[29,57,"Sophie Horrocks","Rossendale Harriers","SF",3.6666666666666667E-2,81.410496368945132]
[30,126,"Tom Lawson","Carduro","M50",3.6666666666666667E-2,81.410496368945132]
[31,10,"Trevor McAlister","Ryde Harriers","SM",3.6770833333333336E-2,81.073594369993259]
[32,89,"Ian Macklin","MDC","M40",3.6793981481481483E-2,80.998727259115071]
[33,21,"Robert Pritchard","Monross Trailblazers","SM",3.6909722222222226E-2,{"$f":"(2-(F34/SUGARLOAFTOP5))*100","v":80.624391704724104}]
[34,75,"Gavin Brace ","Lliswerry Runners","SM",3.6921296296296292E-2,80.586958149285053]
[35,38,"Paul Mammatt","Hereford Couriers","M40",3.6990740740740741E-2,80.362356816650447]
[36,83,"Katie Ironside","MDC","SF",3.7013888888888888E-2,80.287489705772259]
[37,16,"Tom Blackwell","Ryde Harriers","M40",3.7094907407407403E-2,80.025454817698602]
[38,61,"Oliver Lanford","MDC","SM",3.7187499999999998E-2,79.725986374185837]
[39,72,"Faye Johnson","Mynydd Du","SF",3.72337962962963E-2,79.576252152429447]
[40,120,"Matthew Lawson","Chepstow Harriers","M40",3.7303240740740741E-2,79.35165081979487]
[41,124,"Gavin Fisher","Unaffiliated","M50",3.7372685185185189E-2,79.127049487160292]
[42,31,"Niki Morgan","Mynydd Du","F50",3.7488425925925925E-2,78.752713932769353]
[43,131,"James Erskine","Unaffiliated","SM",3.7673611111111109E-2,78.153777045743823]
[44,20,"James Fletcher","Monross Trailblazers","M50",3.7685185185185183E-2,78.116343490304743]
[45,106,"Richard Sheehy","Unaffiliated","SM",3.7835648148148153E-2,77.629707269596466]
[46,99,"David Richardson","Pont-y-Pwl and District","M40",3.7870370370370367E-2,77.517406603279213]
[47,91,"Steve Loveluck","Meirionydd","M50",3.7951388888888889E-2,77.255371715205541]
[48,28,"Richard Cronin","MDC","SM",3.8055555555555558E-2,76.918469716253639]
[49,22,"Sam Harness","Monross Trailblazers","M40",3.8090277777777778E-2,76.806169049936386]
[50,7,"Nigel Eldridge","Ryde Harriers","M40",3.8263888888888889E-2,76.244665718349935]
[51,29,"Joanne Rees","Rhayader","F40",3.8344907407407411E-2,75.98263083027625]
[52,107,"Evan Ryan","Mynydd Du","SM",3.8483796296296294E-2,75.533428165007138]
[53,121,"Sam Charrington","Unaffiliated","M40",3.8518518518518521E-2,75.421127498689827]
[54,55,"Martyn Carruthers","Forest Of Dean AC","M40",3.8958333333333338E-2,73.998652392004189]
[55,71,"Jason King","LMRT","M40",3.9004629629629632E-2,73.848918170247813]
[56,110,"Matthew Haynes","Builth & District RC","M40",3.9027777777777779E-2,73.774051059369626]
[57,133,"Gareth Bryer","Unaffiliated","M40",3.9143518518518515E-2,73.399715504978673]
[58,97,"Naomi Law","Mynydd Du","F40",3.9270833333333331E-2,72.987946395148626]
[59,26,"Simon Blease","Brycheiniog","M50",3.9328703703703706E-2,72.800778617953128]
[60,125,"Hywel Loveluck","Carduro","M50",3.9444444444444442E-2,72.426443063562203]
[61,70,"Sasha Habgood","Mynydd Du","F40",3.9467592592592596E-2,72.351575952684001]
[62,14,"Christopher Pudney","Newbury","M50",3.953703703703703E-2,72.126974620049438]
[63,87,"Andy Stott","MDC","M50",3.9918981481481479E-2,70.891667290559297]
[64,63,"Stephen Priestnall","Running somewhere else","M50",3.9976851851851854E-2,70.7044995133638]
[65,117,"Ed Goldsmith","Unaffiliated","SM",4.010416666666667E-2,{"$f":"(2-(F66/SUGARLOAFTOP5))*100","v":70.292730403533724}]
[66,114,"Dominic Williams","Unaffiliated","M40",4.0115740740740737E-2,70.255296848094659]
[67,111,"Naomi Prosser","Hereford Couriers","SF",4.0208333333333332E-2,69.955828404581879]
[68,90,"Anneliese Loveluck","Meirionydd","F40",4.0254629629629633E-2,69.80609418282549]
[69,67,"Paul Colley-Davis","Croft Ambrey","M50",4.0370370370370369E-2,69.431758628434537]
[70,65,"Dean Makar","Team Kenney","M40",4.0439814814814817E-2,69.207157295799959]
[71,127,"Gary Hughes","Mynydd Du","SM",4.0601851851851854E-2,68.683087519652616]
[72,94,"Duncan Loughrey","Unaffiliated","M50",4.0787037037037038E-2,68.0841506326271]
[73,113,"Martin Simmons","Unaffiliated","M50",4.0833333333333333E-2,67.934416410870725]
[74,3,"Richard Melville","Ryde Harriers","SM",4.1099537037037039E-2,67.073444635771523]
[75,64,"Chris Hobson","Newbury","M40",4.1111111111111112E-2,67.036011080332415]
[76,34,"Neil Grant","Chepstow Harriers","M60",4.1273148148148149E-2,66.511941304185072]
[77,129,"Huw Rowlands","Unaffiliated","M40",4.1331018518518517E-2,66.324773526989617]
[78,43,"Mark Sims","Brecon AC","M60",4.1423611111111112E-2,66.025305083476837]
[79,42,"Jon Hancock","Usk Runners","M60",4.1435185185185179E-2,65.987871528037772]
[80,92,"Marc Recoquille","Unaffiliated","M40",4.1631944444444451E-2,65.351501085573105]
[81,53,"Gerry Meredith","Monross Trailblazers","M40",4.1666666666666664E-2,65.239200419255837]
[82,116,"Nathaniel Swain","Unaffiliated","SM",4.1701388888888885E-2,65.12689975293857]
[83,18,"Andrew Blackmore","MDC","M50",4.1724537037037039E-2,65.05203264206034]
[84,102,"Jonathan James","Unaffiliated","M40",4.1770833333333333E-2,64.902298420303978]
[85,69,"Tom Morfey","Cardiff Harlequins","MU23",4.189814814814815E-2,64.490529310473917]
[86,84,"Harri Like","Pont-y-Pwl and District","SF",4.1990740740740745E-2,64.191060866961138]
[87,103,"John Kerley","AS Chamonix","M60",4.2048611111111113E-2,64.003893089765683]
[88,8,"Dominic Shields","San Domenico","M50",4.206018518518518E-2,63.966459534326603]
[89,98,"David Smout","Mynydd Du","M60",4.207175925925926E-2,63.929025978887481]
[90,48,"Guy Whitmarsh","Croft Ambrey","M70",4.221064814814815E-2,63.479823313618347]
[91,81,"Sally Wilder","San Domenico","SF",4.2662037037037033E-2,62.019914651493636]
[92,11,"Ken Beak","Ryde Harriers","M50",4.2847222222222224E-2,61.420977764468091]
[93,45,"Mike Harris","Westbury Harriers","M60",4.3090277777777776E-2,60.634873100247091]
[94,59,"Paddy Nugent","Wye Valley Runners","M50",4.3124999999999997E-2,60.522572433929803]
[95,47,"Alan Stanley","Unaffiliated","M50",4.3275462962962967E-2,60.03593621322154]
[96,136,"Mike Ridd","Lliswerry Runners","SM",4.3449074074074077E-2,59.474432881635096]
[97,33,"Stuart Duncan","Chepstow Harriers","M50",4.3506944444444445E-2,{"$f":"(2-(F98/SUGARLOAFTOP5))*100","v":59.287265104439626}]
[98,49,"Mark Paviour","Croft Ambrey","M50",4.3935185185185188E-2,57.902223553193075]
[99,13,"Kevin Barnes","Hereford Couriers","M50",4.3993055555555556E-2,57.715055775997627]
[100,17,"Peter Williams","MDC","M50",4.4027777777777777E-2,57.602755109680338]
[101,51,"Susan Davies","Croft Ambrey","F50",4.4212962962962961E-2,57.003818222654814]
[102,73,"Justin Wickham","Croft Ambrey","M40",4.4398148148148152E-2,56.404881335629263]
[103,74,"Samantha Wickham","Croft Ambrey","SF",4.4398148148148152E-2,56.404881335629263]
[104,54,"Lynn Cro","Forest Of Dean AC","F40",4.4849537037037035E-2,54.944972673504552]
[105,115,"John Jaspers","Unaffiliated","M40",4.4930555555555557E-2,54.682937785430873]
[106,9,"Justin Trout","Wye Valley Runners","M50",4.5023148148148145E-2,54.383469341918115]
[107,15,"Liz Pudney","Newbury","F40",4.4837962962962961E-2,54.982406228943638]
[108,46,"Richard Newhouse","Chepstow Harriers","M40",4.6099537037037036E-2,50.902148686082228]
[109,1,"Sue Shergold","Forest Of Dean AC","F50",4.6226851851851852E-2,50.490379576252174]
[110,130,"Rhodri Hanmer","Unaffiliated","M40",4.6377314814814809E-2,50.003743355543939]
[111,138,"Simon Downs","East End RR","M40",4.6412037037037036E-2,49.89144268922665]
[112,27,"John Darby","Mynydd Du","M60",4.6516203703703705E-2,49.554540690274763]
[113,52,"Andrew Leal","Ryde Harriers","M50",4.6550925925925919E-2,49.442240023957517]
[114,23,"Les Williams","Eryri","M70",4.6782407407407411E-2,48.693568915175554]
[115,32,"Paul Symons","Unaffiliated","M50",4.6909722222222221E-2,48.281799805345528]
[116,4,"Caroline Dallimore","MDC","F60",4.7106481481481478E-2,47.645429362880918]
[117,104,"Dave Farrow","Mercia","M50",4.7164351851851853E-2,47.45826158568542]
[118,128,"Ben Innes","Unaffiliated","M40",4.7233796296296295E-2,47.233660253050843]
[119,123,"Wyn Davies","Mynydd Du","M50",4.8356481481481479E-2,43.602605375458594]
[120,119,"Sally Evans","Unaffiliated","SF",4.9039351851851855E-2,41.394025604551921]
[121,80,"Neil Lewis","Hereford Couriers","M50",4.9375000000000002E-2,40.308452496818163]
[122,68,"Pete Morfey","Cardiff Harlequins","M60",4.9444444444444437E-2,40.083851164183628]
[123,40,"Valerie Hamilton","Forest Of Dean AC","F50",4.9583333333333333E-2,39.634648498914451]
[124,36,"Stefanie Francis","Forest Of Dean AC","F50",5.0185185185185187E-2,37.688103616081456]
[125,12,"Rosie Eldridge","Ryde Harriers","SF",5.1087962962962967E-2,34.768286291831998]
[126,6,"Andrew Keehn","Ryde Harriers","SM",5.1307870370370372E-2,34.0570487384892]
[127,50,"Tom Davies","Croft Ambrey","M60",5.1423611111111107E-2,33.682713184098255]
[128,35,"Hamish Hughson","Chepstow Harriers","M40",5.1504629629629629E-2,33.420678296024576]
[129,132,"Liz Tobin","Run4All","F40",5.4594907407407411E-2,{"$f":"(2-(F130/SUGARLOAFTOP5))*100","v":23.425918993786034}]
[130,135,"Sophie Quinney","Unaffiliated","F40",5.4664351851851846E-2,23.201317661151499]
[131,93,"Rob West","MDC","M70",5.5844907407407406E-2,19.383095006363725]
[132,78,"Martyn Peters","Unaffiliated","M60",5.6585648148148149E-2,16.987347458261603]
[133,37,"Liselette Adams","Forest Of Dean AC","F40",5.8842592592592592E-2,9.6878041476379693]
[134,41,"Suzanne Peters","Forest Of Dean AC","F50",5.8900462962962967E-2,9.5006363704424714]
[135,88,"Gemma Hewitt","Forest Of Dean AC","SF",5.9027777777777783E-2,9.088867260612421]
[136,101,"Lisa Tustin","Unaffiliated","SF",5.9780092592592593E-2,6.6556861570712167]

{"sheet":"Night Sugar (NA)","index":3,"n_rows":92,"n_cols":8,"rows_kept":92,"cut":false,"hidden":false,"merged":[]}
["Position","Number","Name","Club","Category","Time","Points",{"$f":"AVERAGE(F2:F6)","v":2.6645833333333334E-2}]
[1,893,"Robert Gordon","Mynydd Du","M40",2.5289351851851851E-2]
[2,612,"Andrew Tuckey","Bridgend AC","M40",2.5543981481481483E-2]
[3,828,"Michael Lai","Uboc","Mu23",2.5810185185185183E-2]
[4,706,"Jonathan Like","Mynydd Du","SM",2.8182870370370372E-2]
[5,901,"Thomas Burden","Unaffiliated","SM",2.8402777777777777E-2]
[6,847,"Matt Okeefe","Unaffiliated","SM",2.8437500000000001E-2]
[7,824,"Andrew May","Unaffiliated","M40",2.8460648148148148E-2]
[8,879,"Tom Mollekin","Mynydd Du","SM",2.8634259259259262E-2]
[9,553,"Jay Goulding","Taff Ely Triathlon","M40",2.8703703703703703E-2]
[10,894,"Shaun Styles","Griffithstown Harriers","SM",2.8784722222222225E-2]
[11,719,"Ian Whistance","Mynydd Du","M40",2.8865740740740744E-2]
[12,888,"Martyn Driscoll","MDC","SM",2.8923611111111108E-2]
[13,619,"Chris Medcalf","San Domenico","M40",2.9074074074074075E-2]
[14,801,"Sam Jones","Parc Bryn Bach","SM",2.9178240740740741E-2]
[15,556,"Helen Brown","Mynydd Du","F40",2.9456018518518517E-2]
[16,874,"Ben Moon","MDC","SM",3.0046296296296297E-2]
[17,699,"Ian Smith","Forest Of Dean AC","M50",3.0254629629629631E-2]
[18,865,"Byron Brain","Unaffiliated","SM",3.0613425925925929E-2]
[19,859,"John Aggleton","MDC","M60",3.078703703703704E-2]
[20,869,"Darren Ross","Mynydd Du","M40",3.0914351851851849E-2]
[21,700,"Katie Ironside","MDC","SF",3.1006944444444445E-2]
[22,696,"Dan Sandford","Forest Of Dean AC","M40",3.1643518518518522E-2]
[23,876,"Ian Travis","Unaffiliated","M50",3.172453703703703E-2]
[24,579,"Andrew Stephens","Monross Trailblazers","M40",3.1863425925925927E-2]
[25,945,"Geraint Hampton","Cardiff AAC","SM",3.1932870370370368E-2]
[26,712,"James Woodier","Mynydd Du","SM",3.2361111111111111E-2]
[27,781,"Tom Turner","Unaffiliated","SM",3.2407407407407406E-2]
[28,965,"Paul Tucker","Mynydd Du","M50",3.2476851851851847E-2]
[29,998,"Stephen Hepton","Mynydd Du","SM",3.2696759259259259E-2]
[30,862,"Lincoln Donelly","Unaffiliated","SM",3.2824074074074075E-2]
[31,922,"Evan Ryan","Mynydd Du","SM",3.3194444444444443E-2]
[32,623,"Andy Creber","Chepstow Harriers","M50",3.3206018518518517E-2]
[33,816,"Richard Sheehy","Parc Bryn Bach","SM",3.3240740740740744E-2]
[34,685,"Sam Weale","Monross Trailblazers","SM",3.335648148148148E-2]
[35,656,"Alex Lewis","Neath Harriers","SM",3.3425925925925921E-2]
[36,892,"Ian Macklin","MDC","M40",3.3611111111111112E-2]
[37,655,"James Boyle","Chepstow Harriers","M50",3.3784722222222223E-2]
[38,686,"Sasha Habgood","Mynydd Du","F40",3.3935185185185186E-2]
[39,513,"Jamie Gattle","Taff Ely Triathlon","M40",3.3958333333333333E-2]
[40,867,"Matthew Haynes","Builth & District RC","M40",3.4131944444444444E-2]
[41,632,"Martyn Chammings","Parc Bryn Bach","SM",3.4293981481481481E-2]
[42,779,"Nathaniel Swain","Unaffiliated","SM",3.4421296296296297E-2]
[43,547,"Dominic Shields","San Domenico","M50",3.4641203703703702E-2]
[44,633,"Jonathan Woolbridge","Unaffiliated","SM",3.4780092592592592E-2]
[45,24,"Huw Rowlands","Canton Chargers","SM",3.4791666666666672E-2]
[46,644,"Richard Cronin","MDC","SM",3.4884259259259261E-2]
[47,571,"Richard Bevan","Monross Trailblazers","M40",3.5370370370370365E-2]
[48,724,"Mark Saunders","MDC","M50",3.5520833333333328E-2]
[49,651,"Neil Grant","Chepstow Harriers","M60",3.5636574074074077E-2]
[50,949,"Simon Morgan","Taff Ely Triathlon","M40",3.6006944444444446E-2]
[51,830,"Laura Lelievre","Monross Trailblazers","SF",3.6018518518518519E-2]
[52,835,"Mark Scrivens","Monross Trailblazers","M40",3.6030092592592593E-2]
[53,58,"Nathan Landeg","Unaffiliated","M50",3.6168981481481483E-2]
[54,2,"Adam Holder","Unaffiliated","SM",3.6180555555555556E-2]
[55,715,"Rona Davies","Mynydd Du","F50",3.6273148148148145E-2]
[56,729,"Alice Bedwell","MDC","F50",3.6828703703703704E-2]
[57,559,"James Fletcher","Monross Trailblazers","M50",3.7002314814814814E-2]
[58,657,"Duncan Loughrey","Unaffiliated","M50",3.7037037037037042E-2]
[59,875,"Meshari Alsaeed","MDC","SM",3.7083333333333336E-2]
[60,988,"Pete Hastings","Dragons","M40",3.712962962962963E-2]
[61,679,"Stuart Duncan","Chepstow Harriers","M50",3.7210648148148152E-2]
[62,999,"Zoe Proctor","Mynydd Du","SF",3.7685185185185183E-2]
[63,520,"Darren Hill","Taff Ely Triathlon","M40",3.7731481481481484E-2]
[64,608,"Peter Williams","MDC","M50",3.7916666666666668E-2]
[65,56,"David Mather","Spirit Of Monmouth","M50",3.8194444444444441E-2]
[66,12,"Mark Sims","Brecon AC","M60",3.8333333333333337E-2]
[67,43,"Nick Beaumont-Wraith","Unaffiliated","SM",3.8356481481481484E-2]
[68,748,"Anna Covey","Uboc","Fu23",3.9803240740740743E-2]
[69,698,"Gemma Hewitt","Forest Of Dean AC","SF",4.0173611111111111E-2]
[70,930,"Alistair Mcintosh","Unaffiliated","SM",4.0590277777777781E-2]
[71,788,"Karen Elvers","MDC","F40",4.1180555555555554E-2]
[72,790,"Gareth Jones","MDC","M60",4.1192129629629634E-2]
[73,981,"Bev Tuckerr","Mynydd Du","F50",4.1250000000000002E-2]
[74,57,"Katie Wright","Cardiff AAC","SF",4.1666666666666664E-2]
[75,52,"Adrian Moir","MDC","M50",4.2395833333333334E-2]
[76,887,"Paul Williams","Unaffiliated","M40",4.2546296296296297E-2]
[77,957,"Dale Jenkins","Dragons","SM",4.3518518518518519E-2]
[78,708,"Wyn Davies","Mynydd Du","M50",4.387731481481482E-2]
[79,604,"Michael Marks","Forest Of Dean AC","M50",4.4502314814814814E-2]
[80,616,"Stefanie Francis","Forest Of Dean AC","F50",4.4560185185185182E-2]
[81,860,"Alan Stone","MDC","M50",4.5451388888888888E-2]
[82,741,"Steve Harris","Unaffiliated","M60",4.5740740740740742E-2]
[83,580,"Liselette Adams","Forest Of Dean AC","F40",4.5879629629629631E-2]
[84,597,"Andrew Knott","Forest Of Dean AC","SM",4.5891203703703705E-2]
[85,775,"Simon Blease","Brycheiniog","M50",4.7650462962962964E-2]
[86,14,"Hamish Hughson","Chepstow Harriers","M40",5.0219907407407414E-2]
[87,16,"Danella Wrend","Chepstow Harriers","F40",5.0266203703703709E-2]
[88,18,"Carol Dunsbee","Chepstow Harriers","F40",5.0370370370370371E-2]
[89,758,"Robert West","MDC","M70",5.3449074074074072E-2]
[90,825,"Wyndham Turner","Unaffiliated","SM",6.6377314814814806E-2]
[91,510,"Joc Dodd","Chepstow Harriers","F60",6.9849537037037043E-2]

{"sheet":"Blorenge","index":4,"n_rows":58,"n_cols":8,"rows_kept":58,"cut":false,"hidden":false,"merged":[]}
["Position","Number","Name","Club","Category","Time","Points",{"$f":"AVERAGE(F2:F6)","v":"00:26:57.200"}]
[1,192,"Ben Mitchell","MDC","SM",1.6747685185185185E-2,{"$f":"(2-(F2/BLORENGETOP5))*100","v":110.52436309671036}]
[2,262,"Paul Murrin","Chepstow Harriers","M40",1.849537037037037E-2,101.18723720009895]
[3,175,"Andrew Tuckey","Bridgend AC","M40",1.8807870370370371E-2,99.517684887459822]
[4,188,"Peter Ryder","Brycheiniog","SM",1.9293981481481485E-2,96.920603512243389]
[5,191,"Michael Lai","UBOC","Mu23",2.0243055555555552E-2,91.850111303487552]
[6,185,"Alex Lewis","Neath Harriers","SM",2.0439814814814817E-2,90.798911699233244]
[7,170,"Dan Sandford","Forest Of Dean AC","M40",2.0532407407407405E-2,90.304229532525369]
[8,177,"Andrew Stephens","Monross Trailblazers","M40",2.0763888888888887E-2,89.067524115755646]
[9,194,"Megan Carter-Davies","MDC","Fu23",2.0810185185185185E-2,88.820183032401687]
[10,169,"Julian Boon","Forest Of Dean AC","M40",2.1377314814814818E-2,85.79025476131585]
[11,270,"Ian Whistance","Mynydd Du","M40",2.1516203703703704E-2,85.048231511254031]
[12,193,"Niki Radnedge","Unaffiliated","M40",2.1875000000000002E-2,83.131338115260945]
[13,269,"Shaun Styles","Griffithstown Harriers","SM",2.1990740740740741E-2,82.512985406876084]
[14,171,"Helen Brown","Mynydd Du","F40",2.2094907407407407E-2,81.956467969329722]
[15,267,"Steven Hepton","Mynydd Du","SM",2.2141203703703705E-2,81.709126885975763]
[16,272,"Paul Tucker","Mynydd Du","M50",2.2152777777777775E-2,81.647291615137306]
[17,190,"Nick Biggs","Vegan Runners","M40",2.2361111111111113E-2,80.534256740044526]
[18,277,"Ian Luke","Poole Runners","M40",2.2430555555555554E-2,80.163245115013623]
[19,168,"Jay Goulding","Taff Ely Triathlon","M40",2.2453703703703708E-2,80.039574573336608]
[20,198,"Andy Creber","Chepstow Harriers","M50",2.2916666666666669E-2,77.56616373979719]
[21,180,"John Aggleton","MDC","M60",2.2939814814814816E-2,77.442493198120218]
[22,178,"James Boyle","Chepstow Harriers","M50",2.3009259259259257E-2,77.071481573089315]
[23,268,"Gavin Fisher","Unaffiliated","M50",2.3101851851851849E-2,76.576799406381426]
[24,275,"Evan Ryan","Mynydd Du","SM",2.3657407407407408E-2,73.608706406134061]
[25,200,"Nick Dallimore","MDC","M60",2.3657407407407408E-2,73.608706406134061]
[26,266,"Andy Horlick","Forest Of Dean AC","M40",2.372685185185185E-2,73.237694781103158]
[27,278,"Simon Daniel","Bristol Up and Running","M40",2.4421296296296292E-2,69.527578530794017]
[28,261,"Niki Morgan","Mynydd Du","F50",2.4583333333333332E-2,68.661884739055168]
[29,189,"Mark Saunders","MDC","M50",2.480324074074074E-2,67.487014593123945]
[30,264,"Tom Morfey","Cardiff Harlequins","Mu23",2.5115740740740741E-2,65.81746228048479]
[31,195,"Martin Scrivens","Monross Trailblazers","SM",2.5277777777777777E-2,64.951768488745998]
[32,184,"Rona Davies","Mynydd Du","F50",2.5520833333333336E-2,63.65322780113776]
[33,280,"Steve Harrhy","Pont-y-Pwl and District","M50",2.5555555555555554E-2,{"$f":"(2-(F34/BLORENGETOP5))*100","v":63.467721988622337}]
[34,274,"Dominic Shields","San Domenico","M50",2.5590277777777778E-2,63.282216176106878]
[35,174,"Andy Stott","MDC","M50",2.5752314814814815E-2,62.416522384368058]
[36,263,"Chris Hobson","Newbury","M40",2.6932870370370371E-2,56.109324758842448]
[37,196,"Mark Scrivens","Monross Trailblazers","M40",2.7164351851851853E-2,54.872619342072724]
[38,259,"Mark Sims","Brecon AC","M60",2.7222222222222228E-2,54.563442987880272]
[39,197,"Ed Goldsmith","Unaffiliated","SM",2.7245370370370368E-2,54.439772446203349]
[40,260,"Ellie Salisbury","Eryri","F50",2.7569444444444448E-2,52.708384862725687]
[41,167,"Adrian Frowen","Unaffiliated","M50",2.7604166666666666E-2,52.522879050210271]
[42,273,"Bev Tucker","Mynydd Du","F50",2.7847222222222221E-2,51.224338362602055]
[43,179,"Richard Cronin","MDC","SM",2.8020833333333332E-2,50.296809300024762]
[44,187,"Mike Harris","Westbury Harriers","M60",2.8043981481481479E-2,50.17313875834779]
[45,258,"Caroline Dallimore","MDC","F60",2.9490740740740744E-2,42.443729903536976]
[46,265,"Pete Morfey","Cardiff Harlequins","M60",2.9826388888888892E-2,40.650507049220884]
[47,183,"Les Williams","Eryri","M70",3.0300925925925926E-2,38.115260944842966]
[48,199,"Daniela Gormley","Mynydd Du","F40",3.1678240740740743E-2,30.756863715063076]
[49,181,"Rob West","MDC","M70",3.260416666666667E-2,25.810042047984162]
[50,182,"Joc Dodd","Chepstow Harriers","F60",3.2696759259259259E-2,25.315359881276311]
[51,176,"Neil Lewis","Hereford Couriers","M50",3.27662037037037E-2,24.944348256245409]
[52,278,"Toby Garratt","Chepstow Harriers","SM",3.3159722222222222E-2,22.841949047736843]
[53,276,"Steph Charnaud","Chepstow Harriers","F40",3.3159722222222222E-2,22.841949047736843]
[54,271,"Hollie Ryder","Brycheiniog","SF",3.3437500000000002E-2,21.357902547613161]
[55,172,"Gemma Hewitt","Forest Of Dean AC","SF",3.366898148148148E-2,20.121197130843459]
[56,173,"Martyn Peters","Unaffiliated","M60",3.560185185185185E-2,9.7947069008162515]
[57,186,"Les Pugh","WFRA","M70",4.2187499999999996E-2,1]

{"sheet":"Skirrid","index":5,"n_rows":148,"n_cols":13,"rows_kept":148,"cut":false,"hidden":false,"merged":[]}
["Position","Number","Name","Club","Category","Time","Points",{"$f":"AVERAGE(F2:F6)","v":2.2527777777777782E-2},"Ascent Time","Descent Time","Summit Pos","Places Gained/Lost","Descent Rank"]
[1,43,"Kit Grierson","UBOC","MU23",2.1574074074074075E-2,{"$f":"(2-(F2/SKIRRIDTOP5))*100","v":104.2334566378956},null,"00:21:51","00:09:13",1,{"$f":"K2-A2","v":0},{"$f":"RANK(J2,$J$2:$J$148,1)","v":1}]
[2,30,"Iwan Morton","Mynydd Du","M40",2.2013888888888888E-2,102.28113440197291,null,"00:21:54","00:09:48",2,{"$f":"K3-A3","v":0},{"$f":"RANK(J3,$J$2:$J$148,1)","v":14}]
[3,94,"Paul Murrin","Chepstow Harriers","M40",2.2222222222222223E-2,101.35635018495685,null,"00:22:19","00:09:41",3,0,6]
[4,147,"Michael Lai","UBOC","MU23",2.3402777777777783E-2,96.115906288532685,null,"00:23:51","00:09:51",4,0,16]
[5,5,"James Thomas","Cirencester","SM",2.342592592592593E-2,96.013152486642014,null,"00:24:15","00:09:29",7,2,2]
[6,143,"Simon Marchant","Unaffiliated","SM",2.3518518518518518E-2,95.602137279079329,null,"00:24:08","00:09:44",5,-1,8]
[7,57,"Alex Lewis","Neath Harriers","SM",2.3796296296296298E-2,94.369091656391291,null,"00:24:18","00:09:58",8,1,19]
[8,146,"Jonny Woolridge","Unaffiliated","SM",2.3865740740740743E-2,94.060830250719292,null,"00:24:11","00:10:11",6,-2,27]
[9,83,"Peter Nugent","Wye Valley Runners","SM",2.390046296296296E-2,93.906699547883306,null,"00:24:41","00:09:44",10,1,8]
[10,36,"Andrew Stephens","Monross Trailblazers","M40",2.4004629629629629E-2,93.44430743937528,null,"00:24:21","00:10:13",9,-1,29]
[11,144,"Mike Fawcett","Wye Valley Runners","M50",2.4074074074074071E-2,93.136046033703295,null,"00:25:05","00:09:35",12,1,3]
[12,38,"Sean Taylor","MMRT","M40",2.4143518518518519E-2,92.827784628031253,null,"00:25:08","00:09:38",13,1,5]
[13,25,"Iestyn Rhodes","Mynydd Du","M40",2.4201388888888887E-2,92.570900123304597,null,"00:24:57","00:09:54",11,-2,17]
[14,18,"Dan Sandford","Forest Of Dean AC","M40",2.431712962962963E-2,92.057131113851227,null,"00:25:18","00:09:43",16,2,7]
[15,53,"Ian Luke","Poole Runners","M40",2.4363425925925927E-2,91.851623510069885,null,"00:25:17","00:09:48",15,0,15]
[16,55,"Tom Mollekin","Mynydd Du","SM",2.478009259259259E-2,90.002055076037848,null,"00:25:13","00:10:28",14,-2,35]
[17,54,"Steve Claxton","Poole Runners","M40",2.4849537037037035E-2,89.693793670365835,null,"00:25:21","00:10:26",17,0,34]
[18,123,"Ian Whistance","Mynydd Du","M40",2.4907407407407406E-2,89.43690916563915,null,"00:26:15","00:09:37",26,8,4]
[19,62,"Ed Dickson","MDC","SM",2.4999999999999998E-2,89.02589395807648,null,"00:26:00","00:10:00",22,3,20]
[20,49,"Matthew Pickering","UBOC","SM",2.5046296296296299E-2,88.820386354295124,null,"00:25:35","00:10:29",19,-1,37]
[21,115,"Gavin Fisher","Unaffiliated","M50",2.5092592592592593E-2,88.614878750513796,null,"00:26:11","00:09:57",25,4,18]
[22,133,"Shaun Styles","Griffithstown Harriers","SM",2.5162037037037038E-2,88.306617344841783,null,"00:26:08","00:10:06",24,2,24]
[23,33,"Helen Brown","Mynydd Du","F40",2.5243055555555557E-2,87.946979038224441,null,"00:26:17","00:10:04",27,4,22]
[24,141,"Steven Hepton","Mynydd Du","SM",2.5289351851851851E-2,87.741471434443113,null,"00:25:57","00:10:28",21,-3,35]
[25,75,"Karie Atkins","Chepstow Harriers","M40",2.5347222222222219E-2,87.484586929716428,null,"00:26:44","00:09:46",35,10,11]
[26,34,"Jay Goulding","Taff Ely Triathlon","M40",2.5358796296296296E-2,87.433210028771086,null,"00:26:20","00:10:11",28,2,28]
[27,56,"Nick Biggs","Vegan Runners","M40",2.539351851851852E-2,87.279079325935086,null,"00:25:25","00:11:09",18,-9,59]
[28,126,"Kevin Fosbury","Unaffiliated","SM",2.5486111111111112E-2,86.868064118372402,null,"00:26:36","00:10:06",32,4,24]
[29,142,"James Brown","Unaffiliated","SM",2.5555555555555554E-2,86.559802712700403,null,"00:25:39","00:11:09",20,-9,59]
[30,41,"Julian Boon","Forest Of Dean AC","M40",2.5740740740740745E-2,85.73777229757502,null,"00:26:05","00:10:59",23,-7,48]
[31,130,"Ross Walker","Chepstow Harriers","M40",2.5810185185185183E-2,85.429510891903021,null,"00:26:28","00:10:42",30,-1,44]
[32,118,"Jonathan Like","Mynydd Du","SM",2.5902777777777775E-2,85.018495684340365,null,"00:27:13","00:10:05",38,6,23]
[33,73,"Matthew Lawson","Chepstow Harriers","M40",2.6041666666666668E-2,{"$f":"(2-(F34/SKIRRIDTOP5))*100","v":84.401972872996311},null,"00:26:22","00:11:08",29,-4,55]
[34,44,"Niki Radnedge","Unaffiliated","M40",2.6122685185185183E-2,84.042334566378997,null,"00:27:36","00:10:01",41,7,21]
[35,35,"Jamie Cattle","Taff Ely Triathlon","M40",2.614583333333333E-2,83.939580764488326,null,"00:27:53","00:09:46",45,10,11]
[36,107,"Andy Vaudin","Unaffiliated","M50",2.6168981481481477E-2,83.836826962597669,null,"00:26:31","00:11:10",31,-5,61]
[37,92,"Paul Tucker","Mynydd Du","M50",2.6168981481481477E-2,83.836826962597669,null,"00:27:55","00:09:46",46,9,11]
[38,48,"Gethin Powell","Pontypridd Roadents","SM",2.6203703703703705E-2,83.682696259761641,null,"00:26:40","00:11:04",34,-4,53]
[39,91,"Gavin Jones","Monross Trailblazers","SM",2.6273148148148153E-2,83.3744348540896,null,"00:26:39","00:11:11",33,-6,63]
[40,68,"James Boyle","Chepstow Harriers","M50",2.631944444444444E-2,83.168927250308315,null,"00:27:40","00:10:14",42,2,30]
[41,95,"Sam Weale","Monross Trailblazers","SM",2.6354166666666668E-2,83.014796547472287,null,"00:27:25","00:10:32",40,-1,40]
[42,129,"Anthony Bannon","San Domenico","SM",2.6481481481481481E-2,82.449650637073589,null,"00:27:49","00:10:19",44,2,31]
[43,50,"Matt Whipple","Bristol Orienteers","SM",2.6643518518518521E-2,81.730374023838891,null,"00:27:00","00:11:22",37,-6,68]
[44,128,"Andrew Brasington","Mynydd Du","M50",2.6666666666666668E-2,81.627620221948234,null,"00:26:47","00:11:37",36,-8,76]
[45,122,"Tom Turner","Unaffiliated","SM",2.6678240740740738E-2,81.576243321002906,null,"00:27:23","00:11:02",39,-6,51]
[46,101,"Daniel Lewis","Wye Valley Runners","M40",2.6817129629629632E-2,80.959720509658865,null,"00:28:52","00:09:45",62,16,10]
[47,24,"Paul Mammatt","Hereford Couriers","M40",2.6967592592592595E-2,80.291820797369525,null,"00:27:46","00:11:04",43,-4,52]
[48,82,"Matthew Haynes","Builth & District RC","M40",2.7083333333333334E-2,79.778051787916169,null,"00:28:23","00:10:37",54,6,41]
[49,67,"Pete Sowerby","Brecon AC","M50",2.7106481481481481E-2,79.675297986025512,null,"00:28:43","00:10:19",60,11,31]
[50,131,"Andy Horlick","Forest Of Dean AC","M40",2.7106481481481481E-2,79.675297986025512,null,"00:28:38","00:10:24",58,8,33]
[51,79,"Laurie Carter","Chepstow Harriers","M60",2.7141203703703706E-2,79.521167283189499,null,"00:27:57","00:11:08",47,-4,55]
[52,85,"John Aggleton","MDC","M60",2.7164351851851853E-2,79.418413481298828,null,"00:28:12","00:10:55",52,0,46]
[53,116,"David Barber","Unaffiliated","M40",2.7175925925925926E-2,79.367036580353485,null,"00:28:04","00:11:04",50,-3,53]
[54,145,"Dominic Williams","Unaffiliated","M40",2.71875E-2,79.315659679408171,null,"00:28:01","00:11:08",49,-5,55]
[55,100,"Steven Flowers","Wye Valley Runners","SM",2.7233796296296298E-2,79.110152075626814,null,"00:28:21","00:10:52",53,-2,45]
[56,89,"Katie Ironside","MDC","SF",2.7280092592592592E-2,78.904644471845486,null,"00:28:09","00:11:08",51,-5,55]
[57,98,"Jeremy Jehan","Wye Valley Runners","SM",2.7337962962962963E-2,78.647759967118816,null,"00:28:41","00:10:41",59,2,43]
[58,1,"Niki Morgan","Mynydd Du","F50",2.7372685185185184E-2,78.493629264282802,null,"00:28:24","00:11:01",55,-3,50]
[59,105,"James Woodier","Mynydd Du","SM",2.7442129629629632E-2,78.185367858610789,null,"00:28:33","00:10:58",57,-2,47]
[60,90,"Simon Daniel","Bristol Up and Running","M40",2.7696759259259258E-2,77.055076037813436,null,"00:28:53","00:11:00",63,3,49]
[61,70,"Sarah Bell","Chepstow Harriers","F40",2.8055555555555556E-2,75.462392108508041,null,"00:27:59","00:12:25",48,-13,94]
[62,81,"Douglas Briggs","Chepstow Harriers","M50",2.8055555555555556E-2,75.462392108508041,null,"00:29:12","00:11:12",64,2,65]
[63,72,"Simon Blease","Brycheiniog","M50",2.8171296296296302E-2,74.948623099054657,null,"00:29:55","00:10:39",69,6,42]
[64,138,"Lisa Jeffrey","Chepstow Harriers","F40",2.8194444444444442E-2,74.845869297164029,null,"00:28:29","00:12:07",56,-8,89]
[65,132,"Jane Horler","Chepstow Harriers","F40",2.826388888888889E-2,{"$f":"(2-(F66/SKIRRIDTOP5))*100","v":74.537607891492001},null,"00:28:46","00:11:56",61,-4,84]
[66,106,"Evan Ryan","Mynydd Du","SM",2.8298611111111111E-2,74.383477188656016,null,"00:29:22","00:11:23",66,{"$f":"K67-A67","v":0},{"$f":"RANK(J67,$J$2:$J$148,1)","v":70}]
[67,104,"Nick Dallimore","MDC","M60",2.8356481481481483E-2,74.126592683929317,null,"00:29:16","00:11:34",65,-2,72]
[68,124,"Rob Smith","Unaffiliated","M50",2.8460648148148148E-2,73.664200575421319,null,"00:29:43","00:11:16",68,0,66]
[69,108,"Debbie Stenner","Forest Of Dean AC","F40",2.8576388888888887E-2,73.150431565967963,null,"00:29:31","00:11:38",67,-2,78]
[70,69,"Toby Garratt","Chepstow Harriers","SM",2.8749999999999998E-2,72.379778051787952,null,"00:30:53","00:10:31",81,11,39]
[71,102,"David Wheeler","Chepstow Harriers","SM",2.884259259259259E-2,71.968762844225267,null,"00:30:22","00:11:10",73,2,61]
[72,113,"Duncan Loughrey","Unaffiliated","M50",2.8993055555555553E-2,71.300863131935913,null,"00:30:08","00:11:37",70,-2,76]
[73,60,"Neil Grant","Chepstow Harriers","M60",2.9050925925925928E-2,71.043978627209214,null,"00:30:28","00:11:22",75,2,68]
[74,13,"Dominic Shields","San Domenico","M50",2.9074074074074075E-2,70.941224825318557,null,"00:31:44","00:10:08",91,17,26]
[75,96,"Naomi Prosser","Hereford Couriers","SF",2.9120370370370366E-2,70.735717221537243,null,"00:31:25","00:10:31",87,12,38]
[76,125,"Steve Harrhy","Pont-y-Pwl and District","M50",2.9236111111111112E-2,70.221948212083873,null,"00:30:48","00:11:18",79,3,67]
[77,9,"Steve Owen","Chepstow Harriers","M60",2.9270833333333333E-2,70.06781750924786,null,"00:30:33","00:11:36",76,-1,73]
[78,134,"Luke Styles","Griffithstown Harriers","SM",2.9444444444444443E-2,69.297163995067848,null,"00:30:25","00:11:59",74,-4,87]
[79,117,"James Taylor","Hay Hotfooters","SM",2.9594907407407407E-2,68.629264282778493,null,"00:30:50","00:11:47",80,1,81]
[80,127,"Gary Hughes","Mynydd Du","SM",2.9675925925925925E-2,68.269625976161151,null,"00:30:36","00:12:08",77,-3,90]
[81,64,"Adrian Frowen","Unaffiliated","M50",2.9814814814814811E-2,67.653103164817139,null,"00:31:15","00:11:41",84,3,79]
[82,28,"Stephen Hind","Unaffiliated","M50",2.9849537037037036E-2,67.49897246198114,null,"00:31:07","00:11:52",83,1,83]
[83,148,"Martin Simmons","Unaffiliated","M50",2.9861111111111113E-2,67.447595561035769,null,"00:31:18","00:11:42",85,2,80]
[84,39,"Mark English","Lliswerry Runners","M40",2.988425925925926E-2,67.344841759145098,null,"00:30:43","00:12:19",78,-6,92]
[85,7,"Emma McWilliams","Mynydd Du","SF",2.990740740740741E-2,67.242087957254441,null,"00:31:00","00:12:04",82,-3,88]
[86,14,"Rona Davies","Mynydd Du","F50",2.9930555555555557E-2,67.13933415536377,null,"00:31:29","00:11:37",88,2,75]
[87,4,"Andy Stott","MDC","M50",2.9953703703703705E-2,67.036580353473113,null,"00:31:57","00:11:11",92,5,63]
[88,15,"Roy Silver","Breize Sport","M60",3.0127314814814815E-2,66.265926839293087,null,"00:31:36","00:11:47",89,1,82]
[89,32,"Andrew Dickens","Mynydd Du","M40",3.0312499999999996E-2,65.443896424167747,null,"00:32:12","00:11:27",96,7,71]
[90,136,"Tom Morfey","Cardiff Harlequins","MU23",3.037037037037037E-2,65.187011919441048,null,"00:31:20","00:12:24",86,-4,93]
[91,112,"Ruth Pickvance","Mynydd Du","F50",3.0474537037037036E-2,64.724619810933021,null,"00:30:16","00:13:37",72,-19,108]
[92,137,"Stefan Morfey","Unaffiliated","SM",3.0682870370370371E-2,63.799835593916995,null,"00:30:11","00:14:00",71,-21,113]
[93,71,"Alan Stanley","Unaffiliated","M50",3.0891203703703702E-2,62.87505137690097,null,"00:32:19","00:12:10",97,4,91]
[94,140,"Dan Fairbank","Mynydd Du","M40",3.1157407407407408E-2,61.693382655158267,null,"00:33:16","00:11:36",101,7,73]
[95,119,"Harri Like","Pont-y-Pwl and District","SF",3.1307870370370368E-2,61.025482942868912,null,"00:33:08","00:11:57",100,5,85]
[96,97,"Ed Goldsmith","Unaffiliated","SM",3.1400462962962963E-2,60.614467735306235,null,"00:32:05","00:13:08",94,-2,101]
[97,20,"Tony Keech","Human Energy AC","M60",3.142361111111111E-2,{"$f":"(2-(F98/SKIRRIDTOP5))*100","v":60.511713933415564},null,"00:31:41","00:13:34",90,-7,106]
[98,109,"Ellen Stevenson","Eryri","FU23",3.1481481481481485E-2,60.254829428688872,null,"00:32:00","00:13:20",93,-5,104]
[99,84,"Christine Farr","MDC","F40",3.1932870370370368E-2,58.251130291820829,null,"00:32:06","00:13:53",95,-4,110]
[100,65,"Stuart Duncan","Chepstow Harriers","M50",3.2025462962962964E-2,57.840115084258144,null,"00:34:09","00:11:58",108,8,86]
[101,31,"Lou Summers","Mynydd Du","F50",3.2222222222222222E-2,56.966707768187462,null,"00:33:26","00:12:58",102,1,97]
[102,40,"Steve Bedford","Wye Valley Runners","M60",3.2662037037037038E-2,55.014385532264718,null,"00:33:35","00:13:27",104,2,105]
[103,19,"Richard Cronin","MDC","SM",3.2673611111111105E-2,54.963008631319418,null,"00:32:43","00:14:20",99,-4,116]
[104,74,"Vanessa Lawson","Chepstow Harriers","F40",3.2696759259259259E-2,54.860254829428712,null,"00:32:40","00:14:25",98,-6,117]
[105,52,"Xavier Laurent","Oxo Cross Country","M40",3.2881944444444443E-2,54.038224414303372,null,"00:33:28","00:13:53",103,-2,110]
[106,10,"Helen Duffield","Chepstow Harriers","F40",3.3194444444444443E-2,52.651048088779319,null,"00:33:38","00:14:10",105,-1,115]
[107,93,"Bev Tucker","Mynydd Du","F50",3.3414351851851855E-2,51.674886970817944,null,"00:35:08","00:12:59",110,3,99]
[108,27,"John Nash","Chepstow Harriers","M50",3.3599537037037039E-2,50.852856555692583,null,"00:35:13","00:13:10",111,3,102]
[109,139,"Rob Beves","Chepstow Harriers","M50",3.4178240740740738E-2,48.284011508425849,null,"00:33:50","00:15:23",106,-3,126]
[110,51,"Anna Covey","UBOC","FU23",3.4270833333333334E-2,47.872996300863171,null,"00:36:03","00:13:18",118,8,103]
[111,16,"Gary Gunner","Croft Ambrey","M70",3.4398148148148143E-2,47.307850390464502,null,"00:36:28","00:13:04",121,10,100]
[112,46,"John Jaspers","Unaffiliated","M40",3.4409722222222223E-2,47.256473489519138,null,"00:34:56","00:14:37",109,-3,120]
[113,45,"John Price","Hay Hotfooters","M60",3.4444444444444444E-2,47.102342786683124,null,"00:37:10","00:12:26",125,12,95]
[114,23,"Tim Buckley","Chepstow Harriers","M50",3.4675925925925923E-2,46.074804767776456,null,"00:35:25","00:14:31",113,-1,119]
[115,99,"Tim Watkins","Forest Of Dean AC","SM",3.4791666666666672E-2,45.561035758323065,null,"00:33:59","00:16:07",107,-8,131]
[116,135,"Pete Morfey","Cardiff Harlequins","M60",3.4895833333333334E-2,45.09864364981506,null,"00:36:17","00:13:58",119,3,112]
[117,103,"Caroline Dallimore","MDC","F60",3.4907407407407408E-2,45.047266748869738,null,"00:35:51","00:14:25",116,-1,118]
[118,111,"Carl Brancher","Mynydd Du","M60",3.4953703703703702E-2,44.84175914508841,null,"00:36:43","00:13:37",122,4,108]
[119,8,"Mike Harris","Westbury Harriers","M60",3.5034722222222224E-2,44.482120838471047,null,"00:35:45","00:14:42",115,-4,121]
[120,37,"Maria Richards","Mynydd Du","F40",3.5138888888888893E-2,44.019728729963028,null,"00:37:01","00:13:35",124,4,107]
[121,121,"Islia Sandilands","Unaffiliated","F40",3.5277777777777776E-2,43.403205918619037,null,"00:35:16","00:15:32",112,-9,127]
[122,59,"Les Williams","Eryri","M70",3.5497685185185188E-2,42.42704480065764,null,"00:36:20","00:14:47",120,-2,122]
[123,12,"Tosh Simpkin","Chepstow Harriers","M40",3.5543981481481475E-2,42.221537196876334,null,"00:38:35","00:12:36",133,10,96]
[124,66,"Rachel Hipkiss","Chepstow Harriers","SF",3.5578703703703703E-2,42.067406494040306,null,"00:35:34","00:15:40",114,-10,128]
[125,88,"Hamish Hughson","Chepstow Harriers","M40",3.5995370370370372E-2,40.217838060008248,null,"00:38:52","00:12:58",134,9,97]
[126,26,"Wendy Sharpe-Nash","Chepstow Harriers","F50",3.6006944444444446E-2,40.166461159062905,null,"00:37:43","00:14:08",128,2,114]
[127,2,"Karen Elvers","MDC","F40",3.6041666666666666E-2,40.01233045622692,null,"00:36:57","00:14:57",123,-4,125]
[128,76,"Sue Shergold","Forest Of Dean AC","F50",3.6238425925925924E-2,39.138923140156237,null,"00:35:59","00:16:12",117,-11,133]
[129,86,"Philip Gilby","Unaffiliated","M50",3.6851851851851851E-2,{"$f":"(2-(F130/SKIRRIDTOP5))*100","v":36.415947390053475},null,"00:38:08","00:14:56",130,1,124]
[130,120,"Daniela Gormley","Mynydd Du","F40",3.712962962962963E-2,35.182901767365429,null,"00:37:33","00:15:55",127,{"$f":"K131-A131","v":-3},{"$f":"RANK(J131,$J$2:$J$148,1)","v":130}]
[131,42,"Gemma Hewitt","Forest Of Dean AC","SF",3.7523148148148146E-2,33.436087135224035,null,"00:37:52","00:16:10",129,-2,132]
[132,47,"Paul Symons","Unaffiliated","M50",3.7685185185185183E-2,32.716810521989359,null,"00:38:22","00:15:54",131,-1,129]
[133,29,"Mellanie Sims","Unaffiliated","F40",3.770833333333333E-2,32.614056720098695,null,"00:37:22","00:16:56",126,-7,138]
[134,80,"Neil Lewis","Hereford Couriers","M50",3.784722222222222E-2,31.997533908754662,null,"00:39:34","00:14:56",137,3,123]
[135,11,"Tom Davies","Croft Ambrey","M60",3.8240740740740742E-2,30.250719276613268,null,"00:38:25","00:16:39",132,-3,134]
[136,17,"Joc Dodd","Chepstow Harriers","F60",3.876157407407408E-2,27.938758734073165,null,"00:39:04","00:16:45",135,-1,135]
[137,3,"Gareth Jones","MDC","M70",3.8993055555555552E-2,26.911220715166518,null,"00:39:18","00:16:51",136,-1,136]
[138,110,"Rob West","MDC","M70",4.0069444444444442E-2,22.133168927250345,null,"00:40:35","00:17:07",138,0,140]
[139,6,"Elizabeth Thomas","Cirencester","SF",4.1932870370370377E-2,13.86148787505137,null,"00:43:19","00:17:04",139,0,139]
[140,58,"Martyn Peters","Unaffiliated","M60",4.2025462962962966E-2,13.450472667488711,null,"00:43:39","00:16:52",140,0,137]
[141,78,"Dick Finch","Chepstow Harriers","M70",4.3379629629629629E-2,7.4393752568845395,null,"00:44:50","00:17:38",143,2,141]
[142,77,"Andrew Knott","Forest Of Dean AC","SM",4.3738425925925924E-2,5.8466913275791565,null,"00:43:47","00:19:12",141,-1,142]
[143,21,"Dave Andrews","Chepstow Harriers","M70",4.6064814814814815E-2,1,null,"00:45:36","00:20:44",144,1,143]
[144,63,"Terry Vaughan","Mynydd Du","M40",4.6770833333333338E-2,1,null,"00:44:21","00:23:00",142,-2,144]
[145,61,"Clare Grant","Chepstow Harriers","F60",5.4780092592592589E-2,1,null,"00:54:19","00:24:34",145,0,145]
[146,22,"Lynne Buckley","Chepstow Harriers","F50",5.7893518518518518E-2,1,null,"00:56:09","00:27:13",146,0,146]
[null,null,null,null,null,null,null,null,null,null,null,0,{"$error":"#N/A"}]

{"sheet":"Craig Yr Allt","index":6,"n_rows":92,"n_cols":8,"rows_kept":92,"cut":false,"hidden":false,"merged":[]}
["Position","Number","Name","Club","Category","Time","Points",{"$f":"AVERAGE(F2:F6)","v":2.1791666666666664E-2}]
[1,69,"Peter Ryder","Brycheiniog","SM",2.0833333333333332E-2,{"$f":"(2-(F2/CRAIGTOP5))*100","v":104.39770554493309}]
[2,11,"Daniel Bodman","Aberdare","SM",2.1562499999999998E-2,101.05162523900573]
[3,16,"Andrew Tuckey","Bridgend AC","M40",2.1712962962962962E-2,100.3611642234969]
[4,89,"Jeff Wherlock","Lliswerry Runners","M50",2.225694444444444E-2,97.8648820905035]
[5,48,"Jonathan Williams","Unaffiliated","M40",2.2592592592592591E-2,96.324622902060767]
[6,85,"Matt O'Keefe","Unaffiliated","SM",2.3287037037037037E-2,93.137879753558522]
[7,28,"Alex Lewis","Neath Harriers","SM",2.3344907407407408E-2,92.872317824516657]
[8,81,"Mike Erskine","Les Croupiers","SM",2.3622685185185188E-2,91.597620565115761]
[9,90,"Ake Fagerang","MDC","SM",2.388888888888889E-2,90.376035691523242]
[10,10,"Peter Nugent","Wye Valley Runners","SM",2.3923611111111114E-2,90.216698534098128]
[11,35,"Neil Jones","Ogmore Phoenix Runners","SM",2.3981481481481479E-2,89.951136605056291]
[12,3,"Ian Luke","Poole Runners","M40",2.3993055555555556E-2,89.898024219247901]
[13,24,"Dan Sandford","Forest Of Dean AC","M40",2.4212962962962964E-2,88.888888888888857]
[14,87,"Chris Chambers","Mynydd Du","M40",2.4224537037037034E-2,88.835776503080524]
[15,34,"Helen Brown","Mynydd Du","F40",2.4884259259259259E-2,85.808370512003378]
[16,5,"Robin Spacie","Unaffiliated","SM",2.5069444444444446E-2,84.958572339069448]
[17,80,"Kevin Fosbury","Unaffiliated","SM",2.5069444444444446E-2,84.958572339069448]
[18,78,"Shaun Styles","Griffithstown Harriers","SM",2.5347222222222219E-2,83.683875079668596]
[19,77,"Richard Millier","Unaffiliated","SM",2.5370370370370366E-2,83.577650308051844]
[20,91,"Pete Sowerby","Brecon AC","M50",2.539351851851852E-2,83.471425536435078]
[21,92,"Alastair Morton","Unaffiliated","SM",2.5752314814814815E-2,81.824941576375593]
[22,33,"Jamie Vanstone","Ogmore Phoenix Runners","SM",2.5798611111111109E-2,81.612492033142118]
[23,88,"Rhodri Evans","Pontypridd Roadents","M40",2.5914351851851855E-2,81.081368175058401]
[24,51,"Andy Horlick","Forest Of Dean AC","M40",2.5949074074074072E-2,80.922031017633316]
[25,23,"Jamie Cattle","Taff Ely Triathlon","M40",2.5983796296296297E-2,80.762693860208174]
[26,66,"Katie Ironside","MDC","SF",2.6030092592592594E-2,80.550244316974712]
[27,62,"Gwyn Johnson","Pontypridd Roadents","SM",2.6516203703703698E-2,78.319524113023164]
[28,7,"Rhys Asbridge","Unaffiliated","SM",2.6539351851851852E-2,78.213299341406398]
[29,8,"Niki Morgan","Mynydd Du","F50",2.6550925925925926E-2,78.160186955598036]
[30,27,"John Aggleton","MDC","M60",2.6585648148148146E-2,78.000849798172922]
[31,30,"Rhys Pippard","Mynydd Du","SM",2.6967592592592595E-2,76.248141066496686]
[32,52,"Martin Scrivens","Monross Trailblazers","SM",2.7071759259259257E-2,75.770129594221359]
[33,13,"Chris Medcalf","San Domenico","M40",2.7083333333333334E-2,{"$f":"(2-(F34/CRAIGTOP5))*100","v":75.717017208412969}]
[34,75,"John Seaward","San Domenico","SM",2.7094907407407404E-2,75.663904822604636]
[35,57,"Matthew Haynes","Builth & District RC","M40",2.7129629629629632E-2,75.504567665179508]
[36,14,"Rhian Probert","Mynydd Du","F40",2.71875E-2,75.239005736137642]
[37,9,"Andy Creber","Chepstow Harriers","M50",2.7488425925925927E-2,73.858083705120009]
[38,2,"Simon Daniel","Bristol Up and Running","M40",2.7546296296296294E-2,73.592521776078172]
[39,71,"Paul Tucker","Mynydd Du","M50",2.7569444444444448E-2,73.486297004461406]
[40,54,"Jamie Bishop","Pontypridd Roadents","SM",2.7592592592592596E-2,73.380072232844668]
[41,38,"Michael Roberts","Unaffiliated","M40",2.7592592592592596E-2,73.380072232844668]
[42,6,"Simon Blease","Brycheiniog","M50",2.7708333333333331E-2,72.848948374760994]
[43,21,"Darren Hill","Taff Ely Triathlon","M40",2.7789351851851853E-2,72.477161674102391]
[44,70,"Sammi Toop","Mynydd Du","SF",2.8321759259259258E-2,70.033991926917352]
[45,55,"David Harden","Pontypridd Roadents","SM",2.8472222222222222E-2,69.343530911408521]
[46,59,"Dominic Shields","San Domenico","M50",2.8715277777777781E-2,68.228170809432726]
[47,76,"Emma Battensby","MDC","SF",2.8807870370370373E-2,67.803271722965761]
[48,79,"Gary Hughes","Mynydd Du","SM",2.8807870370370373E-2,67.803271722965761]
[49,47,"Ruth Pickvance","Mynydd Du","F50",2.9027777777777777E-2,66.794136392606745]
[50,41,"Christine Farr","MDC","F40",2.9351851851851851E-2,65.30698958997236]
[51,15,"Rona Davies","Mynydd Du","F50",2.9398148148148149E-2,65.094540046738871]
[52,22,"Simon Paul Morgan","Taff Ely Triathlon","M40",2.9409722222222223E-2,65.041427660930509]
[53,31,"Gavin Brace","Lliswerry Runners","SM",2.9525462962962962E-2,64.510303802846806]
[54,12,"Alan Stanley","Unaffiliated","M50",2.9791666666666664E-2,63.288718929254294]
[55,86,"Kevin Hale","Parc Bryn Bach RC","M40",2.988425925925926E-2,62.863819842787329]
[56,84,"Rhianydd Evans","Islwyn","SF",2.9953703703703705E-2,62.545145527937088]
[57,40,"Emily Ford","MDC","SF",3.0046296296296297E-2,62.120246441470137]
[58,53,"Richard Martin","Pontypridd Roadents","SM",3.0138888888888885E-2,61.695347355003193]
[59,4,"Owen Spacie","Unaffiliated","SM",3.0347222222222223E-2,60.73932441045249]
[60,74,"Chris Munton","Forest Of Dean AC","SM",3.0879629629629632E-2,58.296154663267451]
[61,63,"Gwyn Lloyd","Pontypridd Roadents","M60",3.108796296296296E-2,57.340131718716812]
[62,25,"David Smout","Mynydd Du","M60",3.1319444444444448E-2,56.277884002549364]
[63,50,"David Place","Unaffiliated","M50",3.138888888888889E-2,55.959209687699143]
[64,56,"Sarah Moody","Caerphilly Runners","F40",3.2106481481481479E-2,52.666241767580189]
[65,26,"Pete Morfey","Cardiff Harlequins","M60",3.2233796296296295E-2,{"$f":"(2-(F66/CRAIGTOP5))*100","v":52.08200552368811}]
[66,32,"Gareth Morgan","Unaffiliated","M40",3.2418981481481479E-2,51.23220735075418]
[67,61,"Mark Sims","Brecon AC","M60",3.2511574074074075E-2,50.807308264287208]
[68,19,"John Jaspers","Unaffiliated","M40",3.2557870370370369E-2,50.59485872105374]
[69,82,"Dale Lewis","Unaffiliated","SM",3.2650462962962964E-2,50.169959634586768]
[70,37,"Hollie Ryder","Brycheiniog","SF",3.2754629629629627E-2,49.691948162311441]
[71,73,"Megan Tucker","Unaffiliated","FU23",3.363425925925926E-2,45.65540684087528]
[72,60,"Les Williams","Eryri","M70",3.366898148148148E-2,45.496069683450166]
[73,72,"Bev Tucker","Mynydd Du","F50",3.4189814814814819E-2,43.106012322073475]
[74,17,"Paul Johnson","Ogmore Phoenix Runners","M50",3.4386574074074076E-2,42.203101763331176]
[75,65,"Simon Bowen","Unaffiliated","SM",3.4560185185185187E-2,41.406415976205622]
[76,45,"Karen Elvers","MDC","F40",3.4664351851851849E-2,40.928404503930317]
[77,39,"Chas Ryder","Brycheiniog","M60",3.4687500000000003E-2,40.822179732313543]
[78,44,"Daniela Gormley","Mynydd Du","F40",3.4722222222222224E-2,40.662842574888437]
[79,46,"Gareth Jones","MDC","M70",3.4791666666666672E-2,40.344168260038195]
[80,49,"Angela Price","Hay Hotfooters","F40",3.4884259259259261E-2,39.919269173571251]
[81,43,"Alyn Tomkinson","Unaffiliated","M40",3.5381944444444445E-2,37.63543658381132]
[82,18,"Glyn Hicks","Roberttown Road Runners","M60",3.6759259259259255E-2,31.315062672615255]
[83,64,"Michael Tong","Unaffiliated","M50",3.7395833333333336E-2,28.393881453154847]
[84,36,"Tony Goddard","Unaffiliated","M50",3.7418981481481477E-2,28.287656681538142]
[85,42,"Ryan Tomkinson","Ystrad Runners","M40",3.7835648148148153E-2,26.375610792436753]
[86,83,"Caroline Tinsley","Caerphilly Tri-ers","SF",3.784722222222222E-2,26.322498406628412]
[87,58,"Emma Davies","Caerphilly Runners","SF",3.8344907407407411E-2,24.038665816868466]
[88,68,"Rob West","MDC","M70",4.1180555555555554E-2,11.026131293817709]
[89,20,"Rhys Owen Lloyd","Roberttown Road Runners","MU18",4.2789351851851849E-2,3.6435096664542144]
[90,29,"Terry Vaughan","Mynydd Du","M40",4.3171296296296291E-2,1.8908009347779808]
[91,67,"Kate Darlington","Unaffiliated","SF",4.5717592592592587E-2,1]

{"sheet":"Hatterall Hammer","index":7,"n_rows":76,"n_cols":8,"rows_kept":76,"cut":false,"hidden":false,"merged":[]}
["Position","Number","Name","Club","Cat","Time","Points",{"$f":"AVERAGE(F2:F6)","v":2.0361111111111115E-2}]
[1,null,"Andrew Tuckey","Bridgend AC","M40",1.8993055555555558E-2,{"$f":"(2-(F2/HHTOP5))*100","v":106.71896316507502}]
[2,null,"Peter Ryder","Brycheiniog","SM",1.9861111111111111E-2,102.45566166439292]
[3,null,"Iestyn Rhodes","Mynydd Du","M40",2.0405092592592593E-2,99.783992723965454]
[4,null,"Richie Johnson","Mynydd Du","M40",2.1122685185185185E-2,96.259663483401553]
[5,null,"Mike Fawcett","Wye Valley Runners","M50",2.1423611111111112E-2,94.78171896316509]
[6,null,"Alex Lewis","Neath Harriers","SM",2.1712962962962962E-2,93.360618462937722]
[7,null,"Dan Sandford","Forest Of Dean AC","M40",2.1886574074074072E-2,92.507958162801302]
[8,null,"Ian Whistance","Mynydd Du","M40",2.2083333333333333E-2,91.541609822646677]
[9,null,"Robert Pritchard","Monross Trailblazers","SM",2.2407407407407407E-2,89.949977262392025]
[10,null,"David Mullin ","Mercia","M40",2.2476851851851855E-2,89.608913142337428]
[11,null,"Tom Turner","Unaffiliated","SM",2.2511574074074073E-2,89.438381082310173]
[12,null,"Steven Hepton","Mynydd Du","SM",2.2812499999999999E-2,87.960436562073681]
[13,null,"Andy Horlick","Forest Of Dean AC","M40",2.2881944444444444E-2,87.619372442019113]
[14,null,"Rhys Williams","MDC","M40",2.3009259259259257E-2,86.994088221919071]
[15,null,"Chris Medcalf","San Domenico","M40",2.3078703703703702E-2,86.653024101864503]
[16,null,"Helen Brown","Mynydd Du","F40",2.3124999999999996E-2,86.425648021828152]
[17,null,"Rhys Asbridge","Unaffiliated","SM",2.344907407407407E-2,84.834015461573472]
[18,null,"Katie Ironside","MDC","SF",2.359953703703704E-2,84.095043201455198]
[19,null,"Mark Ponsford","MDC","SM",2.4085648148148148E-2,81.707594361073248]
[20,null,"Jake Underhill","Hereford Couriers","M40",2.4212962962962964E-2,81.082310140973178]
[21,null,"Matthew Haynes","Builth & District RC","M40",2.4363425925925927E-2,80.343337880854946]
[22,null,"Niki Morgan","Mynydd Du","F50",2.4548611111111115E-2,79.433833560709417]
[23,null,"Naomi Prosser","Hereford Couriers","SF",2.4652777777777777E-2,78.922237380627578]
[24,null,"Mike Link","Hereford Couriers","M40",2.479166666666667E-2,78.240109140518427]
[25,null,"Simon Blease","Brycheiniog","M50",2.4999999999999998E-2,77.216916780354737]
[26,null,"James Woodier","Mynydd Du","SM",2.5173611111111108E-2,76.364256480218316]
[27,null,"Sammi Toop","Mynydd Du","SF",2.5300925925925925E-2,75.73897226011826]
[28,null,"Nick Dallimore","MDC","M60",2.5324074074074079E-2,75.625284220100042]
[29,null,"Harri Like","Pont-y-Pwl and District","SF",2.5532407407407406E-2,74.602091859936365]
[30,null,"Paul Tucker","Mynydd Du","M50",2.5752314814814815E-2,73.522055479763566]
[31,null,"Andy Stott","MDC","M50",2.5925925925925925E-2,72.669395179627145]
[32,null,"Simon Barker","Newent Runners","M60",2.6157407407407407E-2,71.532514779445222]
[33,null,"Alan Stanley","Unaffiliated","M50",2.6249999999999999E-2,{"$f":"(2-(F34/HHTOP5))*100","v":71.077762619372464}]
[34,null,"Martin Carter","Hay Hotfooters","M50",2.6296296296296293E-2,70.850386539336114]
[35,null,"Suzette Botha","Hereford Couriers","SF",2.6435185185185187E-2,70.16825829922692]
[36,null,"Emily Ford","MDC","SF",2.6643518518518521E-2,69.145065939063215]
[37,null,"William Lort","Unaffiliated","SM",2.6643518518518521E-2,69.145065939063215]
[38,null,"Emma McWilliams","Mynydd Du","SF",2.6979166666666669E-2,67.496589358799469]
[39,null,"John Jaspers","Unaffiliated","M40",2.7141203703703706E-2,66.700773078672128]
[40,null,"James Griffiths","Newent Runners","M50",2.7164351851851853E-2,66.587085038653953]
[41,null,"Rhianydd Evans","Islwyn","SF",2.7222222222222228E-2,66.302864938608465]
[42,null,"Helen Duffield","Chepstow Harriers","F40",2.7546296296296294E-2,64.711232378353827]
[43,null,"Evan Ryan","Mynydd Du","SM",2.7581018518518519E-2,64.540700318326529]
[44,null,"Rona Davies","Mynydd Du","F50",2.7754629629629629E-2,63.688040018190108]
[45,null,"Anne-Marie Harris","Mynydd Du","F40",2.7824074074074074E-2,63.34697589813554]
[46,null,"Katie Jones","Croft Ambrey","SF",2.7893518518518515E-2,63.005911778080993]
[47,null,"Mark Paviour","Croft Ambrey","M50",2.7939814814814817E-2,62.778535698044593]
[48,null,"Aderyn Carter","Hay Hotfooters","FU23",2.8078703703703703E-2,62.096407457935456]
[49,null,"Samantha Wickham","Croft Ambrey","SF",2.8159722222222221E-2,61.698499317871793]
[50,null,"Susan Davies","Croft Ambrey","F50",2.8449074074074075E-2,60.277398817644404]
[51,null,"Kate Lakeland","Preston Harriers","SF",2.8460648148148148E-2,60.220554797635309]
[52,null,"Gary Gunner","Croft Ambrey","M70",2.8749999999999998E-2,58.799454297407941]
[53,null,"Anthony Scott","Unaffiliated","MU23",2.8773148148148145E-2,58.685766257389773]
[54,null,"Richard Wall","Hereford Couriers","M50",2.8796296296296296E-2,58.572078217371562]
[55,null,"Nigel Clarke","Hereford Couriers","M40",2.9502314814814815E-2,55.104592996816763]
[56,null,"Les Williams","Eryri","M70",2.990740740740741E-2,53.115052296498419]
[57,null,"Angela Price","Hay Hotfooters","F40",3.0046296296296297E-2,52.432924056389282]
[58,null,"Flora Gunner","Croft Ambrey","F50",3.0150462962962962E-2,51.92132787630743]
[59,null,"Bev Tucker","Mynydd Du","F50",3.0219907407407407E-2,51.580263756252862]
[60,null,"John Price","Hay Hotfooters","M60",3.0243055555555554E-2,51.466575716234672]
[61,null,"Karen Elvers","MDC","F40",3.0439814814814819E-2,50.500227376080041]
[62,null,"Gareth Jones","MDC","M70",3.0763888888888886E-2,48.90859481582541]
[63,null,"Caroline Dallimore","MDC","F60",3.1006944444444445E-2,47.714870395634399]
[64,null,"Megan Tucker","Unaffiliated","FU23",3.1145833333333334E-2,47.032742155525263]
[65,null,"Paul Symons","Unaffiliated","M50",3.1504629629629625E-2,{"$f":"(2-(F66/HHTOP5))*100","v":45.270577535243326}]
[66,null,"Stefanie Francis","Forest Of Dean AC","F50",3.1620370370370368E-2,44.702137335152379]
[67,null,"Don Hale","Mercia","M60",3.2442129629629633E-2,40.666211914506611]
[68,null,"Janet Richards","Mynydd Du","F50",3.3379629629629634E-2,36.061846293769896]
[69,null,"Martin Adams","Forest Of Dean AC","SM",3.3564814814814818E-2,35.152341973624381]
[70,null,"Liselette Adams","Forest Of Dean AC","F40",3.3587962962962965E-2,35.038653933606213]
[71,null,"Anthony Smith","TVH","M50",3.4305555555555554E-2,31.514324693042319]
[72,null,"Rachel Jones","Hay Hotfooters","F40",3.4456018518518518E-2,30.775352432924088]
[73,null,"Terry Vaughan","Mynydd Du","M40",3.6805555555555557E-2,19.236016371077792]
[74,null,"Stewart Thomson","Unaffiliated","M50",3.6909722222222226E-2,18.724420190995914]
[75,null,"Martyn Peters","Unaffiliated","M60",3.695601851851852E-2,18.49704411095956]

{"sheet":"Sugar Loaf 7","index":8,"n_rows":131,"n_cols":8,"rows_kept":131,"cut":false,"hidden":false,"merged":[]}
["Position","Number","Name","Club","Category","Time","Points",{"$f":"AVERAGE(F2:F6)","v":3.6361111111111108E-2}]
[1,323,"Mark Hopkinson","Mynydd Du","SM",3.6145833333333328E-2,{"$f":"(2-(F2/SUGARLOAF7TOP5))*100","v":100.59205500381971}]
[2,317,"Daniel Bodman","Aberdare","SM",3.619212962962963E-2,100.4647313470843]
[3,299,"Tom Roberts","Meirionydd","SM",3.6238425925925924E-2,100.33740769034887]
[4,318,"Peter Ryder","Brycheiniog","SM",3.6307870370370372E-2,100.14642220524573]
[5,314,"Andrew Tuckey","Bridgend AC","M40",3.6921296296296292E-2,98.459383753501413]
[6,315,"Samuel Gregory","South Wales ","SM",3.7488425925925925E-2,96.899668958492498]
[7,297,"Jack Turner","East Wales","SM",3.8981481481481485E-2,92.793481028775133]
[8,378,"Jacob Dobson","Unaffiliated","SM",3.90625E-2,92.570664629488149]
[9,364,"Michael Lai","UBOC","MU23",3.9687500000000001E-2,90.85179526355995]
[10,339,"Matthew Collins","Micky Morris Racing Team","SM",3.9745370370370368E-2,90.692640692640694]
[11,354,"Thomas Burden","Unaffiliated","SM",4.0185185185185185E-2,89.48306595365419]
[12,254,"Richie Johnson","Mynydd Du","M40",4.0358796296296295E-2,89.005602240896351]
[13,266,"Andrew Stephens","Monross Trailblazers","M40",4.0567129629629627E-2,88.432645785586956]
[14,338,"Iwan Morton","Mynydd Du","M40",4.1122685185185186E-2,86.904761904761884]
[15,327,"Tom Mollekin","Mynydd Du","SM",4.1909722222222223E-2,84.740259740259745]
[16,265,"Tom Turner","Unaffiliated","SM",4.1921296296296297E-2,84.708428826075874]
[17,337,"Alex Lewis","Neath Harriers","SM",4.2037037037037039E-2,84.390119684237305]
[18,377,"Ben Gibbison","Mynydd Du","SM",4.2395833333333334E-2,83.403361344537814]
[19,365,"Mike Fawcett","Wye Valley Runners","M50",4.2893518518518518E-2,82.034632034632011]
[20,379,"James Brown","Chepstow Harriers","SM",4.3032407407407408E-2,81.652661064425772]
[21,293,"Katie Beecher","Les Croupiers","SF",4.3194444444444445E-2,81.207028265851775]
[22,358,"Julian Jones","Unaffiliated","SM",4.3252314814814813E-2,81.04787369493252]
[23,360,"Jamie Tedford","Unaffiliated","SM",4.3287037037037041E-2,80.952380952380935]
[24,359,"Carey Davies","Unaffiliated","SM",4.3287037037037041E-2,80.952380952380935]
[25,262,"Gethin Powell","Pontypridd Roadents","SM",4.387731481481482E-2,79.329004329004292]
[26,376,"Steven Hepton","Mynydd Du","M40",4.3935185185185188E-2,79.169849758085036]
[27,274,"Robert Pritchard","Monross Trailblazers","SM",4.447916666666666E-2,77.673796791443863]
[28,330,"Sophie Horrocks","Rossendale Harriers","SF",4.4525462962962968E-2,77.546473134708393]
[29,285,"Dee Jolly","West Wales","SF",4.4594907407407409E-2,77.355487649605266]
[30,369,"Andy Horlick","Forest Of Dean AC","M40",4.50462962962963E-2,76.114081996434919]
[31,340,"Rhys Pippard","Mynydd Du","SM",4.5289351851851851E-2,75.445632798573968]
[32,295,"Ross Walker","Chepstow Harriers","M40",4.5462962962962962E-2,74.968169085816143]
[33,289,"David Mullin","Mercia","M40",4.5752314814814815E-2,{"$f":"(2-(F34/SUGARLOAF7TOP5))*100","v":74.172396231219736}]
[34,298,"Elliw Haf","Eryri","SF",4.5879629629629631E-2,73.822256175197339]
[35,269,"Anderson Hirst","Unaffiliated","M50",4.5960648148148146E-2,73.599439775910369]
[36,277,"James Boyle","Chepstow Harriers","M50",4.5983796296296293E-2,73.535777947542641]
[37,276,"Niki Morgan","Mynydd Du","F50",4.614583333333333E-2,73.090145148968674]
[38,286,"Gary Leavson","Croft Ambrey","M40",4.6423611111111117E-2,72.326203208556123]
[39,334,"Paul Tucker","Mynydd Du","M50",4.6504629629629625E-2,72.103386809269153]
[40,272,"Helen Marshall","West Wales","SF",4.6539351851851853E-2,72.007894066717597]
[41,271,"Peter Gardner","Unaffiliated","M50",4.6712962962962963E-2,71.530430353959758]
[42,328,"Mark Ponsford","MDC","SM",4.6851851851851846E-2,71.148459383753519]
[43,373,"Sam Charrington","Mynydd Du","M40",4.6979166666666662E-2,70.798319327731079]
[44,302,"Faye Johnson","Mynydd Du","SF",4.704861111111111E-2,70.607333842627966]
[45,355,"Matthew Haynes","Builth & District RC","M40",4.7210648148148147E-2,70.16170104405397]
[46,349,"Mike Roberts","Unaffiliated","M40",4.7233796296296295E-2,70.098039215686271]
[47,287,"Katie Ironside","MDC","SF",4.746527777777778E-2,69.461420932009162]
[48,363,"Rhian Probert","Mynydd Du","F40",4.7569444444444442E-2,69.174942704354464]
[49,268,"Andrew Dickens","Mynydd Du","M40",4.7719907407407412E-2,68.761140819964311]
[50,296,"Gareth Bryer","Mynydd Du","M40",4.7847222222222228E-2,68.411000763941914]
[51,357,"Mark Saunders","MDC","M50",4.7905092592592589E-2,68.251846193022672]
[52,300,"Steve Loveluck","Meirionydd","M50",4.7974537037037045E-2,68.060860707919502]
[53,273,"Louise Barker","West Wales","F40",4.8078703703703707E-2,67.774382480264819]
[54,261,"Gavin Brace","Lliswerry Runners","SM",4.8101851851851847E-2,67.71072065189712]
[55,345,"Ian Macklin","MDC","M40",4.8171296296296295E-2,67.519735166793964]
[56,326,"Luke Davies","Swansea Harriers","SM",4.8206018518518523E-2,67.424242424242408]
[57,255,"Carwyn Davies","West Wales","M40",4.8773148148148149E-2,65.864527629233493]
[58,342,"Harri Like","Pont-y-Pwl and District","SF",4.9097222222222216E-2,64.973262032085572]
[59,290,"Nick Dallimore","MDC","M60",4.9282407407407407E-2,64.463967405143862]
[60,288,"Mike Harris","Westbury Harriers","M60",4.9351851851851848E-2,64.272981920040735]
[61,319,"Tim Reynolds","Unaffiliated","SM",4.9363425925925929E-2,64.241151005856878]
[62,284,"Andy Perry","Unaffiliated","M40",4.9456018518518517E-2,63.98650369238603]
[63,301,"Anneliese Loveluck","Meirionydd","F40",4.9513888888888892E-2,63.827349121466746]
[64,257,"David Daniels","Cobra RC","M60",4.9525462962962959E-2,63.79551820728291]
[65,305,"Johnathan Gentle","Unaffiliated","SM",4.9560185185185186E-2,{"$f":"(2-(F66/SUGARLOAF7TOP5))*100","v":63.700025464731326}]
[66,309,"James Pope","Unaffiliated","M40",4.9594907407407407E-2,63.604532722179762]
[67,292,"Lou Summers","Mynydd Du","F50",4.9641203703703701E-2,63.477209065444363]
[68,278,"Neil Grant","Chepstow Harriers","M60",4.9953703703703702E-2,62.617774382480263]
[69,322,"Dan Fairbank","Mynydd Du","M40",4.9988425925925922E-2,62.5222816399287]
[70,304,"Sasha Habgood","Mynydd Du","F40",5.002314814814815E-2,62.426788897377115]
[71,260,"Mark English","Lliswerry Runners","M40",5.0231481481481481E-2,61.853832442067727]
[72,310,"Richard Cronin","MDC","SM",5.0254629629629628E-2,61.790170613700028]
[73,306,"Duncan Loughrey","Unaffiliated","M50",5.0300925925925923E-2,61.6628469569646]
[74,366,"Lowri Woodier","Mynydd Du","SF",5.0532407407407408E-2,61.026228673287484]
[75,259,"Ben Steele","Cobra RC","SM",5.061342592592593E-2,60.803412274000479]
[76,356,"Alice Bedwell","MDC","F50",5.0671296296296298E-2,60.644257703081216]
[77,335,"Andrew Smith","Pont-y-Pwl and District","SM",5.0995370370370365E-2,59.752992105933281]
[78,350,"Andy Stott","MDC","M50",5.1018518518518519E-2,59.689330277565553]
[79,325,"Evan Ryan","Mynydd Du","SM",5.1041666666666673E-2,59.625668449197832]
[80,384,"Eleanor Lacey","San Domenico","SF",5.1064814814814813E-2,59.562006620830132]
[81,258,"Julian Hart","Cobra RC","M40",5.1087962962962967E-2,59.498344792462412]
[82,343,"Rhys Pritchard","Mynydd Du","SM",5.1111111111111107E-2,59.434682964094733]
[83,263,"Andy Mason","Unaffiliated","M40",5.1134259259259261E-2,59.371021135727005]
[84,329,"Ed Goldsmith","Unaffiliated","SM",5.1504629629629629E-2,58.352431881843629]
[85,367,"Naomi Law","Mynydd Du","F40",5.167824074074074E-2,57.874968169085818]
[86,382,"Kevin Hale","Parc Bryn Bach RC","M40",5.1736111111111115E-2,57.715813598166513]
[87,308,"Christine Farr","MDC","F40",5.1782407407407409E-2,57.588489941431106]
[88,281,"Alan Stanley","Unaffiliated","M50",5.2546296296296292E-2,55.48764960529666]
[89,368,"John Jaspers","Unaffiliated","M40",5.2719907407407403E-2,55.010185892538829]
[90,253,"Ben Watkins","Mynydd Du","SM",5.2870370370370373E-2,54.596384008148704]
[91,267,"James Griffiths","Newent Runners","M40",5.2893518518518513E-2,54.532722179781004]
[92,270,"Alastair Wilcox Hirst","Unaffiliated","SM",5.3263888888888888E-2,53.51413292589762]
[93,256,"Ruth Pickvance","Mynydd Du","F50",5.3773148148148153E-2,52.113572701807968]
[94,321,"Tosh Simpkin","Chepstow Harriers","M40",5.409722222222222E-2,51.222307104660047]
[95,264,"Rona Davies","Mynydd Du","F50",5.4282407407407411E-2,50.713012477718337]
[96,303,"Mitchell Readwin","West Wales","SM",5.4502314814814816E-2,50.108225108225099]
[97,283,"Stuart Duncan","Chepstow Harriers","M50",5.4571759259259257E-2,{"$f":"(2-(F98/SUGARLOAF7TOP5))*100","v":49.917239623121979}]
[98,347,"Colin Cottell","Reading Roadrunners","M50",5.4768518518518522E-2,49.376114081996406]
[99,316,"Hollie Ryder","Brycheiniog","SF",5.486111111111111E-2,49.121466768525579]
[100,383,"Hywel James","Unaffiliated","SM",5.5532407407407412E-2,47.275273745861959]
[101,294,"Lubica Ford","Pont-y-Pwl and District","SF",5.6064814814814817E-2,45.811051693404622]
[102,307,"Tim Johnson","Chesterton Trail Runners","M40",5.6446759259259259E-2,44.760631525337402]
[103,333,"Bev Tucker","Mynydd Du","F50",5.6990740740740738E-2,43.264578558696208]
[104,320,"Helen Duffield","Chepstow Harriers","F40",5.7037037037037032E-2,43.137254901960787]
[105,324,"Jack Loveday","Unaffiliated","SM",5.7187500000000002E-2,42.723453017570634]
[106,331,"Daniela Gormley","Mynydd Du","F40",5.7314814814814818E-2,42.373312961548223]
[107,362,"Gary Gunner","Croft Ambrey","M70",5.7534722222222223E-2,41.768525592054992]
[108,353,"Anne Ward","Mynydd Du","F40",5.7662037037037039E-2,41.418385536032567]
[109,332,"Sharon Woods","Mynydd Du","F50",5.7939814814814812E-2,40.654443595620052]
[110,313,"Aimee Ferguson","South Wales ","SF",5.8275462962962966E-2,39.731347084288224]
[111,291,"Caroline Dallimore","MDC","F60",5.8483796296296298E-2,39.158390628978857]
[112,280,"Gareth Ponsford","Cainscross Vets","SM",5.9189814814814813E-2,37.216704863763674]
[113,361,"David Sabbagh","Unaffiliated","SM",5.9386574074074071E-2,36.675579322638143]
[114,375,"Fraser Stephens","SWOC","M",5.9791666666666667E-2,35.561497326203195]
[115,352,"Les Williams","Eryri","M70",6.0011574074074071E-2,34.956709956709943]
[116,346,"Flora Gunner","Croft Ambrey","F50",6.0347222222222219E-2,34.033613445378144]
[117,370,"John Price","Hay Hotfooters","M60",6.0590277777777778E-2,33.365164247517164]
[118,279,"Hamish Hughson","Chepstow Harriers","M40",6.1064814814814815E-2,32.060096765979097]
[119,275,"Sam Mills","Cainscross Vets","SM",6.1064814814814815E-2,32.060096765979097]
[120,374,"Paul Symons","Unaffiliated","M50",6.1875000000000006E-2,29.831932773109205]
[121,282,"Gareth Jones","MDC","M70",6.2546296296296294E-2,27.985739750445624]
[122,380,"Dan Newton","Pont-y-Pwl and District","M40",6.368055555555556E-2,24.866310160427773]
[123,351,"Stewart Thomson","Mynydd Du","M50",6.4513888888888885E-2,22.574484339190228]
[124,341,"Janine Doggett","Southville RC","SF",6.5046296296296297E-2,21.110262286732851]
[125,344,"Emma Davies (Mon)","Spirit of Monmouth","F40",6.6203703703703709E-2,17.927170868347297]
[126,311,"Phil Wilson","Unaffiliated","M50",6.8854166666666661E-2,10.637891520244459]
[127,312,"John Darby","Mynydd Du","M60",6.9490740740740742E-2,8.8871912401323971]
[128,336,"Terry Vaughan","Mynydd Du","M40",6.958333333333333E-2,8.6325439266615724]
[129,381,"Louise Phillips","South Wales ","SF",7.5347222222222218E-2,1]
[130,348,"Tom Harrison","Mynydd Du","M80",8.1967592592592592E-2,1]